{"text_format":"1","workbook":"xlsx","n_sheets":17,"sheets":["STAFFETTE 3X800 Master","STAFFETTE 4X100 ASS. F","STAFFETTE 4X100 ASS. M","STAFFETTE 4X100 CM","STAFFETTE 4X100 CF","STAFFETTE 4X100 RM","STAFFETTE 4X100 RF","STAFFETTE 4X50 ES","STAFFETTE 4X100 Master M","SVEDESE ASS FEM","SVEDESE ASS MAS","SVEDESE CADETTI","SVEDESE CADETTE","SVEDESE RAGAZZI","SVEDESE RAGAZZE","4X200 ES","tesserati"],"not_rendered":{"charts":0,"images":1,"macros":1,"external_links":0,"defined_names":0,"comments":0,"pivot_tables":0},"unopened":[],"bounds":{"document_bytes":16777216,"sheet_cells":100000,"rows_first":2000,"rows_last":500,"rows_between":2000,"halvings":0,"cell_chars":16384,"cell_head_chars":4096},"cells_cut":0,"cells_raw":0,"read":"whole","date_system":"1900"}

{"sheet":"STAFFETTE 3X800 Master","index":0,"n_rows":72,"n_cols":12,"rows_kept":72,"cut":false,"hidden":false,"merged":[[53,6,56,6],[53,7,56,7],[53,8,56,8],[53,9,56,9],[57,6,60,6],[57,7,60,7],[57,8,60,8],[57,9,60,9],[45,6,48,6],[45,7,48,7],[45,8,48,8],[45,9,48,9],[49,6,52,6],[49,7,52,7],[49,8,52,8],[49,9,52,9],[37,6,40,6],[37,7,40,7],[37,8,40,8],[37,9,40,9],[41,6,44,6],[41,7,44,7],[41,8,44,8],[41,9,44,9],[28,6,31,6],[28,7,31,7],[28,8,31,8],[28,9,31,9],[33,6,36,6],[33,7,36,7],[33,8,36,8],[33,9,36,9],[32,0,32,11],[20,6,23,6],[20,7,23,7],[20,8,23,8],[20,9,23,9],[24,6,27,6],[24,7,27,7],[24,8,27,8],[24,9,27,9],[12,6,15,6],[12,7,15,7],[12,8,15,8],[12,9,15,9],[16,6,19,6],[16,7,19,7],[16,8,19,8],[16,9,19,9],[8,6,11,6],[8,7,11,7],[8,8,11,8],[8,9,11,9],[5,0,6,0],[5,1,6,2],[5,3,6,3],[5,4,6,4],[5,5,6,5],[5,6,6,6],[7,0,7,11],[5,7,6,7],[5,8,6,8],[5,9,6,9],[5,10,6,10],[5,11,6,11],[2,0,2,1],[2,4,4,4],[2,5,2,7],[2,8,2,10],[2,11,4,11],[3,0,4,1],[3,2,4,2],[3,3,4,3],[3,5,4,7],[3,8,4,10],[0,2,0,4],[0,5,0,7],[0,8,0,10],[0,11,1,11],[1,2,1,4],[1,5,1,7],[1,8,1,10]]}
[null,null,"MANIFESTAZIONE",null,null,"LOCALITA'",null,null,"SOCIETA' ORGANIZZATRICE"]
[null,null,"6° prova provinciale",null,null,"Tezze sul Brenta",null,null,"CSI Tezze sul Brenta"]
["CATEGORIA",null,"ORA INIZIO","ORA FINE",null,"GARA",null,null,"DATA"]
["MASTER",null,null,null,null,"STAFFETTA 3 X 800",null,null,"2017-09-24"]
[]
["N. tessera","ATLETA\nCOGNOME E NOME",null,"SOCIETA'","NASCITA","CATEGORIA","Corsia","PETTORALE","Tempo","Piazzamento","PUNTI","CL."]
[]
["1 SERIE",{"$f":"IF(ISERROR(VLOOKUP(A8,tesserati[],2,FALSE)),\"\",VLOOKUP(A8,tesserati[],2,FALSE))","v":""},{"$f":"IF(ISERROR(VLOOKUP(A8,tesserati[],3,FALSE)),\"\",VLOOKUP(A8,tesserati[],3,FALSE))","v":""},{"$f":"IF(ISERROR(VLOOKUP(#REF!,tesserati[],5,FALSE)),\"\",VLOOKUP(#REF!,tesserati[],5,FALSE))","v":""},{"$f":"IF(ISERROR(VLOOKUP(A8,tesserati[],4,FALSE)),\"\",VLOOKUP(A8,tesserati[],4,FALSE))","v":""},{"$f":"IF(ISERROR(VLOOKUP(A8,tesserati[],7,FALSE)),\"\",VLOOKUP(A8,tesserati[],7,FALSE))","v":""}]
[4754,{"$f":"IF(ISERROR(VLOOKUP(A9,tesserati[],2,FALSE)),\"\",VLOOKUP(A9,tesserati[],2,FALSE))","v":"SPILLER"},{"$f":"IF(ISERROR(VLOOKUP(A9,tesserati[],3,FALSE)),\"\",VLOOKUP(A9,tesserati[],3,FALSE))","v":"CRISTIANO"},{"$f":"IF(ISERROR(VLOOKUP(A9,tesserati[],4,FALSE)),\"\",VLOOKUP(A9,tesserati[],4,FALSE))","v":"ATLETICA UNION CREAZZO"},{"$f":"IF(ISERROR(VLOOKUP(A9,tesserati[],5,FALSE)),\"\",VLOOKUP(A9,tesserati[],5,FALSE))","v":1977},{"$f":"IF(ISERROR(VLOOKUP(A9,tesserati[],7,FALSE)),\"\",VLOOKUP(A9,tesserati[],7,FALSE))","v":"AAM"},null,68,"7,05.8",1]
[1958,{"$f":"IF(ISERROR(VLOOKUP(A10,tesserati[],2,FALSE)),\"\",VLOOKUP(A10,tesserati[],2,FALSE))","v":"MAZZI"},{"$f":"IF(ISERROR(VLOOKUP(A10,tesserati[],3,FALSE)),\"\",VLOOKUP(A10,tesserati[],3,FALSE))","v":"ALEX"},{"$f":"IF(ISERROR(VLOOKUP(A10,tesserati[],4,FALSE)),\"\",VLOOKUP(A10,tesserati[],4,FALSE))","v":"ATLETICA UNION CREAZZO"},{"$f":"IF(ISERROR(VLOOKUP(A10,tesserati[],5,FALSE)),\"\",VLOOKUP(A10,tesserati[],5,FALSE))","v":1977},{"$f":"IF(ISERROR(VLOOKUP(A10,tesserati[],7,FALSE)),\"\",VLOOKUP(A10,tesserati[],7,FALSE))","v":"AAM"}]
[1960,{"$f":"IF(ISERROR(VLOOKUP(A11,tesserati[],2,FALSE)),\"\",VLOOKUP(A11,tesserati[],2,FALSE))","v":"MICHELETTO"},{"$f":"IF(ISERROR(VLOOKUP(A11,tesserati[],3,FALSE)),\"\",VLOOKUP(A11,tesserati[],3,FALSE))","v":"FABRIZIO"},{"$f":"IF(ISERROR(VLOOKUP(A11,tesserati[],4,FALSE)),\"\",VLOOKUP(A11,tesserati[],4,FALSE))","v":"ATLETICA UNION CREAZZO"},{"$f":"IF(ISERROR(VLOOKUP(A11,tesserati[],5,FALSE)),\"\",VLOOKUP(A11,tesserati[],5,FALSE))","v":1972},{"$f":"IF(ISERROR(VLOOKUP(A11,tesserati[],7,FALSE)),\"\",VLOOKUP(A11,tesserati[],7,FALSE))","v":"ABM"}]
[null,{"$f":"IF(ISERROR(VLOOKUP(A12,tesserati[],2,FALSE)),\"\",VLOOKUP(A12,tesserati[],2,FALSE))","v":""},{"$f":"IF(ISERROR(VLOOKUP(A12,tesserati[],3,FALSE)),\"\",VLOOKUP(A12,tesserati[],3,FALSE))","v":""},{"$f":"IF(ISERROR(VLOOKUP(A12,tesserati[],4,FALSE)),\"\",VLOOKUP(A12,tesserati[],4,FALSE))","v":""},{"$f":"IF(ISERROR(VLOOKUP(A12,tesserati[],5,FALSE)),\"\",VLOOKUP(A12,tesserati[],5,FALSE))","v":""},{"$f":"IF(ISERROR(VLOOKUP(A12,tesserati[],7,FALSE)),\"\",VLOOKUP(A12,tesserati[],7,FALSE))","v":""}]
[1954,{"$f":"IF(ISERROR(VLOOKUP(A13,tesserati[],2,FALSE)),\"\",VLOOKUP(A13,tesserati[],2,FALSE))","v":"FINETTO"},{"$f":"IF(ISERROR(VLOOKUP(A13,tesserati[],3,FALSE)),\"\",VLOOKUP(A13,tesserati[],3,FALSE))","v":"ALFONSO"},{"$f":"IF(ISERROR(VLOOKUP(A13,tesserati[],4,FALSE)),\"\",VLOOKUP(A13,tesserati[],4,FALSE))","v":"ATLETICA UNION CREAZZO"},{"$f":"IF(ISERROR(VLOOKUP(A13,tesserati[],5,FALSE)),\"\",VLOOKUP(A13,tesserati[],5,FALSE))","v":1968},{"$f":"IF(ISERROR(VLOOKUP(A13,tesserati[],7,FALSE)),\"\",VLOOKUP(A13,tesserati[],7,FALSE))","v":"ABM"},null,496,"7,58.2",2]
[2959,{"$f":"IF(ISERROR(VLOOKUP(A14,tesserati[],2,FALSE)),\"\",VLOOKUP(A14,tesserati[],2,FALSE))","v":"CATTANI"},{"$f":"IF(ISERROR(VLOOKUP(A14,tesserati[],3,FALSE)),\"\",VLOOKUP(A14,tesserati[],3,FALSE))","v":"MASSIMILIANO"},{"$f":"IF(ISERROR(VLOOKUP(A14,tesserati[],4,FALSE)),\"\",VLOOKUP(A14,tesserati[],4,FALSE))","v":"ATLETICA UNION CREAZZO"},{"$f":"IF(ISERROR(VLOOKUP(A14,tesserati[],5,FALSE)),\"\",VLOOKUP(A14,tesserati[],5,FALSE))","v":1970},{"$f":"IF(ISERROR(VLOOKUP(A14,tesserati[],7,FALSE)),\"\",VLOOKUP(A14,tesserati[],7,FALSE))","v":"ABM"}]
[3018,{"$f":"IF(ISERROR(VLOOKUP(A15,tesserati[],2,FALSE)),\"\",VLOOKUP(A15,tesserati[],2,FALSE))","v":"OLIVIERO"},{"$f":"IF(ISERROR(VLOOKUP(A15,tesserati[],3,FALSE)),\"\",VLOOKUP(A15,tesserati[],3,FALSE))","v":"ANDREA"},{"$f":"IF(ISERROR(VLOOKUP(A15,tesserati[],4,FALSE)),\"\",VLOOKUP(A15,tesserati[],4,FALSE))","v":"ATLETICA UNION CREAZZO"},{"$f":"IF(ISERROR(VLOOKUP(A15,tesserati[],5,FALSE)),\"\",VLOOKUP(A15,tesserati[],5,FALSE))","v":1973},{"$f":"IF(ISERROR(VLOOKUP(A15,tesserati[],7,FALSE)),\"\",VLOOKUP(A15,tesserati[],7,FALSE))","v":"AAM"}]
[null,{"$f":"IF(ISERROR(VLOOKUP(A16,tesserati[],2,FALSE)),\"\",VLOOKUP(A16,tesserati[],2,FALSE))","v":""},{"$f":"IF(ISERROR(VLOOKUP(A16,tesserati[],3,FALSE)),\"\",VLOOKUP(A16,tesserati[],3,FALSE))","v":""},{"$f":"IF(ISERROR(VLOOKUP(A16,tesserati[],4,FALSE)),\"\",VLOOKUP(A16,tesserati[],4,FALSE))","v":""},{"$f":"IF(ISERROR(VLOOKUP(A16,tesserati[],5,FALSE)),\"\",VLOOKUP(A16,tesserati[],5,FALSE))","v":""},{"$f":"IF(ISERROR(VLOOKUP(A16,tesserati[],7,FALSE)),\"\",VLOOKUP(A16,tesserati[],7,FALSE))","v":""}]
[null,{"$f":"IF(ISERROR(VLOOKUP(A17,tesserati[],2,FALSE)),\"\",VLOOKUP(A17,tesserati[],2,FALSE))","v":""},{"$f":"IF(ISERROR(VLOOKUP(A17,tesserati[],3,FALSE)),\"\",VLOOKUP(A17,tesserati[],3,FALSE))","v":""},{"$f":"IF(ISERROR(VLOOKUP(A17,tesserati[],4,FALSE)),\"\",VLOOKUP(A17,tesserati[],4,FALSE))","v":""},{"$f":"IF(ISERROR(VLOOKUP(A17,tesserati[],5,FALSE)),\"\",VLOOKUP(A17,tesserati[],5,FALSE))","v":""},{"$f":"IF(ISERROR(VLOOKUP(A17,tesserati[],7,FALSE)),\"\",VLOOKUP(A17,tesserati[],7,FALSE))","v":""}]
[null,{"$f":"IF(ISERROR(VLOOKUP(A18,tesserati[],2,FALSE)),\"\",VLOOKUP(A18,tesserati[],2,FALSE))","v":""},{"$f":"IF(ISERROR(VLOOKUP(A18,tesserati[],3,FALSE)),\"\",VLOOKUP(A18,tesserati[],3,FALSE))","v":""},{"$f":"IF(ISERROR(VLOOKUP(A18,tesserati[],4,FALSE)),\"\",VLOOKUP(A18,tesserati[],4,FALSE))","v":""},{"$f":"IF(ISERROR(VLOOKUP(A18,tesserati[],5,FALSE)),\"\",VLOOKUP(A18,tesserati[],5,FALSE))","v":""},{"$f":"IF(ISERROR(VLOOKUP(A18,tesserati[],7,FALSE)),\"\",VLOOKUP(A18,tesserati[],7,FALSE))","v":""}]
[null,{"$f":"IF(ISERROR(VLOOKUP(A19,tesserati[],2,FALSE)),\"\",VLOOKUP(A19,tesserati[],2,FALSE))","v":""},{"$f":"IF(ISERROR(VLOOKUP(A19,tesserati[],3,FALSE)),\"\",VLOOKUP(A19,tesserati[],3,FALSE))","v":""},{"$f":"IF(ISERROR(VLOOKUP(A19,tesserati[],4,FALSE)),\"\",VLOOKUP(A19,tesserati[],4,FALSE))","v":""},{"$f":"IF(ISERROR(VLOOKUP(A19,tesserati[],5,FALSE)),\"\",VLOOKUP(A19,tesserati[],5,FALSE))","v":""},{"$f":"IF(ISERROR(VLOOKUP(A19,tesserati[],7,FALSE)),\"\",VLOOKUP(A19,tesserati[],7,FALSE))","v":""}]
[null,{"$f":"IF(ISERROR(VLOOKUP(A20,tesserati[],2,FALSE)),\"\",VLOOKUP(A20,tesserati[],2,FALSE))","v":""},{"$f":"IF(ISERROR(VLOOKUP(A20,tesserati[],3,FALSE)),\"\",VLOOKUP(A20,tesserati[],3,FALSE))","v":""},{"$f":"IF(ISERROR(VLOOKUP(A20,tesserati[],4,FALSE)),\"\",VLOOKUP(A20,tesserati[],4,FALSE))","v":""},{"$f":"IF(ISERROR(VLOOKUP(A20,tesserati[],5,FALSE)),\"\",VLOOKUP(A20,tesserati[],5,FALSE))","v":""},{"$f":"IF(ISERROR(VLOOKUP(A20,tesserati[],7,FALSE)),\"\",VLOOKUP(A20,tesserati[],7,FALSE))","v":""}]
[null,{"$f":"IF(ISERROR(VLOOKUP(A21,tesserati[],2,FALSE)),\"\",VLOOKUP(A21,tesserati[],2,FALSE))","v":""},{"$f":"IF(ISERROR(VLOOKUP(A21,tesserati[],3,FALSE)),\"\",VLOOKUP(A21,tesserati[],3,FALSE))","v":""},{"$f":"IF(ISERROR(VLOOKUP(A21,tesserati[],4,FALSE)),\"\",VLOOKUP(A21,tesserati[],4,FALSE))","v":""},{"$f":"IF(ISERROR(VLOOKUP(A21,tesserati[],5,FALSE)),\"\",VLOOKUP(A21,tesserati[],5,FALSE))","v":""},{"$f":"IF(ISERROR(VLOOKUP(A21,tesserati[],7,FALSE)),\"\",VLOOKUP(A21,tesserati[],7,FALSE))","v":""}]
[null,{"$f":"IF(ISERROR(VLOOKUP(A22,tesserati[],2,FALSE)),\"\",VLOOKUP(A22,tesserati[],2,FALSE))","v":""},{"$f":"IF(ISERROR(VLOOKUP(A22,tesserati[],3,FALSE)),\"\",VLOOKUP(A22,tesserati[],3,FALSE))","v":""},{"$f":"IF(ISERROR(VLOOKUP(A22,tesserati[],4,FALSE)),\"\",VLOOKUP(A22,tesserati[],4,FALSE))","v":""},{"$f":"IF(ISERROR(VLOOKUP(A22,tesserati[],5,FALSE)),\"\",VLOOKUP(A22,tesserati[],5,FALSE))","v":""},{"$f":"IF(ISERROR(VLOOKUP(A22,tesserati[],7,FALSE)),\"\",VLOOKUP(A22,tesserati[],7,FALSE))","v":""}]
[null,{"$f":"IF(ISERROR(VLOOKUP(A23,tesserati[],2,FALSE)),\"\",VLOOKUP(A23,tesserati[],2,FALSE))","v":""},{"$f":"IF(ISERROR(VLOOKUP(A23,tesserati[],3,FALSE)),\"\",VLOOKUP(A23,tesserati[],3,FALSE))","v":""},{"$f":"IF(ISERROR(VLOOKUP(A23,tesserati[],4,FALSE)),\"\",VLOOKUP(A23,tesserati[],4,FALSE))","v":""},{"$f":"IF(ISERROR(VLOOKUP(A23,tesserati[],5,FALSE)),\"\",VLOOKUP(A23,tesserati[],5,FALSE))","v":""},{"$f":"IF(ISERROR(VLOOKUP(A23,tesserati[],7,FALSE)),\"\",VLOOKUP(A23,tesserati[],7,FALSE))","v":""}]
[null,{"$f":"IF(ISERROR(VLOOKUP(A24,tesserati[],2,FALSE)),\"\",VLOOKUP(A24,tesserati[],2,FALSE))","v":""},{"$f":"IF(ISERROR(VLOOKUP(A24,tesserati[],3,FALSE)),\"\",VLOOKUP(A24,tesserati[],3,FALSE))","v":""},{"$f":"IF(ISERROR(VLOOKUP(A24,tesserati[],4,FALSE)),\"\",VLOOKUP(A24,tesserati[],4,FALSE))","v":""},{"$f":"IF(ISERROR(VLOOKUP(A24,tesserati[],5,FALSE)),\"\",VLOOKUP(A24,tesserati[],5,FALSE))","v":""},{"$f":"IF(ISERROR(VLOOKUP(A24,tesserati[],7,FALSE)),\"\",VLOOKUP(A24,tesserati[],7,FALSE))","v":""}]
[null,{"$f":"IF(ISERROR(VLOOKUP(A25,tesserati[],2,FALSE)),\"\",VLOOKUP(A25,tesserati[],2,FALSE))","v":""},{"$f":"IF(ISERROR(VLOOKUP(A25,tesserati[],3,FALSE)),\"\",VLOOKUP(A25,tesserati[],3,FALSE))","v":""},{"$f":"IF(ISERROR(VLOOKUP(A25,tesserati[],4,FALSE)),\"\",VLOOKUP(A25,tesserati[],4,FALSE))","v":""},{"$f":"IF(ISERROR(VLOOKUP(A25,tesserati[],5,FALSE)),\"\",VLOOKUP(A25,tesserati[],5,FALSE))","v":""},{"$f":"IF(ISERROR(VLOOKUP(A25,tesserati[],7,FALSE)),\"\",VLOOKUP(A25,tesserati[],7,FALSE))","v":""}]
[null,{"$f":"IF(ISERROR(VLOOKUP(A26,tesserati[],2,FALSE)),\"\",VLOOKUP(A26,tesserati[],2,FALSE))","v":""},{"$f":"IF(ISERROR(VLOOKUP(A26,tesserati[],3,FALSE)),\"\",VLOOKUP(A26,tesserati[],3,FALSE))","v":""},{"$f":"IF(ISERROR(VLOOKUP(A26,tesserati[],4,FALSE)),\"\",VLOOKUP(A26,tesserati[],4,FALSE))","v":""},{"$f":"IF(ISERROR(VLOOKUP(A26,tesserati[],5,FALSE)),\"\",VLOOKUP(A26,tesserati[],5,FALSE))","v":""},{"$f":"IF(ISERROR(VLOOKUP(A26,tesserati[],7,FALSE)),\"\",VLOOKUP(A26,tesserati[],7,FALSE))","v":""}]
[null,{"$f":"IF(ISERROR(VLOOKUP(A27,tesserati[],2,FALSE)),\"\",VLOOKUP(A27,tesserati[],2,FALSE))","v":""},{"$f":"IF(ISERROR(VLOOKUP(A27,tesserati[],3,FALSE)),\"\",VLOOKUP(A27,tesserati[],3,FALSE))","v":""},{"$f":"IF(ISERROR(VLOOKUP(A27,tesserati[],4,FALSE)),\"\",VLOOKUP(A27,tesserati[],4,FALSE))","v":""},{"$f":"IF(ISERROR(VLOOKUP(A27,tesserati[],5,FALSE)),\"\",VLOOKUP(A27,tesserati[],5,FALSE))","v":""},{"$f":"IF(ISERROR(VLOOKUP(A27,tesserati[],7,FALSE)),\"\",VLOOKUP(A27,tesserati[],7,FALSE))","v":""}]
[null,{"$f":"IF(ISERROR(VLOOKUP(A28,tesserati[],2,FALSE)),\"\",VLOOKUP(A28,tesserati[],2,FALSE))","v":""},{"$f":"IF(ISERROR(VLOOKUP(A28,tesserati[],3,FALSE)),\"\",VLOOKUP(A28,tesserati[],3,FALSE))","v":""},{"$f":"IF(ISERROR(VLOOKUP(A28,tesserati[],4,FALSE)),\"\",VLOOKUP(A28,tesserati[],4,FALSE))","v":""},{"$f":"IF(ISERROR(VLOOKUP(A28,tesserati[],5,FALSE)),\"\",VLOOKUP(A28,tesserati[],5,FALSE))","v":""},{"$f":"IF(ISERROR(VLOOKUP(A28,tesserati[],7,FALSE)),\"\",VLOOKUP(A28,tesserati[],7,FALSE))","v":""}]
[null,{"$f":"IF(ISERROR(VLOOKUP(A29,tesserati[],2,FALSE)),\"\",VLOOKUP(A29,tesserati[],2,FALSE))","v":""},{"$f":"IF(ISERROR(VLOOKUP(A29,tesserati[],3,FALSE)),\"\",VLOOKUP(A29,tesserati[],3,FALSE))","v":""},{"$f":"IF(ISERROR(VLOOKUP(A29,tesserati[],4,FALSE)),\"\",VLOOKUP(A29,tesserati[],4,FALSE))","v":""},{"$f":"IF(ISERROR(VLOOKUP(A29,tesserati[],5,FALSE)),\"\",VLOOKUP(A29,tesserati[],5,FALSE))","v":""},{"$f":"IF(ISERROR(VLOOKUP(A29,tesserati[],7,FALSE)),\"\",VLOOKUP(A29,tesserati[],7,FALSE))","v":""}]
[null,{"$f":"IF(ISERROR(VLOOKUP(A30,tesserati[],2,FALSE)),\"\",VLOOKUP(A30,tesserati[],2,FALSE))","v":""},{"$f":"IF(ISERROR(VLOOKUP(A30,tesserati[],3,FALSE)),\"\",VLOOKUP(A30,tesserati[],3,FALSE))","v":""},{"$f":"IF(ISERROR(VLOOKUP(A30,tesserati[],4,FALSE)),\"\",VLOOKUP(A30,tesserati[],4,FALSE))","v":""},{"$f":"IF(ISERROR(VLOOKUP(A30,tesserati[],5,FALSE)),\"\",VLOOKUP(A30,tesserati[],5,FALSE))","v":""},{"$f":"IF(ISERROR(VLOOKUP(A30,tesserati[],7,FALSE)),\"\",VLOOKUP(A30,tesserati[],7,FALSE))","v":""}]
[null,{"$f":"IF(ISERROR(VLOOKUP(A31,tesserati[],2,FALSE)),\"\",VLOOKUP(A31,tesserati[],2,FALSE))","v":""},{"$f":"IF(ISERROR(VLOOKUP(A31,tesserati[],3,FALSE)),\"\",VLOOKUP(A31,tesserati[],3,FALSE))","v":""},{"$f":"IF(ISERROR(VLOOKUP(A31,tesserati[],4,FALSE)),\"\",VLOOKUP(A31,tesserati[],4,FALSE))","v":""},{"$f":"IF(ISERROR(VLOOKUP(A31,tesserati[],5,FALSE)),\"\",VLOOKUP(A31,tesserati[],5,FALSE))","v":""},{"$f":"IF(ISERROR(VLOOKUP(A31,tesserati[],7,FALSE)),\"\",VLOOKUP(A31,tesserati[],7,FALSE))","v":""}]
[null,{"$f":"IF(ISERROR(VLOOKUP(A32,tesserati[],2,FALSE)),\"\",VLOOKUP(A32,tesserati[],2,FALSE))","v":""},{"$f":"IF(ISERROR(VLOOKUP(A32,tesserati[],3,FALSE)),\"\",VLOOKUP(A32,tesserati[],3,FALSE))","v":""},{"$f":"IF(ISERROR(VLOOKUP(A32,tesserati[],4,FALSE)),\"\",VLOOKUP(A32,tesserati[],4,FALSE))","v":""},{"$f":"IF(ISERROR(VLOOKUP(A32,tesserati[],5,FALSE)),\"\",VLOOKUP(A32,tesserati[],5,FALSE))","v":""},{"$f":"IF(ISERROR(VLOOKUP(A32,tesserati[],7,FALSE)),\"\",VLOOKUP(A32,tesserati[],7,FALSE))","v":""}]
["2 SERIE"]
[null,{"$f":"IF(ISERROR(VLOOKUP(A34,tesserati[],2,FALSE)),\"\",VLOOKUP(A34,tesserati[],2,FALSE))","v":""},{"$f":"IF(ISERROR(VLOOKUP(A34,tesserati[],3,FALSE)),\"\",VLOOKUP(A34,tesserati[],3,FALSE))","v":""},{"$f":"IF(ISERROR(VLOOKUP(A34,tesserati[],4,FALSE)),\"\",VLOOKUP(A34,tesserati[],4,FALSE))","v":""},{"$f":"IF(ISERROR(VLOOKUP(A34,tesserati[],5,FALSE)),\"\",VLOOKUP(A34,tesserati[],5,FALSE))","v":""},{"$f":"IF(ISERROR(VLOOKUP(A34,tesserati[],7,FALSE)),\"\",VLOOKUP(A34,tesserati[],7,FALSE))","v":""},1]
[null,{"$f":"IF(ISERROR(VLOOKUP(A35,tesserati[],2,FALSE)),\"\",VLOOKUP(A35,tesserati[],2,FALSE))","v":""},{"$f":"IF(ISERROR(VLOOKUP(A35,tesserati[],3,FALSE)),\"\",VLOOKUP(A35,tesserati[],3,FALSE))","v":""},{"$f":"IF(ISERROR(VLOOKUP(A35,tesserati[],4,FALSE)),\"\",VLOOKUP(A35,tesserati[],4,FALSE))","v":""},{"$f":"IF(ISERROR(VLOOKUP(A35,tesserati[],5,FALSE)),\"\",VLOOKUP(A35,tesserati[],5,FALSE))","v":""},{"$f":"IF(ISERROR(VLOOKUP(A35,tesserati[],7,FALSE)),\"\",VLOOKUP(A35,tesserati[],7,FALSE))","v":""}]
[null,{"$f":"IF(ISERROR(VLOOKUP(A36,tesserati[],2,FALSE)),\"\",VLOOKUP(A36,tesserati[],2,FALSE))","v":""},{"$f":"IF(ISERROR(VLOOKUP(A36,tesserati[],3,FALSE)),\"\",VLOOKUP(A36,tesserati[],3,FALSE))","v":""},{"$f":"IF(ISERROR(VLOOKUP(A36,tesserati[],4,FALSE)),\"\",VLOOKUP(A36,tesserati[],4,FALSE))","v":""},{"$f":"IF(ISERROR(VLOOKUP(A36,tesserati[],5,FALSE)),\"\",VLOOKUP(A36,tesserati[],5,FALSE))","v":""},{"$f":"IF(ISERROR(VLOOKUP(A36,tesserati[],7,FALSE)),\"\",VLOOKUP(A36,tesserati[],7,FALSE))","v":""}]
[null,{"$f":"IF(ISERROR(VLOOKUP(A37,tesserati[],2,FALSE)),\"\",VLOOKUP(A37,tesserati[],2,FALSE))","v":""},{"$f":"IF(ISERROR(VLOOKUP(A37,tesserati[],3,FALSE)),\"\",VLOOKUP(A37,tesserati[],3,FALSE))","v":""},{"$f":"IF(ISERROR(VLOOKUP(A37,tesserati[],4,FALSE)),\"\",VLOOKUP(A37,tesserati[],4,FALSE))","v":""},{"$f":"IF(ISERROR(VLOOKUP(A37,tesserati[],5,FALSE)),\"\",VLOOKUP(A37,tesserati[],5,FALSE))","v":""},{"$f":"IF(ISERROR(VLOOKUP(A37,tesserati[],7,FALSE)),\"\",VLOOKUP(A37,tesserati[],7,FALSE))","v":""}]
[null,{"$f":"IF(ISERROR(VLOOKUP(A38,tesserati[],2,FALSE)),\"\",VLOOKUP(A38,tesserati[],2,FALSE))","v":""},{"$f":"IF(ISERROR(VLOOKUP(A38,tesserati[],3,FALSE)),\"\",VLOOKUP(A38,tesserati[],3,FALSE))","v":""},{"$f":"IF(ISERROR(VLOOKUP(A38,tesserati[],4,FALSE)),\"\",VLOOKUP(A38,tesserati[],4,FALSE))","v":""},{"$f":"IF(ISERROR(VLOOKUP(A38,tesserati[],5,FALSE)),\"\",VLOOKUP(A38,tesserati[],5,FALSE))","v":""},{"$f":"IF(ISERROR(VLOOKUP(A38,tesserati[],7,FALSE)),\"\",VLOOKUP(A38,tesserati[],7,FALSE))","v":""},2]
[null,{"$f":"IF(ISERROR(VLOOKUP(A39,tesserati[],2,FALSE)),\"\",VLOOKUP(A39,tesserati[],2,FALSE))","v":""},{"$f":"IF(ISERROR(VLOOKUP(A39,tesserati[],3,FALSE)),\"\",VLOOKUP(A39,tesserati[],3,FALSE))","v":""},{"$f":"IF(ISERROR(VLOOKUP(A39,tesserati[],4,FALSE)),\"\",VLOOKUP(A39,tesserati[],4,FALSE))","v":""},{"$f":"IF(ISERROR(VLOOKUP(A39,tesserati[],5,FALSE)),\"\",VLOOKUP(A39,tesserati[],5,FALSE))","v":""},{"$f":"IF(ISERROR(VLOOKUP(A39,tesserati[],7,FALSE)),\"\",VLOOKUP(A39,tesserati[],7,FALSE))","v":""}]
[null,{"$f":"IF(ISERROR(VLOOKUP(A40,tesserati[],2,FALSE)),\"\",VLOOKUP(A40,tesserati[],2,FALSE))","v":""},{"$f":"IF(ISERROR(VLOOKUP(A40,tesserati[],3,FALSE)),\"\",VLOOKUP(A40,tesserati[],3,FALSE))","v":""},{"$f":"IF(ISERROR(VLOOKUP(A40,tesserati[],4,FALSE)),\"\",VLOOKUP(A40,tesserati[],4,FALSE))","v":""},{"$f":"IF(ISERROR(VLOOKUP(A40,tesserati[],5,FALSE)),\"\",VLOOKUP(A40,tesserati[],5,FALSE))","v":""},{"$f":"IF(ISERROR(VLOOKUP(A40,tesserati[],7,FALSE)),\"\",VLOOKUP(A40,tesserati[],7,FALSE))","v":""}]
[null,{"$f":"IF(ISERROR(VLOOKUP(A41,tesserati[],2,FALSE)),\"\",VLOOKUP(A41,tesserati[],2,FALSE))","v":""},{"$f":"IF(ISERROR(VLOOKUP(A41,tesserati[],3,FALSE)),\"\",VLOOKUP(A41,tesserati[],3,FALSE))","v":""},{"$f":"IF(ISERROR(VLOOKUP(A41,tesserati[],4,FALSE)),\"\",VLOOKUP(A41,tesserati[],4,FALSE))","v":""},{"$f":"IF(ISERROR(VLOOKUP(A41,tesserati[],5,FALSE)),\"\",VLOOKUP(A41,tesserati[],5,FALSE))","v":""},{"$f":"IF(ISERROR(VLOOKUP(A41,tesserati[],7,FALSE)),\"\",VLOOKUP(A41,tesserati[],7,FALSE))","v":""}]
[null,{"$f":"IF(ISERROR(VLOOKUP(A42,tesserati[],2,FALSE)),\"\",VLOOKUP(A42,tesserati[],2,FALSE))","v":""},{"$f":"IF(ISERROR(VLOOKUP(A42,tesserati[],3,FALSE)),\"\",VLOOKUP(A42,tesserati[],3,FALSE))","v":""},{"$f":"IF(ISERROR(VLOOKUP(A42,tesserati[],4,FALSE)),\"\",VLOOKUP(A42,tesserati[],4,FALSE))","v":""},{"$f":"IF(ISERROR(VLOOKUP(A42,tesserati[],5,FALSE)),\"\",VLOOKUP(A42,tesserati[],5,FALSE))","v":""},{"$f":"IF(ISERROR(VLOOKUP(A42,tesserati[],7,FALSE)),\"\",VLOOKUP(A42,tesserati[],7,FALSE))","v":""},3]
[null,{"$f":"IF(ISERROR(VLOOKUP(A43,tesserati[],2,FALSE)),\"\",VLOOKUP(A43,tesserati[],2,FALSE))","v":""},{"$f":"IF(ISERROR(VLOOKUP(A43,tesserati[],3,FALSE)),\"\",VLOOKUP(A43,tesserati[],3,FALSE))","v":""},{"$f":"IF(ISERROR(VLOOKUP(A43,tesserati[],4,FALSE)),\"\",VLOOKUP(A43,tesserati[],4,FALSE))","v":""},{"$f":"IF(ISERROR(VLOOKUP(A43,tesserati[],5,FALSE)),\"\",VLOOKUP(A43,tesserati[],5,FALSE))","v":""},{"$f":"IF(ISERROR(VLOOKUP(A43,tesserati[],7,FALSE)),\"\",VLOOKUP(A43,tesserati[],7,FALSE))","v":""}]
[null,{"$f":"IF(ISERROR(VLOOKUP(A44,tesserati[],2,FALSE)),\"\",VLOOKUP(A44,tesserati[],2,FALSE))","v":""},{"$f":"IF(ISERROR(VLOOKUP(A44,tesserati[],3,FALSE)),\"\",VLOOKUP(A44,tesserati[],3,FALSE))","v":""},{"$f":"IF(ISERROR(VLOOKUP(A44,tesserati[],4,FALSE)),\"\",VLOOKUP(A44,tesserati[],4,FALSE))","v":""},{"$f":"IF(ISERROR(VLOOKUP(A44,tesserati[],5,FALSE)),\"\",VLOOKUP(A44,tesserati[],5,FALSE))","v":""},{"$f":"IF(ISERROR(VLOOKUP(A44,tesserati[],7,FALSE)),\"\",VLOOKUP(A44,tesserati[],7,FALSE))","v":""}]
[null,{"$f":"IF(ISERROR(VLOOKUP(A45,tesserati[],2,FALSE)),\"\",VLOOKUP(A45,tesserati[],2,FALSE))","v":""},{"$f":"IF(ISERROR(VLOOKUP(A45,tesserati[],3,FALSE)),\"\",VLOOKUP(A45,tesserati[],3,FALSE))","v":""},{"$f":"IF(ISERROR(VLOOKUP(A45,tesserati[],4,FALSE)),\"\",VLOOKUP(A45,tesserati[],4,FALSE))","v":""},{"$f":"IF(ISERROR(VLOOKUP(A45,tesserati[],5,FALSE)),\"\",VLOOKUP(A45,tesserati[],5,FALSE))","v":""},{"$f":"IF(ISERROR(VLOOKUP(A45,tesserati[],7,FALSE)),\"\",VLOOKUP(A45,tesserati[],7,FALSE))","v":""}]
[null,{"$f":"IF(ISERROR(VLOOKUP(A46,tesserati[],2,FALSE)),\"\",VLOOKUP(A46,tesserati[],2,FALSE))","v":""},{"$f":"IF(ISERROR(VLOOKUP(A46,tesserati[],3,FALSE)),\"\",VLOOKUP(A46,tesserati[],3,FALSE))","v":""},{"$f":"IF(ISERROR(VLOOKUP(A46,tesserati[],4,FALSE)),\"\",VLOOKUP(A46,tesserati[],4,FALSE))","v":""},{"$f":"IF(ISERROR(VLOOKUP(A46,tesserati[],5,FALSE)),\"\",VLOOKUP(A46,tesserati[],5,FALSE))","v":""},{"$f":"IF(ISERROR(VLOOKUP(A46,tesserati[],7,FALSE)),\"\",VLOOKUP(A46,tesserati[],7,FALSE))","v":""},4]
[null,{"$f":"IF(ISERROR(VLOOKUP(A47,tesserati[],2,FALSE)),\"\",VLOOKUP(A47,tesserati[],2,FALSE))","v":""},{"$f":"IF(ISERROR(VLOOKUP(A47,tesserati[],3,FALSE)),\"\",VLOOKUP(A47,tesserati[],3,FALSE))","v":""},{"$f":"IF(ISERROR(VLOOKUP(A47,tesserati[],4,FALSE)),\"\",VLOOKUP(A47,tesserati[],4,FALSE))","v":""},{"$f":"IF(ISERROR(VLOOKUP(A47,tesserati[],5,FALSE)),\"\",VLOOKUP(A47,tesserati[],5,FALSE))","v":""},{"$f":"IF(ISERROR(VLOOKUP(A47,tesserati[],7,FALSE)),\"\",VLOOKUP(A47,tesserati[],7,FALSE))","v":""}]
[null,{"$f":"IF(ISERROR(VLOOKUP(A48,tesserati[],2,FALSE)),\"\",VLOOKUP(A48,tesserati[],2,FALSE))","v":""},{"$f":"IF(ISERROR(VLOOKUP(A48,tesserati[],3,FALSE)),\"\",VLOOKUP(A48,tesserati[],3,FALSE))","v":""},{"$f":"IF(ISERROR(VLOOKUP(A48,tesserati[],4,FALSE)),\"\",VLOOKUP(A48,tesserati[],4,FALSE))","v":""},{"$f":"IF(ISERROR(VLOOKUP(A48,tesserati[],5,FALSE)),\"\",VLOOKUP(A48,tesserati[],5,FALSE))","v":""},{"$f":"IF(ISERROR(VLOOKUP(A48,tesserati[],7,FALSE)),\"\",VLOOKUP(A48,tesserati[],7,FALSE))","v":""}]
[null,{"$f":"IF(ISERROR(VLOOKUP(A49,tesserati[],2,FALSE)),\"\",VLOOKUP(A49,tesserati[],2,FALSE))","v":""},{"$f":"IF(ISERROR(VLOOKUP(A49,tesserati[],3,FALSE)),\"\",VLOOKUP(A49,tesserati[],3,FALSE))","v":""},{"$f":"IF(ISERROR(VLOOKUP(A49,tesserati[],4,FALSE)),\"\",VLOOKUP(A49,tesserati[],4,FALSE))","v":""},{"$f":"IF(ISERROR(VLOOKUP(A49,tesserati[],5,FALSE)),\"\",VLOOKUP(A49,tesserati[],5,FALSE))","v":""},{"$f":"IF(ISERROR(VLOOKUP(A49,tesserati[],7,FALSE)),\"\",VLOOKUP(A49,tesserati[],7,FALSE))","v":""}]
[null,{"$f":"IF(ISERROR(VLOOKUP(A50,tesserati[],2,FALSE)),\"\",VLOOKUP(A50,tesserati[],2,FALSE))","v":""},{"$f":"IF(ISERROR(VLOOKUP(A50,tesserati[],3,FALSE)),\"\",VLOOKUP(A50,tesserati[],3,FALSE))","v":""},{"$f":"IF(ISERROR(VLOOKUP(A50,tesserati[],4,FALSE)),\"\",VLOOKUP(A50,tesserati[],4,FALSE))","v":""},{"$f":"IF(ISERROR(VLOOKUP(A50,tesserati[],5,FALSE)),\"\",VLOOKUP(A50,tesserati[],5,FALSE))","v":""},{"$f":"IF(ISERROR(VLOOKUP(A50,tesserati[],7,FALSE)),\"\",VLOOKUP(A50,tesserati[],7,FALSE))","v":""},5]
[null,{"$f":"IF(ISERROR(VLOOKUP(A51,tesserati[],2,FALSE)),\"\",VLOOKUP(A51,tesserati[],2,FALSE))","v":""},{"$f":"IF(ISERROR(VLOOKUP(A51,tesserati[],3,FALSE)),\"\",VLOOKUP(A51,tesserati[],3,FALSE))","v":""},{"$f":"IF(ISERROR(VLOOKUP(A51,tesserati[],4,FALSE)),\"\",VLOOKUP(A51,tesserati[],4,FALSE))","v":""},{"$f":"IF(ISERROR(VLOOKUP(A51,tesserati[],5,FALSE)),\"\",VLOOKUP(A51,tesserati[],5,FALSE))","v":""},{"$f":"IF(ISERROR(VLOOKUP(A51,tesserati[],7,FALSE)),\"\",VLOOKUP(A51,tesserati[],7,FALSE))","v":""}]
[null,{"$f":"IF(ISERROR(VLOOKUP(A52,tesserati[],2,FALSE)),\"\",VLOOKUP(A52,tesserati[],2,FALSE))","v":""},{"$f":"IF(ISERROR(VLOOKUP(A52,tesserati[],3,FALSE)),\"\",VLOOKUP(A52,tesserati[],3,FALSE))","v":""},{"$f":"IF(ISERROR(VLOOKUP(A52,tesserati[],4,FALSE)),\"\",VLOOKUP(A52,tesserati[],4,FALSE))","v":""},{"$f":"IF(ISERROR(VLOOKUP(A52,tesserati[],5,FALSE)),\"\",VLOOKUP(A52,tesserati[],5,FALSE))","v":""},{"$f":"IF(ISERROR(VLOOKUP(A52,tesserati[],7,FALSE)),\"\",VLOOKUP(A52,tesserati[],7,FALSE))","v":""}]
[null,{"$f":"IF(ISERROR(VLOOKUP(A53,tesserati[],2,FALSE)),\"\",VLOOKUP(A53,tesserati[],2,FALSE))","v":""},{"$f":"IF(ISERROR(VLOOKUP(A53,tesserati[],3,FALSE)),\"\",VLOOKUP(A53,tesserati[],3,FALSE))","v":""},{"$f":"IF(ISERROR(VLOOKUP(A53,tesserati[],4,FALSE)),\"\",VLOOKUP(A53,tesserati[],4,FALSE))","v":""},{"$f":"IF(ISERROR(VLOOKUP(A53,tesserati[],5,FALSE)),\"\",VLOOKUP(A53,tesserati[],5,FALSE))","v":""},{"$f":"IF(ISERROR(VLOOKUP(A53,tesserati[],7,FALSE)),\"\",VLOOKUP(A53,tesserati[],7,FALSE))","v":""}]
[null,{"$f":"IF(ISERROR(VLOOKUP(A54,tesserati[],2,FALSE)),\"\",VLOOKUP(A54,tesserati[],2,FALSE))","v":""},{"$f":"IF(ISERROR(VLOOKUP(A54,tesserati[],3,FALSE)),\"\",VLOOKUP(A54,tesserati[],3,FALSE))","v":""},{"$f":"IF(ISERROR(VLOOKUP(A54,tesserati[],4,FALSE)),\"\",VLOOKUP(A54,tesserati[],4,FALSE))","v":""},{"$f":"IF(ISERROR(VLOOKUP(A54,tesserati[],5,FALSE)),\"\",VLOOKUP(A54,tesserati[],5,FALSE))","v":""},{"$f":"IF(ISERROR(VLOOKUP(A54,tesserati[],7,FALSE)),\"\",VLOOKUP(A54,tesserati[],7,FALSE))","v":""},6]
[null,{"$f":"IF(ISERROR(VLOOKUP(A55,tesserati[],2,FALSE)),\"\",VLOOKUP(A55,tesserati[],2,FALSE))","v":""},{"$f":"IF(ISERROR(VLOOKUP(A55,tesserati[],3,FALSE)),\"\",VLOOKUP(A55,tesserati[],3,FALSE))","v":""},{"$f":"IF(ISERROR(VLOOKUP(A55,tesserati[],4,FALSE)),\"\",VLOOKUP(A55,tesserati[],4,FALSE))","v":""},{"$f":"IF(ISERROR(VLOOKUP(A55,tesserati[],5,FALSE)),\"\",VLOOKUP(A55,tesserati[],5,FALSE))","v":""},{"$f":"IF(ISERROR(VLOOKUP(A55,tesserati[],7,FALSE)),\"\",VLOOKUP(A55,tesserati[],7,FALSE))","v":""}]
[null,{"$f":"IF(ISERROR(VLOOKUP(A56,tesserati[],2,FALSE)),\"\",VLOOKUP(A56,tesserati[],2,FALSE))","v":""},{"$f":"IF(ISERROR(VLOOKUP(A56,tesserati[],3,FALSE)),\"\",VLOOKUP(A56,tesserati[],3,FALSE))","v":""},{"$f":"IF(ISERROR(VLOOKUP(A56,tesserati[],4,FALSE)),\"\",VLOOKUP(A56,tesserati[],4,FALSE))","v":""},{"$f":"IF(ISERROR(VLOOKUP(A56,tesserati[],5,FALSE)),\"\",VLOOKUP(A56,tesserati[],5,FALSE))","v":""},{"$f":"IF(ISERROR(VLOOKUP(A56,tesserati[],7,FALSE)),\"\",VLOOKUP(A56,tesserati[],7,FALSE))","v":""}]
[null,{"$f":"IF(ISERROR(VLOOKUP(A57,tesserati[],2,FALSE)),\"\",VLOOKUP(A57,tesserati[],2,FALSE))","v":""},{"$f":"IF(ISERROR(VLOOKUP(A57,tesserati[],3,FALSE)),\"\",VLOOKUP(A57,tesserati[],3,FALSE))","v":""},{"$f":"IF(ISERROR(VLOOKUP(A57,tesserati[],4,FALSE)),\"\",VLOOKUP(A57,tesserati[],4,FALSE))","v":""},{"$f":"IF(ISERROR(VLOOKUP(A57,tesserati[],5,FALSE)),\"\",VLOOKUP(A57,tesserati[],5,FALSE))","v":""},{"$f":"IF(ISERROR(VLOOKUP(A57,tesserati[],7,FALSE)),\"\",VLOOKUP(A57,tesserati[],7,FALSE))","v":""}]
[null,{"$f":"IF(ISERROR(VLOOKUP(A58,tesserati[],2,FALSE)),\"\",VLOOKUP(A58,tesserati[],2,FALSE))","v":""},{"$f":"IF(ISERROR(VLOOKUP(A58,tesserati[],3,FALSE)),\"\",VLOOKUP(A58,tesserati[],3,FALSE))","v":""},{"$f":"IF(ISERROR(VLOOKUP(A58,tesserati[],4,FALSE)),\"\",VLOOKUP(A58,tesserati[],4,FALSE))","v":""},{"$f":"IF(ISERROR(VLOOKUP(A58,tesserati[],5,FALSE)),\"\",VLOOKUP(A58,tesserati[],5,FALSE))","v":""},{"$f":"IF(ISERROR(VLOOKUP(A58,tesserati[],7,FALSE)),\"\",VLOOKUP(A58,tesserati[],7,FALSE))","v":""}]
[null,{"$f":"IF(ISERROR(VLOOKUP(A59,tesserati[],2,FALSE)),\"\",VLOOKUP(A59,tesserati[],2,FALSE))","v":""},{"$f":"IF(ISERROR(VLOOKUP(A59,tesserati[],3,FALSE)),\"\",VLOOKUP(A59,tesserati[],3,FALSE))","v":""},{"$f":"IF(ISERROR(VLOOKUP(A59,tesserati[],4,FALSE)),\"\",VLOOKUP(A59,tesserati[],4,FALSE))","v":""},{"$f":"IF(ISERROR(VLOOKUP(A59,tesserati[],5,FALSE)),\"\",VLOOKUP(A59,tesserati[],5,FALSE))","v":""},{"$f":"IF(ISERROR(VLOOKUP(A59,tesserati[],7,FALSE)),\"\",VLOOKUP(A59,tesserati[],7,FALSE))","v":""}]
[null,{"$f":"IF(ISERROR(VLOOKUP(A60,tesserati[],2,FALSE)),\"\",VLOOKUP(A60,tesserati[],2,FALSE))","v":""},{"$f":"IF(ISERROR(VLOOKUP(A60,tesserati[],3,FALSE)),\"\",VLOOKUP(A60,tesserati[],3,FALSE))","v":""},{"$f":"IF(ISERROR(VLOOKUP(A60,tesserati[],4,FALSE)),\"\",VLOOKUP(A60,tesserati[],4,FALSE))","v":""},{"$f":"IF(ISERROR(VLOOKUP(A60,tesserati[],5,FALSE)),\"\",VLOOKUP(A60,tesserati[],5,FALSE))","v":""},{"$f":"IF(ISERROR(VLOOKUP(A60,tesserati[],7,FALSE)),\"\",VLOOKUP(A60,tesserati[],7,FALSE))","v":""}]
[null,{"$f":"IF(ISERROR(VLOOKUP(A61,tesserati[],2,FALSE)),\"\",VLOOKUP(A61,tesserati[],2,FALSE))","v":""},{"$f":"IF(ISERROR(VLOOKUP(A61,tesserati[],3,FALSE)),\"\",VLOOKUP(A61,tesserati[],3,FALSE))","v":""},{"$f":"IF(ISERROR(VLOOKUP(A61,tesserati[],4,FALSE)),\"\",VLOOKUP(A61,tesserati[],4,FALSE))","v":""},{"$f":"IF(ISERROR(VLOOKUP(A61,tesserati[],5,FALSE)),\"\",VLOOKUP(A61,tesserati[],5,FALSE))","v":""},{"$f":"IF(ISERROR(VLOOKUP(A61,tesserati[],7,FALSE)),\"\",VLOOKUP(A61,tesserati[],7,FALSE))","v":""}]
[null,{"$f":"IF(ISERROR(VLOOKUP(A62,tesserati[],2,FALSE)),\"\",VLOOKUP(A62,tesserati[],2,FALSE))","v":""},{"$f":"IF(ISERROR(VLOOKUP(A62,tesserati[],3,FALSE)),\"\",VLOOKUP(A62,tesserati[],3,FALSE))","v":""},{"$f":"IF(ISERROR(VLOOKUP(A62,tesserati[],4,FALSE)),\"\",VLOOKUP(A62,tesserati[],4,FALSE))","v":""},{"$f":"IF(ISERROR(VLOOKUP(A62,tesserati[],5,FALSE)),\"\",VLOOKUP(A62,tesserati[],5,FALSE))","v":""},{"$f":"IF(ISERROR(VLOOKUP(A62,tesserati[],7,FALSE)),\"\",VLOOKUP(A62,tesserati[],7,FALSE))","v":""}]
[null,{"$f":"IF(ISERROR(VLOOKUP(A63,tesserati[],2,FALSE)),\"\",VLOOKUP(A63,tesserati[],2,FALSE))","v":""},{"$f":"IF(ISERROR(VLOOKUP(A63,tesserati[],3,FALSE)),\"\",VLOOKUP(A63,tesserati[],3,FALSE))","v":""},{"$f":"IF(ISERROR(VLOOKUP(A63,tesserati[],4,FALSE)),\"\",VLOOKUP(A63,tesserati[],4,FALSE))","v":""},{"$f":"IF(ISERROR(VLOOKUP(A63,tesserati[],5,FALSE)),\"\",VLOOKUP(A63,tesserati[],5,FALSE))","v":""},{"$f":"IF(ISERROR(VLOOKUP(A63,tesserati[],7,FALSE)),\"\",VLOOKUP(A63,tesserati[],7,FALSE))","v":""}]
[null,{"$f":"IF(ISERROR(VLOOKUP(A64,tesserati[],2,FALSE)),\"\",VLOOKUP(A64,tesserati[],2,FALSE))","v":""},{"$f":"IF(ISERROR(VLOOKUP(A64,tesserati[],3,FALSE)),\"\",VLOOKUP(A64,tesserati[],3,FALSE))","v":""},{"$f":"IF(ISERROR(VLOOKUP(A64,tesserati[],4,FALSE)),\"\",VLOOKUP(A64,tesserati[],4,FALSE))","v":""},{"$f":"IF(ISERROR(VLOOKUP(A64,tesserati[],5,FALSE)),\"\",VLOOKUP(A64,tesserati[],5,FALSE))","v":""},{"$f":"IF(ISERROR(VLOOKUP(A64,tesserati[],7,FALSE)),\"\",VLOOKUP(A64,tesserati[],7,FALSE))","v":""}]
[null,{"$f":"IF(ISERROR(VLOOKUP(A65,tesserati[],2,FALSE)),\"\",VLOOKUP(A65,tesserati[],2,FALSE))","v":""},{"$f":"IF(ISERROR(VLOOKUP(A65,tesserati[],3,FALSE)),\"\",VLOOKUP(A65,tesserati[],3,FALSE))","v":""},{"$f":"IF(ISERROR(VLOOKUP(A65,tesserati[],4,FALSE)),\"\",VLOOKUP(A65,tesserati[],4,FALSE))","v":""},{"$f":"IF(ISERROR(VLOOKUP(A65,tesserati[],5,FALSE)),\"\",VLOOKUP(A65,tesserati[],5,FALSE))","v":""},{"$f":"IF(ISERROR(VLOOKUP(A65,tesserati[],7,FALSE)),\"\",VLOOKUP(A65,tesserati[],7,FALSE))","v":""}]
[null,{"$f":"IF(ISERROR(VLOOKUP(A66,tesserati[],2,FALSE)),\"\",VLOOKUP(A66,tesserati[],2,FALSE))","v":""},{"$f":"IF(ISERROR(VLOOKUP(A66,tesserati[],3,FALSE)),\"\",VLOOKUP(A66,tesserati[],3,FALSE))","v":""},{"$f":"IF(ISERROR(VLOOKUP(A66,tesserati[],4,FALSE)),\"\",VLOOKUP(A66,tesserati[],4,FALSE))","v":""},{"$f":"IF(ISERROR(VLOOKUP(A66,tesserati[],5,FALSE)),\"\",VLOOKUP(A66,tesserati[],5,FALSE))","v":""},{"$f":"IF(ISERROR(VLOOKUP(A66,tesserati[],7,FALSE)),\"\",VLOOKUP(A66,tesserati[],7,FALSE))","v":""}]
[null,{"$f":"IF(ISERROR(VLOOKUP(A67,tesserati[],2,FALSE)),\"\",VLOOKUP(A67,tesserati[],2,FALSE))","v":""},{"$f":"IF(ISERROR(VLOOKUP(A67,tesserati[],3,FALSE)),\"\",VLOOKUP(A67,tesserati[],3,FALSE))","v":""},{"$f":"IF(ISERROR(VLOOKUP(A67,tesserati[],4,FALSE)),\"\",VLOOKUP(A67,tesserati[],4,FALSE))","v":""},{"$f":"IF(ISERROR(VLOOKUP(A67,tesserati[],5,FALSE)),\"\",VLOOKUP(A67,tesserati[],5,FALSE))","v":""},{"$f":"IF(ISERROR(VLOOKUP(A67,tesserati[],7,FALSE)),\"\",VLOOKUP(A67,tesserati[],7,FALSE))","v":""}]
[null,{"$f":"IF(ISERROR(VLOOKUP(A68,tesserati[],2,FALSE)),\"\",VLOOKUP(A68,tesserati[],2,FALSE))","v":""},{"$f":"IF(ISERROR(VLOOKUP(A68,tesserati[],3,FALSE)),\"\",VLOOKUP(A68,tesserati[],3,FALSE))","v":""},{"$f":"IF(ISERROR(VLOOKUP(A68,tesserati[],4,FALSE)),\"\",VLOOKUP(A68,tesserati[],4,FALSE))","v":""},{"$f":"IF(ISERROR(VLOOKUP(A68,tesserati[],5,FALSE)),\"\",VLOOKUP(A68,tesserati[],5,FALSE))","v":""},{"$f":"IF(ISERROR(VLOOKUP(A68,tesserati[],7,FALSE)),\"\",VLOOKUP(A68,tesserati[],7,FALSE))","v":""}]
[null,{"$f":"IF(ISERROR(VLOOKUP(A69,tesserati[],2,FALSE)),\"\",VLOOKUP(A69,tesserati[],2,FALSE))","v":""},{"$f":"IF(ISERROR(VLOOKUP(A69,tesserati[],3,FALSE)),\"\",VLOOKUP(A69,tesserati[],3,FALSE))","v":""},{"$f":"IF(ISERROR(VLOOKUP(A69,tesserati[],4,FALSE)),\"\",VLOOKUP(A69,tesserati[],4,FALSE))","v":""},{"$f":"IF(ISERROR(VLOOKUP(A69,tesserati[],5,FALSE)),\"\",VLOOKUP(A69,tesserati[],5,FALSE))","v":""},{"$f":"IF(ISERROR(VLOOKUP(A69,tesserati[],7,FALSE)),\"\",VLOOKUP(A69,tesserati[],7,FALSE))","v":""}]
[null,{"$f":"IF(ISERROR(VLOOKUP(A70,tesserati[],2,FALSE)),\"\",VLOOKUP(A70,tesserati[],2,FALSE))","v":""},{"$f":"IF(ISERROR(VLOOKUP(A70,tesserati[],3,FALSE)),\"\",VLOOKUP(A70,tesserati[],3,FALSE))","v":""},{"$f":"IF(ISERROR(VLOOKUP(A70,tesserati[],4,FALSE)),\"\",VLOOKUP(A70,tesserati[],4,FALSE))","v":""},{"$f":"IF(ISERROR(VLOOKUP(A70,tesserati[],5,FALSE)),\"\",VLOOKUP(A70,tesserati[],5,FALSE))","v":""},{"$f":"IF(ISERROR(VLOOKUP(A70,tesserati[],7,FALSE)),\"\",VLOOKUP(A70,tesserati[],7,FALSE))","v":""}]
[null,{"$f":"IF(ISERROR(VLOOKUP(A71,tesserati[],2,FALSE)),\"\",VLOOKUP(A71,tesserati[],2,FALSE))","v":""},{"$f":"IF(ISERROR(VLOOKUP(A71,tesserati[],3,FALSE)),\"\",VLOOKUP(A71,tesserati[],3,FALSE))","v":""},{"$f":"IF(ISERROR(VLOOKUP(A71,tesserati[],4,FALSE)),\"\",VLOOKUP(A71,tesserati[],4,FALSE))","v":""},{"$f":"IF(ISERROR(VLOOKUP(A71,tesserati[],5,FALSE)),\"\",VLOOKUP(A71,tesserati[],5,FALSE))","v":""},{"$f":"IF(ISERROR(VLOOKUP(A71,tesserati[],7,FALSE)),\"\",VLOOKUP(A71,tesserati[],7,FALSE))","v":""}]
[null,{"$f":"IF(ISERROR(VLOOKUP(A72,tesserati[],2,FALSE)),\"\",VLOOKUP(A72,tesserati[],2,FALSE))","v":""},{"$f":"IF(ISERROR(VLOOKUP(A72,tesserati[],3,FALSE)),\"\",VLOOKUP(A72,tesserati[],3,FALSE))","v":""},{"$f":"IF(ISERROR(VLOOKUP(A72,tesserati[],4,FALSE)),\"\",VLOOKUP(A72,tesserati[],4,FALSE))","v":""},{"$f":"IF(ISERROR(VLOOKUP(A72,tesserati[],5,FALSE)),\"\",VLOOKUP(A72,tesserati[],5,FALSE))","v":""},{"$f":"IF(ISERROR(VLOOKUP(A72,tesserati[],7,FALSE)),\"\",VLOOKUP(A72,tesserati[],7,FALSE))","v":""}]

{"sheet":"STAFFETTE 4X100 ASS. F","index":1,"n_rows":72,"n_cols":12,"rows_kept":72,"cut":false,"hidden":false,"merged":[[53,6,56,6],[53,7,56,7],[53,8,56,8],[53,9,56,9],[57,6,60,6],[57,7,60,7],[57,8,60,8],[57,9,60,9],[45,6,48,6],[45,7,48,7],[45,8,48,8],[45,9,48,9],[49,6,52,6],[49,7,52,7],[49,8,52,8],[49,9,52,9],[37,6,40,6],[37,7,40,7],[37,8,40,8],[37,9,40,9],[41,6,44,6],[41,7,44,7],[41,8,44,8],[41,9,44,9],[28,6,31,6],[28,7,31,7],[28,8,31,8],[28,9,31,9],[33,6,36,6],[33,7,36,7],[33,8,36,8],[33,9,36,9],[32,0,32,11],[20,6,23,6],[20,7,23,7],[20,8,23,8],[20,9,23,9],[24,6,27,6],[24,7,27,7],[24,8,27,8],[24,9,27,9],[12,6,15,6],[12,7,15,7],[12,8,15,8],[12,9,15,9],[16,6,19,6],[16,7,19,7],[16,8,19,8],[16,9,19,9],[8,6,11,6],[8,7,11,7],[8,8,11,8],[8,9,11,9],[5,0,6,0],[5,1,6,2],[5,3,6,3],[5,4,6,4],[5,5,6,5],[5,6,6,6],[7,0,7,11],[5,7,6,7],[5,8,6,8],[5,9,6,9],[5,10,6,10],[5,11,6,11],[2,0,2,1],[2,4,4,4],[2,5,2,7],[2,8,2,10],[2,11,4,11],[3,0,4,1],[3,2,4,2],[3,3,4,3],[3,5,4,7],[3,8,4,10],[0,2,0,4],[0,5,0,7],[0,8,0,10],[0,11,1,11],[1,2,1,4],[1,5,1,7],[1,8,1,10]]}
[null,null,"MANIFESTAZIONE",null,null,"LOCALITA'",null,null,"SOCIETA' ORGANIZZATRICE"]
[null,null,"6° prova provinciale",null,null,"Tezze sul Brenta",null,null,"CSI Tezze sul Brenta"]
["CATEGORIA",null,"ORA INIZIO","ORA FINE",null,"GARA",null,null,"DATA"]
["ASS. F",null,null,null,null,"STAFFETTA 4 X 100",null,null,"2017-09-24"]
[]
["N. tessera","ATLETA\nCOGNOME E NOME",null,"SOCIETA'","NASCITA","CATEGORIA","Corsia","PETTORALE","Tempo","Piazzamento","PUNTI","CL."]
[]
["1 SERIE",{"$f":"IF(ISERROR(VLOOKUP(A8,tesserati[],2,FALSE)),\"\",VLOOKUP(A8,tesserati[],2,FALSE))","v":""},{"$f":"IF(ISERROR(VLOOKUP(A8,tesserati[],3,FALSE)),\"\",VLOOKUP(A8,tesserati[],3,FALSE))","v":""},{"$f":"IF(ISERROR(VLOOKUP(#REF!,tesserati[],5,FALSE)),\"\",VLOOKUP(#REF!,tesserati[],5,FALSE))","v":""},{"$f":"IF(ISERROR(VLOOKUP(A8,tesserati[],4,FALSE)),\"\",VLOOKUP(A8,tesserati[],4,FALSE))","v":""},{"$f":"IF(ISERROR(VLOOKUP(A8,tesserati[],7,FALSE)),\"\",VLOOKUP(A8,tesserati[],7,FALSE))","v":""}]
[3122,{"$f":"IF(ISERROR(VLOOKUP(A9,tesserati[],2,FALSE)),\"\",VLOOKUP(A9,tesserati[],2,FALSE))","v":"GRIGNOLO"},{"$f":"IF(ISERROR(VLOOKUP(A9,tesserati[],3,FALSE)),\"\",VLOOKUP(A9,tesserati[],3,FALSE))","v":"ALESSIA"},{"$f":"IF(ISERROR(VLOOKUP(A9,tesserati[],4,FALSE)),\"\",VLOOKUP(A9,tesserati[],4,FALSE))","v":"ATLETICA UNION CREAZZO"},{"$f":"IF(ISERROR(VLOOKUP(A9,tesserati[],5,FALSE)),\"\",VLOOKUP(A9,tesserati[],5,FALSE))","v":2000},{"$f":"IF(ISERROR(VLOOKUP(A9,tesserati[],7,FALSE)),\"\",VLOOKUP(A9,tesserati[],7,FALSE))","v":"AF"},2,null,54.9,1]
[1956,{"$f":"IF(ISERROR(VLOOKUP(A10,tesserati[],2,FALSE)),\"\",VLOOKUP(A10,tesserati[],2,FALSE))","v":"MARAN"},{"$f":"IF(ISERROR(VLOOKUP(A10,tesserati[],3,FALSE)),\"\",VLOOKUP(A10,tesserati[],3,FALSE))","v":"ELISABETTA"},{"$f":"IF(ISERROR(VLOOKUP(A10,tesserati[],4,FALSE)),\"\",VLOOKUP(A10,tesserati[],4,FALSE))","v":"ATLETICA UNION CREAZZO"},{"$f":"IF(ISERROR(VLOOKUP(A10,tesserati[],5,FALSE)),\"\",VLOOKUP(A10,tesserati[],5,FALSE))","v":1992},{"$f":"IF(ISERROR(VLOOKUP(A10,tesserati[],7,FALSE)),\"\",VLOOKUP(A10,tesserati[],7,FALSE))","v":"SF"}]
[2958,{"$f":"IF(ISERROR(VLOOKUP(A11,tesserati[],2,FALSE)),\"\",VLOOKUP(A11,tesserati[],2,FALSE))","v":"CATTANI"},{"$f":"IF(ISERROR(VLOOKUP(A11,tesserati[],3,FALSE)),\"\",VLOOKUP(A11,tesserati[],3,FALSE))","v":"LEILA"},{"$f":"IF(ISERROR(VLOOKUP(A11,tesserati[],4,FALSE)),\"\",VLOOKUP(A11,tesserati[],4,FALSE))","v":"ATLETICA UNION CREAZZO"},{"$f":"IF(ISERROR(VLOOKUP(A11,tesserati[],5,FALSE)),\"\",VLOOKUP(A11,tesserati[],5,FALSE))","v":2001},{"$f":"IF(ISERROR(VLOOKUP(A11,tesserati[],7,FALSE)),\"\",VLOOKUP(A11,tesserati[],7,FALSE))","v":"AF"}]
[3123,{"$f":"IF(ISERROR(VLOOKUP(A12,tesserati[],2,FALSE)),\"\",VLOOKUP(A12,tesserati[],2,FALSE))","v":"URBANI"},{"$f":"IF(ISERROR(VLOOKUP(A12,tesserati[],3,FALSE)),\"\",VLOOKUP(A12,tesserati[],3,FALSE))","v":"CATERINA"},{"$f":"IF(ISERROR(VLOOKUP(A12,tesserati[],4,FALSE)),\"\",VLOOKUP(A12,tesserati[],4,FALSE))","v":"ATLETICA UNION CREAZZO"},{"$f":"IF(ISERROR(VLOOKUP(A12,tesserati[],5,FALSE)),\"\",VLOOKUP(A12,tesserati[],5,FALSE))","v":2000},{"$f":"IF(ISERROR(VLOOKUP(A12,tesserati[],7,FALSE)),\"\",VLOOKUP(A12,tesserati[],7,FALSE))","v":"AF"}]
[4004,{"$f":"IF(ISERROR(VLOOKUP(A13,tesserati[],2,FALSE)),\"\",VLOOKUP(A13,tesserati[],2,FALSE))","v":"RIGHI"},{"$f":"IF(ISERROR(VLOOKUP(A13,tesserati[],3,FALSE)),\"\",VLOOKUP(A13,tesserati[],3,FALSE))","v":"ELENA"},{"$f":"IF(ISERROR(VLOOKUP(A13,tesserati[],4,FALSE)),\"\",VLOOKUP(A13,tesserati[],4,FALSE))","v":"POLISPORTIVA DUEVILLE"},{"$f":"IF(ISERROR(VLOOKUP(A13,tesserati[],5,FALSE)),\"\",VLOOKUP(A13,tesserati[],5,FALSE))","v":1968},{"$f":"IF(ISERROR(VLOOKUP(A13,tesserati[],7,FALSE)),\"\",VLOOKUP(A13,tesserati[],7,FALSE))","v":"ABF"},3,null,59.3,2]
[3336,{"$f":"IF(ISERROR(VLOOKUP(A14,tesserati[],2,FALSE)),\"\",VLOOKUP(A14,tesserati[],2,FALSE))","v":"GONELLA"},{"$f":"IF(ISERROR(VLOOKUP(A14,tesserati[],3,FALSE)),\"\",VLOOKUP(A14,tesserati[],3,FALSE))","v":"CLAUDIA"},{"$f":"IF(ISERROR(VLOOKUP(A14,tesserati[],4,FALSE)),\"\",VLOOKUP(A14,tesserati[],4,FALSE))","v":"POLISPORTIVA DUEVILLE"},{"$f":"IF(ISERROR(VLOOKUP(A14,tesserati[],5,FALSE)),\"\",VLOOKUP(A14,tesserati[],5,FALSE))","v":1966},{"$f":"IF(ISERROR(VLOOKUP(A14,tesserati[],7,FALSE)),\"\",VLOOKUP(A14,tesserati[],7,FALSE))","v":"ABF"}]
[4035,{"$f":"IF(ISERROR(VLOOKUP(A15,tesserati[],2,FALSE)),\"\",VLOOKUP(A15,tesserati[],2,FALSE))","v":"FASSINA"},{"$f":"IF(ISERROR(VLOOKUP(A15,tesserati[],3,FALSE)),\"\",VLOOKUP(A15,tesserati[],3,FALSE))","v":"ALESSANDRA"},{"$f":"IF(ISERROR(VLOOKUP(A15,tesserati[],4,FALSE)),\"\",VLOOKUP(A15,tesserati[],4,FALSE))","v":"POLISPORTIVA DUEVILLE"},{"$f":"IF(ISERROR(VLOOKUP(A15,tesserati[],5,FALSE)),\"\",VLOOKUP(A15,tesserati[],5,FALSE))","v":2001},{"$f":"IF(ISERROR(VLOOKUP(A15,tesserati[],7,FALSE)),\"\",VLOOKUP(A15,tesserati[],7,FALSE))","v":"AF"}]
[3956,{"$f":"IF(ISERROR(VLOOKUP(A16,tesserati[],2,FALSE)),\"\",VLOOKUP(A16,tesserati[],2,FALSE))","v":"CRISTOFORI"},{"$f":"IF(ISERROR(VLOOKUP(A16,tesserati[],3,FALSE)),\"\",VLOOKUP(A16,tesserati[],3,FALSE))","v":"SARA"},{"$f":"IF(ISERROR(VLOOKUP(A16,tesserati[],4,FALSE)),\"\",VLOOKUP(A16,tesserati[],4,FALSE))","v":"POLISPORTIVA DUEVILLE"},{"$f":"IF(ISERROR(VLOOKUP(A16,tesserati[],5,FALSE)),\"\",VLOOKUP(A16,tesserati[],5,FALSE))","v":2000},{"$f":"IF(ISERROR(VLOOKUP(A16,tesserati[],7,FALSE)),\"\",VLOOKUP(A16,tesserati[],7,FALSE))","v":"AF"}]
[3030,{"$f":"IF(ISERROR(VLOOKUP(A17,tesserati[],2,FALSE)),\"\",VLOOKUP(A17,tesserati[],2,FALSE))","v":"CABEZZONI"},{"$f":"IF(ISERROR(VLOOKUP(A17,tesserati[],3,FALSE)),\"\",VLOOKUP(A17,tesserati[],3,FALSE))","v":"LAURA"},{"$f":"IF(ISERROR(VLOOKUP(A17,tesserati[],4,FALSE)),\"\",VLOOKUP(A17,tesserati[],4,FALSE))","v":"ATLETICA UNION CREAZZO"},{"$f":"IF(ISERROR(VLOOKUP(A17,tesserati[],5,FALSE)),\"\",VLOOKUP(A17,tesserati[],5,FALSE))","v":1971},{"$f":"IF(ISERROR(VLOOKUP(A17,tesserati[],7,FALSE)),\"\",VLOOKUP(A17,tesserati[],7,FALSE))","v":"ABF"},4,null,"1,03.4",3]
[4750,{"$f":"IF(ISERROR(VLOOKUP(A18,tesserati[],2,FALSE)),\"\",VLOOKUP(A18,tesserati[],2,FALSE))","v":"GIANELLO"},{"$f":"IF(ISERROR(VLOOKUP(A18,tesserati[],3,FALSE)),\"\",VLOOKUP(A18,tesserati[],3,FALSE))","v":"EVELIN"},{"$f":"IF(ISERROR(VLOOKUP(A18,tesserati[],4,FALSE)),\"\",VLOOKUP(A18,tesserati[],4,FALSE))","v":"ATLETICA UNION CREAZZO"},{"$f":"IF(ISERROR(VLOOKUP(A18,tesserati[],5,FALSE)),\"\",VLOOKUP(A18,tesserati[],5,FALSE))","v":1971},{"$f":"IF(ISERROR(VLOOKUP(A18,tesserati[],7,FALSE)),\"\",VLOOKUP(A18,tesserati[],7,FALSE))","v":"ABF"}]
[2951,{"$f":"IF(ISERROR(VLOOKUP(A19,tesserati[],2,FALSE)),\"\",VLOOKUP(A19,tesserati[],2,FALSE))","v":"BEVILACQUA"},{"$f":"IF(ISERROR(VLOOKUP(A19,tesserati[],3,FALSE)),\"\",VLOOKUP(A19,tesserati[],3,FALSE))","v":"DINA"},{"$f":"IF(ISERROR(VLOOKUP(A19,tesserati[],4,FALSE)),\"\",VLOOKUP(A19,tesserati[],4,FALSE))","v":"ATLETICA UNION CREAZZO"},{"$f":"IF(ISERROR(VLOOKUP(A19,tesserati[],5,FALSE)),\"\",VLOOKUP(A19,tesserati[],5,FALSE))","v":1965},{"$f":"IF(ISERROR(VLOOKUP(A19,tesserati[],7,FALSE)),\"\",VLOOKUP(A19,tesserati[],7,FALSE))","v":"ABF"}]
[2974,{"$f":"IF(ISERROR(VLOOKUP(A20,tesserati[],2,FALSE)),\"\",VLOOKUP(A20,tesserati[],2,FALSE))","v":"GASPARI"},{"$f":"IF(ISERROR(VLOOKUP(A20,tesserati[],3,FALSE)),\"\",VLOOKUP(A20,tesserati[],3,FALSE))","v":"NADIA"},{"$f":"IF(ISERROR(VLOOKUP(A20,tesserati[],4,FALSE)),\"\",VLOOKUP(A20,tesserati[],4,FALSE))","v":"ATLETICA UNION CREAZZO"},{"$f":"IF(ISERROR(VLOOKUP(A20,tesserati[],5,FALSE)),\"\",VLOOKUP(A20,tesserati[],5,FALSE))","v":1970},{"$f":"IF(ISERROR(VLOOKUP(A20,tesserati[],7,FALSE)),\"\",VLOOKUP(A20,tesserati[],7,FALSE))","v":"ABF"}]
[null,{"$f":"IF(ISERROR(VLOOKUP(A21,tesserati[],2,FALSE)),\"\",VLOOKUP(A21,tesserati[],2,FALSE))","v":""},{"$f":"IF(ISERROR(VLOOKUP(A21,tesserati[],3,FALSE)),\"\",VLOOKUP(A21,tesserati[],3,FALSE))","v":""},{"$f":"IF(ISERROR(VLOOKUP(A21,tesserati[],4,FALSE)),\"\",VLOOKUP(A21,tesserati[],4,FALSE))","v":""},{"$f":"IF(ISERROR(VLOOKUP(A21,tesserati[],5,FALSE)),\"\",VLOOKUP(A21,tesserati[],5,FALSE))","v":""},{"$f":"IF(ISERROR(VLOOKUP(A21,tesserati[],7,FALSE)),\"\",VLOOKUP(A21,tesserati[],7,FALSE))","v":""}]
[null,{"$f":"IF(ISERROR(VLOOKUP(A22,tesserati[],2,FALSE)),\"\",VLOOKUP(A22,tesserati[],2,FALSE))","v":""},{"$f":"IF(ISERROR(VLOOKUP(A22,tesserati[],3,FALSE)),\"\",VLOOKUP(A22,tesserati[],3,FALSE))","v":""},{"$f":"IF(ISERROR(VLOOKUP(A22,tesserati[],4,FALSE)),\"\",VLOOKUP(A22,tesserati[],4,FALSE))","v":""},{"$f":"IF(ISERROR(VLOOKUP(A22,tesserati[],5,FALSE)),\"\",VLOOKUP(A22,tesserati[],5,FALSE))","v":""},{"$f":"IF(ISERROR(VLOOKUP(A22,tesserati[],7,FALSE)),\"\",VLOOKUP(A22,tesserati[],7,FALSE))","v":""}]
[null,{"$f":"IF(ISERROR(VLOOKUP(A23,tesserati[],2,FALSE)),\"\",VLOOKUP(A23,tesserati[],2,FALSE))","v":""},{"$f":"IF(ISERROR(VLOOKUP(A23,tesserati[],3,FALSE)),\"\",VLOOKUP(A23,tesserati[],3,FALSE))","v":""},{"$f":"IF(ISERROR(VLOOKUP(A23,tesserati[],4,FALSE)),\"\",VLOOKUP(A23,tesserati[],4,FALSE))","v":""},{"$f":"IF(ISERROR(VLOOKUP(A23,tesserati[],5,FALSE)),\"\",VLOOKUP(A23,tesserati[],5,FALSE))","v":""},{"$f":"IF(ISERROR(VLOOKUP(A23,tesserati[],7,FALSE)),\"\",VLOOKUP(A23,tesserati[],7,FALSE))","v":""}]
[null,{"$f":"IF(ISERROR(VLOOKUP(A24,tesserati[],2,FALSE)),\"\",VLOOKUP(A24,tesserati[],2,FALSE))","v":""},{"$f":"IF(ISERROR(VLOOKUP(A24,tesserati[],3,FALSE)),\"\",VLOOKUP(A24,tesserati[],3,FALSE))","v":""},{"$f":"IF(ISERROR(VLOOKUP(A24,tesserati[],4,FALSE)),\"\",VLOOKUP(A24,tesserati[],4,FALSE))","v":""},{"$f":"IF(ISERROR(VLOOKUP(A24,tesserati[],5,FALSE)),\"\",VLOOKUP(A24,tesserati[],5,FALSE))","v":""},{"$f":"IF(ISERROR(VLOOKUP(A24,tesserati[],7,FALSE)),\"\",VLOOKUP(A24,tesserati[],7,FALSE))","v":""}]
[null,{"$f":"IF(ISERROR(VLOOKUP(A25,tesserati[],2,FALSE)),\"\",VLOOKUP(A25,tesserati[],2,FALSE))","v":""},{"$f":"IF(ISERROR(VLOOKUP(A25,tesserati[],3,FALSE)),\"\",VLOOKUP(A25,tesserati[],3,FALSE))","v":""},{"$f":"IF(ISERROR(VLOOKUP(A25,tesserati[],4,FALSE)),\"\",VLOOKUP(A25,tesserati[],4,FALSE))","v":""},{"$f":"IF(ISERROR(VLOOKUP(A25,tesserati[],5,FALSE)),\"\",VLOOKUP(A25,tesserati[],5,FALSE))","v":""},{"$f":"IF(ISERROR(VLOOKUP(A25,tesserati[],7,FALSE)),\"\",VLOOKUP(A25,tesserati[],7,FALSE))","v":""}]
[null,{"$f":"IF(ISERROR(VLOOKUP(A26,tesserati[],2,FALSE)),\"\",VLOOKUP(A26,tesserati[],2,FALSE))","v":""},{"$f":"IF(ISERROR(VLOOKUP(A26,tesserati[],3,FALSE)),\"\",VLOOKUP(A26,tesserati[],3,FALSE))","v":""},{"$f":"IF(ISERROR(VLOOKUP(A26,tesserati[],4,FALSE)),\"\",VLOOKUP(A26,tesserati[],4,FALSE))","v":""},{"$f":"IF(ISERROR(VLOOKUP(A26,tesserati[],5,FALSE)),\"\",VLOOKUP(A26,tesserati[],5,FALSE))","v":""},{"$f":"IF(ISERROR(VLOOKUP(A26,tesserati[],7,FALSE)),\"\",VLOOKUP(A26,tesserati[],7,FALSE))","v":""}]
[null,{"$f":"IF(ISERROR(VLOOKUP(A27,tesserati[],2,FALSE)),\"\",VLOOKUP(A27,tesserati[],2,FALSE))","v":""},{"$f":"IF(ISERROR(VLOOKUP(A27,tesserati[],3,FALSE)),\"\",VLOOKUP(A27,tesserati[],3,FALSE))","v":""},{"$f":"IF(ISERROR(VLOOKUP(A27,tesserati[],4,FALSE)),\"\",VLOOKUP(A27,tesserati[],4,FALSE))","v":""},{"$f":"IF(ISERROR(VLOOKUP(A27,tesserati[],5,FALSE)),\"\",VLOOKUP(A27,tesserati[],5,FALSE))","v":""},{"$f":"IF(ISERROR(VLOOKUP(A27,tesserati[],7,FALSE)),\"\",VLOOKUP(A27,tesserati[],7,FALSE))","v":""}]
[null,{"$f":"IF(ISERROR(VLOOKUP(A28,tesserati[],2,FALSE)),\"\",VLOOKUP(A28,tesserati[],2,FALSE))","v":""},{"$f":"IF(ISERROR(VLOOKUP(A28,tesserati[],3,FALSE)),\"\",VLOOKUP(A28,tesserati[],3,FALSE))","v":""},{"$f":"IF(ISERROR(VLOOKUP(A28,tesserati[],4,FALSE)),\"\",VLOOKUP(A28,tesserati[],4,FALSE))","v":""},{"$f":"IF(ISERROR(VLOOKUP(A28,tesserati[],5,FALSE)),\"\",VLOOKUP(A28,tesserati[],5,FALSE))","v":""},{"$f":"IF(ISERROR(VLOOKUP(A28,tesserati[],7,FALSE)),\"\",VLOOKUP(A28,tesserati[],7,FALSE))","v":""}]
[null,{"$f":"IF(ISERROR(VLOOKUP(A29,tesserati[],2,FALSE)),\"\",VLOOKUP(A29,tesserati[],2,FALSE))","v":""},{"$f":"IF(ISERROR(VLOOKUP(A29,tesserati[],3,FALSE)),\"\",VLOOKUP(A29,tesserati[],3,FALSE))","v":""},{"$f":"IF(ISERROR(VLOOKUP(A29,tesserati[],4,FALSE)),\"\",VLOOKUP(A29,tesserati[],4,FALSE))","v":""},{"$f":"IF(ISERROR(VLOOKUP(A29,tesserati[],5,FALSE)),\"\",VLOOKUP(A29,tesserati[],5,FALSE))","v":""},{"$f":"IF(ISERROR(VLOOKUP(A29,tesserati[],7,FALSE)),\"\",VLOOKUP(A29,tesserati[],7,FALSE))","v":""}]
[null,{"$f":"IF(ISERROR(VLOOKUP(A30,tesserati[],2,FALSE)),\"\",VLOOKUP(A30,tesserati[],2,FALSE))","v":""},{"$f":"IF(ISERROR(VLOOKUP(A30,tesserati[],3,FALSE)),\"\",VLOOKUP(A30,tesserati[],3,FALSE))","v":""},{"$f":"IF(ISERROR(VLOOKUP(A30,tesserati[],4,FALSE)),\"\",VLOOKUP(A30,tesserati[],4,FALSE))","v":""},{"$f":"IF(ISERROR(VLOOKUP(A30,tesserati[],5,FALSE)),\"\",VLOOKUP(A30,tesserati[],5,FALSE))","v":""},{"$f":"IF(ISERROR(VLOOKUP(A30,tesserati[],7,FALSE)),\"\",VLOOKUP(A30,tesserati[],7,FALSE))","v":""}]
[null,{"$f":"IF(ISERROR(VLOOKUP(A31,tesserati[],2,FALSE)),\"\",VLOOKUP(A31,tesserati[],2,FALSE))","v":""},{"$f":"IF(ISERROR(VLOOKUP(A31,tesserati[],3,FALSE)),\"\",VLOOKUP(A31,tesserati[],3,FALSE))","v":""},{"$f":"IF(ISERROR(VLOOKUP(A31,tesserati[],4,FALSE)),\"\",VLOOKUP(A31,tesserati[],4,FALSE))","v":""},{"$f":"IF(ISERROR(VLOOKUP(A31,tesserati[],5,FALSE)),\"\",VLOOKUP(A31,tesserati[],5,FALSE))","v":""},{"$f":"IF(ISERROR(VLOOKUP(A31,tesserati[],7,FALSE)),\"\",VLOOKUP(A31,tesserati[],7,FALSE))","v":""}]
[null,{"$f":"IF(ISERROR(VLOOKUP(A32,tesserati[],2,FALSE)),\"\",VLOOKUP(A32,tesserati[],2,FALSE))","v":""},{"$f":"IF(ISERROR(VLOOKUP(A32,tesserati[],3,FALSE)),\"\",VLOOKUP(A32,tesserati[],3,FALSE))","v":""},{"$f":"IF(ISERROR(VLOOKUP(A32,tesserati[],4,FALSE)),\"\",VLOOKUP(A32,tesserati[],4,FALSE))","v":""},{"$f":"IF(ISERROR(VLOOKUP(A32,tesserati[],5,FALSE)),\"\",VLOOKUP(A32,tesserati[],5,FALSE))","v":""},{"$f":"IF(ISERROR(VLOOKUP(A32,tesserati[],7,FALSE)),\"\",VLOOKUP(A32,tesserati[],7,FALSE))","v":""}]
["2 SERIE"]
[null,{"$f":"IF(ISERROR(VLOOKUP(A34,tesserati[],2,FALSE)),\"\",VLOOKUP(A34,tesserati[],2,FALSE))","v":""},{"$f":"IF(ISERROR(VLOOKUP(A34,tesserati[],3,FALSE)),\"\",VLOOKUP(A34,tesserati[],3,FALSE))","v":""},{"$f":"IF(ISERROR(VLOOKUP(A34,tesserati[],4,FALSE)),\"\",VLOOKUP(A34,tesserati[],4,FALSE))","v":""},{"$f":"IF(ISERROR(VLOOKUP(A34,tesserati[],5,FALSE)),\"\",VLOOKUP(A34,tesserati[],5,FALSE))","v":""},{"$f":"IF(ISERROR(VLOOKUP(A34,tesserati[],7,FALSE)),\"\",VLOOKUP(A34,tesserati[],7,FALSE))","v":""},1]
[null,{"$f":"IF(ISERROR(VLOOKUP(A35,tesserati[],2,FALSE)),\"\",VLOOKUP(A35,tesserati[],2,FALSE))","v":""},{"$f":"IF(ISERROR(VLOOKUP(A35,tesserati[],3,FALSE)),\"\",VLOOKUP(A35,tesserati[],3,FALSE))","v":""},{"$f":"IF(ISERROR(VLOOKUP(A35,tesserati[],4,FALSE)),\"\",VLOOKUP(A35,tesserati[],4,FALSE))","v":""},{"$f":"IF(ISERROR(VLOOKUP(A35,tesserati[],5,FALSE)),\"\",VLOOKUP(A35,tesserati[],5,FALSE))","v":""},{"$f":"IF(ISERROR(VLOOKUP(A35,tesserati[],7,FALSE)),\"\",VLOOKUP(A35,tesserati[],7,FALSE))","v":""}]
[null,{"$f":"IF(ISERROR(VLOOKUP(A36,tesserati[],2,FALSE)),\"\",VLOOKUP(A36,tesserati[],2,FALSE))","v":""},{"$f":"IF(ISERROR(VLOOKUP(A36,tesserati[],3,FALSE)),\"\",VLOOKUP(A36,tesserati[],3,FALSE))","v":""},{"$f":"IF(ISERROR(VLOOKUP(A36,tesserati[],4,FALSE)),\"\",VLOOKUP(A36,tesserati[],4,FALSE))","v":""},{"$f":"IF(ISERROR(VLOOKUP(A36,tesserati[],5,FALSE)),\"\",VLOOKUP(A36,tesserati[],5,FALSE))","v":""},{"$f":"IF(ISERROR(VLOOKUP(A36,tesserati[],7,FALSE)),\"\",VLOOKUP(A36,tesserati[],7,FALSE))","v":""}]
[null,{"$f":"IF(ISERROR(VLOOKUP(A37,tesserati[],2,FALSE)),\"\",VLOOKUP(A37,tesserati[],2,FALSE))","v":""},{"$f":"IF(ISERROR(VLOOKUP(A37,tesserati[],3,FALSE)),\"\",VLOOKUP(A37,tesserati[],3,FALSE))","v":""},{"$f":"IF(ISERROR(VLOOKUP(A37,tesserati[],4,FALSE)),\"\",VLOOKUP(A37,tesserati[],4,FALSE))","v":""},{"$f":"IF(ISERROR(VLOOKUP(A37,tesserati[],5,FALSE)),\"\",VLOOKUP(A37,tesserati[],5,FALSE))","v":""},{"$f":"IF(ISERROR(VLOOKUP(A37,tesserati[],7,FALSE)),\"\",VLOOKUP(A37,tesserati[],7,FALSE))","v":""}]
[null,{"$f":"IF(ISERROR(VLOOKUP(A38,tesserati[],2,FALSE)),\"\",VLOOKUP(A38,tesserati[],2,FALSE))","v":""},{"$f":"IF(ISERROR(VLOOKUP(A38,tesserati[],3,FALSE)),\"\",VLOOKUP(A38,tesserati[],3,FALSE))","v":""},{"$f":"IF(ISERROR(VLOOKUP(A38,tesserati[],4,FALSE)),\"\",VLOOKUP(A38,tesserati[],4,FALSE))","v":""},{"$f":"IF(ISERROR(VLOOKUP(A38,tesserati[],5,FALSE)),\"\",VLOOKUP(A38,tesserati[],5,FALSE))","v":""},{"$f":"IF(ISERROR(VLOOKUP(A38,tesserati[],7,FALSE)),\"\",VLOOKUP(A38,tesserati[],7,FALSE))","v":""},2]
[null,{"$f":"IF(ISERROR(VLOOKUP(A39,tesserati[],2,FALSE)),\"\",VLOOKUP(A39,tesserati[],2,FALSE))","v":""},{"$f":"IF(ISERROR(VLOOKUP(A39,tesserati[],3,FALSE)),\"\",VLOOKUP(A39,tesserati[],3,FALSE))","v":""},{"$f":"IF(ISERROR(VLOOKUP(A39,tesserati[],4,FALSE)),\"\",VLOOKUP(A39,tesserati[],4,FALSE))","v":""},{"$f":"IF(ISERROR(VLOOKUP(A39,tesserati[],5,FALSE)),\"\",VLOOKUP(A39,tesserati[],5,FALSE))","v":""},{"$f":"IF(ISERROR(VLOOKUP(A39,tesserati[],7,FALSE)),\"\",VLOOKUP(A39,tesserati[],7,FALSE))","v":""}]
[null,{"$f":"IF(ISERROR(VLOOKUP(A40,tesserati[],2,FALSE)),\"\",VLOOKUP(A40,tesserati[],2,FALSE))","v":""},{"$f":"IF(ISERROR(VLOOKUP(A40,tesserati[],3,FALSE)),\"\",VLOOKUP(A40,tesserati[],3,FALSE))","v":""},{"$f":"IF(ISERROR(VLOOKUP(A40,tesserati[],4,FALSE)),\"\",VLOOKUP(A40,tesserati[],4,FALSE))","v":""},{"$f":"IF(ISERROR(VLOOKUP(A40,tesserati[],5,FALSE)),\"\",VLOOKUP(A40,tesserati[],5,FALSE))","v":""},{"$f":"IF(ISERROR(VLOOKUP(A40,tesserati[],7,FALSE)),\"\",VLOOKUP(A40,tesserati[],7,FALSE))","v":""}]
[null,{"$f":"IF(ISERROR(VLOOKUP(A41,tesserati[],2,FALSE)),\"\",VLOOKUP(A41,tesserati[],2,FALSE))","v":""},{"$f":"IF(ISERROR(VLOOKUP(A41,tesserati[],3,FALSE)),\"\",VLOOKUP(A41,tesserati[],3,FALSE))","v":""},{"$f":"IF(ISERROR(VLOOKUP(A41,tesserati[],4,FALSE)),\"\",VLOOKUP(A41,tesserati[],4,FALSE))","v":""},{"$f":"IF(ISERROR(VLOOKUP(A41,tesserati[],5,FALSE)),\"\",VLOOKUP(A41,tesserati[],5,FALSE))","v":""},{"$f":"IF(ISERROR(VLOOKUP(A41,tesserati[],7,FALSE)),\"\",VLOOKUP(A41,tesserati[],7,FALSE))","v":""}]
[null,{"$f":"IF(ISERROR(VLOOKUP(A42,tesserati[],2,FALSE)),\"\",VLOOKUP(A42,tesserati[],2,FALSE))","v":""},{"$f":"IF(ISERROR(VLOOKUP(A42,tesserati[],3,FALSE)),\"\",VLOOKUP(A42,tesserati[],3,FALSE))","v":""},{"$f":"IF(ISERROR(VLOOKUP(A42,tesserati[],4,FALSE)),\"\",VLOOKUP(A42,tesserati[],4,FALSE))","v":""},{"$f":"IF(ISERROR(VLOOKUP(A42,tesserati[],5,FALSE)),\"\",VLOOKUP(A42,tesserati[],5,FALSE))","v":""},{"$f":"IF(ISERROR(VLOOKUP(A42,tesserati[],7,FALSE)),\"\",VLOOKUP(A42,tesserati[],7,FALSE))","v":""},3]
[null,{"$f":"IF(ISERROR(VLOOKUP(A43,tesserati[],2,FALSE)),\"\",VLOOKUP(A43,tesserati[],2,FALSE))","v":""},{"$f":"IF(ISERROR(VLOOKUP(A43,tesserati[],3,FALSE)),\"\",VLOOKUP(A43,tesserati[],3,FALSE))","v":""},{"$f":"IF(ISERROR(VLOOKUP(A43,tesserati[],4,FALSE)),\"\",VLOOKUP(A43,tesserati[],4,FALSE))","v":""},{"$f":"IF(ISERROR(VLOOKUP(A43,tesserati[],5,FALSE)),\"\",VLOOKUP(A43,tesserati[],5,FALSE))","v":""},{"$f":"IF(ISERROR(VLOOKUP(A43,tesserati[],7,FALSE)),\"\",VLOOKUP(A43,tesserati[],7,FALSE))","v":""}]
[null,{"$f":"IF(ISERROR(VLOOKUP(A44,tesserati[],2,FALSE)),\"\",VLOOKUP(A44,tesserati[],2,FALSE))","v":""},{"$f":"IF(ISERROR(VLOOKUP(A44,tesserati[],3,FALSE)),\"\",VLOOKUP(A44,tesserati[],3,FALSE))","v":""},{"$f":"IF(ISERROR(VLOOKUP(A44,tesserati[],4,FALSE)),\"\",VLOOKUP(A44,tesserati[],4,FALSE))","v":""},{"$f":"IF(ISERROR(VLOOKUP(A44,tesserati[],5,FALSE)),\"\",VLOOKUP(A44,tesserati[],5,FALSE))","v":""},{"$f":"IF(ISERROR(VLOOKUP(A44,tesserati[],7,FALSE)),\"\",VLOOKUP(A44,tesserati[],7,FALSE))","v":""}]
[null,{"$f":"IF(ISERROR(VLOOKUP(A45,tesserati[],2,FALSE)),\"\",VLOOKUP(A45,tesserati[],2,FALSE))","v":""},{"$f":"IF(ISERROR(VLOOKUP(A45,tesserati[],3,FALSE)),\"\",VLOOKUP(A45,tesserati[],3,FALSE))","v":""},{"$f":"IF(ISERROR(VLOOKUP(A45,tesserati[],4,FALSE)),\"\",VLOOKUP(A45,tesserati[],4,FALSE))","v":""},{"$f":"IF(ISERROR(VLOOKUP(A45,tesserati[],5,FALSE)),\"\",VLOOKUP(A45,tesserati[],5,FALSE))","v":""},{"$f":"IF(ISERROR(VLOOKUP(A45,tesserati[],7,FALSE)),\"\",VLOOKUP(A45,tesserati[],7,FALSE))","v":""}]
[null,{"$f":"IF(ISERROR(VLOOKUP(A46,tesserati[],2,FALSE)),\"\",VLOOKUP(A46,tesserati[],2,FALSE))","v":""},{"$f":"IF(ISERROR(VLOOKUP(A46,tesserati[],3,FALSE)),\"\",VLOOKUP(A46,tesserati[],3,FALSE))","v":""},{"$f":"IF(ISERROR(VLOOKUP(A46,tesserati[],4,FALSE)),\"\",VLOOKUP(A46,tesserati[],4,FALSE))","v":""},{"$f":"IF(ISERROR(VLOOKUP(A46,tesserati[],5,FALSE)),\"\",VLOOKUP(A46,tesserati[],5,FALSE))","v":""},{"$f":"IF(ISERROR(VLOOKUP(A46,tesserati[],7,FALSE)),\"\",VLOOKUP(A46,tesserati[],7,FALSE))","v":""},4]
[null,{"$f":"IF(ISERROR(VLOOKUP(A47,tesserati[],2,FALSE)),\"\",VLOOKUP(A47,tesserati[],2,FALSE))","v":""},{"$f":"IF(ISERROR(VLOOKUP(A47,tesserati[],3,FALSE)),\"\",VLOOKUP(A47,tesserati[],3,FALSE))","v":""},{"$f":"IF(ISERROR(VLOOKUP(A47,tesserati[],4,FALSE)),\"\",VLOOKUP(A47,tesserati[],4,FALSE))","v":""},{"$f":"IF(ISERROR(VLOOKUP(A47,tesserati[],5,FALSE)),\"\",VLOOKUP(A47,tesserati[],5,FALSE))","v":""},{"$f":"IF(ISERROR(VLOOKUP(A47,tesserati[],7,FALSE)),\"\",VLOOKUP(A47,tesserati[],7,FALSE))","v":""}]
[null,{"$f":"IF(ISERROR(VLOOKUP(A48,tesserati[],2,FALSE)),\"\",VLOOKUP(A48,tesserati[],2,FALSE))","v":""},{"$f":"IF(ISERROR(VLOOKUP(A48,tesserati[],3,FALSE)),\"\",VLOOKUP(A48,tesserati[],3,FALSE))","v":""},{"$f":"IF(ISERROR(VLOOKUP(A48,tesserati[],4,FALSE)),\"\",VLOOKUP(A48,tesserati[],4,FALSE))","v":""},{"$f":"IF(ISERROR(VLOOKUP(A48,tesserati[],5,FALSE)),\"\",VLOOKUP(A48,tesserati[],5,FALSE))","v":""},{"$f":"IF(ISERROR(VLOOKUP(A48,tesserati[],7,FALSE)),\"\",VLOOKUP(A48,tesserati[],7,FALSE))","v":""}]
[null,{"$f":"IF(ISERROR(VLOOKUP(A49,tesserati[],2,FALSE)),\"\",VLOOKUP(A49,tesserati[],2,FALSE))","v":""},{"$f":"IF(ISERROR(VLOOKUP(A49,tesserati[],3,FALSE)),\"\",VLOOKUP(A49,tesserati[],3,FALSE))","v":""},{"$f":"IF(ISERROR(VLOOKUP(A49,tesserati[],4,FALSE)),\"\",VLOOKUP(A49,tesserati[],4,FALSE))","v":""},{"$f":"IF(ISERROR(VLOOKUP(A49,tesserati[],5,FALSE)),\"\",VLOOKUP(A49,tesserati[],5,FALSE))","v":""},{"$f":"IF(ISERROR(VLOOKUP(A49,tesserati[],7,FALSE)),\"\",VLOOKUP(A49,tesserati[],7,FALSE))","v":""}]
[null,{"$f":"IF(ISERROR(VLOOKUP(A50,tesserati[],2,FALSE)),\"\",VLOOKUP(A50,tesserati[],2,FALSE))","v":""},{"$f":"IF(ISERROR(VLOOKUP(A50,tesserati[],3,FALSE)),\"\",VLOOKUP(A50,tesserati[],3,FALSE))","v":""},{"$f":"IF(ISERROR(VLOOKUP(A50,tesserati[],4,FALSE)),\"\",VLOOKUP(A50,tesserati[],4,FALSE))","v":""},{"$f":"IF(ISERROR(VLOOKUP(A50,tesserati[],5,FALSE)),\"\",VLOOKUP(A50,tesserati[],5,FALSE))","v":""},{"$f":"IF(ISERROR(VLOOKUP(A50,tesserati[],7,FALSE)),\"\",VLOOKUP(A50,tesserati[],7,FALSE))","v":""},5]
[null,{"$f":"IF(ISERROR(VLOOKUP(A51,tesserati[],2,FALSE)),\"\",VLOOKUP(A51,tesserati[],2,FALSE))","v":""},{"$f":"IF(ISERROR(VLOOKUP(A51,tesserati[],3,FALSE)),\"\",VLOOKUP(A51,tesserati[],3,FALSE))","v":""},{"$f":"IF(ISERROR(VLOOKUP(A51,tesserati[],4,FALSE)),\"\",VLOOKUP(A51,tesserati[],4,FALSE))","v":""},{"$f":"IF(ISERROR(VLOOKUP(A51,tesserati[],5,FALSE)),\"\",VLOOKUP(A51,tesserati[],5,FALSE))","v":""},{"$f":"IF(ISERROR(VLOOKUP(A51,tesserati[],7,FALSE)),\"\",VLOOKUP(A51,tesserati[],7,FALSE))","v":""}]
[null,{"$f":"IF(ISERROR(VLOOKUP(A52,tesserati[],2,FALSE)),\"\",VLOOKUP(A52,tesserati[],2,FALSE))","v":""},{"$f":"IF(ISERROR(VLOOKUP(A52,tesserati[],3,FALSE)),\"\",VLOOKUP(A52,tesserati[],3,FALSE))","v":""},{"$f":"IF(ISERROR(VLOOKUP(A52,tesserati[],4,FALSE)),\"\",VLOOKUP(A52,tesserati[],4,FALSE))","v":""},{"$f":"IF(ISERROR(VLOOKUP(A52,tesserati[],5,FALSE)),\"\",VLOOKUP(A52,tesserati[],5,FALSE))","v":""},{"$f":"IF(ISERROR(VLOOKUP(A52,tesserati[],7,FALSE)),\"\",VLOOKUP(A52,tesserati[],7,FALSE))","v":""}]
[null,{"$f":"IF(ISERROR(VLOOKUP(A53,tesserati[],2,FALSE)),\"\",VLOOKUP(A53,tesserati[],2,FALSE))","v":""},{"$f":"IF(ISERROR(VLOOKUP(A53,tesserati[],3,FALSE)),\"\",VLOOKUP(A53,tesserati[],3,FALSE))","v":""},{"$f":"IF(ISERROR(VLOOKUP(A53,tesserati[],4,FALSE)),\"\",VLOOKUP(A53,tesserati[],4,FALSE))","v":""},{"$f":"IF(ISERROR(VLOOKUP(A53,tesserati[],5,FALSE)),\"\",VLOOKUP(A53,tesserati[],5,FALSE))","v":""},{"$f":"IF(ISERROR(VLOOKUP(A53,tesserati[],7,FALSE)),\"\",VLOOKUP(A53,tesserati[],7,FALSE))","v":""}]
[null,{"$f":"IF(ISERROR(VLOOKUP(A54,tesserati[],2,FALSE)),\"\",VLOOKUP(A54,tesserati[],2,FALSE))","v":""},{"$f":"IF(ISERROR(VLOOKUP(A54,tesserati[],3,FALSE)),\"\",VLOOKUP(A54,tesserati[],3,FALSE))","v":""},{"$f":"IF(ISERROR(VLOOKUP(A54,tesserati[],4,FALSE)),\"\",VLOOKUP(A54,tesserati[],4,FALSE))","v":""},{"$f":"IF(ISERROR(VLOOKUP(A54,tesserati[],5,FALSE)),\"\",VLOOKUP(A54,tesserati[],5,FALSE))","v":""},{"$f":"IF(ISERROR(VLOOKUP(A54,tesserati[],7,FALSE)),\"\",VLOOKUP(A54,tesserati[],7,FALSE))","v":""},6]
[null,{"$f":"IF(ISERROR(VLOOKUP(A55,tesserati[],2,FALSE)),\"\",VLOOKUP(A55,tesserati[],2,FALSE))","v":""},{"$f":"IF(ISERROR(VLOOKUP(A55,tesserati[],3,FALSE)),\"\",VLOOKUP(A55,tesserati[],3,FALSE))","v":""},{"$f":"IF(ISERROR(VLOOKUP(A55,tesserati[],4,FALSE)),\"\",VLOOKUP(A55,tesserati[],4,FALSE))","v":""},{"$f":"IF(ISERROR(VLOOKUP(A55,tesserati[],5,FALSE)),\"\",VLOOKUP(A55,tesserati[],5,FALSE))","v":""},{"$f":"IF(ISERROR(VLOOKUP(A55,tesserati[],7,FALSE)),\"\",VLOOKUP(A55,tesserati[],7,FALSE))","v":""}]
[null,{"$f":"IF(ISERROR(VLOOKUP(A56,tesserati[],2,FALSE)),\"\",VLOOKUP(A56,tesserati[],2,FALSE))","v":""},{"$f":"IF(ISERROR(VLOOKUP(A56,tesserati[],3,FALSE)),\"\",VLOOKUP(A56,tesserati[],3,FALSE))","v":""},{"$f":"IF(ISERROR(VLOOKUP(A56,tesserati[],4,FALSE)),\"\",VLOOKUP(A56,tesserati[],4,FALSE))","v":""},{"$f":"IF(ISERROR(VLOOKUP(A56,tesserati[],5,FALSE)),\"\",VLOOKUP(A56,tesserati[],5,FALSE))","v":""},{"$f":"IF(ISERROR(VLOOKUP(A56,tesserati[],7,FALSE)),\"\",VLOOKUP(A56,tesserati[],7,FALSE))","v":""}]
[null,{"$f":"IF(ISERROR(VLOOKUP(A57,tesserati[],2,FALSE)),\"\",VLOOKUP(A57,tesserati[],2,FALSE))","v":""},{"$f":"IF(ISERROR(VLOOKUP(A57,tesserati[],3,FALSE)),\"\",VLOOKUP(A57,tesserati[],3,FALSE))","v":""},{"$f":"IF(ISERROR(VLOOKUP(A57,tesserati[],4,FALSE)),\"\",VLOOKUP(A57,tesserati[],4,FALSE))","v":""},{"$f":"IF(ISERROR(VLOOKUP(A57,tesserati[],5,FALSE)),\"\",VLOOKUP(A57,tesserati[],5,FALSE))","v":""},{"$f":"IF(ISERROR(VLOOKUP(A57,tesserati[],7,FALSE)),\"\",VLOOKUP(A57,tesserati[],7,FALSE))","v":""}]
[null,{"$f":"IF(ISERROR(VLOOKUP(A58,tesserati[],2,FALSE)),\"\",VLOOKUP(A58,tesserati[],2,FALSE))","v":""},{"$f":"IF(ISERROR(VLOOKUP(A58,tesserati[],3,FALSE)),\"\",VLOOKUP(A58,tesserati[],3,FALSE))","v":""},{"$f":"IF(ISERROR(VLOOKUP(A58,tesserati[],4,FALSE)),\"\",VLOOKUP(A58,tesserati[],4,FALSE))","v":""},{"$f":"IF(ISERROR(VLOOKUP(A58,tesserati[],5,FALSE)),\"\",VLOOKUP(A58,tesserati[],5,FALSE))","v":""},{"$f":"IF(ISERROR(VLOOKUP(A58,tesserati[],7,FALSE)),\"\",VLOOKUP(A58,tesserati[],7,FALSE))","v":""}]
[null,{"$f":"IF(ISERROR(VLOOKUP(A59,tesserati[],2,FALSE)),\"\",VLOOKUP(A59,tesserati[],2,FALSE))","v":""},{"$f":"IF(ISERROR(VLOOKUP(A59,tesserati[],3,FALSE)),\"\",VLOOKUP(A59,tesserati[],3,FALSE))","v":""},{"$f":"IF(ISERROR(VLOOKUP(A59,tesserati[],4,FALSE)),\"\",VLOOKUP(A59,tesserati[],4,FALSE))","v":""},{"$f":"IF(ISERROR(VLOOKUP(A59,tesserati[],5,FALSE)),\"\",VLOOKUP(A59,tesserati[],5,FALSE))","v":""},{"$f":"IF(ISERROR(VLOOKUP(A59,tesserati[],7,FALSE)),\"\",VLOOKUP(A59,tesserati[],7,FALSE))","v":""}]
[null,{"$f":"IF(ISERROR(VLOOKUP(A60,tesserati[],2,FALSE)),\"\",VLOOKUP(A60,tesserati[],2,FALSE))","v":""},{"$f":"IF(ISERROR(VLOOKUP(A60,tesserati[],3,FALSE)),\"\",VLOOKUP(A60,tesserati[],3,FALSE))","v":""},{"$f":"IF(ISERROR(VLOOKUP(A60,tesserati[],4,FALSE)),\"\",VLOOKUP(A60,tesserati[],4,FALSE))","v":""},{"$f":"IF(ISERROR(VLOOKUP(A60,tesserati[],5,FALSE)),\"\",VLOOKUP(A60,tesserati[],5,FALSE))","v":""},{"$f":"IF(ISERROR(VLOOKUP(A60,tesserati[],7,FALSE)),\"\",VLOOKUP(A60,tesserati[],7,FALSE))","v":""}]
[null,{"$f":"IF(ISERROR(VLOOKUP(A61,tesserati[],2,FALSE)),\"\",VLOOKUP(A61,tesserati[],2,FALSE))","v":""},{"$f":"IF(ISERROR(VLOOKUP(A61,tesserati[],3,FALSE)),\"\",VLOOKUP(A61,tesserati[],3,FALSE))","v":""},{"$f":"IF(ISERROR(VLOOKUP(A61,tesserati[],4,FALSE)),\"\",VLOOKUP(A61,tesserati[],4,FALSE))","v":""},{"$f":"IF(ISERROR(VLOOKUP(A61,tesserati[],5,FALSE)),\"\",VLOOKUP(A61,tesserati[],5,FALSE))","v":""},{"$f":"IF(ISERROR(VLOOKUP(A61,tesserati[],7,FALSE)),\"\",VLOOKUP(A61,tesserati[],7,FALSE))","v":""}]
[null,{"$f":"IF(ISERROR(VLOOKUP(A62,tesserati[],2,FALSE)),\"\",VLOOKUP(A62,tesserati[],2,FALSE))","v":""},{"$f":"IF(ISERROR(VLOOKUP(A62,tesserati[],3,FALSE)),\"\",VLOOKUP(A62,tesserati[],3,FALSE))","v":""},{"$f":"IF(ISERROR(VLOOKUP(A62,tesserati[],4,FALSE)),\"\",VLOOKUP(A62,tesserati[],4,FALSE))","v":""},{"$f":"IF(ISERROR(VLOOKUP(A62,tesserati[],5,FALSE)),\"\",VLOOKUP(A62,tesserati[],5,FALSE))","v":""},{"$f":"IF(ISERROR(VLOOKUP(A62,tesserati[],7,FALSE)),\"\",VLOOKUP(A62,tesserati[],7,FALSE))","v":""}]
[null,{"$f":"IF(ISERROR(VLOOKUP(A63,tesserati[],2,FALSE)),\"\",VLOOKUP(A63,tesserati[],2,FALSE))","v":""},{"$f":"IF(ISERROR(VLOOKUP(A63,tesserati[],3,FALSE)),\"\",VLOOKUP(A63,tesserati[],3,FALSE))","v":""},{"$f":"IF(ISERROR(VLOOKUP(A63,tesserati[],4,FALSE)),\"\",VLOOKUP(A63,tesserati[],4,FALSE))","v":""},{"$f":"IF(ISERROR(VLOOKUP(A63,tesserati[],5,FALSE)),\"\",VLOOKUP(A63,tesserati[],5,FALSE))","v":""},{"$f":"IF(ISERROR(VLOOKUP(A63,tesserati[],7,FALSE)),\"\",VLOOKUP(A63,tesserati[],7,FALSE))","v":""}]
[null,{"$f":"IF(ISERROR(VLOOKUP(A64,tesserati[],2,FALSE)),\"\",VLOOKUP(A64,tesserati[],2,FALSE))","v":""},{"$f":"IF(ISERROR(VLOOKUP(A64,tesserati[],3,FALSE)),\"\",VLOOKUP(A64,tesserati[],3,FALSE))","v":""},{"$f":"IF(ISERROR(VLOOKUP(A64,tesserati[],4,FALSE)),\"\",VLOOKUP(A64,tesserati[],4,FALSE))","v":""},{"$f":"IF(ISERROR(VLOOKUP(A64,tesserati[],5,FALSE)),\"\",VLOOKUP(A64,tesserati[],5,FALSE))","v":""},{"$f":"IF(ISERROR(VLOOKUP(A64,tesserati[],7,FALSE)),\"\",VLOOKUP(A64,tesserati[],7,FALSE))","v":""}]
[null,{"$f":"IF(ISERROR(VLOOKUP(A65,tesserati[],2,FALSE)),\"\",VLOOKUP(A65,tesserati[],2,FALSE))","v":""},{"$f":"IF(ISERROR(VLOOKUP(A65,tesserati[],3,FALSE)),\"\",VLOOKUP(A65,tesserati[],3,FALSE))","v":""},{"$f":"IF(ISERROR(VLOOKUP(A65,tesserati[],4,FALSE)),\"\",VLOOKUP(A65,tesserati[],4,FALSE))","v":""},{"$f":"IF(ISERROR(VLOOKUP(A65,tesserati[],5,FALSE)),\"\",VLOOKUP(A65,tesserati[],5,FALSE))","v":""},{"$f":"IF(ISERROR(VLOOKUP(A65,tesserati[],7,FALSE)),\"\",VLOOKUP(A65,tesserati[],7,FALSE))","v":""}]
[null,{"$f":"IF(ISERROR(VLOOKUP(A66,tesserati[],2,FALSE)),\"\",VLOOKUP(A66,tesserati[],2,FALSE))","v":""},{"$f":"IF(ISERROR(VLOOKUP(A66,tesserati[],3,FALSE)),\"\",VLOOKUP(A66,tesserati[],3,FALSE))","v":""},{"$f":"IF(ISERROR(VLOOKUP(A66,tesserati[],4,FALSE)),\"\",VLOOKUP(A66,tesserati[],4,FALSE))","v":""},{"$f":"IF(ISERROR(VLOOKUP(A66,tesserati[],5,FALSE)),\"\",VLOOKUP(A66,tesserati[],5,FALSE))","v":""},{"$f":"IF(ISERROR(VLOOKUP(A66,tesserati[],7,FALSE)),\"\",VLOOKUP(A66,tesserati[],7,FALSE))","v":""}]
[null,{"$f":"IF(ISERROR(VLOOKUP(A67,tesserati[],2,FALSE)),\"\",VLOOKUP(A67,tesserati[],2,FALSE))","v":""},{"$f":"IF(ISERROR(VLOOKUP(A67,tesserati[],3,FALSE)),\"\",VLOOKUP(A67,tesserati[],3,FALSE))","v":""},{"$f":"IF(ISERROR(VLOOKUP(A67,tesserati[],4,FALSE)),\"\",VLOOKUP(A67,tesserati[],4,FALSE))","v":""},{"$f":"IF(ISERROR(VLOOKUP(A67,tesserati[],5,FALSE)),\"\",VLOOKUP(A67,tesserati[],5,FALSE))","v":""},{"$f":"IF(ISERROR(VLOOKUP(A67,tesserati[],7,FALSE)),\"\",VLOOKUP(A67,tesserati[],7,FALSE))","v":""}]
[null,{"$f":"IF(ISERROR(VLOOKUP(A68,tesserati[],2,FALSE)),\"\",VLOOKUP(A68,tesserati[],2,FALSE))","v":""},{"$f":"IF(ISERROR(VLOOKUP(A68,tesserati[],3,FALSE)),\"\",VLOOKUP(A68,tesserati[],3,FALSE))","v":""},{"$f":"IF(ISERROR(VLOOKUP(A68,tesserati[],4,FALSE)),\"\",VLOOKUP(A68,tesserati[],4,FALSE))","v":""},{"$f":"IF(ISERROR(VLOOKUP(A68,tesserati[],5,FALSE)),\"\",VLOOKUP(A68,tesserati[],5,FALSE))","v":""},{"$f":"IF(ISERROR(VLOOKUP(A68,tesserati[],7,FALSE)),\"\",VLOOKUP(A68,tesserati[],7,FALSE))","v":""}]
[null,{"$f":"IF(ISERROR(VLOOKUP(A69,tesserati[],2,FALSE)),\"\",VLOOKUP(A69,tesserati[],2,FALSE))","v":""},{"$f":"IF(ISERROR(VLOOKUP(A69,tesserati[],3,FALSE)),\"\",VLOOKUP(A69,tesserati[],3,FALSE))","v":""},{"$f":"IF(ISERROR(VLOOKUP(A69,tesserati[],4,FALSE)),\"\",VLOOKUP(A69,tesserati[],4,FALSE))","v":""},{"$f":"IF(ISERROR(VLOOKUP(A69,tesserati[],5,FALSE)),\"\",VLOOKUP(A69,tesserati[],5,FALSE))","v":""},{"$f":"IF(ISERROR(VLOOKUP(A69,tesserati[],7,FALSE)),\"\",VLOOKUP(A69,tesserati[],7,FALSE))","v":""}]
[null,{"$f":"IF(ISERROR(VLOOKUP(A70,tesserati[],2,FALSE)),\"\",VLOOKUP(A70,tesserati[],2,FALSE))","v":""},{"$f":"IF(ISERROR(VLOOKUP(A70,tesserati[],3,FALSE)),\"\",VLOOKUP(A70,tesserati[],3,FALSE))","v":""},{"$f":"IF(ISERROR(VLOOKUP(A70,tesserati[],4,FALSE)),\"\",VLOOKUP(A70,tesserati[],4,FALSE))","v":""},{"$f":"IF(ISERROR(VLOOKUP(A70,tesserati[],5,FALSE)),\"\",VLOOKUP(A70,tesserati[],5,FALSE))","v":""},{"$f":"IF(ISERROR(VLOOKUP(A70,tesserati[],7,FALSE)),\"\",VLOOKUP(A70,tesserati[],7,FALSE))","v":""}]
[null,{"$f":"IF(ISERROR(VLOOKUP(A71,tesserati[],2,FALSE)),\"\",VLOOKUP(A71,tesserati[],2,FALSE))","v":""},{"$f":"IF(ISERROR(VLOOKUP(A71,tesserati[],3,FALSE)),\"\",VLOOKUP(A71,tesserati[],3,FALSE))","v":""},{"$f":"IF(ISERROR(VLOOKUP(A71,tesserati[],4,FALSE)),\"\",VLOOKUP(A71,tesserati[],4,FALSE))","v":""},{"$f":"IF(ISERROR(VLOOKUP(A71,tesserati[],5,FALSE)),\"\",VLOOKUP(A71,tesserati[],5,FALSE))","v":""},{"$f":"IF(ISERROR(VLOOKUP(A71,tesserati[],7,FALSE)),\"\",VLOOKUP(A71,tesserati[],7,FALSE))","v":""}]
[null,{"$f":"IF(ISERROR(VLOOKUP(A72,tesserati[],2,FALSE)),\"\",VLOOKUP(A72,tesserati[],2,FALSE))","v":""},{"$f":"IF(ISERROR(VLOOKUP(A72,tesserati[],3,FALSE)),\"\",VLOOKUP(A72,tesserati[],3,FALSE))","v":""},{"$f":"IF(ISERROR(VLOOKUP(A72,tesserati[],4,FALSE)),\"\",VLOOKUP(A72,tesserati[],4,FALSE))","v":""},{"$f":"IF(ISERROR(VLOOKUP(A72,tesserati[],5,FALSE)),\"\",VLOOKUP(A72,tesserati[],5,FALSE))","v":""},{"$f":"IF(ISERROR(VLOOKUP(A72,tesserati[],7,FALSE)),\"\",VLOOKUP(A72,tesserati[],7,FALSE))","v":""}]

{"sheet":"STAFFETTE 4X100 ASS. M","index":2,"n_rows":71,"n_cols":12,"rows_kept":71,"cut":false,"hidden":false,"merged":[[56,6,59,6],[56,7,59,7],[56,8,59,8],[56,9,59,9],[48,6,51,6],[48,7,51,7],[48,8,51,8],[48,9,51,9],[52,6,55,6],[52,7,55,7],[52,8,55,8],[52,9,55,9],[36,6,39,6],[36,7,39,7],[36,8,39,8],[36,9,39,9],[44,6,47,6],[44,7,47,7],[44,8,47,8],[44,9,47,9],[28,6,31,6],[28,7,31,7],[28,8,31,8],[28,9,31,9],[32,6,35,6],[32,7,35,7],[32,8,35,8],[32,9,35,9],[20,6,23,6],[20,7,23,7],[20,8,23,8],[20,9,23,9],[24,6,27,6],[24,7,27,7],[24,8,27,8],[24,9,27,9],[12,9,15,9],[16,6,19,6],[16,7,19,7],[16,8,19,8],[16,9,19,9],[5,6,6,6],[7,0,7,11],[5,7,6,7],[5,8,6,8],[5,9,6,9],[5,10,6,10],[5,11,6,11],[5,0,6,0],[5,1,6,2],[5,3,6,3],[5,4,6,4],[5,5,6,5],[2,0,2,1],[2,4,4,4],[2,5,2,7],[2,8,2,10],[2,11,4,11],[3,0,4,1],[3,2,4,2],[3,3,4,3],[3,5,4,7],[3,8,4,10],[0,2,0,4],[0,5,0,7],[0,8,0,10],[0,11,1,11],[1,2,1,4],[1,5,1,7],[1,8,1,10],[28,11,31,11],[32,11,35,11],[36,11,39,11],[40,0,40,11],[8,11,11,11],[12,11,15,11],[16,11,19,11],[20,11,23,11],[24,11,27,11],[8,6,11,6],[8,7,11,7],[8,8,11,8],[8,9,11,9],[12,6,15,6],[12,7,15,7],[12,8,15,8]]}
[null,null,"MANIFESTAZIONE",null,null,"LOCALITA'",null,null,"SOCIETA' ORGANIZZATRICE"]
[null,null,"6° prova provinciale",null,null,"Tezze sul Brenta",null,null,"CSI Tezze sul Brenta"]
["CATEGORIA",null,"ORA INIZIO","ORA FINE",null,"GARA",null,null,"DATA"]
["ASS. M",null,null,null,null,"STAFFETTA 4 X 100",null,null,"2017-09-24"]
[]
["N. tessera","ATLETA\nCOGNOME E NOME",null,"SOCIETA'","NASCITA","CATEGORIA","Corsia","PETTORALE","Tempo","Piazzamento","PUNTI","S."]
[]
["1 SERIE",{"$f":"IF(ISERROR(VLOOKUP(A8,tesserati[],2,FALSE)),\"\",VLOOKUP(A8,tesserati[],2,FALSE))","v":""},{"$f":"IF(ISERROR(VLOOKUP(A8,tesserati[],3,FALSE)),\"\",VLOOKUP(A8,tesserati[],3,FALSE))","v":""},{"$f":"IF(ISERROR(VLOOKUP(#REF!,tesserati[],5,FALSE)),\"\",VLOOKUP(#REF!,tesserati[],5,FALSE))","v":""},{"$f":"IF(ISERROR(VLOOKUP(A8,tesserati[],4,FALSE)),\"\",VLOOKUP(A8,tesserati[],4,FALSE))","v":""},{"$f":"IF(ISERROR(VLOOKUP(A8,tesserati[],7,FALSE)),\"\",VLOOKUP(A8,tesserati[],7,FALSE))","v":""}]
[4600,{"$f":"IF(ISERROR(VLOOKUP(A9,tesserati[],2,FALSE)),\"\",VLOOKUP(A9,tesserati[],2,FALSE))","v":"ZALTRON"},{"$f":"IF(ISERROR(VLOOKUP(A9,tesserati[],3,FALSE)),\"\",VLOOKUP(A9,tesserati[],3,FALSE))","v":"MATTIA"},{"$f":"IF(ISERROR(VLOOKUP(A9,tesserati[],4,FALSE)),\"\",VLOOKUP(A9,tesserati[],4,FALSE))","v":"CSI ATLETICA COLLI BERICI"},{"$f":"IF(ISERROR(VLOOKUP(A9,tesserati[],5,FALSE)),\"\",VLOOKUP(A9,tesserati[],5,FALSE))","v":1999},{"$f":"IF(ISERROR(VLOOKUP(A9,tesserati[],7,FALSE)),\"\",VLOOKUP(A9,tesserati[],7,FALSE))","v":"JM"},4,null,45.4,1,null,2]
[4403,{"$f":"IF(ISERROR(VLOOKUP(A10,tesserati[],2,FALSE)),\"\",VLOOKUP(A10,tesserati[],2,FALSE))","v":"TOMBOLAN"},{"$f":"IF(ISERROR(VLOOKUP(A10,tesserati[],3,FALSE)),\"\",VLOOKUP(A10,tesserati[],3,FALSE))","v":"SIMONE"},{"$f":"IF(ISERROR(VLOOKUP(A10,tesserati[],4,FALSE)),\"\",VLOOKUP(A10,tesserati[],4,FALSE))","v":"CSI ATLETICA COLLI BERICI"},{"$f":"IF(ISERROR(VLOOKUP(A10,tesserati[],5,FALSE)),\"\",VLOOKUP(A10,tesserati[],5,FALSE))","v":1999},{"$f":"IF(ISERROR(VLOOKUP(A10,tesserati[],7,FALSE)),\"\",VLOOKUP(A10,tesserati[],7,FALSE))","v":"JM"}]
[4569,{"$f":"IF(ISERROR(VLOOKUP(A11,tesserati[],2,FALSE)),\"\",VLOOKUP(A11,tesserati[],2,FALSE))","v":"CRIVELLARO"},{"$f":"IF(ISERROR(VLOOKUP(A11,tesserati[],3,FALSE)),\"\",VLOOKUP(A11,tesserati[],3,FALSE))","v":"MATTIA"},{"$f":"IF(ISERROR(VLOOKUP(A11,tesserati[],4,FALSE)),\"\",VLOOKUP(A11,tesserati[],4,FALSE))","v":"CSI ATLETICA COLLI BERICI"},{"$f":"IF(ISERROR(VLOOKUP(A11,tesserati[],5,FALSE)),\"\",VLOOKUP(A11,tesserati[],5,FALSE))","v":1991},{"$f":"IF(ISERROR(VLOOKUP(A11,tesserati[],7,FALSE)),\"\",VLOOKUP(A11,tesserati[],7,FALSE))","v":"SM"}]
[4603,{"$f":"IF(ISERROR(VLOOKUP(A12,tesserati[],2,FALSE)),\"\",VLOOKUP(A12,tesserati[],2,FALSE))","v":"ZIVOJINOVIC"},{"$f":"IF(ISERROR(VLOOKUP(A12,tesserati[],3,FALSE)),\"\",VLOOKUP(A12,tesserati[],3,FALSE))","v":"MILAN"},{"$f":"IF(ISERROR(VLOOKUP(A12,tesserati[],4,FALSE)),\"\",VLOOKUP(A12,tesserati[],4,FALSE))","v":"CSI ATLETICA COLLI BERICI"},{"$f":"IF(ISERROR(VLOOKUP(A12,tesserati[],5,FALSE)),\"\",VLOOKUP(A12,tesserati[],5,FALSE))","v":2001},{"$f":"IF(ISERROR(VLOOKUP(A12,tesserati[],7,FALSE)),\"\",VLOOKUP(A12,tesserati[],7,FALSE))","v":"AM"}]
[4026,{"$f":"IF(ISERROR(VLOOKUP(A13,tesserati[],2,FALSE)),\"\",VLOOKUP(A13,tesserati[],2,FALSE))","v":"ZORZO"},{"$f":"IF(ISERROR(VLOOKUP(A13,tesserati[],3,FALSE)),\"\",VLOOKUP(A13,tesserati[],3,FALSE))","v":"LEONARDO"},{"$f":"IF(ISERROR(VLOOKUP(A13,tesserati[],4,FALSE)),\"\",VLOOKUP(A13,tesserati[],4,FALSE))","v":"POLISPORTIVA DUEVILLE"},{"$f":"IF(ISERROR(VLOOKUP(A13,tesserati[],5,FALSE)),\"\",VLOOKUP(A13,tesserati[],5,FALSE))","v":2001},{"$f":"IF(ISERROR(VLOOKUP(A13,tesserati[],7,FALSE)),\"\",VLOOKUP(A13,tesserati[],7,FALSE))","v":"AM"},4,null,48.2,2,null,1]
[3967,{"$f":"IF(ISERROR(VLOOKUP(A14,tesserati[],2,FALSE)),\"\",VLOOKUP(A14,tesserati[],2,FALSE))","v":"FACCIN"},{"$f":"IF(ISERROR(VLOOKUP(A14,tesserati[],3,FALSE)),\"\",VLOOKUP(A14,tesserati[],3,FALSE))","v":"ENRICO"},{"$f":"IF(ISERROR(VLOOKUP(A14,tesserati[],4,FALSE)),\"\",VLOOKUP(A14,tesserati[],4,FALSE))","v":"POLISPORTIVA DUEVILLE"},{"$f":"IF(ISERROR(VLOOKUP(A14,tesserati[],5,FALSE)),\"\",VLOOKUP(A14,tesserati[],5,FALSE))","v":1998},{"$f":"IF(ISERROR(VLOOKUP(A14,tesserati[],7,FALSE)),\"\",VLOOKUP(A14,tesserati[],7,FALSE))","v":"JM"}]
[3965,{"$f":"IF(ISERROR(VLOOKUP(A15,tesserati[],2,FALSE)),\"\",VLOOKUP(A15,tesserati[],2,FALSE))","v":"FACCIN"},{"$f":"IF(ISERROR(VLOOKUP(A15,tesserati[],3,FALSE)),\"\",VLOOKUP(A15,tesserati[],3,FALSE))","v":"ELIA"},{"$f":"IF(ISERROR(VLOOKUP(A15,tesserati[],4,FALSE)),\"\",VLOOKUP(A15,tesserati[],4,FALSE))","v":"POLISPORTIVA DUEVILLE"},{"$f":"IF(ISERROR(VLOOKUP(A15,tesserati[],5,FALSE)),\"\",VLOOKUP(A15,tesserati[],5,FALSE))","v":2000},{"$f":"IF(ISERROR(VLOOKUP(A15,tesserati[],7,FALSE)),\"\",VLOOKUP(A15,tesserati[],7,FALSE))","v":"AM"}]
[3975,{"$f":"IF(ISERROR(VLOOKUP(A16,tesserati[],2,FALSE)),\"\",VLOOKUP(A16,tesserati[],2,FALSE))","v":"LANARO"},{"$f":"IF(ISERROR(VLOOKUP(A16,tesserati[],3,FALSE)),\"\",VLOOKUP(A16,tesserati[],3,FALSE))","v":"GIACOMO"},{"$f":"IF(ISERROR(VLOOKUP(A16,tesserati[],4,FALSE)),\"\",VLOOKUP(A16,tesserati[],4,FALSE))","v":"POLISPORTIVA DUEVILLE"},{"$f":"IF(ISERROR(VLOOKUP(A16,tesserati[],5,FALSE)),\"\",VLOOKUP(A16,tesserati[],5,FALSE))","v":1998},{"$f":"IF(ISERROR(VLOOKUP(A16,tesserati[],7,FALSE)),\"\",VLOOKUP(A16,tesserati[],7,FALSE))","v":"JM"}]
[4204,{"$f":"IF(ISERROR(VLOOKUP(A17,tesserati[],2,FALSE)),\"\",VLOOKUP(A17,tesserati[],2,FALSE))","v":"SABBADINI"},{"$f":"IF(ISERROR(VLOOKUP(A17,tesserati[],3,FALSE)),\"\",VLOOKUP(A17,tesserati[],3,FALSE))","v":"SIMONE"},{"$f":"IF(ISERROR(VLOOKUP(A17,tesserati[],4,FALSE)),\"\",VLOOKUP(A17,tesserati[],4,FALSE))","v":"ATLETICA TRISSINO"},{"$f":"IF(ISERROR(VLOOKUP(A17,tesserati[],5,FALSE)),\"\",VLOOKUP(A17,tesserati[],5,FALSE))","v":2001},{"$f":"IF(ISERROR(VLOOKUP(A17,tesserati[],7,FALSE)),\"\",VLOOKUP(A17,tesserati[],7,FALSE))","v":"AM"},5,null,48.6,3,null,1]
[4181,{"$f":"IF(ISERROR(VLOOKUP(A18,tesserati[],2,FALSE)),\"\",VLOOKUP(A18,tesserati[],2,FALSE))","v":"MASSIGNAN"},{"$f":"IF(ISERROR(VLOOKUP(A18,tesserati[],3,FALSE)),\"\",VLOOKUP(A18,tesserati[],3,FALSE))","v":"ENRICO MARIO"},{"$f":"IF(ISERROR(VLOOKUP(A18,tesserati[],4,FALSE)),\"\",VLOOKUP(A18,tesserati[],4,FALSE))","v":"ATLETICA TRISSINO"},{"$f":"IF(ISERROR(VLOOKUP(A18,tesserati[],5,FALSE)),\"\",VLOOKUP(A18,tesserati[],5,FALSE))","v":1986},{"$f":"IF(ISERROR(VLOOKUP(A18,tesserati[],7,FALSE)),\"\",VLOOKUP(A18,tesserati[],7,FALSE))","v":"SM"}]
[4202,{"$f":"IF(ISERROR(VLOOKUP(A19,tesserati[],2,FALSE)),\"\",VLOOKUP(A19,tesserati[],2,FALSE))","v":"PELLIZZARO"},{"$f":"IF(ISERROR(VLOOKUP(A19,tesserati[],3,FALSE)),\"\",VLOOKUP(A19,tesserati[],3,FALSE))","v":"FABIO"},{"$f":"IF(ISERROR(VLOOKUP(A19,tesserati[],4,FALSE)),\"\",VLOOKUP(A19,tesserati[],4,FALSE))","v":"ATLETICA TRISSINO"},{"$f":"IF(ISERROR(VLOOKUP(A19,tesserati[],5,FALSE)),\"\",VLOOKUP(A19,tesserati[],5,FALSE))","v":1997},{"$f":"IF(ISERROR(VLOOKUP(A19,tesserati[],7,FALSE)),\"\",VLOOKUP(A19,tesserati[],7,FALSE))","v":"SM"}]
[4189,{"$f":"IF(ISERROR(VLOOKUP(A20,tesserati[],2,FALSE)),\"\",VLOOKUP(A20,tesserati[],2,FALSE))","v":"BUSATO"},{"$f":"IF(ISERROR(VLOOKUP(A20,tesserati[],3,FALSE)),\"\",VLOOKUP(A20,tesserati[],3,FALSE))","v":"GIOVANNI"},{"$f":"IF(ISERROR(VLOOKUP(A20,tesserati[],4,FALSE)),\"\",VLOOKUP(A20,tesserati[],4,FALSE))","v":"ATLETICA TRISSINO"},{"$f":"IF(ISERROR(VLOOKUP(A20,tesserati[],5,FALSE)),\"\",VLOOKUP(A20,tesserati[],5,FALSE))","v":2001},{"$f":"IF(ISERROR(VLOOKUP(A20,tesserati[],7,FALSE)),\"\",VLOOKUP(A20,tesserati[],7,FALSE))","v":"AM"}]
[2461,{"$f":"IF(ISERROR(VLOOKUP(A21,tesserati[],2,FALSE)),\"\",VLOOKUP(A21,tesserati[],2,FALSE))","v":"BATTISTELLA"},{"$f":"IF(ISERROR(VLOOKUP(A21,tesserati[],3,FALSE)),\"\",VLOOKUP(A21,tesserati[],3,FALSE))","v":"ANDREA"},{"$f":"IF(ISERROR(VLOOKUP(A21,tesserati[],4,FALSE)),\"\",VLOOKUP(A21,tesserati[],4,FALSE))","v":"C.S.I. TEZZE SUL BRENTA"},{"$f":"IF(ISERROR(VLOOKUP(A21,tesserati[],5,FALSE)),\"\",VLOOKUP(A21,tesserati[],5,FALSE))","v":2001},{"$f":"IF(ISERROR(VLOOKUP(A21,tesserati[],7,FALSE)),\"\",VLOOKUP(A21,tesserati[],7,FALSE))","v":"AM"},3,null,48.9,4,null,1]
[3646,{"$f":"IF(ISERROR(VLOOKUP(A22,tesserati[],2,FALSE)),\"\",VLOOKUP(A22,tesserati[],2,FALSE))","v":"TEGORELLI"},{"$f":"IF(ISERROR(VLOOKUP(A22,tesserati[],3,FALSE)),\"\",VLOOKUP(A22,tesserati[],3,FALSE))","v":"FAUSTO"},{"$f":"IF(ISERROR(VLOOKUP(A22,tesserati[],4,FALSE)),\"\",VLOOKUP(A22,tesserati[],4,FALSE))","v":"C.S.I. TEZZE SUL BRENTA"},{"$f":"IF(ISERROR(VLOOKUP(A22,tesserati[],5,FALSE)),\"\",VLOOKUP(A22,tesserati[],5,FALSE))","v":1965},{"$f":"IF(ISERROR(VLOOKUP(A22,tesserati[],7,FALSE)),\"\",VLOOKUP(A22,tesserati[],7,FALSE))","v":"ABM"}]
[2481,{"$f":"IF(ISERROR(VLOOKUP(A23,tesserati[],2,FALSE)),\"\",VLOOKUP(A23,tesserati[],2,FALSE))","v":"BRESOLIN"},{"$f":"IF(ISERROR(VLOOKUP(A23,tesserati[],3,FALSE)),\"\",VLOOKUP(A23,tesserati[],3,FALSE))","v":"DAVIDE"},{"$f":"IF(ISERROR(VLOOKUP(A23,tesserati[],4,FALSE)),\"\",VLOOKUP(A23,tesserati[],4,FALSE))","v":"C.S.I. TEZZE SUL BRENTA"},{"$f":"IF(ISERROR(VLOOKUP(A23,tesserati[],5,FALSE)),\"\",VLOOKUP(A23,tesserati[],5,FALSE))","v":2001},{"$f":"IF(ISERROR(VLOOKUP(A23,tesserati[],7,FALSE)),\"\",VLOOKUP(A23,tesserati[],7,FALSE))","v":"AM"}]
[3635,{"$f":"IF(ISERROR(VLOOKUP(A24,tesserati[],2,FALSE)),\"\",VLOOKUP(A24,tesserati[],2,FALSE))","v":"CERANTOLA"},{"$f":"IF(ISERROR(VLOOKUP(A24,tesserati[],3,FALSE)),\"\",VLOOKUP(A24,tesserati[],3,FALSE))","v":"DANIELE"},{"$f":"IF(ISERROR(VLOOKUP(A24,tesserati[],4,FALSE)),\"\",VLOOKUP(A24,tesserati[],4,FALSE))","v":"C.S.I. TEZZE SUL BRENTA"},{"$f":"IF(ISERROR(VLOOKUP(A24,tesserati[],5,FALSE)),\"\",VLOOKUP(A24,tesserati[],5,FALSE))","v":1999},{"$f":"IF(ISERROR(VLOOKUP(A24,tesserati[],7,FALSE)),\"\",VLOOKUP(A24,tesserati[],7,FALSE))","v":"JM"}]
[6720,{"$f":"IF(ISERROR(VLOOKUP(A25,tesserati[],2,FALSE)),\"\",VLOOKUP(A25,tesserati[],2,FALSE))","v":"MISSIAGGIA"},{"$f":"IF(ISERROR(VLOOKUP(A25,tesserati[],3,FALSE)),\"\",VLOOKUP(A25,tesserati[],3,FALSE))","v":"LUCA"},{"$f":"IF(ISERROR(VLOOKUP(A25,tesserati[],4,FALSE)),\"\",VLOOKUP(A25,tesserati[],4,FALSE))","v":"POL. DIL. MONTECCHIO PRECALCINO"},{"$f":"IF(ISERROR(VLOOKUP(A25,tesserati[],5,FALSE)),\"\",VLOOKUP(A25,tesserati[],5,FALSE))","v":2001},{"$f":"IF(ISERROR(VLOOKUP(A25,tesserati[],7,FALSE)),\"\",VLOOKUP(A25,tesserati[],7,FALSE))","v":"AM"},5,null,49.6,5,null,2]
[2694,{"$f":"IF(ISERROR(VLOOKUP(A26,tesserati[],2,FALSE)),\"\",VLOOKUP(A26,tesserati[],2,FALSE))","v":"FRIZZARIN"},{"$f":"IF(ISERROR(VLOOKUP(A26,tesserati[],3,FALSE)),\"\",VLOOKUP(A26,tesserati[],3,FALSE))","v":"FABIO"},{"$f":"IF(ISERROR(VLOOKUP(A26,tesserati[],4,FALSE)),\"\",VLOOKUP(A26,tesserati[],4,FALSE))","v":"POL. DIL. MONTECCHIO PRECALCINO"},{"$f":"IF(ISERROR(VLOOKUP(A26,tesserati[],5,FALSE)),\"\",VLOOKUP(A26,tesserati[],5,FALSE))","v":2000},{"$f":"IF(ISERROR(VLOOKUP(A26,tesserati[],7,FALSE)),\"\",VLOOKUP(A26,tesserati[],7,FALSE))","v":"AM"}]
[2706,{"$f":"IF(ISERROR(VLOOKUP(A27,tesserati[],2,FALSE)),\"\",VLOOKUP(A27,tesserati[],2,FALSE))","v":"DAL FERRO"},{"$f":"IF(ISERROR(VLOOKUP(A27,tesserati[],3,FALSE)),\"\",VLOOKUP(A27,tesserati[],3,FALSE))","v":"NICOLA"},{"$f":"IF(ISERROR(VLOOKUP(A27,tesserati[],4,FALSE)),\"\",VLOOKUP(A27,tesserati[],4,FALSE))","v":"POL. DIL. MONTECCHIO PRECALCINO"},{"$f":"IF(ISERROR(VLOOKUP(A27,tesserati[],5,FALSE)),\"\",VLOOKUP(A27,tesserati[],5,FALSE))","v":2001},{"$f":"IF(ISERROR(VLOOKUP(A27,tesserati[],7,FALSE)),\"\",VLOOKUP(A27,tesserati[],7,FALSE))","v":"AM"}]
[2699,{"$f":"IF(ISERROR(VLOOKUP(A28,tesserati[],2,FALSE)),\"\",VLOOKUP(A28,tesserati[],2,FALSE))","v":"MORO"},{"$f":"IF(ISERROR(VLOOKUP(A28,tesserati[],3,FALSE)),\"\",VLOOKUP(A28,tesserati[],3,FALSE))","v":"FILIPPO"},{"$f":"IF(ISERROR(VLOOKUP(A28,tesserati[],4,FALSE)),\"\",VLOOKUP(A28,tesserati[],4,FALSE))","v":"POL. DIL. MONTECCHIO PRECALCINO"},{"$f":"IF(ISERROR(VLOOKUP(A28,tesserati[],5,FALSE)),\"\",VLOOKUP(A28,tesserati[],5,FALSE))","v":1996},{"$f":"IF(ISERROR(VLOOKUP(A28,tesserati[],7,FALSE)),\"\",VLOOKUP(A28,tesserati[],7,FALSE))","v":"SM"}]
[2826,{"$f":"IF(ISERROR(VLOOKUP(A29,tesserati[],2,FALSE)),\"\",VLOOKUP(A29,tesserati[],2,FALSE))","v":"CATTELAN"},{"$f":"IF(ISERROR(VLOOKUP(A29,tesserati[],3,FALSE)),\"\",VLOOKUP(A29,tesserati[],3,FALSE))","v":"MANUEL"},{"$f":"IF(ISERROR(VLOOKUP(A29,tesserati[],4,FALSE)),\"\",VLOOKUP(A29,tesserati[],4,FALSE))","v":"RISORGIVE"},{"$f":"IF(ISERROR(VLOOKUP(A29,tesserati[],5,FALSE)),\"\",VLOOKUP(A29,tesserati[],5,FALSE))","v":1999},{"$f":"IF(ISERROR(VLOOKUP(A29,tesserati[],7,FALSE)),\"\",VLOOKUP(A29,tesserati[],7,FALSE))","v":"JM"},2,null,50.4,6,null,2]
[2839,{"$f":"IF(ISERROR(VLOOKUP(A30,tesserati[],2,FALSE)),\"\",VLOOKUP(A30,tesserati[],2,FALSE))","v":"PISANELLO"},{"$f":"IF(ISERROR(VLOOKUP(A30,tesserati[],3,FALSE)),\"\",VLOOKUP(A30,tesserati[],3,FALSE))","v":"LORENZO"},{"$f":"IF(ISERROR(VLOOKUP(A30,tesserati[],4,FALSE)),\"\",VLOOKUP(A30,tesserati[],4,FALSE))","v":"RISORGIVE"},{"$f":"IF(ISERROR(VLOOKUP(A30,tesserati[],5,FALSE)),\"\",VLOOKUP(A30,tesserati[],5,FALSE))","v":1994},{"$f":"IF(ISERROR(VLOOKUP(A30,tesserati[],7,FALSE)),\"\",VLOOKUP(A30,tesserati[],7,FALSE))","v":"SM"}]
[2825,{"$f":"IF(ISERROR(VLOOKUP(A31,tesserati[],2,FALSE)),\"\",VLOOKUP(A31,tesserati[],2,FALSE))","v":"CAPPELLARI"},{"$f":"IF(ISERROR(VLOOKUP(A31,tesserati[],3,FALSE)),\"\",VLOOKUP(A31,tesserati[],3,FALSE))","v":"GIACOMO"},{"$f":"IF(ISERROR(VLOOKUP(A31,tesserati[],4,FALSE)),\"\",VLOOKUP(A31,tesserati[],4,FALSE))","v":"RISORGIVE"},{"$f":"IF(ISERROR(VLOOKUP(A31,tesserati[],5,FALSE)),\"\",VLOOKUP(A31,tesserati[],5,FALSE))","v":1995},{"$f":"IF(ISERROR(VLOOKUP(A31,tesserati[],7,FALSE)),\"\",VLOOKUP(A31,tesserati[],7,FALSE))","v":"SM"}]
[2845,{"$f":"IF(ISERROR(VLOOKUP(A32,tesserati[],2,FALSE)),\"\",VLOOKUP(A32,tesserati[],2,FALSE))","v":"VASSALLO"},{"$f":"IF(ISERROR(VLOOKUP(A32,tesserati[],3,FALSE)),\"\",VLOOKUP(A32,tesserati[],3,FALSE))","v":"FEDERICO"},{"$f":"IF(ISERROR(VLOOKUP(A32,tesserati[],4,FALSE)),\"\",VLOOKUP(A32,tesserati[],4,FALSE))","v":"RISORGIVE"},{"$f":"IF(ISERROR(VLOOKUP(A32,tesserati[],5,FALSE)),\"\",VLOOKUP(A32,tesserati[],5,FALSE))","v":1993},{"$f":"IF(ISERROR(VLOOKUP(A32,tesserati[],7,FALSE)),\"\",VLOOKUP(A32,tesserati[],7,FALSE))","v":"SM"}]
[3004,{"$f":"IF(ISERROR(VLOOKUP(A33,tesserati[],2,FALSE)),\"\",VLOOKUP(A33,tesserati[],2,FALSE))","v":"ZAMUNARO"},{"$f":"IF(ISERROR(VLOOKUP(A33,tesserati[],3,FALSE)),\"\",VLOOKUP(A33,tesserati[],3,FALSE))","v":"NICOLA"},{"$f":"IF(ISERROR(VLOOKUP(A33,tesserati[],4,FALSE)),\"\",VLOOKUP(A33,tesserati[],4,FALSE))","v":"ATLETICA UNION CREAZZO"},{"$f":"IF(ISERROR(VLOOKUP(A33,tesserati[],5,FALSE)),\"\",VLOOKUP(A33,tesserati[],5,FALSE))","v":1997},{"$f":"IF(ISERROR(VLOOKUP(A33,tesserati[],7,FALSE)),\"\",VLOOKUP(A33,tesserati[],7,FALSE))","v":"SM"},2,null,51.2,7,null,1]
[2995,{"$f":"IF(ISERROR(VLOOKUP(A34,tesserati[],2,FALSE)),\"\",VLOOKUP(A34,tesserati[],2,FALSE))","v":"SARTORI"},{"$f":"IF(ISERROR(VLOOKUP(A34,tesserati[],3,FALSE)),\"\",VLOOKUP(A34,tesserati[],3,FALSE))","v":"MICHELE"},{"$f":"IF(ISERROR(VLOOKUP(A34,tesserati[],4,FALSE)),\"\",VLOOKUP(A34,tesserati[],4,FALSE))","v":"ATLETICA UNION CREAZZO"},{"$f":"IF(ISERROR(VLOOKUP(A34,tesserati[],5,FALSE)),\"\",VLOOKUP(A34,tesserati[],5,FALSE))","v":2001},{"$f":"IF(ISERROR(VLOOKUP(A34,tesserati[],7,FALSE)),\"\",VLOOKUP(A34,tesserati[],7,FALSE))","v":"AM"}]
[3028,{"$f":"IF(ISERROR(VLOOKUP(A35,tesserati[],2,FALSE)),\"\",VLOOKUP(A35,tesserati[],2,FALSE))","v":"AGU"},{"$f":"IF(ISERROR(VLOOKUP(A35,tesserati[],3,FALSE)),\"\",VLOOKUP(A35,tesserati[],3,FALSE))","v":"CHINEDU"},{"$f":"IF(ISERROR(VLOOKUP(A35,tesserati[],4,FALSE)),\"\",VLOOKUP(A35,tesserati[],4,FALSE))","v":"ATLETICA UNION CREAZZO"},{"$f":"IF(ISERROR(VLOOKUP(A35,tesserati[],5,FALSE)),\"\",VLOOKUP(A35,tesserati[],5,FALSE))","v":2001},{"$f":"IF(ISERROR(VLOOKUP(A35,tesserati[],7,FALSE)),\"\",VLOOKUP(A35,tesserati[],7,FALSE))","v":"AM"}]
[1957,{"$f":"IF(ISERROR(VLOOKUP(A36,tesserati[],2,FALSE)),\"\",VLOOKUP(A36,tesserati[],2,FALSE))","v":"MARCHETTO"},{"$f":"IF(ISERROR(VLOOKUP(A36,tesserati[],3,FALSE)),\"\",VLOOKUP(A36,tesserati[],3,FALSE))","v":"GIULIO"},{"$f":"IF(ISERROR(VLOOKUP(A36,tesserati[],4,FALSE)),\"\",VLOOKUP(A36,tesserati[],4,FALSE))","v":"ATLETICA UNION CREAZZO"},{"$f":"IF(ISERROR(VLOOKUP(A36,tesserati[],5,FALSE)),\"\",VLOOKUP(A36,tesserati[],5,FALSE))","v":1995},{"$f":"IF(ISERROR(VLOOKUP(A36,tesserati[],7,FALSE)),\"\",VLOOKUP(A36,tesserati[],7,FALSE))","v":"SM"}]
[2479,{"$f":"IF(ISERROR(VLOOKUP(A37,tesserati[],2,FALSE)),\"\",VLOOKUP(A37,tesserati[],2,FALSE))","v":"BAGGIO"},{"$f":"IF(ISERROR(VLOOKUP(A37,tesserati[],3,FALSE)),\"\",VLOOKUP(A37,tesserati[],3,FALSE))","v":"ANDREA"},{"$f":"IF(ISERROR(VLOOKUP(A37,tesserati[],4,FALSE)),\"\",VLOOKUP(A37,tesserati[],4,FALSE))","v":"C.S.I. TEZZE SUL BRENTA"},{"$f":"IF(ISERROR(VLOOKUP(A37,tesserati[],5,FALSE)),\"\",VLOOKUP(A37,tesserati[],5,FALSE))","v":2000},{"$f":"IF(ISERROR(VLOOKUP(A37,tesserati[],7,FALSE)),\"\",VLOOKUP(A37,tesserati[],7,FALSE))","v":"AM"},3,null,"Sq.",null,null,2]
[3462,{"$f":"IF(ISERROR(VLOOKUP(A38,tesserati[],2,FALSE)),\"\",VLOOKUP(A38,tesserati[],2,FALSE))","v":"ZERBINATI"},{"$f":"IF(ISERROR(VLOOKUP(A38,tesserati[],3,FALSE)),\"\",VLOOKUP(A38,tesserati[],3,FALSE))","v":"MICHELA"},{"$f":"IF(ISERROR(VLOOKUP(A38,tesserati[],4,FALSE)),\"\",VLOOKUP(A38,tesserati[],4,FALSE))","v":"ATLETICA UNION CREAZZO"},{"$f":"IF(ISERROR(VLOOKUP(A38,tesserati[],5,FALSE)),\"\",VLOOKUP(A38,tesserati[],5,FALSE))","v":1973},{"$f":"IF(ISERROR(VLOOKUP(A38,tesserati[],7,FALSE)),\"\",VLOOKUP(A38,tesserati[],7,FALSE))","v":"AAF"}]
[921,{"$f":"IF(ISERROR(VLOOKUP(A39,tesserati[],2,FALSE)),\"\",VLOOKUP(A39,tesserati[],2,FALSE))","v":"LAGO"},{"$f":"IF(ISERROR(VLOOKUP(A39,tesserati[],3,FALSE)),\"\",VLOOKUP(A39,tesserati[],3,FALSE))","v":"ALBERTO"},{"$f":"IF(ISERROR(VLOOKUP(A39,tesserati[],4,FALSE)),\"\",VLOOKUP(A39,tesserati[],4,FALSE))","v":"C.S.I. TEZZE SUL BRENTA"},{"$f":"IF(ISERROR(VLOOKUP(A39,tesserati[],5,FALSE)),\"\",VLOOKUP(A39,tesserati[],5,FALSE))","v":1979},{"$f":"IF(ISERROR(VLOOKUP(A39,tesserati[],7,FALSE)),\"\",VLOOKUP(A39,tesserati[],7,FALSE))","v":"AAM"}]
[5218,{"$f":"IF(ISERROR(VLOOKUP(A40,tesserati[],2,FALSE)),\"\",VLOOKUP(A40,tesserati[],2,FALSE))","v":"RIZZOTTO"},{"$f":"IF(ISERROR(VLOOKUP(A40,tesserati[],3,FALSE)),\"\",VLOOKUP(A40,tesserati[],3,FALSE))","v":"ANDREA"},{"$f":"IF(ISERROR(VLOOKUP(A40,tesserati[],4,FALSE)),\"\",VLOOKUP(A40,tesserati[],4,FALSE))","v":"C.S.I. TEZZE SUL BRENTA"},{"$f":"IF(ISERROR(VLOOKUP(A40,tesserati[],5,FALSE)),\"\",VLOOKUP(A40,tesserati[],5,FALSE))","v":1997},{"$f":"IF(ISERROR(VLOOKUP(A40,tesserati[],7,FALSE)),\"\",VLOOKUP(A40,tesserati[],7,FALSE))","v":"SM"}]
["Squalifica per infrazione reg. 170.7 terzo cambio"]
[null,{"$f":"IF(ISERROR(VLOOKUP(A42,tesserati[],2,FALSE)),\"\",VLOOKUP(A42,tesserati[],2,FALSE))","v":""},{"$f":"IF(ISERROR(VLOOKUP(A42,tesserati[],3,FALSE)),\"\",VLOOKUP(A42,tesserati[],3,FALSE))","v":""},{"$f":"IF(ISERROR(VLOOKUP(A42,tesserati[],4,FALSE)),\"\",VLOOKUP(A42,tesserati[],4,FALSE))","v":""},{"$f":"IF(ISERROR(VLOOKUP(A42,tesserati[],5,FALSE)),\"\",VLOOKUP(A42,tesserati[],5,FALSE))","v":""},{"$f":"IF(ISERROR(VLOOKUP(A42,tesserati[],7,FALSE)),\"\",VLOOKUP(A42,tesserati[],7,FALSE))","v":""}]
[null,{"$f":"IF(ISERROR(VLOOKUP(A43,tesserati[],2,FALSE)),\"\",VLOOKUP(A43,tesserati[],2,FALSE))","v":""},{"$f":"IF(ISERROR(VLOOKUP(A43,tesserati[],3,FALSE)),\"\",VLOOKUP(A43,tesserati[],3,FALSE))","v":""},{"$f":"IF(ISERROR(VLOOKUP(A43,tesserati[],4,FALSE)),\"\",VLOOKUP(A43,tesserati[],4,FALSE))","v":""},{"$f":"IF(ISERROR(VLOOKUP(A43,tesserati[],5,FALSE)),\"\",VLOOKUP(A43,tesserati[],5,FALSE))","v":""},{"$f":"IF(ISERROR(VLOOKUP(A43,tesserati[],7,FALSE)),\"\",VLOOKUP(A43,tesserati[],7,FALSE))","v":""}]
[null,{"$f":"IF(ISERROR(VLOOKUP(A44,tesserati[],2,FALSE)),\"\",VLOOKUP(A44,tesserati[],2,FALSE))","v":""},{"$f":"IF(ISERROR(VLOOKUP(A44,tesserati[],3,FALSE)),\"\",VLOOKUP(A44,tesserati[],3,FALSE))","v":""},{"$f":"IF(ISERROR(VLOOKUP(A44,tesserati[],4,FALSE)),\"\",VLOOKUP(A44,tesserati[],4,FALSE))","v":""},{"$f":"IF(ISERROR(VLOOKUP(A44,tesserati[],5,FALSE)),\"\",VLOOKUP(A44,tesserati[],5,FALSE))","v":""},{"$f":"IF(ISERROR(VLOOKUP(A44,tesserati[],7,FALSE)),\"\",VLOOKUP(A44,tesserati[],7,FALSE))","v":""}]
[null,{"$f":"IF(ISERROR(VLOOKUP(A45,tesserati[],2,FALSE)),\"\",VLOOKUP(A45,tesserati[],2,FALSE))","v":""},{"$f":"IF(ISERROR(VLOOKUP(A45,tesserati[],3,FALSE)),\"\",VLOOKUP(A45,tesserati[],3,FALSE))","v":""},{"$f":"IF(ISERROR(VLOOKUP(A45,tesserati[],4,FALSE)),\"\",VLOOKUP(A45,tesserati[],4,FALSE))","v":""},{"$f":"IF(ISERROR(VLOOKUP(A45,tesserati[],5,FALSE)),\"\",VLOOKUP(A45,tesserati[],5,FALSE))","v":""},{"$f":"IF(ISERROR(VLOOKUP(A45,tesserati[],7,FALSE)),\"\",VLOOKUP(A45,tesserati[],7,FALSE))","v":""}]
[null,{"$f":"IF(ISERROR(VLOOKUP(A46,tesserati[],2,FALSE)),\"\",VLOOKUP(A46,tesserati[],2,FALSE))","v":""},{"$f":"IF(ISERROR(VLOOKUP(A46,tesserati[],3,FALSE)),\"\",VLOOKUP(A46,tesserati[],3,FALSE))","v":""},{"$f":"IF(ISERROR(VLOOKUP(A46,tesserati[],4,FALSE)),\"\",VLOOKUP(A46,tesserati[],4,FALSE))","v":""},{"$f":"IF(ISERROR(VLOOKUP(A46,tesserati[],5,FALSE)),\"\",VLOOKUP(A46,tesserati[],5,FALSE))","v":""},{"$f":"IF(ISERROR(VLOOKUP(A46,tesserati[],7,FALSE)),\"\",VLOOKUP(A46,tesserati[],7,FALSE))","v":""}]
[null,{"$f":"IF(ISERROR(VLOOKUP(A47,tesserati[],2,FALSE)),\"\",VLOOKUP(A47,tesserati[],2,FALSE))","v":""},{"$f":"IF(ISERROR(VLOOKUP(A47,tesserati[],3,FALSE)),\"\",VLOOKUP(A47,tesserati[],3,FALSE))","v":""},{"$f":"IF(ISERROR(VLOOKUP(A47,tesserati[],4,FALSE)),\"\",VLOOKUP(A47,tesserati[],4,FALSE))","v":""},{"$f":"IF(ISERROR(VLOOKUP(A47,tesserati[],5,FALSE)),\"\",VLOOKUP(A47,tesserati[],5,FALSE))","v":""},{"$f":"IF(ISERROR(VLOOKUP(A47,tesserati[],7,FALSE)),\"\",VLOOKUP(A47,tesserati[],7,FALSE))","v":""}]
[null,{"$f":"IF(ISERROR(VLOOKUP(A48,tesserati[],2,FALSE)),\"\",VLOOKUP(A48,tesserati[],2,FALSE))","v":""},{"$f":"IF(ISERROR(VLOOKUP(A48,tesserati[],3,FALSE)),\"\",VLOOKUP(A48,tesserati[],3,FALSE))","v":""},{"$f":"IF(ISERROR(VLOOKUP(A48,tesserati[],4,FALSE)),\"\",VLOOKUP(A48,tesserati[],4,FALSE))","v":""},{"$f":"IF(ISERROR(VLOOKUP(A48,tesserati[],5,FALSE)),\"\",VLOOKUP(A48,tesserati[],5,FALSE))","v":""},{"$f":"IF(ISERROR(VLOOKUP(A48,tesserati[],7,FALSE)),\"\",VLOOKUP(A48,tesserati[],7,FALSE))","v":""}]
[null,{"$f":"IF(ISERROR(VLOOKUP(A49,tesserati[],2,FALSE)),\"\",VLOOKUP(A49,tesserati[],2,FALSE))","v":""},{"$f":"IF(ISERROR(VLOOKUP(A49,tesserati[],3,FALSE)),\"\",VLOOKUP(A49,tesserati[],3,FALSE))","v":""},{"$f":"IF(ISERROR(VLOOKUP(A49,tesserati[],4,FALSE)),\"\",VLOOKUP(A49,tesserati[],4,FALSE))","v":""},{"$f":"IF(ISERROR(VLOOKUP(A49,tesserati[],5,FALSE)),\"\",VLOOKUP(A49,tesserati[],5,FALSE))","v":""},{"$f":"IF(ISERROR(VLOOKUP(A49,tesserati[],7,FALSE)),\"\",VLOOKUP(A49,tesserati[],7,FALSE))","v":""}]
[null,{"$f":"IF(ISERROR(VLOOKUP(A50,tesserati[],2,FALSE)),\"\",VLOOKUP(A50,tesserati[],2,FALSE))","v":""},{"$f":"IF(ISERROR(VLOOKUP(A50,tesserati[],3,FALSE)),\"\",VLOOKUP(A50,tesserati[],3,FALSE))","v":""},{"$f":"IF(ISERROR(VLOOKUP(A50,tesserati[],4,FALSE)),\"\",VLOOKUP(A50,tesserati[],4,FALSE))","v":""},{"$f":"IF(ISERROR(VLOOKUP(A50,tesserati[],5,FALSE)),\"\",VLOOKUP(A50,tesserati[],5,FALSE))","v":""},{"$f":"IF(ISERROR(VLOOKUP(A50,tesserati[],7,FALSE)),\"\",VLOOKUP(A50,tesserati[],7,FALSE))","v":""}]
[null,{"$f":"IF(ISERROR(VLOOKUP(A51,tesserati[],2,FALSE)),\"\",VLOOKUP(A51,tesserati[],2,FALSE))","v":""},{"$f":"IF(ISERROR(VLOOKUP(A51,tesserati[],3,FALSE)),\"\",VLOOKUP(A51,tesserati[],3,FALSE))","v":""},{"$f":"IF(ISERROR(VLOOKUP(A51,tesserati[],4,FALSE)),\"\",VLOOKUP(A51,tesserati[],4,FALSE))","v":""},{"$f":"IF(ISERROR(VLOOKUP(A51,tesserati[],5,FALSE)),\"\",VLOOKUP(A51,tesserati[],5,FALSE))","v":""},{"$f":"IF(ISERROR(VLOOKUP(A51,tesserati[],7,FALSE)),\"\",VLOOKUP(A51,tesserati[],7,FALSE))","v":""}]
[null,{"$f":"IF(ISERROR(VLOOKUP(A52,tesserati[],2,FALSE)),\"\",VLOOKUP(A52,tesserati[],2,FALSE))","v":""},{"$f":"IF(ISERROR(VLOOKUP(A52,tesserati[],3,FALSE)),\"\",VLOOKUP(A52,tesserati[],3,FALSE))","v":""},{"$f":"IF(ISERROR(VLOOKUP(A52,tesserati[],4,FALSE)),\"\",VLOOKUP(A52,tesserati[],4,FALSE))","v":""},{"$f":"IF(ISERROR(VLOOKUP(A52,tesserati[],5,FALSE)),\"\",VLOOKUP(A52,tesserati[],5,FALSE))","v":""},{"$f":"IF(ISERROR(VLOOKUP(A52,tesserati[],7,FALSE)),\"\",VLOOKUP(A52,tesserati[],7,FALSE))","v":""}]
[null,{"$f":"IF(ISERROR(VLOOKUP(A53,tesserati[],2,FALSE)),\"\",VLOOKUP(A53,tesserati[],2,FALSE))","v":""},{"$f":"IF(ISERROR(VLOOKUP(A53,tesserati[],3,FALSE)),\"\",VLOOKUP(A53,tesserati[],3,FALSE))","v":""},{"$f":"IF(ISERROR(VLOOKUP(A53,tesserati[],4,FALSE)),\"\",VLOOKUP(A53,tesserati[],4,FALSE))","v":""},{"$f":"IF(ISERROR(VLOOKUP(A53,tesserati[],5,FALSE)),\"\",VLOOKUP(A53,tesserati[],5,FALSE))","v":""},{"$f":"IF(ISERROR(VLOOKUP(A53,tesserati[],7,FALSE)),\"\",VLOOKUP(A53,tesserati[],7,FALSE))","v":""}]
[null,{"$f":"IF(ISERROR(VLOOKUP(A54,tesserati[],2,FALSE)),\"\",VLOOKUP(A54,tesserati[],2,FALSE))","v":""},{"$f":"IF(ISERROR(VLOOKUP(A54,tesserati[],3,FALSE)),\"\",VLOOKUP(A54,tesserati[],3,FALSE))","v":""},{"$f":"IF(ISERROR(VLOOKUP(A54,tesserati[],4,FALSE)),\"\",VLOOKUP(A54,tesserati[],4,FALSE))","v":""},{"$f":"IF(ISERROR(VLOOKUP(A54,tesserati[],5,FALSE)),\"\",VLOOKUP(A54,tesserati[],5,FALSE))","v":""},{"$f":"IF(ISERROR(VLOOKUP(A54,tesserati[],7,FALSE)),\"\",VLOOKUP(A54,tesserati[],7,FALSE))","v":""}]
[null,{"$f":"IF(ISERROR(VLOOKUP(A55,tesserati[],2,FALSE)),\"\",VLOOKUP(A55,tesserati[],2,FALSE))","v":""},{"$f":"IF(ISERROR(VLOOKUP(A55,tesserati[],3,FALSE)),\"\",VLOOKUP(A55,tesserati[],3,FALSE))","v":""},{"$f":"IF(ISERROR(VLOOKUP(A55,tesserati[],4,FALSE)),\"\",VLOOKUP(A55,tesserati[],4,FALSE))","v":""},{"$f":"IF(ISERROR(VLOOKUP(A55,tesserati[],5,FALSE)),\"\",VLOOKUP(A55,tesserati[],5,FALSE))","v":""},{"$f":"IF(ISERROR(VLOOKUP(A55,tesserati[],7,FALSE)),\"\",VLOOKUP(A55,tesserati[],7,FALSE))","v":""}]
[null,{"$f":"IF(ISERROR(VLOOKUP(A56,tesserati[],2,FALSE)),\"\",VLOOKUP(A56,tesserati[],2,FALSE))","v":""},{"$f":"IF(ISERROR(VLOOKUP(A56,tesserati[],3,FALSE)),\"\",VLOOKUP(A56,tesserati[],3,FALSE))","v":""},{"$f":"IF(ISERROR(VLOOKUP(A56,tesserati[],4,FALSE)),\"\",VLOOKUP(A56,tesserati[],4,FALSE))","v":""},{"$f":"IF(ISERROR(VLOOKUP(A56,tesserati[],5,FALSE)),\"\",VLOOKUP(A56,tesserati[],5,FALSE))","v":""},{"$f":"IF(ISERROR(VLOOKUP(A56,tesserati[],7,FALSE)),\"\",VLOOKUP(A56,tesserati[],7,FALSE))","v":""}]
[null,{"$f":"IF(ISERROR(VLOOKUP(A57,tesserati[],2,FALSE)),\"\",VLOOKUP(A57,tesserati[],2,FALSE))","v":""},{"$f":"IF(ISERROR(VLOOKUP(A57,tesserati[],3,FALSE)),\"\",VLOOKUP(A57,tesserati[],3,FALSE))","v":""},{"$f":"IF(ISERROR(VLOOKUP(A57,tesserati[],4,FALSE)),\"\",VLOOKUP(A57,tesserati[],4,FALSE))","v":""},{"$f":"IF(ISERROR(VLOOKUP(A57,tesserati[],5,FALSE)),\"\",VLOOKUP(A57,tesserati[],5,FALSE))","v":""},{"$f":"IF(ISERROR(VLOOKUP(A57,tesserati[],7,FALSE)),\"\",VLOOKUP(A57,tesserati[],7,FALSE))","v":""}]
[null,{"$f":"IF(ISERROR(VLOOKUP(A58,tesserati[],2,FALSE)),\"\",VLOOKUP(A58,tesserati[],2,FALSE))","v":""},{"$f":"IF(ISERROR(VLOOKUP(A58,tesserati[],3,FALSE)),\"\",VLOOKUP(A58,tesserati[],3,FALSE))","v":""},{"$f":"IF(ISERROR(VLOOKUP(A58,tesserati[],4,FALSE)),\"\",VLOOKUP(A58,tesserati[],4,FALSE))","v":""},{"$f":"IF(ISERROR(VLOOKUP(A58,tesserati[],5,FALSE)),\"\",VLOOKUP(A58,tesserati[],5,FALSE))","v":""},{"$f":"IF(ISERROR(VLOOKUP(A58,tesserati[],7,FALSE)),\"\",VLOOKUP(A58,tesserati[],7,FALSE))","v":""}]
[null,{"$f":"IF(ISERROR(VLOOKUP(A59,tesserati[],2,FALSE)),\"\",VLOOKUP(A59,tesserati[],2,FALSE))","v":""},{"$f":"IF(ISERROR(VLOOKUP(A59,tesserati[],3,FALSE)),\"\",VLOOKUP(A59,tesserati[],3,FALSE))","v":""},{"$f":"IF(ISERROR(VLOOKUP(A59,tesserati[],4,FALSE)),\"\",VLOOKUP(A59,tesserati[],4,FALSE))","v":""},{"$f":"IF(ISERROR(VLOOKUP(A59,tesserati[],5,FALSE)),\"\",VLOOKUP(A59,tesserati[],5,FALSE))","v":""},{"$f":"IF(ISERROR(VLOOKUP(A59,tesserati[],7,FALSE)),\"\",VLOOKUP(A59,tesserati[],7,FALSE))","v":""}]
[null,{"$f":"IF(ISERROR(VLOOKUP(A60,tesserati[],2,FALSE)),\"\",VLOOKUP(A60,tesserati[],2,FALSE))","v":""},{"$f":"IF(ISERROR(VLOOKUP(A60,tesserati[],3,FALSE)),\"\",VLOOKUP(A60,tesserati[],3,FALSE))","v":""},{"$f":"IF(ISERROR(VLOOKUP(A60,tesserati[],4,FALSE)),\"\",VLOOKUP(A60,tesserati[],4,FALSE))","v":""},{"$f":"IF(ISERROR(VLOOKUP(A60,tesserati[],5,FALSE)),\"\",VLOOKUP(A60,tesserati[],5,FALSE))","v":""},{"$f":"IF(ISERROR(VLOOKUP(A60,tesserati[],7,FALSE)),\"\",VLOOKUP(A60,tesserati[],7,FALSE))","v":""}]
[null,{"$f":"IF(ISERROR(VLOOKUP(A61,tesserati[],2,FALSE)),\"\",VLOOKUP(A61,tesserati[],2,FALSE))","v":""},{"$f":"IF(ISERROR(VLOOKUP(A61,tesserati[],3,FALSE)),\"\",VLOOKUP(A61,tesserati[],3,FALSE))","v":""},{"$f":"IF(ISERROR(VLOOKUP(A61,tesserati[],4,FALSE)),\"\",VLOOKUP(A61,tesserati[],4,FALSE))","v":""},{"$f":"IF(ISERROR(VLOOKUP(A61,tesserati[],5,FALSE)),\"\",VLOOKUP(A61,tesserati[],5,FALSE))","v":""},{"$f":"IF(ISERROR(VLOOKUP(A61,tesserati[],7,FALSE)),\"\",VLOOKUP(A61,tesserati[],7,FALSE))","v":""}]
[null,{"$f":"IF(ISERROR(VLOOKUP(A62,tesserati[],2,FALSE)),\"\",VLOOKUP(A62,tesserati[],2,FALSE))","v":""},{"$f":"IF(ISERROR(VLOOKUP(A62,tesserati[],3,FALSE)),\"\",VLOOKUP(A62,tesserati[],3,FALSE))","v":""},{"$f":"IF(ISERROR(VLOOKUP(A62,tesserati[],4,FALSE)),\"\",VLOOKUP(A62,tesserati[],4,FALSE))","v":""},{"$f":"IF(ISERROR(VLOOKUP(A62,tesserati[],5,FALSE)),\"\",VLOOKUP(A62,tesserati[],5,FALSE))","v":""},{"$f":"IF(ISERROR(VLOOKUP(A62,tesserati[],7,FALSE)),\"\",VLOOKUP(A62,tesserati[],7,FALSE))","v":""}]
[null,{"$f":"IF(ISERROR(VLOOKUP(A63,tesserati[],2,FALSE)),\"\",VLOOKUP(A63,tesserati[],2,FALSE))","v":""},{"$f":"IF(ISERROR(VLOOKUP(A63,tesserati[],3,FALSE)),\"\",VLOOKUP(A63,tesserati[],3,FALSE))","v":""},{"$f":"IF(ISERROR(VLOOKUP(A63,tesserati[],4,FALSE)),\"\",VLOOKUP(A63,tesserati[],4,FALSE))","v":""},{"$f":"IF(ISERROR(VLOOKUP(A63,tesserati[],5,FALSE)),\"\",VLOOKUP(A63,tesserati[],5,FALSE))","v":""},{"$f":"IF(ISERROR(VLOOKUP(A63,tesserati[],7,FALSE)),\"\",VLOOKUP(A63,tesserati[],7,FALSE))","v":""}]
[null,{"$f":"IF(ISERROR(VLOOKUP(A64,tesserati[],2,FALSE)),\"\",VLOOKUP(A64,tesserati[],2,FALSE))","v":""},{"$f":"IF(ISERROR(VLOOKUP(A64,tesserati[],3,FALSE)),\"\",VLOOKUP(A64,tesserati[],3,FALSE))","v":""},{"$f":"IF(ISERROR(VLOOKUP(A64,tesserati[],4,FALSE)),\"\",VLOOKUP(A64,tesserati[],4,FALSE))","v":""},{"$f":"IF(ISERROR(VLOOKUP(A64,tesserati[],5,FALSE)),\"\",VLOOKUP(A64,tesserati[],5,FALSE))","v":""},{"$f":"IF(ISERROR(VLOOKUP(A64,tesserati[],7,FALSE)),\"\",VLOOKUP(A64,tesserati[],7,FALSE))","v":""}]
[null,{"$f":"IF(ISERROR(VLOOKUP(A65,tesserati[],2,FALSE)),\"\",VLOOKUP(A65,tesserati[],2,FALSE))","v":""},{"$f":"IF(ISERROR(VLOOKUP(A65,tesserati[],3,FALSE)),\"\",VLOOKUP(A65,tesserati[],3,FALSE))","v":""},{"$f":"IF(ISERROR(VLOOKUP(A65,tesserati[],4,FALSE)),\"\",VLOOKUP(A65,tesserati[],4,FALSE))","v":""},{"$f":"IF(ISERROR(VLOOKUP(A65,tesserati[],5,FALSE)),\"\",VLOOKUP(A65,tesserati[],5,FALSE))","v":""},{"$f":"IF(ISERROR(VLOOKUP(A65,tesserati[],7,FALSE)),\"\",VLOOKUP(A65,tesserati[],7,FALSE))","v":""}]
[null,{"$f":"IF(ISERROR(VLOOKUP(A66,tesserati[],2,FALSE)),\"\",VLOOKUP(A66,tesserati[],2,FALSE))","v":""},{"$f":"IF(ISERROR(VLOOKUP(A66,tesserati[],3,FALSE)),\"\",VLOOKUP(A66,tesserati[],3,FALSE))","v":""},{"$f":"IF(ISERROR(VLOOKUP(A66,tesserati[],4,FALSE)),\"\",VLOOKUP(A66,tesserati[],4,FALSE))","v":""},{"$f":"IF(ISERROR(VLOOKUP(A66,tesserati[],5,FALSE)),\"\",VLOOKUP(A66,tesserati[],5,FALSE))","v":""},{"$f":"IF(ISERROR(VLOOKUP(A66,tesserati[],7,FALSE)),\"\",VLOOKUP(A66,tesserati[],7,FALSE))","v":""}]
[null,{"$f":"IF(ISERROR(VLOOKUP(A67,tesserati[],2,FALSE)),\"\",VLOOKUP(A67,tesserati[],2,FALSE))","v":""},{"$f":"IF(ISERROR(VLOOKUP(A67,tesserati[],3,FALSE)),\"\",VLOOKUP(A67,tesserati[],3,FALSE))","v":""},{"$f":"IF(ISERROR(VLOOKUP(A67,tesserati[],4,FALSE)),\"\",VLOOKUP(A67,tesserati[],4,FALSE))","v":""},{"$f":"IF(ISERROR(VLOOKUP(A67,tesserati[],5,FALSE)),\"\",VLOOKUP(A67,tesserati[],5,FALSE))","v":""},{"$f":"IF(ISERROR(VLOOKUP(A67,tesserati[],7,FALSE)),\"\",VLOOKUP(A67,tesserati[],7,FALSE))","v":""}]
[null,{"$f":"IF(ISERROR(VLOOKUP(A68,tesserati[],2,FALSE)),\"\",VLOOKUP(A68,tesserati[],2,FALSE))","v":""},{"$f":"IF(ISERROR(VLOOKUP(A68,tesserati[],3,FALSE)),\"\",VLOOKUP(A68,tesserati[],3,FALSE))","v":""},{"$f":"IF(ISERROR(VLOOKUP(A68,tesserati[],4,FALSE)),\"\",VLOOKUP(A68,tesserati[],4,FALSE))","v":""},{"$f":"IF(ISERROR(VLOOKUP(A68,tesserati[],5,FALSE)),\"\",VLOOKUP(A68,tesserati[],5,FALSE))","v":""},{"$f":"IF(ISERROR(VLOOKUP(A68,tesserati[],7,FALSE)),\"\",VLOOKUP(A68,tesserati[],7,FALSE))","v":""}]
[null,{"$f":"IF(ISERROR(VLOOKUP(A69,tesserati[],2,FALSE)),\"\",VLOOKUP(A69,tesserati[],2,FALSE))","v":""},{"$f":"IF(ISERROR(VLOOKUP(A69,tesserati[],3,FALSE)),\"\",VLOOKUP(A69,tesserati[],3,FALSE))","v":""},{"$f":"IF(ISERROR(VLOOKUP(A69,tesserati[],4,FALSE)),\"\",VLOOKUP(A69,tesserati[],4,FALSE))","v":""},{"$f":"IF(ISERROR(VLOOKUP(A69,tesserati[],5,FALSE)),\"\",VLOOKUP(A69,tesserati[],5,FALSE))","v":""},{"$f":"IF(ISERROR(VLOOKUP(A69,tesserati[],7,FALSE)),\"\",VLOOKUP(A69,tesserati[],7,FALSE))","v":""}]
[null,{"$f":"IF(ISERROR(VLOOKUP(A70,tesserati[],2,FALSE)),\"\",VLOOKUP(A70,tesserati[],2,FALSE))","v":""},{"$f":"IF(ISERROR(VLOOKUP(A70,tesserati[],3,FALSE)),\"\",VLOOKUP(A70,tesserati[],3,FALSE))","v":""},{"$f":"IF(ISERROR(VLOOKUP(A70,tesserati[],4,FALSE)),\"\",VLOOKUP(A70,tesserati[],4,FALSE))","v":""},{"$f":"IF(ISERROR(VLOOKUP(A70,tesserati[],5,FALSE)),\"\",VLOOKUP(A70,tesserati[],5,FALSE))","v":""},{"$f":"IF(ISERROR(VLOOKUP(A70,tesserati[],7,FALSE)),\"\",VLOOKUP(A70,tesserati[],7,FALSE))","v":""}]
[null,{"$f":"IF(ISERROR(VLOOKUP(A71,tesserati[],2,FALSE)),\"\",VLOOKUP(A71,tesserati[],2,FALSE))","v":""},{"$f":"IF(ISERROR(VLOOKUP(A71,tesserati[],3,FALSE)),\"\",VLOOKUP(A71,tesserati[],3,FALSE))","v":""},{"$f":"IF(ISERROR(VLOOKUP(A71,tesserati[],4,FALSE)),\"\",VLOOKUP(A71,tesserati[],4,FALSE))","v":""},{"$f":"IF(ISERROR(VLOOKUP(A71,tesserati[],5,FALSE)),\"\",VLOOKUP(A71,tesserati[],5,FALSE))","v":""},{"$f":"IF(ISERROR(VLOOKUP(A71,tesserati[],7,FALSE)),\"\",VLOOKUP(A71,tesserati[],7,FALSE))","v":""}]

{"sheet":"STAFFETTE 4X100 CM","index":3,"n_rows":72,"n_cols":12,"rows_kept":72,"cut":false,"hidden":false,"merged":[[53,6,56,6],[53,7,56,7],[53,8,56,8],[53,9,56,9],[57,6,60,6],[57,7,60,7],[57,8,60,8],[57,9,60,9],[45,6,48,6],[45,7,48,7],[45,8,48,8],[45,9,48,9],[49,6,52,6],[49,7,52,7],[49,8,52,8],[49,9,52,9],[37,6,40,6],[37,7,40,7],[37,8,40,8],[37,9,40,9],[41,6,44,6],[41,7,44,7],[41,8,44,8],[41,9,44,9],[28,6,31,6],[28,7,31,7],[28,8,31,8],[28,9,31,9],[33,6,36,6],[33,7,36,7],[33,8,36,8],[33,9,36,9],[32,0,32,11],[20,6,23,6],[20,7,23,7],[20,8,23,8],[20,9,23,9],[24,6,27,6],[24,7,27,7],[24,8,27,8],[24,9,27,9],[12,6,15,6],[12,7,15,7],[12,8,15,8],[12,9,15,9],[16,6,19,6],[16,7,19,7],[16,8,19,8],[16,9,19,9],[8,6,11,6],[8,7,11,7],[8,8,11,8],[8,9,11,9],[5,0,6,0],[5,1,6,2],[5,3,6,3],[5,4,6,4],[5,5,6,5],[5,6,6,6],[7,0,7,11],[5,7,6,7],[5,8,6,8],[5,9,6,9],[5,10,6,10],[5,11,6,11],[2,0,2,1],[2,4,4,4],[2,5,2,7],[2,8,2,10],[2,11,4,11],[3,0,4,1],[3,2,4,2],[3,3,4,3],[3,5,4,7],[3,8,4,10],[0,2,0,4],[0,5,0,7],[0,8,0,10],[0,11,1,11],[1,2,1,4],[1,5,1,7],[1,8,1,10]]}
[null,null,"MANIFESTAZIONE",null,null,"LOCALITA'",null,null,"SOCIETA' ORGANIZZATRICE"]
[null,null,"6° prova provinciale",null,null,"Tezze sul Brenta",null,null,"CSI Tezze sul Brenta"]
["CATEGORIA",null,"ORA INIZIO","ORA FINE",null,"GARA",null,null,"DATA"]
["CADETTI",null,null,null,null,"STAFFETTA 4 X 100",null,null,"2017-09-24"]
[]
["N. tessera","ATLETA\nCOGNOME E NOME",null,"SOCIETA'","NASCITA","CATEGORIA","Corsia","PETTORALE","Tempo","Piazzamento","PUNTI","CL."]
[]
["1 SERIE",{"$f":"IF(ISERROR(VLOOKUP(A8,tesserati[],2,FALSE)),\"\",VLOOKUP(A8,tesserati[],2,FALSE))","v":""},{"$f":"IF(ISERROR(VLOOKUP(A8,tesserati[],3,FALSE)),\"\",VLOOKUP(A8,tesserati[],3,FALSE))","v":""},{"$f":"IF(ISERROR(VLOOKUP(#REF!,tesserati[],5,FALSE)),\"\",VLOOKUP(#REF!,tesserati[],5,FALSE))","v":""},{"$f":"IF(ISERROR(VLOOKUP(A8,tesserati[],4,FALSE)),\"\",VLOOKUP(A8,tesserati[],4,FALSE))","v":""},{"$f":"IF(ISERROR(VLOOKUP(A8,tesserati[],7,FALSE)),\"\",VLOOKUP(A8,tesserati[],7,FALSE))","v":""}]
[2693,{"$f":"IF(ISERROR(VLOOKUP(A9,tesserati[],2,FALSE)),\"\",VLOOKUP(A9,tesserati[],2,FALSE))","v":"CAPPELLOTTO"},{"$f":"IF(ISERROR(VLOOKUP(A9,tesserati[],3,FALSE)),\"\",VLOOKUP(A9,tesserati[],3,FALSE))","v":"FRANCESCO"},{"$f":"IF(ISERROR(VLOOKUP(A9,tesserati[],4,FALSE)),\"\",VLOOKUP(A9,tesserati[],4,FALSE))","v":"POL. DIL. MONTECCHIO PRECALCINO"},{"$f":"IF(ISERROR(VLOOKUP(A9,tesserati[],5,FALSE)),\"\",VLOOKUP(A9,tesserati[],5,FALSE))","v":2003},{"$f":"IF(ISERROR(VLOOKUP(A9,tesserati[],7,FALSE)),\"\",VLOOKUP(A9,tesserati[],7,FALSE))","v":"CM"},4,null,49.5,1]
[3246,{"$f":"IF(ISERROR(VLOOKUP(A10,tesserati[],2,FALSE)),\"\",VLOOKUP(A10,tesserati[],2,FALSE))","v":"ZUCCHI"},{"$f":"IF(ISERROR(VLOOKUP(A10,tesserati[],3,FALSE)),\"\",VLOOKUP(A10,tesserati[],3,FALSE))","v":"GIOELE"},{"$f":"IF(ISERROR(VLOOKUP(A10,tesserati[],4,FALSE)),\"\",VLOOKUP(A10,tesserati[],4,FALSE))","v":"POL. DIL. MONTECCHIO PRECALCINO"},{"$f":"IF(ISERROR(VLOOKUP(A10,tesserati[],5,FALSE)),\"\",VLOOKUP(A10,tesserati[],5,FALSE))","v":2002},{"$f":"IF(ISERROR(VLOOKUP(A10,tesserati[],7,FALSE)),\"\",VLOOKUP(A10,tesserati[],7,FALSE))","v":"CM"}]
[2700,{"$f":"IF(ISERROR(VLOOKUP(A11,tesserati[],2,FALSE)),\"\",VLOOKUP(A11,tesserati[],2,FALSE))","v":"MORO"},{"$f":"IF(ISERROR(VLOOKUP(A11,tesserati[],3,FALSE)),\"\",VLOOKUP(A11,tesserati[],3,FALSE))","v":"TOMMASO"},{"$f":"IF(ISERROR(VLOOKUP(A11,tesserati[],4,FALSE)),\"\",VLOOKUP(A11,tesserati[],4,FALSE))","v":"POL. DIL. MONTECCHIO PRECALCINO"},{"$f":"IF(ISERROR(VLOOKUP(A11,tesserati[],5,FALSE)),\"\",VLOOKUP(A11,tesserati[],5,FALSE))","v":2003},{"$f":"IF(ISERROR(VLOOKUP(A11,tesserati[],7,FALSE)),\"\",VLOOKUP(A11,tesserati[],7,FALSE))","v":"CM"}]
[2695,{"$f":"IF(ISERROR(VLOOKUP(A12,tesserati[],2,FALSE)),\"\",VLOOKUP(A12,tesserati[],2,FALSE))","v":"GUERRERO"},{"$f":"IF(ISERROR(VLOOKUP(A12,tesserati[],3,FALSE)),\"\",VLOOKUP(A12,tesserati[],3,FALSE))","v":"FRANCO HECTOR"},{"$f":"IF(ISERROR(VLOOKUP(A12,tesserati[],4,FALSE)),\"\",VLOOKUP(A12,tesserati[],4,FALSE))","v":"POL. DIL. MONTECCHIO PRECALCINO"},{"$f":"IF(ISERROR(VLOOKUP(A12,tesserati[],5,FALSE)),\"\",VLOOKUP(A12,tesserati[],5,FALSE))","v":2003},{"$f":"IF(ISERROR(VLOOKUP(A12,tesserati[],7,FALSE)),\"\",VLOOKUP(A12,tesserati[],7,FALSE))","v":"CM"}]
[5123,{"$f":"IF(ISERROR(VLOOKUP(A13,tesserati[],2,FALSE)),\"\",VLOOKUP(A13,tesserati[],2,FALSE))","v":"VENTURA"},{"$f":"IF(ISERROR(VLOOKUP(A13,tesserati[],3,FALSE)),\"\",VLOOKUP(A13,tesserati[],3,FALSE))","v":"FILIPPO"},{"$f":"IF(ISERROR(VLOOKUP(A13,tesserati[],4,FALSE)),\"\",VLOOKUP(A13,tesserati[],4,FALSE))","v":"POLISPORTIVA SALF ALTOPADOVANA"},{"$f":"IF(ISERROR(VLOOKUP(A13,tesserati[],5,FALSE)),\"\",VLOOKUP(A13,tesserati[],5,FALSE))","v":2003},{"$f":"IF(ISERROR(VLOOKUP(A13,tesserati[],7,FALSE)),\"\",VLOOKUP(A13,tesserati[],7,FALSE))","v":"CM"},5,null,50.5,2]
[7956,{"$f":"IF(ISERROR(VLOOKUP(A14,tesserati[],2,FALSE)),\"\",VLOOKUP(A14,tesserati[],2,FALSE))","v":"PERNECHELE"},{"$f":"IF(ISERROR(VLOOKUP(A14,tesserati[],3,FALSE)),\"\",VLOOKUP(A14,tesserati[],3,FALSE))","v":"DANIELE"},{"$f":"IF(ISERROR(VLOOKUP(A14,tesserati[],4,FALSE)),\"\",VLOOKUP(A14,tesserati[],4,FALSE))","v":"POLISPORTIVA SALF ALTOPADOVANA"},{"$f":"IF(ISERROR(VLOOKUP(A14,tesserati[],5,FALSE)),\"\",VLOOKUP(A14,tesserati[],5,FALSE))","v":2002},{"$f":"IF(ISERROR(VLOOKUP(A14,tesserati[],7,FALSE)),\"\",VLOOKUP(A14,tesserati[],7,FALSE))","v":"CM"}]
[5118,{"$f":"IF(ISERROR(VLOOKUP(A15,tesserati[],2,FALSE)),\"\",VLOOKUP(A15,tesserati[],2,FALSE))","v":"FABIAN"},{"$f":"IF(ISERROR(VLOOKUP(A15,tesserati[],3,FALSE)),\"\",VLOOKUP(A15,tesserati[],3,FALSE))","v":"FILIPPO"},{"$f":"IF(ISERROR(VLOOKUP(A15,tesserati[],4,FALSE)),\"\",VLOOKUP(A15,tesserati[],4,FALSE))","v":"POLISPORTIVA SALF ALTOPADOVANA"},{"$f":"IF(ISERROR(VLOOKUP(A15,tesserati[],5,FALSE)),\"\",VLOOKUP(A15,tesserati[],5,FALSE))","v":2002},{"$f":"IF(ISERROR(VLOOKUP(A15,tesserati[],7,FALSE)),\"\",VLOOKUP(A15,tesserati[],7,FALSE))","v":"CM"}]
[5130,{"$f":"IF(ISERROR(VLOOKUP(A16,tesserati[],2,FALSE)),\"\",VLOOKUP(A16,tesserati[],2,FALSE))","v":"MERLO"},{"$f":"IF(ISERROR(VLOOKUP(A16,tesserati[],3,FALSE)),\"\",VLOOKUP(A16,tesserati[],3,FALSE))","v":"GIOVANNI"},{"$f":"IF(ISERROR(VLOOKUP(A16,tesserati[],4,FALSE)),\"\",VLOOKUP(A16,tesserati[],4,FALSE))","v":"POLISPORTIVA SALF ALTOPADOVANA"},{"$f":"IF(ISERROR(VLOOKUP(A16,tesserati[],5,FALSE)),\"\",VLOOKUP(A16,tesserati[],5,FALSE))","v":2003},{"$f":"IF(ISERROR(VLOOKUP(A16,tesserati[],7,FALSE)),\"\",VLOOKUP(A16,tesserati[],7,FALSE))","v":"CM"}]
[4334,{"$f":"IF(ISERROR(VLOOKUP(A17,tesserati[],2,FALSE)),\"\",VLOOKUP(A17,tesserati[],2,FALSE))","v":"TURETTA"},{"$f":"IF(ISERROR(VLOOKUP(A17,tesserati[],3,FALSE)),\"\",VLOOKUP(A17,tesserati[],3,FALSE))","v":"MATTEO"},{"$f":"IF(ISERROR(VLOOKUP(A17,tesserati[],4,FALSE)),\"\",VLOOKUP(A17,tesserati[],4,FALSE))","v":"C.S.I. TEZZE SUL BRENTA"},{"$f":"IF(ISERROR(VLOOKUP(A17,tesserati[],5,FALSE)),\"\",VLOOKUP(A17,tesserati[],5,FALSE))","v":2004},{"$f":"IF(ISERROR(VLOOKUP(A17,tesserati[],7,FALSE)),\"\",VLOOKUP(A17,tesserati[],7,FALSE))","v":"RM"},6,null,51.3,3]
[3636,{"$f":"IF(ISERROR(VLOOKUP(A18,tesserati[],2,FALSE)),\"\",VLOOKUP(A18,tesserati[],2,FALSE))","v":"CERANTOLA"},{"$f":"IF(ISERROR(VLOOKUP(A18,tesserati[],3,FALSE)),\"\",VLOOKUP(A18,tesserati[],3,FALSE))","v":"DAVIDE"},{"$f":"IF(ISERROR(VLOOKUP(A18,tesserati[],4,FALSE)),\"\",VLOOKUP(A18,tesserati[],4,FALSE))","v":"C.S.I. TEZZE SUL BRENTA"},{"$f":"IF(ISERROR(VLOOKUP(A18,tesserati[],5,FALSE)),\"\",VLOOKUP(A18,tesserati[],5,FALSE))","v":2003},{"$f":"IF(ISERROR(VLOOKUP(A18,tesserati[],7,FALSE)),\"\",VLOOKUP(A18,tesserati[],7,FALSE))","v":"CM"}]
[2464,{"$f":"IF(ISERROR(VLOOKUP(A19,tesserati[],2,FALSE)),\"\",VLOOKUP(A19,tesserati[],2,FALSE))","v":"LOVECCHIO"},{"$f":"IF(ISERROR(VLOOKUP(A19,tesserati[],3,FALSE)),\"\",VLOOKUP(A19,tesserati[],3,FALSE))","v":"PIO FEDERICO"},{"$f":"IF(ISERROR(VLOOKUP(A19,tesserati[],4,FALSE)),\"\",VLOOKUP(A19,tesserati[],4,FALSE))","v":"C.S.I. TEZZE SUL BRENTA"},{"$f":"IF(ISERROR(VLOOKUP(A19,tesserati[],5,FALSE)),\"\",VLOOKUP(A19,tesserati[],5,FALSE))","v":2003},{"$f":"IF(ISERROR(VLOOKUP(A19,tesserati[],7,FALSE)),\"\",VLOOKUP(A19,tesserati[],7,FALSE))","v":"CM"}]
[5221,{"$f":"IF(ISERROR(VLOOKUP(A20,tesserati[],2,FALSE)),\"\",VLOOKUP(A20,tesserati[],2,FALSE))","v":"GAMBARDELLA"},{"$f":"IF(ISERROR(VLOOKUP(A20,tesserati[],3,FALSE)),\"\",VLOOKUP(A20,tesserati[],3,FALSE))","v":"MICHELE PIO"},{"$f":"IF(ISERROR(VLOOKUP(A20,tesserati[],4,FALSE)),\"\",VLOOKUP(A20,tesserati[],4,FALSE))","v":"C.S.I. TEZZE SUL BRENTA"},{"$f":"IF(ISERROR(VLOOKUP(A20,tesserati[],5,FALSE)),\"\",VLOOKUP(A20,tesserati[],5,FALSE))","v":2002},{"$f":"IF(ISERROR(VLOOKUP(A20,tesserati[],7,FALSE)),\"\",VLOOKUP(A20,tesserati[],7,FALSE))","v":"CM"}]
[5120,{"$f":"IF(ISERROR(VLOOKUP(A21,tesserati[],2,FALSE)),\"\",VLOOKUP(A21,tesserati[],2,FALSE))","v":"PERNECHELE"},{"$f":"IF(ISERROR(VLOOKUP(A21,tesserati[],3,FALSE)),\"\",VLOOKUP(A21,tesserati[],3,FALSE))","v":"NICOLA"},{"$f":"IF(ISERROR(VLOOKUP(A21,tesserati[],4,FALSE)),\"\",VLOOKUP(A21,tesserati[],4,FALSE))","v":"POLISPORTIVA SALF ALTOPADOVANA"},{"$f":"IF(ISERROR(VLOOKUP(A21,tesserati[],5,FALSE)),\"\",VLOOKUP(A21,tesserati[],5,FALSE))","v":2002},{"$f":"IF(ISERROR(VLOOKUP(A21,tesserati[],7,FALSE)),\"\",VLOOKUP(A21,tesserati[],7,FALSE))","v":"CM"},3,null,52.7,4]
[3468,{"$f":"IF(ISERROR(VLOOKUP(A22,tesserati[],2,FALSE)),\"\",VLOOKUP(A22,tesserati[],2,FALSE))","v":"BORON"},{"$f":"IF(ISERROR(VLOOKUP(A22,tesserati[],3,FALSE)),\"\",VLOOKUP(A22,tesserati[],3,FALSE))","v":"NICOLã"},{"$f":"IF(ISERROR(VLOOKUP(A22,tesserati[],4,FALSE)),\"\",VLOOKUP(A22,tesserati[],4,FALSE))","v":"ATLETICA UNION CREAZZO"},{"$f":"IF(ISERROR(VLOOKUP(A22,tesserati[],5,FALSE)),\"\",VLOOKUP(A22,tesserati[],5,FALSE))","v":2003},{"$f":"IF(ISERROR(VLOOKUP(A22,tesserati[],7,FALSE)),\"\",VLOOKUP(A22,tesserati[],7,FALSE))","v":"CM"}]
[2935,{"$f":"IF(ISERROR(VLOOKUP(A23,tesserati[],2,FALSE)),\"\",VLOOKUP(A23,tesserati[],2,FALSE))","v":"SCOTUZZI"},{"$f":"IF(ISERROR(VLOOKUP(A23,tesserati[],3,FALSE)),\"\",VLOOKUP(A23,tesserati[],3,FALSE))","v":"LEONARDO"},{"$f":"IF(ISERROR(VLOOKUP(A23,tesserati[],4,FALSE)),\"\",VLOOKUP(A23,tesserati[],4,FALSE))","v":"ATLETICA UNION CREAZZO"},{"$f":"IF(ISERROR(VLOOKUP(A23,tesserati[],5,FALSE)),\"\",VLOOKUP(A23,tesserati[],5,FALSE))","v":2003},{"$f":"IF(ISERROR(VLOOKUP(A23,tesserati[],7,FALSE)),\"\",VLOOKUP(A23,tesserati[],7,FALSE))","v":"CM"}]
[2952,{"$f":"IF(ISERROR(VLOOKUP(A24,tesserati[],2,FALSE)),\"\",VLOOKUP(A24,tesserati[],2,FALSE))","v":"CAMPAGNOLO"},{"$f":"IF(ISERROR(VLOOKUP(A24,tesserati[],3,FALSE)),\"\",VLOOKUP(A24,tesserati[],3,FALSE))","v":"ANDREA"},{"$f":"IF(ISERROR(VLOOKUP(A24,tesserati[],4,FALSE)),\"\",VLOOKUP(A24,tesserati[],4,FALSE))","v":"ATLETICA UNION CREAZZO"},{"$f":"IF(ISERROR(VLOOKUP(A24,tesserati[],5,FALSE)),\"\",VLOOKUP(A24,tesserati[],5,FALSE))","v":2004},{"$f":"IF(ISERROR(VLOOKUP(A24,tesserati[],7,FALSE)),\"\",VLOOKUP(A24,tesserati[],7,FALSE))","v":"RM"}]
[3640,{"$f":"IF(ISERROR(VLOOKUP(A25,tesserati[],2,FALSE)),\"\",VLOOKUP(A25,tesserati[],2,FALSE))","v":"LIVIERO"},{"$f":"IF(ISERROR(VLOOKUP(A25,tesserati[],3,FALSE)),\"\",VLOOKUP(A25,tesserati[],3,FALSE))","v":"FRANCESCO"},{"$f":"IF(ISERROR(VLOOKUP(A25,tesserati[],4,FALSE)),\"\",VLOOKUP(A25,tesserati[],4,FALSE))","v":"C.S.I. TEZZE SUL BRENTA"},{"$f":"IF(ISERROR(VLOOKUP(A25,tesserati[],5,FALSE)),\"\",VLOOKUP(A25,tesserati[],5,FALSE))","v":2004},{"$f":"IF(ISERROR(VLOOKUP(A25,tesserati[],7,FALSE)),\"\",VLOOKUP(A25,tesserati[],7,FALSE))","v":"RM"},2,null,56.6,5]
[2467,{"$f":"IF(ISERROR(VLOOKUP(A26,tesserati[],2,FALSE)),\"\",VLOOKUP(A26,tesserati[],2,FALSE))","v":"PIOTTO"},{"$f":"IF(ISERROR(VLOOKUP(A26,tesserati[],3,FALSE)),\"\",VLOOKUP(A26,tesserati[],3,FALSE))","v":"NICHOLAS"},{"$f":"IF(ISERROR(VLOOKUP(A26,tesserati[],4,FALSE)),\"\",VLOOKUP(A26,tesserati[],4,FALSE))","v":"C.S.I. TEZZE SUL BRENTA"},{"$f":"IF(ISERROR(VLOOKUP(A26,tesserati[],5,FALSE)),\"\",VLOOKUP(A26,tesserati[],5,FALSE))","v":2003},{"$f":"IF(ISERROR(VLOOKUP(A26,tesserati[],7,FALSE)),\"\",VLOOKUP(A26,tesserati[],7,FALSE))","v":"CM"}]
[2463,{"$f":"IF(ISERROR(VLOOKUP(A27,tesserati[],2,FALSE)),\"\",VLOOKUP(A27,tesserati[],2,FALSE))","v":"CAREGNATO"},{"$f":"IF(ISERROR(VLOOKUP(A27,tesserati[],3,FALSE)),\"\",VLOOKUP(A27,tesserati[],3,FALSE))","v":"PAOLO"},{"$f":"IF(ISERROR(VLOOKUP(A27,tesserati[],4,FALSE)),\"\",VLOOKUP(A27,tesserati[],4,FALSE))","v":"C.S.I. TEZZE SUL BRENTA"},{"$f":"IF(ISERROR(VLOOKUP(A27,tesserati[],5,FALSE)),\"\",VLOOKUP(A27,tesserati[],5,FALSE))","v":2003},{"$f":"IF(ISERROR(VLOOKUP(A27,tesserati[],7,FALSE)),\"\",VLOOKUP(A27,tesserati[],7,FALSE))","v":"CM"}]
[4336,{"$f":"IF(ISERROR(VLOOKUP(A28,tesserati[],2,FALSE)),\"\",VLOOKUP(A28,tesserati[],2,FALSE))","v":"GIROLIMETTO"},{"$f":"IF(ISERROR(VLOOKUP(A28,tesserati[],3,FALSE)),\"\",VLOOKUP(A28,tesserati[],3,FALSE))","v":"FEDERICO"},{"$f":"IF(ISERROR(VLOOKUP(A28,tesserati[],4,FALSE)),\"\",VLOOKUP(A28,tesserati[],4,FALSE))","v":"C.S.I. TEZZE SUL BRENTA"},{"$f":"IF(ISERROR(VLOOKUP(A28,tesserati[],5,FALSE)),\"\",VLOOKUP(A28,tesserati[],5,FALSE))","v":2003},{"$f":"IF(ISERROR(VLOOKUP(A28,tesserati[],7,FALSE)),\"\",VLOOKUP(A28,tesserati[],7,FALSE))","v":"CM"}]
[null,{"$f":"IF(ISERROR(VLOOKUP(A29,tesserati[],2,FALSE)),\"\",VLOOKUP(A29,tesserati[],2,FALSE))","v":""},{"$f":"IF(ISERROR(VLOOKUP(A29,tesserati[],3,FALSE)),\"\",VLOOKUP(A29,tesserati[],3,FALSE))","v":""},{"$f":"IF(ISERROR(VLOOKUP(A29,tesserati[],4,FALSE)),\"\",VLOOKUP(A29,tesserati[],4,FALSE))","v":""},{"$f":"IF(ISERROR(VLOOKUP(A29,tesserati[],5,FALSE)),\"\",VLOOKUP(A29,tesserati[],5,FALSE))","v":""},{"$f":"IF(ISERROR(VLOOKUP(A29,tesserati[],7,FALSE)),\"\",VLOOKUP(A29,tesserati[],7,FALSE))","v":""}]
[null,{"$f":"IF(ISERROR(VLOOKUP(A30,tesserati[],2,FALSE)),\"\",VLOOKUP(A30,tesserati[],2,FALSE))","v":""},{"$f":"IF(ISERROR(VLOOKUP(A30,tesserati[],3,FALSE)),\"\",VLOOKUP(A30,tesserati[],3,FALSE))","v":""},{"$f":"IF(ISERROR(VLOOKUP(A30,tesserati[],4,FALSE)),\"\",VLOOKUP(A30,tesserati[],4,FALSE))","v":""},{"$f":"IF(ISERROR(VLOOKUP(A30,tesserati[],5,FALSE)),\"\",VLOOKUP(A30,tesserati[],5,FALSE))","v":""},{"$f":"IF(ISERROR(VLOOKUP(A30,tesserati[],7,FALSE)),\"\",VLOOKUP(A30,tesserati[],7,FALSE))","v":""}]
[null,{"$f":"IF(ISERROR(VLOOKUP(A31,tesserati[],2,FALSE)),\"\",VLOOKUP(A31,tesserati[],2,FALSE))","v":""},{"$f":"IF(ISERROR(VLOOKUP(A31,tesserati[],3,FALSE)),\"\",VLOOKUP(A31,tesserati[],3,FALSE))","v":""},{"$f":"IF(ISERROR(VLOOKUP(A31,tesserati[],4,FALSE)),\"\",VLOOKUP(A31,tesserati[],4,FALSE))","v":""},{"$f":"IF(ISERROR(VLOOKUP(A31,tesserati[],5,FALSE)),\"\",VLOOKUP(A31,tesserati[],5,FALSE))","v":""},{"$f":"IF(ISERROR(VLOOKUP(A31,tesserati[],7,FALSE)),\"\",VLOOKUP(A31,tesserati[],7,FALSE))","v":""}]
[null,{"$f":"IF(ISERROR(VLOOKUP(A32,tesserati[],2,FALSE)),\"\",VLOOKUP(A32,tesserati[],2,FALSE))","v":""},{"$f":"IF(ISERROR(VLOOKUP(A32,tesserati[],3,FALSE)),\"\",VLOOKUP(A32,tesserati[],3,FALSE))","v":""},{"$f":"IF(ISERROR(VLOOKUP(A32,tesserati[],4,FALSE)),\"\",VLOOKUP(A32,tesserati[],4,FALSE))","v":""},{"$f":"IF(ISERROR(VLOOKUP(A32,tesserati[],5,FALSE)),\"\",VLOOKUP(A32,tesserati[],5,FALSE))","v":""},{"$f":"IF(ISERROR(VLOOKUP(A32,tesserati[],7,FALSE)),\"\",VLOOKUP(A32,tesserati[],7,FALSE))","v":""}]
["2 SERIE"]
[null,{"$f":"IF(ISERROR(VLOOKUP(A34,tesserati[],2,FALSE)),\"\",VLOOKUP(A34,tesserati[],2,FALSE))","v":""},{"$f":"IF(ISERROR(VLOOKUP(A34,tesserati[],3,FALSE)),\"\",VLOOKUP(A34,tesserati[],3,FALSE))","v":""},{"$f":"IF(ISERROR(VLOOKUP(A34,tesserati[],4,FALSE)),\"\",VLOOKUP(A34,tesserati[],4,FALSE))","v":""},{"$f":"IF(ISERROR(VLOOKUP(A34,tesserati[],5,FALSE)),\"\",VLOOKUP(A34,tesserati[],5,FALSE))","v":""},{"$f":"IF(ISERROR(VLOOKUP(A34,tesserati[],7,FALSE)),\"\",VLOOKUP(A34,tesserati[],7,FALSE))","v":""},1]
[null,{"$f":"IF(ISERROR(VLOOKUP(A35,tesserati[],2,FALSE)),\"\",VLOOKUP(A35,tesserati[],2,FALSE))","v":""},{"$f":"IF(ISERROR(VLOOKUP(A35,tesserati[],3,FALSE)),\"\",VLOOKUP(A35,tesserati[],3,FALSE))","v":""},{"$f":"IF(ISERROR(VLOOKUP(A35,tesserati[],4,FALSE)),\"\",VLOOKUP(A35,tesserati[],4,FALSE))","v":""},{"$f":"IF(ISERROR(VLOOKUP(A35,tesserati[],5,FALSE)),\"\",VLOOKUP(A35,tesserati[],5,FALSE))","v":""},{"$f":"IF(ISERROR(VLOOKUP(A35,tesserati[],7,FALSE)),\"\",VLOOKUP(A35,tesserati[],7,FALSE))","v":""}]
[null,{"$f":"IF(ISERROR(VLOOKUP(A36,tesserati[],2,FALSE)),\"\",VLOOKUP(A36,tesserati[],2,FALSE))","v":""},{"$f":"IF(ISERROR(VLOOKUP(A36,tesserati[],3,FALSE)),\"\",VLOOKUP(A36,tesserati[],3,FALSE))","v":""},{"$f":"IF(ISERROR(VLOOKUP(A36,tesserati[],4,FALSE)),\"\",VLOOKUP(A36,tesserati[],4,FALSE))","v":""},{"$f":"IF(ISERROR(VLOOKUP(A36,tesserati[],5,FALSE)),\"\",VLOOKUP(A36,tesserati[],5,FALSE))","v":""},{"$f":"IF(ISERROR(VLOOKUP(A36,tesserati[],7,FALSE)),\"\",VLOOKUP(A36,tesserati[],7,FALSE))","v":""}]
[null,{"$f":"IF(ISERROR(VLOOKUP(A37,tesserati[],2,FALSE)),\"\",VLOOKUP(A37,tesserati[],2,FALSE))","v":""},{"$f":"IF(ISERROR(VLOOKUP(A37,tesserati[],3,FALSE)),\"\",VLOOKUP(A37,tesserati[],3,FALSE))","v":""},{"$f":"IF(ISERROR(VLOOKUP(A37,tesserati[],4,FALSE)),\"\",VLOOKUP(A37,tesserati[],4,FALSE))","v":""},{"$f":"IF(ISERROR(VLOOKUP(A37,tesserati[],5,FALSE)),\"\",VLOOKUP(A37,tesserati[],5,FALSE))","v":""},{"$f":"IF(ISERROR(VLOOKUP(A37,tesserati[],7,FALSE)),\"\",VLOOKUP(A37,tesserati[],7,FALSE))","v":""}]
[null,{"$f":"IF(ISERROR(VLOOKUP(A38,tesserati[],2,FALSE)),\"\",VLOOKUP(A38,tesserati[],2,FALSE))","v":""},{"$f":"IF(ISERROR(VLOOKUP(A38,tesserati[],3,FALSE)),\"\",VLOOKUP(A38,tesserati[],3,FALSE))","v":""},{"$f":"IF(ISERROR(VLOOKUP(A38,tesserati[],4,FALSE)),\"\",VLOOKUP(A38,tesserati[],4,FALSE))","v":""},{"$f":"IF(ISERROR(VLOOKUP(A38,tesserati[],5,FALSE)),\"\",VLOOKUP(A38,tesserati[],5,FALSE))","v":""},{"$f":"IF(ISERROR(VLOOKUP(A38,tesserati[],7,FALSE)),\"\",VLOOKUP(A38,tesserati[],7,FALSE))","v":""},2]
[null,{"$f":"IF(ISERROR(VLOOKUP(A39,tesserati[],2,FALSE)),\"\",VLOOKUP(A39,tesserati[],2,FALSE))","v":""},{"$f":"IF(ISERROR(VLOOKUP(A39,tesserati[],3,FALSE)),\"\",VLOOKUP(A39,tesserati[],3,FALSE))","v":""},{"$f":"IF(ISERROR(VLOOKUP(A39,tesserati[],4,FALSE)),\"\",VLOOKUP(A39,tesserati[],4,FALSE))","v":""},{"$f":"IF(ISERROR(VLOOKUP(A39,tesserati[],5,FALSE)),\"\",VLOOKUP(A39,tesserati[],5,FALSE))","v":""},{"$f":"IF(ISERROR(VLOOKUP(A39,tesserati[],7,FALSE)),\"\",VLOOKUP(A39,tesserati[],7,FALSE))","v":""}]
[null,{"$f":"IF(ISERROR(VLOOKUP(A40,tesserati[],2,FALSE)),\"\",VLOOKUP(A40,tesserati[],2,FALSE))","v":""},{"$f":"IF(ISERROR(VLOOKUP(A40,tesserati[],3,FALSE)),\"\",VLOOKUP(A40,tesserati[],3,FALSE))","v":""},{"$f":"IF(ISERROR(VLOOKUP(A40,tesserati[],4,FALSE)),\"\",VLOOKUP(A40,tesserati[],4,FALSE))","v":""},{"$f":"IF(ISERROR(VLOOKUP(A40,tesserati[],5,FALSE)),\"\",VLOOKUP(A40,tesserati[],5,FALSE))","v":""},{"$f":"IF(ISERROR(VLOOKUP(A40,tesserati[],7,FALSE)),\"\",VLOOKUP(A40,tesserati[],7,FALSE))","v":""}]
[null,{"$f":"IF(ISERROR(VLOOKUP(A41,tesserati[],2,FALSE)),\"\",VLOOKUP(A41,tesserati[],2,FALSE))","v":""},{"$f":"IF(ISERROR(VLOOKUP(A41,tesserati[],3,FALSE)),\"\",VLOOKUP(A41,tesserati[],3,FALSE))","v":""},{"$f":"IF(ISERROR(VLOOKUP(A41,tesserati[],4,FALSE)),\"\",VLOOKUP(A41,tesserati[],4,FALSE))","v":""},{"$f":"IF(ISERROR(VLOOKUP(A41,tesserati[],5,FALSE)),\"\",VLOOKUP(A41,tesserati[],5,FALSE))","v":""},{"$f":"IF(ISERROR(VLOOKUP(A41,tesserati[],7,FALSE)),\"\",VLOOKUP(A41,tesserati[],7,FALSE))","v":""}]
[null,{"$f":"IF(ISERROR(VLOOKUP(A42,tesserati[],2,FALSE)),\"\",VLOOKUP(A42,tesserati[],2,FALSE))","v":""},{"$f":"IF(ISERROR(VLOOKUP(A42,tesserati[],3,FALSE)),\"\",VLOOKUP(A42,tesserati[],3,FALSE))","v":""},{"$f":"IF(ISERROR(VLOOKUP(A42,tesserati[],4,FALSE)),\"\",VLOOKUP(A42,tesserati[],4,FALSE))","v":""},{"$f":"IF(ISERROR(VLOOKUP(A42,tesserati[],5,FALSE)),\"\",VLOOKUP(A42,tesserati[],5,FALSE))","v":""},{"$f":"IF(ISERROR(VLOOKUP(A42,tesserati[],7,FALSE)),\"\",VLOOKUP(A42,tesserati[],7,FALSE))","v":""},3]
[null,{"$f":"IF(ISERROR(VLOOKUP(A43,tesserati[],2,FALSE)),\"\",VLOOKUP(A43,tesserati[],2,FALSE))","v":""},{"$f":"IF(ISERROR(VLOOKUP(A43,tesserati[],3,FALSE)),\"\",VLOOKUP(A43,tesserati[],3,FALSE))","v":""},{"$f":"IF(ISERROR(VLOOKUP(A43,tesserati[],4,FALSE)),\"\",VLOOKUP(A43,tesserati[],4,FALSE))","v":""},{"$f":"IF(ISERROR(VLOOKUP(A43,tesserati[],5,FALSE)),\"\",VLOOKUP(A43,tesserati[],5,FALSE))","v":""},{"$f":"IF(ISERROR(VLOOKUP(A43,tesserati[],7,FALSE)),\"\",VLOOKUP(A43,tesserati[],7,FALSE))","v":""}]
[null,{"$f":"IF(ISERROR(VLOOKUP(A44,tesserati[],2,FALSE)),\"\",VLOOKUP(A44,tesserati[],2,FALSE))","v":""},{"$f":"IF(ISERROR(VLOOKUP(A44,tesserati[],3,FALSE)),\"\",VLOOKUP(A44,tesserati[],3,FALSE))","v":""},{"$f":"IF(ISERROR(VLOOKUP(A44,tesserati[],4,FALSE)),\"\",VLOOKUP(A44,tesserati[],4,FALSE))","v":""},{"$f":"IF(ISERROR(VLOOKUP(A44,tesserati[],5,FALSE)),\"\",VLOOKUP(A44,tesserati[],5,FALSE))","v":""},{"$f":"IF(ISERROR(VLOOKUP(A44,tesserati[],7,FALSE)),\"\",VLOOKUP(A44,tesserati[],7,FALSE))","v":""}]
[null,{"$f":"IF(ISERROR(VLOOKUP(A45,tesserati[],2,FALSE)),\"\",VLOOKUP(A45,tesserati[],2,FALSE))","v":""},{"$f":"IF(ISERROR(VLOOKUP(A45,tesserati[],3,FALSE)),\"\",VLOOKUP(A45,tesserati[],3,FALSE))","v":""},{"$f":"IF(ISERROR(VLOOKUP(A45,tesserati[],4,FALSE)),\"\",VLOOKUP(A45,tesserati[],4,FALSE))","v":""},{"$f":"IF(ISERROR(VLOOKUP(A45,tesserati[],5,FALSE)),\"\",VLOOKUP(A45,tesserati[],5,FALSE))","v":""},{"$f":"IF(ISERROR(VLOOKUP(A45,tesserati[],7,FALSE)),\"\",VLOOKUP(A45,tesserati[],7,FALSE))","v":""}]
[null,{"$f":"IF(ISERROR(VLOOKUP(A46,tesserati[],2,FALSE)),\"\",VLOOKUP(A46,tesserati[],2,FALSE))","v":""},{"$f":"IF(ISERROR(VLOOKUP(A46,tesserati[],3,FALSE)),\"\",VLOOKUP(A46,tesserati[],3,FALSE))","v":""},{"$f":"IF(ISERROR(VLOOKUP(A46,tesserati[],4,FALSE)),\"\",VLOOKUP(A46,tesserati[],4,FALSE))","v":""},{"$f":"IF(ISERROR(VLOOKUP(A46,tesserati[],5,FALSE)),\"\",VLOOKUP(A46,tesserati[],5,FALSE))","v":""},{"$f":"IF(ISERROR(VLOOKUP(A46,tesserati[],7,FALSE)),\"\",VLOOKUP(A46,tesserati[],7,FALSE))","v":""},4]
[null,{"$f":"IF(ISERROR(VLOOKUP(A47,tesserati[],2,FALSE)),\"\",VLOOKUP(A47,tesserati[],2,FALSE))","v":""},{"$f":"IF(ISERROR(VLOOKUP(A47,tesserati[],3,FALSE)),\"\",VLOOKUP(A47,tesserati[],3,FALSE))","v":""},{"$f":"IF(ISERROR(VLOOKUP(A47,tesserati[],4,FALSE)),\"\",VLOOKUP(A47,tesserati[],4,FALSE))","v":""},{"$f":"IF(ISERROR(VLOOKUP(A47,tesserati[],5,FALSE)),\"\",VLOOKUP(A47,tesserati[],5,FALSE))","v":""},{"$f":"IF(ISERROR(VLOOKUP(A47,tesserati[],7,FALSE)),\"\",VLOOKUP(A47,tesserati[],7,FALSE))","v":""}]
[null,{"$f":"IF(ISERROR(VLOOKUP(A48,tesserati[],2,FALSE)),\"\",VLOOKUP(A48,tesserati[],2,FALSE))","v":""},{"$f":"IF(ISERROR(VLOOKUP(A48,tesserati[],3,FALSE)),\"\",VLOOKUP(A48,tesserati[],3,FALSE))","v":""},{"$f":"IF(ISERROR(VLOOKUP(A48,tesserati[],4,FALSE)),\"\",VLOOKUP(A48,tesserati[],4,FALSE))","v":""},{"$f":"IF(ISERROR(VLOOKUP(A48,tesserati[],5,FALSE)),\"\",VLOOKUP(A48,tesserati[],5,FALSE))","v":""},{"$f":"IF(ISERROR(VLOOKUP(A48,tesserati[],7,FALSE)),\"\",VLOOKUP(A48,tesserati[],7,FALSE))","v":""}]
[null,{"$f":"IF(ISERROR(VLOOKUP(A49,tesserati[],2,FALSE)),\"\",VLOOKUP(A49,tesserati[],2,FALSE))","v":""},{"$f":"IF(ISERROR(VLOOKUP(A49,tesserati[],3,FALSE)),\"\",VLOOKUP(A49,tesserati[],3,FALSE))","v":""},{"$f":"IF(ISERROR(VLOOKUP(A49,tesserati[],4,FALSE)),\"\",VLOOKUP(A49,tesserati[],4,FALSE))","v":""},{"$f":"IF(ISERROR(VLOOKUP(A49,tesserati[],5,FALSE)),\"\",VLOOKUP(A49,tesserati[],5,FALSE))","v":""},{"$f":"IF(ISERROR(VLOOKUP(A49,tesserati[],7,FALSE)),\"\",VLOOKUP(A49,tesserati[],7,FALSE))","v":""}]
[null,{"$f":"IF(ISERROR(VLOOKUP(A50,tesserati[],2,FALSE)),\"\",VLOOKUP(A50,tesserati[],2,FALSE))","v":""},{"$f":"IF(ISERROR(VLOOKUP(A50,tesserati[],3,FALSE)),\"\",VLOOKUP(A50,tesserati[],3,FALSE))","v":""},{"$f":"IF(ISERROR(VLOOKUP(A50,tesserati[],4,FALSE)),\"\",VLOOKUP(A50,tesserati[],4,FALSE))","v":""},{"$f":"IF(ISERROR(VLOOKUP(A50,tesserati[],5,FALSE)),\"\",VLOOKUP(A50,tesserati[],5,FALSE))","v":""},{"$f":"IF(ISERROR(VLOOKUP(A50,tesserati[],7,FALSE)),\"\",VLOOKUP(A50,tesserati[],7,FALSE))","v":""},5]
[null,{"$f":"IF(ISERROR(VLOOKUP(A51,tesserati[],2,FALSE)),\"\",VLOOKUP(A51,tesserati[],2,FALSE))","v":""},{"$f":"IF(ISERROR(VLOOKUP(A51,tesserati[],3,FALSE)),\"\",VLOOKUP(A51,tesserati[],3,FALSE))","v":""},{"$f":"IF(ISERROR(VLOOKUP(A51,tesserati[],4,FALSE)),\"\",VLOOKUP(A51,tesserati[],4,FALSE))","v":""},{"$f":"IF(ISERROR(VLOOKUP(A51,tesserati[],5,FALSE)),\"\",VLOOKUP(A51,tesserati[],5,FALSE))","v":""},{"$f":"IF(ISERROR(VLOOKUP(A51,tesserati[],7,FALSE)),\"\",VLOOKUP(A51,tesserati[],7,FALSE))","v":""}]
[null,{"$f":"IF(ISERROR(VLOOKUP(A52,tesserati[],2,FALSE)),\"\",VLOOKUP(A52,tesserati[],2,FALSE))","v":""},{"$f":"IF(ISERROR(VLOOKUP(A52,tesserati[],3,FALSE)),\"\",VLOOKUP(A52,tesserati[],3,FALSE))","v":""},{"$f":"IF(ISERROR(VLOOKUP(A52,tesserati[],4,FALSE)),\"\",VLOOKUP(A52,tesserati[],4,FALSE))","v":""},{"$f":"IF(ISERROR(VLOOKUP(A52,tesserati[],5,FALSE)),\"\",VLOOKUP(A52,tesserati[],5,FALSE))","v":""},{"$f":"IF(ISERROR(VLOOKUP(A52,tesserati[],7,FALSE)),\"\",VLOOKUP(A52,tesserati[],7,FALSE))","v":""}]
[null,{"$f":"IF(ISERROR(VLOOKUP(A53,tesserati[],2,FALSE)),\"\",VLOOKUP(A53,tesserati[],2,FALSE))","v":""},{"$f":"IF(ISERROR(VLOOKUP(A53,tesserati[],3,FALSE)),\"\",VLOOKUP(A53,tesserati[],3,FALSE))","v":""},{"$f":"IF(ISERROR(VLOOKUP(A53,tesserati[],4,FALSE)),\"\",VLOOKUP(A53,tesserati[],4,FALSE))","v":""},{"$f":"IF(ISERROR(VLOOKUP(A53,tesserati[],5,FALSE)),\"\",VLOOKUP(A53,tesserati[],5,FALSE))","v":""},{"$f":"IF(ISERROR(VLOOKUP(A53,tesserati[],7,FALSE)),\"\",VLOOKUP(A53,tesserati[],7,FALSE))","v":""}]
[null,{"$f":"IF(ISERROR(VLOOKUP(A54,tesserati[],2,FALSE)),\"\",VLOOKUP(A54,tesserati[],2,FALSE))","v":""},{"$f":"IF(ISERROR(VLOOKUP(A54,tesserati[],3,FALSE)),\"\",VLOOKUP(A54,tesserati[],3,FALSE))","v":""},{"$f":"IF(ISERROR(VLOOKUP(A54,tesserati[],4,FALSE)),\"\",VLOOKUP(A54,tesserati[],4,FALSE))","v":""},{"$f":"IF(ISERROR(VLOOKUP(A54,tesserati[],5,FALSE)),\"\",VLOOKUP(A54,tesserati[],5,FALSE))","v":""},{"$f":"IF(ISERROR(VLOOKUP(A54,tesserati[],7,FALSE)),\"\",VLOOKUP(A54,tesserati[],7,FALSE))","v":""},6]
[null,{"$f":"IF(ISERROR(VLOOKUP(A55,tesserati[],2,FALSE)),\"\",VLOOKUP(A55,tesserati[],2,FALSE))","v":""},{"$f":"IF(ISERROR(VLOOKUP(A55,tesserati[],3,FALSE)),\"\",VLOOKUP(A55,tesserati[],3,FALSE))","v":""},{"$f":"IF(ISERROR(VLOOKUP(A55,tesserati[],4,FALSE)),\"\",VLOOKUP(A55,tesserati[],4,FALSE))","v":""},{"$f":"IF(ISERROR(VLOOKUP(A55,tesserati[],5,FALSE)),\"\",VLOOKUP(A55,tesserati[],5,FALSE))","v":""},{"$f":"IF(ISERROR(VLOOKUP(A55,tesserati[],7,FALSE)),\"\",VLOOKUP(A55,tesserati[],7,FALSE))","v":""}]
[null,{"$f":"IF(ISERROR(VLOOKUP(A56,tesserati[],2,FALSE)),\"\",VLOOKUP(A56,tesserati[],2,FALSE))","v":""},{"$f":"IF(ISERROR(VLOOKUP(A56,tesserati[],3,FALSE)),\"\",VLOOKUP(A56,tesserati[],3,FALSE))","v":""},{"$f":"IF(ISERROR(VLOOKUP(A56,tesserati[],4,FALSE)),\"\",VLOOKUP(A56,tesserati[],4,FALSE))","v":""},{"$f":"IF(ISERROR(VLOOKUP(A56,tesserati[],5,FALSE)),\"\",VLOOKUP(A56,tesserati[],5,FALSE))","v":""},{"$f":"IF(ISERROR(VLOOKUP(A56,tesserati[],7,FALSE)),\"\",VLOOKUP(A56,tesserati[],7,FALSE))","v":""}]
[null,{"$f":"IF(ISERROR(VLOOKUP(A57,tesserati[],2,FALSE)),\"\",VLOOKUP(A57,tesserati[],2,FALSE))","v":""},{"$f":"IF(ISERROR(VLOOKUP(A57,tesserati[],3,FALSE)),\"\",VLOOKUP(A57,tesserati[],3,FALSE))","v":""},{"$f":"IF(ISERROR(VLOOKUP(A57,tesserati[],4,FALSE)),\"\",VLOOKUP(A57,tesserati[],4,FALSE))","v":""},{"$f":"IF(ISERROR(VLOOKUP(A57,tesserati[],5,FALSE)),\"\",VLOOKUP(A57,tesserati[],5,FALSE))","v":""},{"$f":"IF(ISERROR(VLOOKUP(A57,tesserati[],7,FALSE)),\"\",VLOOKUP(A57,tesserati[],7,FALSE))","v":""}]
[null,{"$f":"IF(ISERROR(VLOOKUP(A58,tesserati[],2,FALSE)),\"\",VLOOKUP(A58,tesserati[],2,FALSE))","v":""},{"$f":"IF(ISERROR(VLOOKUP(A58,tesserati[],3,FALSE)),\"\",VLOOKUP(A58,tesserati[],3,FALSE))","v":""},{"$f":"IF(ISERROR(VLOOKUP(A58,tesserati[],4,FALSE)),\"\",VLOOKUP(A58,tesserati[],4,FALSE))","v":""},{"$f":"IF(ISERROR(VLOOKUP(A58,tesserati[],5,FALSE)),\"\",VLOOKUP(A58,tesserati[],5,FALSE))","v":""},{"$f":"IF(ISERROR(VLOOKUP(A58,tesserati[],7,FALSE)),\"\",VLOOKUP(A58,tesserati[],7,FALSE))","v":""}]
[null,{"$f":"IF(ISERROR(VLOOKUP(A59,tesserati[],2,FALSE)),\"\",VLOOKUP(A59,tesserati[],2,FALSE))","v":""},{"$f":"IF(ISERROR(VLOOKUP(A59,tesserati[],3,FALSE)),\"\",VLOOKUP(A59,tesserati[],3,FALSE))","v":""},{"$f":"IF(ISERROR(VLOOKUP(A59,tesserati[],4,FALSE)),\"\",VLOOKUP(A59,tesserati[],4,FALSE))","v":""},{"$f":"IF(ISERROR(VLOOKUP(A59,tesserati[],5,FALSE)),\"\",VLOOKUP(A59,tesserati[],5,FALSE))","v":""},{"$f":"IF(ISERROR(VLOOKUP(A59,tesserati[],7,FALSE)),\"\",VLOOKUP(A59,tesserati[],7,FALSE))","v":""}]
[null,{"$f":"IF(ISERROR(VLOOKUP(A60,tesserati[],2,FALSE)),\"\",VLOOKUP(A60,tesserati[],2,FALSE))","v":""},{"$f":"IF(ISERROR(VLOOKUP(A60,tesserati[],3,FALSE)),\"\",VLOOKUP(A60,tesserati[],3,FALSE))","v":""},{"$f":"IF(ISERROR(VLOOKUP(A60,tesserati[],4,FALSE)),\"\",VLOOKUP(A60,tesserati[],4,FALSE))","v":""},{"$f":"IF(ISERROR(VLOOKUP(A60,tesserati[],5,FALSE)),\"\",VLOOKUP(A60,tesserati[],5,FALSE))","v":""},{"$f":"IF(ISERROR(VLOOKUP(A60,tesserati[],7,FALSE)),\"\",VLOOKUP(A60,tesserati[],7,FALSE))","v":""}]
[null,{"$f":"IF(ISERROR(VLOOKUP(A61,tesserati[],2,FALSE)),\"\",VLOOKUP(A61,tesserati[],2,FALSE))","v":""},{"$f":"IF(ISERROR(VLOOKUP(A61,tesserati[],3,FALSE)),\"\",VLOOKUP(A61,tesserati[],3,FALSE))","v":""},{"$f":"IF(ISERROR(VLOOKUP(A61,tesserati[],4,FALSE)),\"\",VLOOKUP(A61,tesserati[],4,FALSE))","v":""},{"$f":"IF(ISERROR(VLOOKUP(A61,tesserati[],5,FALSE)),\"\",VLOOKUP(A61,tesserati[],5,FALSE))","v":""},{"$f":"IF(ISERROR(VLOOKUP(A61,tesserati[],7,FALSE)),\"\",VLOOKUP(A61,tesserati[],7,FALSE))","v":""}]
[null,{"$f":"IF(ISERROR(VLOOKUP(A62,tesserati[],2,FALSE)),\"\",VLOOKUP(A62,tesserati[],2,FALSE))","v":""},{"$f":"IF(ISERROR(VLOOKUP(A62,tesserati[],3,FALSE)),\"\",VLOOKUP(A62,tesserati[],3,FALSE))","v":""},{"$f":"IF(ISERROR(VLOOKUP(A62,tesserati[],4,FALSE)),\"\",VLOOKUP(A62,tesserati[],4,FALSE))","v":""},{"$f":"IF(ISERROR(VLOOKUP(A62,tesserati[],5,FALSE)),\"\",VLOOKUP(A62,tesserati[],5,FALSE))","v":""},{"$f":"IF(ISERROR(VLOOKUP(A62,tesserati[],7,FALSE)),\"\",VLOOKUP(A62,tesserati[],7,FALSE))","v":""}]
[null,{"$f":"IF(ISERROR(VLOOKUP(A63,tesserati[],2,FALSE)),\"\",VLOOKUP(A63,tesserati[],2,FALSE))","v":""},{"$f":"IF(ISERROR(VLOOKUP(A63,tesserati[],3,FALSE)),\"\",VLOOKUP(A63,tesserati[],3,FALSE))","v":""},{"$f":"IF(ISERROR(VLOOKUP(A63,tesserati[],4,FALSE)),\"\",VLOOKUP(A63,tesserati[],4,FALSE))","v":""},{"$f":"IF(ISERROR(VLOOKUP(A63,tesserati[],5,FALSE)),\"\",VLOOKUP(A63,tesserati[],5,FALSE))","v":""},{"$f":"IF(ISERROR(VLOOKUP(A63,tesserati[],7,FALSE)),\"\",VLOOKUP(A63,tesserati[],7,FALSE))","v":""}]
[null,{"$f":"IF(ISERROR(VLOOKUP(A64,tesserati[],2,FALSE)),\"\",VLOOKUP(A64,tesserati[],2,FALSE))","v":""},{"$f":"IF(ISERROR(VLOOKUP(A64,tesserati[],3,FALSE)),\"\",VLOOKUP(A64,tesserati[],3,FALSE))","v":""},{"$f":"IF(ISERROR(VLOOKUP(A64,tesserati[],4,FALSE)),\"\",VLOOKUP(A64,tesserati[],4,FALSE))","v":""},{"$f":"IF(ISERROR(VLOOKUP(A64,tesserati[],5,FALSE)),\"\",VLOOKUP(A64,tesserati[],5,FALSE))","v":""},{"$f":"IF(ISERROR(VLOOKUP(A64,tesserati[],7,FALSE)),\"\",VLOOKUP(A64,tesserati[],7,FALSE))","v":""}]
[null,{"$f":"IF(ISERROR(VLOOKUP(A65,tesserati[],2,FALSE)),\"\",VLOOKUP(A65,tesserati[],2,FALSE))","v":""},{"$f":"IF(ISERROR(VLOOKUP(A65,tesserati[],3,FALSE)),\"\",VLOOKUP(A65,tesserati[],3,FALSE))","v":""},{"$f":"IF(ISERROR(VLOOKUP(A65,tesserati[],4,FALSE)),\"\",VLOOKUP(A65,tesserati[],4,FALSE))","v":""},{"$f":"IF(ISERROR(VLOOKUP(A65,tesserati[],5,FALSE)),\"\",VLOOKUP(A65,tesserati[],5,FALSE))","v":""},{"$f":"IF(ISERROR(VLOOKUP(A65,tesserati[],7,FALSE)),\"\",VLOOKUP(A65,tesserati[],7,FALSE))","v":""}]
[null,{"$f":"IF(ISERROR(VLOOKUP(A66,tesserati[],2,FALSE)),\"\",VLOOKUP(A66,tesserati[],2,FALSE))","v":""},{"$f":"IF(ISERROR(VLOOKUP(A66,tesserati[],3,FALSE)),\"\",VLOOKUP(A66,tesserati[],3,FALSE))","v":""},{"$f":"IF(ISERROR(VLOOKUP(A66,tesserati[],4,FALSE)),\"\",VLOOKUP(A66,tesserati[],4,FALSE))","v":""},{"$f":"IF(ISERROR(VLOOKUP(A66,tesserati[],5,FALSE)),\"\",VLOOKUP(A66,tesserati[],5,FALSE))","v":""},{"$f":"IF(ISERROR(VLOOKUP(A66,tesserati[],7,FALSE)),\"\",VLOOKUP(A66,tesserati[],7,FALSE))","v":""}]
[null,{"$f":"IF(ISERROR(VLOOKUP(A67,tesserati[],2,FALSE)),\"\",VLOOKUP(A67,tesserati[],2,FALSE))","v":""},{"$f":"IF(ISERROR(VLOOKUP(A67,tesserati[],3,FALSE)),\"\",VLOOKUP(A67,tesserati[],3,FALSE))","v":""},{"$f":"IF(ISERROR(VLOOKUP(A67,tesserati[],4,FALSE)),\"\",VLOOKUP(A67,tesserati[],4,FALSE))","v":""},{"$f":"IF(ISERROR(VLOOKUP(A67,tesserati[],5,FALSE)),\"\",VLOOKUP(A67,tesserati[],5,FALSE))","v":""},{"$f":"IF(ISERROR(VLOOKUP(A67,tesserati[],7,FALSE)),\"\",VLOOKUP(A67,tesserati[],7,FALSE))","v":""}]
[null,{"$f":"IF(ISERROR(VLOOKUP(A68,tesserati[],2,FALSE)),\"\",VLOOKUP(A68,tesserati[],2,FALSE))","v":""},{"$f":"IF(ISERROR(VLOOKUP(A68,tesserati[],3,FALSE)),\"\",VLOOKUP(A68,tesserati[],3,FALSE))","v":""},{"$f":"IF(ISERROR(VLOOKUP(A68,tesserati[],4,FALSE)),\"\",VLOOKUP(A68,tesserati[],4,FALSE))","v":""},{"$f":"IF(ISERROR(VLOOKUP(A68,tesserati[],5,FALSE)),\"\",VLOOKUP(A68,tesserati[],5,FALSE))","v":""},{"$f":"IF(ISERROR(VLOOKUP(A68,tesserati[],7,FALSE)),\"\",VLOOKUP(A68,tesserati[],7,FALSE))","v":""}]
[null,{"$f":"IF(ISERROR(VLOOKUP(A69,tesserati[],2,FALSE)),\"\",VLOOKUP(A69,tesserati[],2,FALSE))","v":""},{"$f":"IF(ISERROR(VLOOKUP(A69,tesserati[],3,FALSE)),\"\",VLOOKUP(A69,tesserati[],3,FALSE))","v":""},{"$f":"IF(ISERROR(VLOOKUP(A69,tesserati[],4,FALSE)),\"\",VLOOKUP(A69,tesserati[],4,FALSE))","v":""},{"$f":"IF(ISERROR(VLOOKUP(A69,tesserati[],5,FALSE)),\"\",VLOOKUP(A69,tesserati[],5,FALSE))","v":""},{"$f":"IF(ISERROR(VLOOKUP(A69,tesserati[],7,FALSE)),\"\",VLOOKUP(A69,tesserati[],7,FALSE))","v":""}]
[null,{"$f":"IF(ISERROR(VLOOKUP(A70,tesserati[],2,FALSE)),\"\",VLOOKUP(A70,tesserati[],2,FALSE))","v":""},{"$f":"IF(ISERROR(VLOOKUP(A70,tesserati[],3,FALSE)),\"\",VLOOKUP(A70,tesserati[],3,FALSE))","v":""},{"$f":"IF(ISERROR(VLOOKUP(A70,tesserati[],4,FALSE)),\"\",VLOOKUP(A70,tesserati[],4,FALSE))","v":""},{"$f":"IF(ISERROR(VLOOKUP(A70,tesserati[],5,FALSE)),\"\",VLOOKUP(A70,tesserati[],5,FALSE))","v":""},{"$f":"IF(ISERROR(VLOOKUP(A70,tesserati[],7,FALSE)),\"\",VLOOKUP(A70,tesserati[],7,FALSE))","v":""}]
[null,{"$f":"IF(ISERROR(VLOOKUP(A71,tesserati[],2,FALSE)),\"\",VLOOKUP(A71,tesserati[],2,FALSE))","v":""},{"$f":"IF(ISERROR(VLOOKUP(A71,tesserati[],3,FALSE)),\"\",VLOOKUP(A71,tesserati[],3,FALSE))","v":""},{"$f":"IF(ISERROR(VLOOKUP(A71,tesserati[],4,FALSE)),\"\",VLOOKUP(A71,tesserati[],4,FALSE))","v":""},{"$f":"IF(ISERROR(VLOOKUP(A71,tesserati[],5,FALSE)),\"\",VLOOKUP(A71,tesserati[],5,FALSE))","v":""},{"$f":"IF(ISERROR(VLOOKUP(A71,tesserati[],7,FALSE)),\"\",VLOOKUP(A71,tesserati[],7,FALSE))","v":""}]
[null,{"$f":"IF(ISERROR(VLOOKUP(A72,tesserati[],2,FALSE)),\"\",VLOOKUP(A72,tesserati[],2,FALSE))","v":""},{"$f":"IF(ISERROR(VLOOKUP(A72,tesserati[],3,FALSE)),\"\",VLOOKUP(A72,tesserati[],3,FALSE))","v":""},{"$f":"IF(ISERROR(VLOOKUP(A72,tesserati[],4,FALSE)),\"\",VLOOKUP(A72,tesserati[],4,FALSE))","v":""},{"$f":"IF(ISERROR(VLOOKUP(A72,tesserati[],5,FALSE)),\"\",VLOOKUP(A72,tesserati[],5,FALSE))","v":""},{"$f":"IF(ISERROR(VLOOKUP(A72,tesserati[],7,FALSE)),\"\",VLOOKUP(A72,tesserati[],7,FALSE))","v":""}]

{"sheet":"STAFFETTE 4X100 CF","index":4,"n_rows":72,"n_cols":12,"rows_kept":72,"cut":false,"hidden":false,"merged":[[53,6,56,6],[53,7,56,7],[53,8,56,8],[53,9,56,9],[57,6,60,6],[57,7,60,7],[57,8,60,8],[57,9,60,9],[45,6,48,6],[45,7,48,7],[45,8,48,8],[45,9,48,9],[49,6,52,6],[49,7,52,7],[49,8,52,8],[49,9,52,9],[37,6,40,6],[37,7,40,7],[37,8,40,8],[37,9,40,9],[41,6,44,6],[41,7,44,7],[41,8,44,8],[41,9,44,9],[28,6,31,6],[28,7,31,7],[28,8,31,8],[28,9,31,9],[33,6,36,6],[33,7,36,7],[33,8,36,8],[33,9,36,9],[32,0,32,11],[20,6,23,6],[20,7,23,7],[20,8,23,8],[20,9,23,9],[24,6,27,6],[24,7,27,7],[24,8,27,8],[24,9,27,9],[12,6,15,6],[12,7,15,7],[12,8,15,8],[12,9,15,9],[16,6,19,6],[16,7,19,7],[16,8,19,8],[16,9,19,9],[8,6,11,6],[8,7,11,7],[8,8,11,8],[8,9,11,9],[5,0,6,0],[5,1,6,2],[5,3,6,3],[5,4,6,4],[5,5,6,5],[5,6,6,6],[7,0,7,11],[5,7,6,7],[5,8,6,8],[5,9,6,9],[5,10,6,10],[5,11,6,11],[2,0,2,1],[2,4,4,4],[2,5,2,7],[2,8,2,10],[2,11,4,11],[3,0,4,1],[3,2,4,2],[3,3,4,3],[3,5,4,7],[3,8,4,10],[0,2,0,4],[0,5,0,7],[0,8,0,10],[0,11,1,11],[1,2,1,4],[1,5,1,7],[1,8,1,10]]}
[null,null,"MANIFESTAZIONE",null,null,"LOCALITA'",null,null,"SOCIETA' ORGANIZZATRICE"]
[null,null,"6° prova provinciale",null,null,"Tezze sul Brenta",null,null,"CSI Tezze sul Brenta"]
["CATEGORIA",null,"ORA INIZIO","ORA FINE",null,"GARA",null,null,"DATA"]
["CADETTE",null,null,null,null,"STAFFETTA 4 X 100",null,null,"2017-09-24"]
[]
["N. tessera","ATLETA\nCOGNOME E NOME",null,"SOCIETA'","NASCITA","CATEGORIA","Corsia","PETTORALE","Tempo","Piazzamento","PUNTI","CL."]
[]
["1 SERIE",{"$f":"IF(ISERROR(VLOOKUP(A8,tesserati[],2,FALSE)),\"\",VLOOKUP(A8,tesserati[],2,FALSE))","v":""},{"$f":"IF(ISERROR(VLOOKUP(A8,tesserati[],3,FALSE)),\"\",VLOOKUP(A8,tesserati[],3,FALSE))","v":""},{"$f":"IF(ISERROR(VLOOKUP(#REF!,tesserati[],5,FALSE)),\"\",VLOOKUP(#REF!,tesserati[],5,FALSE))","v":""},{"$f":"IF(ISERROR(VLOOKUP(A8,tesserati[],4,FALSE)),\"\",VLOOKUP(A8,tesserati[],4,FALSE))","v":""},{"$f":"IF(ISERROR(VLOOKUP(A8,tesserati[],7,FALSE)),\"\",VLOOKUP(A8,tesserati[],7,FALSE))","v":""}]
[4595,{"$f":"IF(ISERROR(VLOOKUP(A9,tesserati[],2,FALSE)),\"\",VLOOKUP(A9,tesserati[],2,FALSE))","v":"VALLORTIGARA"},{"$f":"IF(ISERROR(VLOOKUP(A9,tesserati[],3,FALSE)),\"\",VLOOKUP(A9,tesserati[],3,FALSE))","v":"ELENA"},{"$f":"IF(ISERROR(VLOOKUP(A9,tesserati[],4,FALSE)),\"\",VLOOKUP(A9,tesserati[],4,FALSE))","v":"CSI ATLETICA COLLI BERICI"},{"$f":"IF(ISERROR(VLOOKUP(A9,tesserati[],5,FALSE)),\"\",VLOOKUP(A9,tesserati[],5,FALSE))","v":2004},{"$f":"IF(ISERROR(VLOOKUP(A9,tesserati[],7,FALSE)),\"\",VLOOKUP(A9,tesserati[],7,FALSE))","v":"RF"},1,null,54.8]
[7975,{"$f":"IF(ISERROR(VLOOKUP(A10,tesserati[],2,FALSE)),\"\",VLOOKUP(A10,tesserati[],2,FALSE))","v":"FIAGAH"},{"$f":"IF(ISERROR(VLOOKUP(A10,tesserati[],3,FALSE)),\"\",VLOOKUP(A10,tesserati[],3,FALSE))","v":"MARY"},{"$f":"IF(ISERROR(VLOOKUP(A10,tesserati[],4,FALSE)),\"\",VLOOKUP(A10,tesserati[],4,FALSE))","v":"CSI ATLETICA COLLI BERICI"},{"$f":"IF(ISERROR(VLOOKUP(A10,tesserati[],5,FALSE)),\"\",VLOOKUP(A10,tesserati[],5,FALSE))","v":2004},{"$f":"IF(ISERROR(VLOOKUP(A10,tesserati[],7,FALSE)),\"\",VLOOKUP(A10,tesserati[],7,FALSE))","v":"RF"}]
[4378,{"$f":"IF(ISERROR(VLOOKUP(A11,tesserati[],2,FALSE)),\"\",VLOOKUP(A11,tesserati[],2,FALSE))","v":"ASSAM"},{"$f":"IF(ISERROR(VLOOKUP(A11,tesserati[],3,FALSE)),\"\",VLOOKUP(A11,tesserati[],3,FALSE))","v":"FAIZA"},{"$f":"IF(ISERROR(VLOOKUP(A11,tesserati[],4,FALSE)),\"\",VLOOKUP(A11,tesserati[],4,FALSE))","v":"CSI ATLETICA COLLI BERICI"},{"$f":"IF(ISERROR(VLOOKUP(A11,tesserati[],5,FALSE)),\"\",VLOOKUP(A11,tesserati[],5,FALSE))","v":2003},{"$f":"IF(ISERROR(VLOOKUP(A11,tesserati[],7,FALSE)),\"\",VLOOKUP(A11,tesserati[],7,FALSE))","v":"CF"}]
[4379,{"$f":"IF(ISERROR(VLOOKUP(A12,tesserati[],2,FALSE)),\"\",VLOOKUP(A12,tesserati[],2,FALSE))","v":"ASSAM"},{"$f":"IF(ISERROR(VLOOKUP(A12,tesserati[],3,FALSE)),\"\",VLOOKUP(A12,tesserati[],3,FALSE))","v":"SALIHA"},{"$f":"IF(ISERROR(VLOOKUP(A12,tesserati[],4,FALSE)),\"\",VLOOKUP(A12,tesserati[],4,FALSE))","v":"CSI ATLETICA COLLI BERICI"},{"$f":"IF(ISERROR(VLOOKUP(A12,tesserati[],5,FALSE)),\"\",VLOOKUP(A12,tesserati[],5,FALSE))","v":2003},{"$f":"IF(ISERROR(VLOOKUP(A12,tesserati[],7,FALSE)),\"\",VLOOKUP(A12,tesserati[],7,FALSE))","v":"CF"}]
[5129,{"$f":"IF(ISERROR(VLOOKUP(A13,tesserati[],2,FALSE)),\"\",VLOOKUP(A13,tesserati[],2,FALSE))","v":"MENEGHETTI"},{"$f":"IF(ISERROR(VLOOKUP(A13,tesserati[],3,FALSE)),\"\",VLOOKUP(A13,tesserati[],3,FALSE))","v":"ALICE"},{"$f":"IF(ISERROR(VLOOKUP(A13,tesserati[],4,FALSE)),\"\",VLOOKUP(A13,tesserati[],4,FALSE))","v":"POLISPORTIVA SALF ALTOPADOVANA"},{"$f":"IF(ISERROR(VLOOKUP(A13,tesserati[],5,FALSE)),\"\",VLOOKUP(A13,tesserati[],5,FALSE))","v":2005},{"$f":"IF(ISERROR(VLOOKUP(A13,tesserati[],7,FALSE)),\"\",VLOOKUP(A13,tesserati[],7,FALSE))","v":"RF"},3,null,56]
[5169,{"$f":"IF(ISERROR(VLOOKUP(A14,tesserati[],2,FALSE)),\"\",VLOOKUP(A14,tesserati[],2,FALSE))","v":"NONNI"},{"$f":"IF(ISERROR(VLOOKUP(A14,tesserati[],3,FALSE)),\"\",VLOOKUP(A14,tesserati[],3,FALSE))","v":"HASANATOU"},{"$f":"IF(ISERROR(VLOOKUP(A14,tesserati[],4,FALSE)),\"\",VLOOKUP(A14,tesserati[],4,FALSE))","v":"POLISPORTIVA SALF ALTOPADOVANA"},{"$f":"IF(ISERROR(VLOOKUP(A14,tesserati[],5,FALSE)),\"\",VLOOKUP(A14,tesserati[],5,FALSE))","v":2005},{"$f":"IF(ISERROR(VLOOKUP(A14,tesserati[],7,FALSE)),\"\",VLOOKUP(A14,tesserati[],7,FALSE))","v":"RF"}]
[4903,{"$f":"IF(ISERROR(VLOOKUP(A15,tesserati[],2,FALSE)),\"\",VLOOKUP(A15,tesserati[],2,FALSE))","v":"GNOATTO"},{"$f":"IF(ISERROR(VLOOKUP(A15,tesserati[],3,FALSE)),\"\",VLOOKUP(A15,tesserati[],3,FALSE))","v":"ALTEA"},{"$f":"IF(ISERROR(VLOOKUP(A15,tesserati[],4,FALSE)),\"\",VLOOKUP(A15,tesserati[],4,FALSE))","v":"POLISPORTIVA SALF ALTOPADOVANA"},{"$f":"IF(ISERROR(VLOOKUP(A15,tesserati[],5,FALSE)),\"\",VLOOKUP(A15,tesserati[],5,FALSE))","v":2004},{"$f":"IF(ISERROR(VLOOKUP(A15,tesserati[],7,FALSE)),\"\",VLOOKUP(A15,tesserati[],7,FALSE))","v":"RF"}]
[5119,{"$f":"IF(ISERROR(VLOOKUP(A16,tesserati[],2,FALSE)),\"\",VLOOKUP(A16,tesserati[],2,FALSE))","v":"MARANGONI"},{"$f":"IF(ISERROR(VLOOKUP(A16,tesserati[],3,FALSE)),\"\",VLOOKUP(A16,tesserati[],3,FALSE))","v":"ALICE"},{"$f":"IF(ISERROR(VLOOKUP(A16,tesserati[],4,FALSE)),\"\",VLOOKUP(A16,tesserati[],4,FALSE))","v":"POLISPORTIVA SALF ALTOPADOVANA"},{"$f":"IF(ISERROR(VLOOKUP(A16,tesserati[],5,FALSE)),\"\",VLOOKUP(A16,tesserati[],5,FALSE))","v":2003},{"$f":"IF(ISERROR(VLOOKUP(A16,tesserati[],7,FALSE)),\"\",VLOOKUP(A16,tesserati[],7,FALSE))","v":"CF"}]
[2968,{"$f":"IF(ISERROR(VLOOKUP(A17,tesserati[],2,FALSE)),\"\",VLOOKUP(A17,tesserati[],2,FALSE))","v":"FACCINI"},{"$f":"IF(ISERROR(VLOOKUP(A17,tesserati[],3,FALSE)),\"\",VLOOKUP(A17,tesserati[],3,FALSE))","v":"ELISA"},{"$f":"IF(ISERROR(VLOOKUP(A17,tesserati[],4,FALSE)),\"\",VLOOKUP(A17,tesserati[],4,FALSE))","v":"ATLETICA UNION CREAZZO"},{"$f":"IF(ISERROR(VLOOKUP(A17,tesserati[],5,FALSE)),\"\",VLOOKUP(A17,tesserati[],5,FALSE))","v":2003},{"$f":"IF(ISERROR(VLOOKUP(A17,tesserati[],7,FALSE)),\"\",VLOOKUP(A17,tesserati[],7,FALSE))","v":"CF"},5,null,57.3]
[3042,{"$f":"IF(ISERROR(VLOOKUP(A18,tesserati[],2,FALSE)),\"\",VLOOKUP(A18,tesserati[],2,FALSE))","v":"RINALDI"},{"$f":"IF(ISERROR(VLOOKUP(A18,tesserati[],3,FALSE)),\"\",VLOOKUP(A18,tesserati[],3,FALSE))","v":"GIULIA"},{"$f":"IF(ISERROR(VLOOKUP(A18,tesserati[],4,FALSE)),\"\",VLOOKUP(A18,tesserati[],4,FALSE))","v":"ATLETICA UNION CREAZZO"},{"$f":"IF(ISERROR(VLOOKUP(A18,tesserati[],5,FALSE)),\"\",VLOOKUP(A18,tesserati[],5,FALSE))","v":2003},{"$f":"IF(ISERROR(VLOOKUP(A18,tesserati[],7,FALSE)),\"\",VLOOKUP(A18,tesserati[],7,FALSE))","v":"CF"}]
[2990,{"$f":"IF(ISERROR(VLOOKUP(A19,tesserati[],2,FALSE)),\"\",VLOOKUP(A19,tesserati[],2,FALSE))","v":"PARLATO"},{"$f":"IF(ISERROR(VLOOKUP(A19,tesserati[],3,FALSE)),\"\",VLOOKUP(A19,tesserati[],3,FALSE))","v":"LETIZIA"},{"$f":"IF(ISERROR(VLOOKUP(A19,tesserati[],4,FALSE)),\"\",VLOOKUP(A19,tesserati[],4,FALSE))","v":"ATLETICA UNION CREAZZO"},{"$f":"IF(ISERROR(VLOOKUP(A19,tesserati[],5,FALSE)),\"\",VLOOKUP(A19,tesserati[],5,FALSE))","v":2002},{"$f":"IF(ISERROR(VLOOKUP(A19,tesserati[],7,FALSE)),\"\",VLOOKUP(A19,tesserati[],7,FALSE))","v":"CF"}]
[3426,{"$f":"IF(ISERROR(VLOOKUP(A20,tesserati[],2,FALSE)),\"\",VLOOKUP(A20,tesserati[],2,FALSE))","v":"GHEZZO"},{"$f":"IF(ISERROR(VLOOKUP(A20,tesserati[],3,FALSE)),\"\",VLOOKUP(A20,tesserati[],3,FALSE))","v":"REBECCA"},{"$f":"IF(ISERROR(VLOOKUP(A20,tesserati[],4,FALSE)),\"\",VLOOKUP(A20,tesserati[],4,FALSE))","v":"ATLETICA UNION CREAZZO"},{"$f":"IF(ISERROR(VLOOKUP(A20,tesserati[],5,FALSE)),\"\",VLOOKUP(A20,tesserati[],5,FALSE))","v":2003},{"$f":"IF(ISERROR(VLOOKUP(A20,tesserati[],7,FALSE)),\"\",VLOOKUP(A20,tesserati[],7,FALSE))","v":"CF"}]
[3963,{"$f":"IF(ISERROR(VLOOKUP(A21,tesserati[],2,FALSE)),\"\",VLOOKUP(A21,tesserati[],2,FALSE))","v":"DJADOU"},{"$f":"IF(ISERROR(VLOOKUP(A21,tesserati[],3,FALSE)),\"\",VLOOKUP(A21,tesserati[],3,FALSE))","v":"AKPENE MARTIALE"},{"$f":"IF(ISERROR(VLOOKUP(A21,tesserati[],4,FALSE)),\"\",VLOOKUP(A21,tesserati[],4,FALSE))","v":"POLISPORTIVA DUEVILLE"},{"$f":"IF(ISERROR(VLOOKUP(A21,tesserati[],5,FALSE)),\"\",VLOOKUP(A21,tesserati[],5,FALSE))","v":2003},{"$f":"IF(ISERROR(VLOOKUP(A21,tesserati[],7,FALSE)),\"\",VLOOKUP(A21,tesserati[],7,FALSE))","v":"CF"},2,null,58.3]
[3962,{"$f":"IF(ISERROR(VLOOKUP(A22,tesserati[],2,FALSE)),\"\",VLOOKUP(A22,tesserati[],2,FALSE))","v":"DE ROSSO"},{"$f":"IF(ISERROR(VLOOKUP(A22,tesserati[],3,FALSE)),\"\",VLOOKUP(A22,tesserati[],3,FALSE))","v":"CHIARA"},{"$f":"IF(ISERROR(VLOOKUP(A22,tesserati[],4,FALSE)),\"\",VLOOKUP(A22,tesserati[],4,FALSE))","v":"POLISPORTIVA DUEVILLE"},{"$f":"IF(ISERROR(VLOOKUP(A22,tesserati[],5,FALSE)),\"\",VLOOKUP(A22,tesserati[],5,FALSE))","v":2003},{"$f":"IF(ISERROR(VLOOKUP(A22,tesserati[],7,FALSE)),\"\",VLOOKUP(A22,tesserati[],7,FALSE))","v":"CF"}]
[4040,{"$f":"IF(ISERROR(VLOOKUP(A23,tesserati[],2,FALSE)),\"\",VLOOKUP(A23,tesserati[],2,FALSE))","v":"SARTORI"},{"$f":"IF(ISERROR(VLOOKUP(A23,tesserati[],3,FALSE)),\"\",VLOOKUP(A23,tesserati[],3,FALSE))","v":"AURORA"},{"$f":"IF(ISERROR(VLOOKUP(A23,tesserati[],4,FALSE)),\"\",VLOOKUP(A23,tesserati[],4,FALSE))","v":"POLISPORTIVA DUEVILLE"},{"$f":"IF(ISERROR(VLOOKUP(A23,tesserati[],5,FALSE)),\"\",VLOOKUP(A23,tesserati[],5,FALSE))","v":2004},{"$f":"IF(ISERROR(VLOOKUP(A23,tesserati[],7,FALSE)),\"\",VLOOKUP(A23,tesserati[],7,FALSE))","v":"RF"}]
[4009,{"$f":"IF(ISERROR(VLOOKUP(A24,tesserati[],2,FALSE)),\"\",VLOOKUP(A24,tesserati[],2,FALSE))","v":"SACCARDO"},{"$f":"IF(ISERROR(VLOOKUP(A24,tesserati[],3,FALSE)),\"\",VLOOKUP(A24,tesserati[],3,FALSE))","v":"MARIA CLELIA"},{"$f":"IF(ISERROR(VLOOKUP(A24,tesserati[],4,FALSE)),\"\",VLOOKUP(A24,tesserati[],4,FALSE))","v":"POLISPORTIVA DUEVILLE"},{"$f":"IF(ISERROR(VLOOKUP(A24,tesserati[],5,FALSE)),\"\",VLOOKUP(A24,tesserati[],5,FALSE))","v":2002},{"$f":"IF(ISERROR(VLOOKUP(A24,tesserati[],7,FALSE)),\"\",VLOOKUP(A24,tesserati[],7,FALSE))","v":"CF"}]
[2477,{"$f":"IF(ISERROR(VLOOKUP(A25,tesserati[],2,FALSE)),\"\",VLOOKUP(A25,tesserati[],2,FALSE))","v":"RIGO"},{"$f":"IF(ISERROR(VLOOKUP(A25,tesserati[],3,FALSE)),\"\",VLOOKUP(A25,tesserati[],3,FALSE))","v":"GIORGIA"},{"$f":"IF(ISERROR(VLOOKUP(A25,tesserati[],4,FALSE)),\"\",VLOOKUP(A25,tesserati[],4,FALSE))","v":"C.S.I. TEZZE SUL BRENTA"},{"$f":"IF(ISERROR(VLOOKUP(A25,tesserati[],5,FALSE)),\"\",VLOOKUP(A25,tesserati[],5,FALSE))","v":2004},{"$f":"IF(ISERROR(VLOOKUP(A25,tesserati[],7,FALSE)),\"\",VLOOKUP(A25,tesserati[],7,FALSE))","v":"RF"},6,null,59.6]
[2468,{"$f":"IF(ISERROR(VLOOKUP(A26,tesserati[],2,FALSE)),\"\",VLOOKUP(A26,tesserati[],2,FALSE))","v":"REFFO"},{"$f":"IF(ISERROR(VLOOKUP(A26,tesserati[],3,FALSE)),\"\",VLOOKUP(A26,tesserati[],3,FALSE))","v":"VALENTINA"},{"$f":"IF(ISERROR(VLOOKUP(A26,tesserati[],4,FALSE)),\"\",VLOOKUP(A26,tesserati[],4,FALSE))","v":"C.S.I. TEZZE SUL BRENTA"},{"$f":"IF(ISERROR(VLOOKUP(A26,tesserati[],5,FALSE)),\"\",VLOOKUP(A26,tesserati[],5,FALSE))","v":2003},{"$f":"IF(ISERROR(VLOOKUP(A26,tesserati[],7,FALSE)),\"\",VLOOKUP(A26,tesserati[],7,FALSE))","v":"CF"}]
[2482,{"$f":"IF(ISERROR(VLOOKUP(A27,tesserati[],2,FALSE)),\"\",VLOOKUP(A27,tesserati[],2,FALSE))","v":"LAGO"},{"$f":"IF(ISERROR(VLOOKUP(A27,tesserati[],3,FALSE)),\"\",VLOOKUP(A27,tesserati[],3,FALSE))","v":"ANGELICA"},{"$f":"IF(ISERROR(VLOOKUP(A27,tesserati[],4,FALSE)),\"\",VLOOKUP(A27,tesserati[],4,FALSE))","v":"C.S.I. TEZZE SUL BRENTA"},{"$f":"IF(ISERROR(VLOOKUP(A27,tesserati[],5,FALSE)),\"\",VLOOKUP(A27,tesserati[],5,FALSE))","v":2003},{"$f":"IF(ISERROR(VLOOKUP(A27,tesserati[],7,FALSE)),\"\",VLOOKUP(A27,tesserati[],7,FALSE))","v":"CF"}]
[2480,{"$f":"IF(ISERROR(VLOOKUP(A28,tesserati[],2,FALSE)),\"\",VLOOKUP(A28,tesserati[],2,FALSE))","v":"MARAGNO"},{"$f":"IF(ISERROR(VLOOKUP(A28,tesserati[],3,FALSE)),\"\",VLOOKUP(A28,tesserati[],3,FALSE))","v":"GIULIA"},{"$f":"IF(ISERROR(VLOOKUP(A28,tesserati[],4,FALSE)),\"\",VLOOKUP(A28,tesserati[],4,FALSE))","v":"C.S.I. TEZZE SUL BRENTA"},{"$f":"IF(ISERROR(VLOOKUP(A28,tesserati[],5,FALSE)),\"\",VLOOKUP(A28,tesserati[],5,FALSE))","v":2003},{"$f":"IF(ISERROR(VLOOKUP(A28,tesserati[],7,FALSE)),\"\",VLOOKUP(A28,tesserati[],7,FALSE))","v":"CF"}]
[6287,{"$f":"IF(ISERROR(VLOOKUP(A29,tesserati[],2,FALSE)),\"\",VLOOKUP(A29,tesserati[],2,FALSE))","v":"BANCE"},{"$f":"IF(ISERROR(VLOOKUP(A29,tesserati[],3,FALSE)),\"\",VLOOKUP(A29,tesserati[],3,FALSE))","v":"RABIATOU"},{"$f":"IF(ISERROR(VLOOKUP(A29,tesserati[],4,FALSE)),\"\",VLOOKUP(A29,tesserati[],4,FALSE))","v":"ATLETICA TRISSINO"},{"$f":"IF(ISERROR(VLOOKUP(A29,tesserati[],5,FALSE)),\"\",VLOOKUP(A29,tesserati[],5,FALSE))","v":2004},{"$f":"IF(ISERROR(VLOOKUP(A29,tesserati[],7,FALSE)),\"\",VLOOKUP(A29,tesserati[],7,FALSE))","v":"RF"},4,null,"1,07.3"]
[4206,{"$f":"IF(ISERROR(VLOOKUP(A30,tesserati[],2,FALSE)),\"\",VLOOKUP(A30,tesserati[],2,FALSE))","v":"SEGATO"},{"$f":"IF(ISERROR(VLOOKUP(A30,tesserati[],3,FALSE)),\"\",VLOOKUP(A30,tesserati[],3,FALSE))","v":"EMY"},{"$f":"IF(ISERROR(VLOOKUP(A30,tesserati[],4,FALSE)),\"\",VLOOKUP(A30,tesserati[],4,FALSE))","v":"ATLETICA TRISSINO"},{"$f":"IF(ISERROR(VLOOKUP(A30,tesserati[],5,FALSE)),\"\",VLOOKUP(A30,tesserati[],5,FALSE))","v":2005},{"$f":"IF(ISERROR(VLOOKUP(A30,tesserati[],7,FALSE)),\"\",VLOOKUP(A30,tesserati[],7,FALSE))","v":"RF"}]
[4211,{"$f":"IF(ISERROR(VLOOKUP(A31,tesserati[],2,FALSE)),\"\",VLOOKUP(A31,tesserati[],2,FALSE))","v":"GENTILIN"},{"$f":"IF(ISERROR(VLOOKUP(A31,tesserati[],3,FALSE)),\"\",VLOOKUP(A31,tesserati[],3,FALSE))","v":"ALESSIA"},{"$f":"IF(ISERROR(VLOOKUP(A31,tesserati[],4,FALSE)),\"\",VLOOKUP(A31,tesserati[],4,FALSE))","v":"ATLETICA TRISSINO"},{"$f":"IF(ISERROR(VLOOKUP(A31,tesserati[],5,FALSE)),\"\",VLOOKUP(A31,tesserati[],5,FALSE))","v":2004},{"$f":"IF(ISERROR(VLOOKUP(A31,tesserati[],7,FALSE)),\"\",VLOOKUP(A31,tesserati[],7,FALSE))","v":"RF"}]
[4210,{"$f":"IF(ISERROR(VLOOKUP(A32,tesserati[],2,FALSE)),\"\",VLOOKUP(A32,tesserati[],2,FALSE))","v":"PASETTI"},{"$f":"IF(ISERROR(VLOOKUP(A32,tesserati[],3,FALSE)),\"\",VLOOKUP(A32,tesserati[],3,FALSE))","v":"ANGELA"},{"$f":"IF(ISERROR(VLOOKUP(A32,tesserati[],4,FALSE)),\"\",VLOOKUP(A32,tesserati[],4,FALSE))","v":"ATLETICA TRISSINO"},{"$f":"IF(ISERROR(VLOOKUP(A32,tesserati[],5,FALSE)),\"\",VLOOKUP(A32,tesserati[],5,FALSE))","v":2003},{"$f":"IF(ISERROR(VLOOKUP(A32,tesserati[],7,FALSE)),\"\",VLOOKUP(A32,tesserati[],7,FALSE))","v":"CF"}]
["2 SERIE"]
[null,{"$f":"IF(ISERROR(VLOOKUP(A34,tesserati[],2,FALSE)),\"\",VLOOKUP(A34,tesserati[],2,FALSE))","v":""},{"$f":"IF(ISERROR(VLOOKUP(A34,tesserati[],3,FALSE)),\"\",VLOOKUP(A34,tesserati[],3,FALSE))","v":""},{"$f":"IF(ISERROR(VLOOKUP(A34,tesserati[],4,FALSE)),\"\",VLOOKUP(A34,tesserati[],4,FALSE))","v":""},{"$f":"IF(ISERROR(VLOOKUP(A34,tesserati[],5,FALSE)),\"\",VLOOKUP(A34,tesserati[],5,FALSE))","v":""},{"$f":"IF(ISERROR(VLOOKUP(A34,tesserati[],7,FALSE)),\"\",VLOOKUP(A34,tesserati[],7,FALSE))","v":""},1]
[null,{"$f":"IF(ISERROR(VLOOKUP(A35,tesserati[],2,FALSE)),\"\",VLOOKUP(A35,tesserati[],2,FALSE))","v":""},{"$f":"IF(ISERROR(VLOOKUP(A35,tesserati[],3,FALSE)),\"\",VLOOKUP(A35,tesserati[],3,FALSE))","v":""},{"$f":"IF(ISERROR(VLOOKUP(A35,tesserati[],4,FALSE)),\"\",VLOOKUP(A35,tesserati[],4,FALSE))","v":""},{"$f":"IF(ISERROR(VLOOKUP(A35,tesserati[],5,FALSE)),\"\",VLOOKUP(A35,tesserati[],5,FALSE))","v":""},{"$f":"IF(ISERROR(VLOOKUP(A35,tesserati[],7,FALSE)),\"\",VLOOKUP(A35,tesserati[],7,FALSE))","v":""}]
[null,{"$f":"IF(ISERROR(VLOOKUP(A36,tesserati[],2,FALSE)),\"\",VLOOKUP(A36,tesserati[],2,FALSE))","v":""},{"$f":"IF(ISERROR(VLOOKUP(A36,tesserati[],3,FALSE)),\"\",VLOOKUP(A36,tesserati[],3,FALSE))","v":""},{"$f":"IF(ISERROR(VLOOKUP(A36,tesserati[],4,FALSE)),\"\",VLOOKUP(A36,tesserati[],4,FALSE))","v":""},{"$f":"IF(ISERROR(VLOOKUP(A36,tesserati[],5,FALSE)),\"\",VLOOKUP(A36,tesserati[],5,FALSE))","v":""},{"$f":"IF(ISERROR(VLOOKUP(A36,tesserati[],7,FALSE)),\"\",VLOOKUP(A36,tesserati[],7,FALSE))","v":""}]
[null,{"$f":"IF(ISERROR(VLOOKUP(A37,tesserati[],2,FALSE)),\"\",VLOOKUP(A37,tesserati[],2,FALSE))","v":""},{"$f":"IF(ISERROR(VLOOKUP(A37,tesserati[],3,FALSE)),\"\",VLOOKUP(A37,tesserati[],3,FALSE))","v":""},{"$f":"IF(ISERROR(VLOOKUP(A37,tesserati[],4,FALSE)),\"\",VLOOKUP(A37,tesserati[],4,FALSE))","v":""},{"$f":"IF(ISERROR(VLOOKUP(A37,tesserati[],5,FALSE)),\"\",VLOOKUP(A37,tesserati[],5,FALSE))","v":""},{"$f":"IF(ISERROR(VLOOKUP(A37,tesserati[],7,FALSE)),\"\",VLOOKUP(A37,tesserati[],7,FALSE))","v":""}]
[null,{"$f":"IF(ISERROR(VLOOKUP(A38,tesserati[],2,FALSE)),\"\",VLOOKUP(A38,tesserati[],2,FALSE))","v":""},{"$f":"IF(ISERROR(VLOOKUP(A38,tesserati[],3,FALSE)),\"\",VLOOKUP(A38,tesserati[],3,FALSE))","v":""},{"$f":"IF(ISERROR(VLOOKUP(A38,tesserati[],4,FALSE)),\"\",VLOOKUP(A38,tesserati[],4,FALSE))","v":""},{"$f":"IF(ISERROR(VLOOKUP(A38,tesserati[],5,FALSE)),\"\",VLOOKUP(A38,tesserati[],5,FALSE))","v":""},{"$f":"IF(ISERROR(VLOOKUP(A38,tesserati[],7,FALSE)),\"\",VLOOKUP(A38,tesserati[],7,FALSE))","v":""},2]
[null,{"$f":"IF(ISERROR(VLOOKUP(A39,tesserati[],2,FALSE)),\"\",VLOOKUP(A39,tesserati[],2,FALSE))","v":""},{"$f":"IF(ISERROR(VLOOKUP(A39,tesserati[],3,FALSE)),\"\",VLOOKUP(A39,tesserati[],3,FALSE))","v":""},{"$f":"IF(ISERROR(VLOOKUP(A39,tesserati[],4,FALSE)),\"\",VLOOKUP(A39,tesserati[],4,FALSE))","v":""},{"$f":"IF(ISERROR(VLOOKUP(A39,tesserati[],5,FALSE)),\"\",VLOOKUP(A39,tesserati[],5,FALSE))","v":""},{"$f":"IF(ISERROR(VLOOKUP(A39,tesserati[],7,FALSE)),\"\",VLOOKUP(A39,tesserati[],7,FALSE))","v":""}]
[null,{"$f":"IF(ISERROR(VLOOKUP(A40,tesserati[],2,FALSE)),\"\",VLOOKUP(A40,tesserati[],2,FALSE))","v":""},{"$f":"IF(ISERROR(VLOOKUP(A40,tesserati[],3,FALSE)),\"\",VLOOKUP(A40,tesserati[],3,FALSE))","v":""},{"$f":"IF(ISERROR(VLOOKUP(A40,tesserati[],4,FALSE)),\"\",VLOOKUP(A40,tesserati[],4,FALSE))","v":""},{"$f":"IF(ISERROR(VLOOKUP(A40,tesserati[],5,FALSE)),\"\",VLOOKUP(A40,tesserati[],5,FALSE))","v":""},{"$f":"IF(ISERROR(VLOOKUP(A40,tesserati[],7,FALSE)),\"\",VLOOKUP(A40,tesserati[],7,FALSE))","v":""}]
[null,{"$f":"IF(ISERROR(VLOOKUP(A41,tesserati[],2,FALSE)),\"\",VLOOKUP(A41,tesserati[],2,FALSE))","v":""},{"$f":"IF(ISERROR(VLOOKUP(A41,tesserati[],3,FALSE)),\"\",VLOOKUP(A41,tesserati[],3,FALSE))","v":""},{"$f":"IF(ISERROR(VLOOKUP(A41,tesserati[],4,FALSE)),\"\",VLOOKUP(A41,tesserati[],4,FALSE))","v":""},{"$f":"IF(ISERROR(VLOOKUP(A41,tesserati[],5,FALSE)),\"\",VLOOKUP(A41,tesserati[],5,FALSE))","v":""},{"$f":"IF(ISERROR(VLOOKUP(A41,tesserati[],7,FALSE)),\"\",VLOOKUP(A41,tesserati[],7,FALSE))","v":""}]
[null,{"$f":"IF(ISERROR(VLOOKUP(A42,tesserati[],2,FALSE)),\"\",VLOOKUP(A42,tesserati[],2,FALSE))","v":""},{"$f":"IF(ISERROR(VLOOKUP(A42,tesserati[],3,FALSE)),\"\",VLOOKUP(A42,tesserati[],3,FALSE))","v":""},{"$f":"IF(ISERROR(VLOOKUP(A42,tesserati[],4,FALSE)),\"\",VLOOKUP(A42,tesserati[],4,FALSE))","v":""},{"$f":"IF(ISERROR(VLOOKUP(A42,tesserati[],5,FALSE)),\"\",VLOOKUP(A42,tesserati[],5,FALSE))","v":""},{"$f":"IF(ISERROR(VLOOKUP(A42,tesserati[],7,FALSE)),\"\",VLOOKUP(A42,tesserati[],7,FALSE))","v":""},3]
[null,{"$f":"IF(ISERROR(VLOOKUP(A43,tesserati[],2,FALSE)),\"\",VLOOKUP(A43,tesserati[],2,FALSE))","v":""},{"$f":"IF(ISERROR(VLOOKUP(A43,tesserati[],3,FALSE)),\"\",VLOOKUP(A43,tesserati[],3,FALSE))","v":""},{"$f":"IF(ISERROR(VLOOKUP(A43,tesserati[],4,FALSE)),\"\",VLOOKUP(A43,tesserati[],4,FALSE))","v":""},{"$f":"IF(ISERROR(VLOOKUP(A43,tesserati[],5,FALSE)),\"\",VLOOKUP(A43,tesserati[],5,FALSE))","v":""},{"$f":"IF(ISERROR(VLOOKUP(A43,tesserati[],7,FALSE)),\"\",VLOOKUP(A43,tesserati[],7,FALSE))","v":""}]
[null,{"$f":"IF(ISERROR(VLOOKUP(A44,tesserati[],2,FALSE)),\"\",VLOOKUP(A44,tesserati[],2,FALSE))","v":""},{"$f":"IF(ISERROR(VLOOKUP(A44,tesserati[],3,FALSE)),\"\",VLOOKUP(A44,tesserati[],3,FALSE))","v":""},{"$f":"IF(ISERROR(VLOOKUP(A44,tesserati[],4,FALSE)),\"\",VLOOKUP(A44,tesserati[],4,FALSE))","v":""},{"$f":"IF(ISERROR(VLOOKUP(A44,tesserati[],5,FALSE)),\"\",VLOOKUP(A44,tesserati[],5,FALSE))","v":""},{"$f":"IF(ISERROR(VLOOKUP(A44,tesserati[],7,FALSE)),\"\",VLOOKUP(A44,tesserati[],7,FALSE))","v":""}]
[null,{"$f":"IF(ISERROR(VLOOKUP(A45,tesserati[],2,FALSE)),\"\",VLOOKUP(A45,tesserati[],2,FALSE))","v":""},{"$f":"IF(ISERROR(VLOOKUP(A45,tesserati[],3,FALSE)),\"\",VLOOKUP(A45,tesserati[],3,FALSE))","v":""},{"$f":"IF(ISERROR(VLOOKUP(A45,tesserati[],4,FALSE)),\"\",VLOOKUP(A45,tesserati[],4,FALSE))","v":""},{"$f":"IF(ISERROR(VLOOKUP(A45,tesserati[],5,FALSE)),\"\",VLOOKUP(A45,tesserati[],5,FALSE))","v":""},{"$f":"IF(ISERROR(VLOOKUP(A45,tesserati[],7,FALSE)),\"\",VLOOKUP(A45,tesserati[],7,FALSE))","v":""}]
[null,{"$f":"IF(ISERROR(VLOOKUP(A46,tesserati[],2,FALSE)),\"\",VLOOKUP(A46,tesserati[],2,FALSE))","v":""},{"$f":"IF(ISERROR(VLOOKUP(A46,tesserati[],3,FALSE)),\"\",VLOOKUP(A46,tesserati[],3,FALSE))","v":""},{"$f":"IF(ISERROR(VLOOKUP(A46,tesserati[],4,FALSE)),\"\",VLOOKUP(A46,tesserati[],4,FALSE))","v":""},{"$f":"IF(ISERROR(VLOOKUP(A46,tesserati[],5,FALSE)),\"\",VLOOKUP(A46,tesserati[],5,FALSE))","v":""},{"$f":"IF(ISERROR(VLOOKUP(A46,tesserati[],7,FALSE)),\"\",VLOOKUP(A46,tesserati[],7,FALSE))","v":""},4]
[null,{"$f":"IF(ISERROR(VLOOKUP(A47,tesserati[],2,FALSE)),\"\",VLOOKUP(A47,tesserati[],2,FALSE))","v":""},{"$f":"IF(ISERROR(VLOOKUP(A47,tesserati[],3,FALSE)),\"\",VLOOKUP(A47,tesserati[],3,FALSE))","v":""},{"$f":"IF(ISERROR(VLOOKUP(A47,tesserati[],4,FALSE)),\"\",VLOOKUP(A47,tesserati[],4,FALSE))","v":""},{"$f":"IF(ISERROR(VLOOKUP(A47,tesserati[],5,FALSE)),\"\",VLOOKUP(A47,tesserati[],5,FALSE))","v":""},{"$f":"IF(ISERROR(VLOOKUP(A47,tesserati[],7,FALSE)),\"\",VLOOKUP(A47,tesserati[],7,FALSE))","v":""}]
[null,{"$f":"IF(ISERROR(VLOOKUP(A48,tesserati[],2,FALSE)),\"\",VLOOKUP(A48,tesserati[],2,FALSE))","v":""},{"$f":"IF(ISERROR(VLOOKUP(A48,tesserati[],3,FALSE)),\"\",VLOOKUP(A48,tesserati[],3,FALSE))","v":""},{"$f":"IF(ISERROR(VLOOKUP(A48,tesserati[],4,FALSE)),\"\",VLOOKUP(A48,tesserati[],4,FALSE))","v":""},{"$f":"IF(ISERROR(VLOOKUP(A48,tesserati[],5,FALSE)),\"\",VLOOKUP(A48,tesserati[],5,FALSE))","v":""},{"$f":"IF(ISERROR(VLOOKUP(A48,tesserati[],7,FALSE)),\"\",VLOOKUP(A48,tesserati[],7,FALSE))","v":""}]
[null,{"$f":"IF(ISERROR(VLOOKUP(A49,tesserati[],2,FALSE)),\"\",VLOOKUP(A49,tesserati[],2,FALSE))","v":""},{"$f":"IF(ISERROR(VLOOKUP(A49,tesserati[],3,FALSE)),\"\",VLOOKUP(A49,tesserati[],3,FALSE))","v":""},{"$f":"IF(ISERROR(VLOOKUP(A49,tesserati[],4,FALSE)),\"\",VLOOKUP(A49,tesserati[],4,FALSE))","v":""},{"$f":"IF(ISERROR(VLOOKUP(A49,tesserati[],5,FALSE)),\"\",VLOOKUP(A49,tesserati[],5,FALSE))","v":""},{"$f":"IF(ISERROR(VLOOKUP(A49,tesserati[],7,FALSE)),\"\",VLOOKUP(A49,tesserati[],7,FALSE))","v":""}]
[null,{"$f":"IF(ISERROR(VLOOKUP(A50,tesserati[],2,FALSE)),\"\",VLOOKUP(A50,tesserati[],2,FALSE))","v":""},{"$f":"IF(ISERROR(VLOOKUP(A50,tesserati[],3,FALSE)),\"\",VLOOKUP(A50,tesserati[],3,FALSE))","v":""},{"$f":"IF(ISERROR(VLOOKUP(A50,tesserati[],4,FALSE)),\"\",VLOOKUP(A50,tesserati[],4,FALSE))","v":""},{"$f":"IF(ISERROR(VLOOKUP(A50,tesserati[],5,FALSE)),\"\",VLOOKUP(A50,tesserati[],5,FALSE))","v":""},{"$f":"IF(ISERROR(VLOOKUP(A50,tesserati[],7,FALSE)),\"\",VLOOKUP(A50,tesserati[],7,FALSE))","v":""},5]
[null,{"$f":"IF(ISERROR(VLOOKUP(A51,tesserati[],2,FALSE)),\"\",VLOOKUP(A51,tesserati[],2,FALSE))","v":""},{"$f":"IF(ISERROR(VLOOKUP(A51,tesserati[],3,FALSE)),\"\",VLOOKUP(A51,tesserati[],3,FALSE))","v":""},{"$f":"IF(ISERROR(VLOOKUP(A51,tesserati[],4,FALSE)),\"\",VLOOKUP(A51,tesserati[],4,FALSE))","v":""},{"$f":"IF(ISERROR(VLOOKUP(A51,tesserati[],5,FALSE)),\"\",VLOOKUP(A51,tesserati[],5,FALSE))","v":""},{"$f":"IF(ISERROR(VLOOKUP(A51,tesserati[],7,FALSE)),\"\",VLOOKUP(A51,tesserati[],7,FALSE))","v":""}]
[null,{"$f":"IF(ISERROR(VLOOKUP(A52,tesserati[],2,FALSE)),\"\",VLOOKUP(A52,tesserati[],2,FALSE))","v":""},{"$f":"IF(ISERROR(VLOOKUP(A52,tesserati[],3,FALSE)),\"\",VLOOKUP(A52,tesserati[],3,FALSE))","v":""},{"$f":"IF(ISERROR(VLOOKUP(A52,tesserati[],4,FALSE)),\"\",VLOOKUP(A52,tesserati[],4,FALSE))","v":""},{"$f":"IF(ISERROR(VLOOKUP(A52,tesserati[],5,FALSE)),\"\",VLOOKUP(A52,tesserati[],5,FALSE))","v":""},{"$f":"IF(ISERROR(VLOOKUP(A52,tesserati[],7,FALSE)),\"\",VLOOKUP(A52,tesserati[],7,FALSE))","v":""}]
[null,{"$f":"IF(ISERROR(VLOOKUP(A53,tesserati[],2,FALSE)),\"\",VLOOKUP(A53,tesserati[],2,FALSE))","v":""},{"$f":"IF(ISERROR(VLOOKUP(A53,tesserati[],3,FALSE)),\"\",VLOOKUP(A53,tesserati[],3,FALSE))","v":""},{"$f":"IF(ISERROR(VLOOKUP(A53,tesserati[],4,FALSE)),\"\",VLOOKUP(A53,tesserati[],4,FALSE))","v":""},{"$f":"IF(ISERROR(VLOOKUP(A53,tesserati[],5,FALSE)),\"\",VLOOKUP(A53,tesserati[],5,FALSE))","v":""},{"$f":"IF(ISERROR(VLOOKUP(A53,tesserati[],7,FALSE)),\"\",VLOOKUP(A53,tesserati[],7,FALSE))","v":""}]
[null,{"$f":"IF(ISERROR(VLOOKUP(A54,tesserati[],2,FALSE)),\"\",VLOOKUP(A54,tesserati[],2,FALSE))","v":""},{"$f":"IF(ISERROR(VLOOKUP(A54,tesserati[],3,FALSE)),\"\",VLOOKUP(A54,tesserati[],3,FALSE))","v":""},{"$f":"IF(ISERROR(VLOOKUP(A54,tesserati[],4,FALSE)),\"\",VLOOKUP(A54,tesserati[],4,FALSE))","v":""},{"$f":"IF(ISERROR(VLOOKUP(A54,tesserati[],5,FALSE)),\"\",VLOOKUP(A54,tesserati[],5,FALSE))","v":""},{"$f":"IF(ISERROR(VLOOKUP(A54,tesserati[],7,FALSE)),\"\",VLOOKUP(A54,tesserati[],7,FALSE))","v":""},6]
[null,{"$f":"IF(ISERROR(VLOOKUP(A55,tesserati[],2,FALSE)),\"\",VLOOKUP(A55,tesserati[],2,FALSE))","v":""},{"$f":"IF(ISERROR(VLOOKUP(A55,tesserati[],3,FALSE)),\"\",VLOOKUP(A55,tesserati[],3,FALSE))","v":""},{"$f":"IF(ISERROR(VLOOKUP(A55,tesserati[],4,FALSE)),\"\",VLOOKUP(A55,tesserati[],4,FALSE))","v":""},{"$f":"IF(ISERROR(VLOOKUP(A55,tesserati[],5,FALSE)),\"\",VLOOKUP(A55,tesserati[],5,FALSE))","v":""},{"$f":"IF(ISERROR(VLOOKUP(A55,tesserati[],7,FALSE)),\"\",VLOOKUP(A55,tesserati[],7,FALSE))","v":""}]
[null,{"$f":"IF(ISERROR(VLOOKUP(A56,tesserati[],2,FALSE)),\"\",VLOOKUP(A56,tesserati[],2,FALSE))","v":""},{"$f":"IF(ISERROR(VLOOKUP(A56,tesserati[],3,FALSE)),\"\",VLOOKUP(A56,tesserati[],3,FALSE))","v":""},{"$f":"IF(ISERROR(VLOOKUP(A56,tesserati[],4,FALSE)),\"\",VLOOKUP(A56,tesserati[],4,FALSE))","v":""},{"$f":"IF(ISERROR(VLOOKUP(A56,tesserati[],5,FALSE)),\"\",VLOOKUP(A56,tesserati[],5,FALSE))","v":""},{"$f":"IF(ISERROR(VLOOKUP(A56,tesserati[],7,FALSE)),\"\",VLOOKUP(A56,tesserati[],7,FALSE))","v":""}]
[null,{"$f":"IF(ISERROR(VLOOKUP(A57,tesserati[],2,FALSE)),\"\",VLOOKUP(A57,tesserati[],2,FALSE))","v":""},{"$f":"IF(ISERROR(VLOOKUP(A57,tesserati[],3,FALSE)),\"\",VLOOKUP(A57,tesserati[],3,FALSE))","v":""},{"$f":"IF(ISERROR(VLOOKUP(A57,tesserati[],4,FALSE)),\"\",VLOOKUP(A57,tesserati[],4,FALSE))","v":""},{"$f":"IF(ISERROR(VLOOKUP(A57,tesserati[],5,FALSE)),\"\",VLOOKUP(A57,tesserati[],5,FALSE))","v":""},{"$f":"IF(ISERROR(VLOOKUP(A57,tesserati[],7,FALSE)),\"\",VLOOKUP(A57,tesserati[],7,FALSE))","v":""}]
[null,{"$f":"IF(ISERROR(VLOOKUP(A58,tesserati[],2,FALSE)),\"\",VLOOKUP(A58,tesserati[],2,FALSE))","v":""},{"$f":"IF(ISERROR(VLOOKUP(A58,tesserati[],3,FALSE)),\"\",VLOOKUP(A58,tesserati[],3,FALSE))","v":""},{"$f":"IF(ISERROR(VLOOKUP(A58,tesserati[],4,FALSE)),\"\",VLOOKUP(A58,tesserati[],4,FALSE))","v":""},{"$f":"IF(ISERROR(VLOOKUP(A58,tesserati[],5,FALSE)),\"\",VLOOKUP(A58,tesserati[],5,FALSE))","v":""},{"$f":"IF(ISERROR(VLOOKUP(A58,tesserati[],7,FALSE)),\"\",VLOOKUP(A58,tesserati[],7,FALSE))","v":""}]
[null,{"$f":"IF(ISERROR(VLOOKUP(A59,tesserati[],2,FALSE)),\"\",VLOOKUP(A59,tesserati[],2,FALSE))","v":""},{"$f":"IF(ISERROR(VLOOKUP(A59,tesserati[],3,FALSE)),\"\",VLOOKUP(A59,tesserati[],3,FALSE))","v":""},{"$f":"IF(ISERROR(VLOOKUP(A59,tesserati[],4,FALSE)),\"\",VLOOKUP(A59,tesserati[],4,FALSE))","v":""},{"$f":"IF(ISERROR(VLOOKUP(A59,tesserati[],5,FALSE)),\"\",VLOOKUP(A59,tesserati[],5,FALSE))","v":""},{"$f":"IF(ISERROR(VLOOKUP(A59,tesserati[],7,FALSE)),\"\",VLOOKUP(A59,tesserati[],7,FALSE))","v":""}]
[null,{"$f":"IF(ISERROR(VLOOKUP(A60,tesserati[],2,FALSE)),\"\",VLOOKUP(A60,tesserati[],2,FALSE))","v":""},{"$f":"IF(ISERROR(VLOOKUP(A60,tesserati[],3,FALSE)),\"\",VLOOKUP(A60,tesserati[],3,FALSE))","v":""},{"$f":"IF(ISERROR(VLOOKUP(A60,tesserati[],4,FALSE)),\"\",VLOOKUP(A60,tesserati[],4,FALSE))","v":""},{"$f":"IF(ISERROR(VLOOKUP(A60,tesserati[],5,FALSE)),\"\",VLOOKUP(A60,tesserati[],5,FALSE))","v":""},{"$f":"IF(ISERROR(VLOOKUP(A60,tesserati[],7,FALSE)),\"\",VLOOKUP(A60,tesserati[],7,FALSE))","v":""}]
[null,{"$f":"IF(ISERROR(VLOOKUP(A61,tesserati[],2,FALSE)),\"\",VLOOKUP(A61,tesserati[],2,FALSE))","v":""},{"$f":"IF(ISERROR(VLOOKUP(A61,tesserati[],3,FALSE)),\"\",VLOOKUP(A61,tesserati[],3,FALSE))","v":""},{"$f":"IF(ISERROR(VLOOKUP(A61,tesserati[],4,FALSE)),\"\",VLOOKUP(A61,tesserati[],4,FALSE))","v":""},{"$f":"IF(ISERROR(VLOOKUP(A61,tesserati[],5,FALSE)),\"\",VLOOKUP(A61,tesserati[],5,FALSE))","v":""},{"$f":"IF(ISERROR(VLOOKUP(A61,tesserati[],7,FALSE)),\"\",VLOOKUP(A61,tesserati[],7,FALSE))","v":""}]
[null,{"$f":"IF(ISERROR(VLOOKUP(A62,tesserati[],2,FALSE)),\"\",VLOOKUP(A62,tesserati[],2,FALSE))","v":""},{"$f":"IF(ISERROR(VLOOKUP(A62,tesserati[],3,FALSE)),\"\",VLOOKUP(A62,tesserati[],3,FALSE))","v":""},{"$f":"IF(ISERROR(VLOOKUP(A62,tesserati[],4,FALSE)),\"\",VLOOKUP(A62,tesserati[],4,FALSE))","v":""},{"$f":"IF(ISERROR(VLOOKUP(A62,tesserati[],5,FALSE)),\"\",VLOOKUP(A62,tesserati[],5,FALSE))","v":""},{"$f":"IF(ISERROR(VLOOKUP(A62,tesserati[],7,FALSE)),\"\",VLOOKUP(A62,tesserati[],7,FALSE))","v":""}]
[null,{"$f":"IF(ISERROR(VLOOKUP(A63,tesserati[],2,FALSE)),\"\",VLOOKUP(A63,tesserati[],2,FALSE))","v":""},{"$f":"IF(ISERROR(VLOOKUP(A63,tesserati[],3,FALSE)),\"\",VLOOKUP(A63,tesserati[],3,FALSE))","v":""},{"$f":"IF(ISERROR(VLOOKUP(A63,tesserati[],4,FALSE)),\"\",VLOOKUP(A63,tesserati[],4,FALSE))","v":""},{"$f":"IF(ISERROR(VLOOKUP(A63,tesserati[],5,FALSE)),\"\",VLOOKUP(A63,tesserati[],5,FALSE))","v":""},{"$f":"IF(ISERROR(VLOOKUP(A63,tesserati[],7,FALSE)),\"\",VLOOKUP(A63,tesserati[],7,FALSE))","v":""}]
[null,{"$f":"IF(ISERROR(VLOOKUP(A64,tesserati[],2,FALSE)),\"\",VLOOKUP(A64,tesserati[],2,FALSE))","v":""},{"$f":"IF(ISERROR(VLOOKUP(A64,tesserati[],3,FALSE)),\"\",VLOOKUP(A64,tesserati[],3,FALSE))","v":""},{"$f":"IF(ISERROR(VLOOKUP(A64,tesserati[],4,FALSE)),\"\",VLOOKUP(A64,tesserati[],4,FALSE))","v":""},{"$f":"IF(ISERROR(VLOOKUP(A64,tesserati[],5,FALSE)),\"\",VLOOKUP(A64,tesserati[],5,FALSE))","v":""},{"$f":"IF(ISERROR(VLOOKUP(A64,tesserati[],7,FALSE)),\"\",VLOOKUP(A64,tesserati[],7,FALSE))","v":""}]
[null,{"$f":"IF(ISERROR(VLOOKUP(A65,tesserati[],2,FALSE)),\"\",VLOOKUP(A65,tesserati[],2,FALSE))","v":""},{"$f":"IF(ISERROR(VLOOKUP(A65,tesserati[],3,FALSE)),\"\",VLOOKUP(A65,tesserati[],3,FALSE))","v":""},{"$f":"IF(ISERROR(VLOOKUP(A65,tesserati[],4,FALSE)),\"\",VLOOKUP(A65,tesserati[],4,FALSE))","v":""},{"$f":"IF(ISERROR(VLOOKUP(A65,tesserati[],5,FALSE)),\"\",VLOOKUP(A65,tesserati[],5,FALSE))","v":""},{"$f":"IF(ISERROR(VLOOKUP(A65,tesserati[],7,FALSE)),\"\",VLOOKUP(A65,tesserati[],7,FALSE))","v":""}]
[null,{"$f":"IF(ISERROR(VLOOKUP(A66,tesserati[],2,FALSE)),\"\",VLOOKUP(A66,tesserati[],2,FALSE))","v":""},{"$f":"IF(ISERROR(VLOOKUP(A66,tesserati[],3,FALSE)),\"\",VLOOKUP(A66,tesserati[],3,FALSE))","v":""},{"$f":"IF(ISERROR(VLOOKUP(A66,tesserati[],4,FALSE)),\"\",VLOOKUP(A66,tesserati[],4,FALSE))","v":""},{"$f":"IF(ISERROR(VLOOKUP(A66,tesserati[],5,FALSE)),\"\",VLOOKUP(A66,tesserati[],5,FALSE))","v":""},{"$f":"IF(ISERROR(VLOOKUP(A66,tesserati[],7,FALSE)),\"\",VLOOKUP(A66,tesserati[],7,FALSE))","v":""}]
[null,{"$f":"IF(ISERROR(VLOOKUP(A67,tesserati[],2,FALSE)),\"\",VLOOKUP(A67,tesserati[],2,FALSE))","v":""},{"$f":"IF(ISERROR(VLOOKUP(A67,tesserati[],3,FALSE)),\"\",VLOOKUP(A67,tesserati[],3,FALSE))","v":""},{"$f":"IF(ISERROR(VLOOKUP(A67,tesserati[],4,FALSE)),\"\",VLOOKUP(A67,tesserati[],4,FALSE))","v":""},{"$f":"IF(ISERROR(VLOOKUP(A67,tesserati[],5,FALSE)),\"\",VLOOKUP(A67,tesserati[],5,FALSE))","v":""},{"$f":"IF(ISERROR(VLOOKUP(A67,tesserati[],7,FALSE)),\"\",VLOOKUP(A67,tesserati[],7,FALSE))","v":""}]
[null,{"$f":"IF(ISERROR(VLOOKUP(A68,tesserati[],2,FALSE)),\"\",VLOOKUP(A68,tesserati[],2,FALSE))","v":""},{"$f":"IF(ISERROR(VLOOKUP(A68,tesserati[],3,FALSE)),\"\",VLOOKUP(A68,tesserati[],3,FALSE))","v":""},{"$f":"IF(ISERROR(VLOOKUP(A68,tesserati[],4,FALSE)),\"\",VLOOKUP(A68,tesserati[],4,FALSE))","v":""},{"$f":"IF(ISERROR(VLOOKUP(A68,tesserati[],5,FALSE)),\"\",VLOOKUP(A68,tesserati[],5,FALSE))","v":""},{"$f":"IF(ISERROR(VLOOKUP(A68,tesserati[],7,FALSE)),\"\",VLOOKUP(A68,tesserati[],7,FALSE))","v":""}]
[null,{"$f":"IF(ISERROR(VLOOKUP(A69,tesserati[],2,FALSE)),\"\",VLOOKUP(A69,tesserati[],2,FALSE))","v":""},{"$f":"IF(ISERROR(VLOOKUP(A69,tesserati[],3,FALSE)),\"\",VLOOKUP(A69,tesserati[],3,FALSE))","v":""},{"$f":"IF(ISERROR(VLOOKUP(A69,tesserati[],4,FALSE)),\"\",VLOOKUP(A69,tesserati[],4,FALSE))","v":""},{"$f":"IF(ISERROR(VLOOKUP(A69,tesserati[],5,FALSE)),\"\",VLOOKUP(A69,tesserati[],5,FALSE))","v":""},{"$f":"IF(ISERROR(VLOOKUP(A69,tesserati[],7,FALSE)),\"\",VLOOKUP(A69,tesserati[],7,FALSE))","v":""}]
[null,{"$f":"IF(ISERROR(VLOOKUP(A70,tesserati[],2,FALSE)),\"\",VLOOKUP(A70,tesserati[],2,FALSE))","v":""},{"$f":"IF(ISERROR(VLOOKUP(A70,tesserati[],3,FALSE)),\"\",VLOOKUP(A70,tesserati[],3,FALSE))","v":""},{"$f":"IF(ISERROR(VLOOKUP(A70,tesserati[],4,FALSE)),\"\",VLOOKUP(A70,tesserati[],4,FALSE))","v":""},{"$f":"IF(ISERROR(VLOOKUP(A70,tesserati[],5,FALSE)),\"\",VLOOKUP(A70,tesserati[],5,FALSE))","v":""},{"$f":"IF(ISERROR(VLOOKUP(A70,tesserati[],7,FALSE)),\"\",VLOOKUP(A70,tesserati[],7,FALSE))","v":""}]
[null,{"$f":"IF(ISERROR(VLOOKUP(A71,tesserati[],2,FALSE)),\"\",VLOOKUP(A71,tesserati[],2,FALSE))","v":""},{"$f":"IF(ISERROR(VLOOKUP(A71,tesserati[],3,FALSE)),\"\",VLOOKUP(A71,tesserati[],3,FALSE))","v":""},{"$f":"IF(ISERROR(VLOOKUP(A71,tesserati[],4,FALSE)),\"\",VLOOKUP(A71,tesserati[],4,FALSE))","v":""},{"$f":"IF(ISERROR(VLOOKUP(A71,tesserati[],5,FALSE)),\"\",VLOOKUP(A71,tesserati[],5,FALSE))","v":""},{"$f":"IF(ISERROR(VLOOKUP(A71,tesserati[],7,FALSE)),\"\",VLOOKUP(A71,tesserati[],7,FALSE))","v":""}]
[null,{"$f":"IF(ISERROR(VLOOKUP(A72,tesserati[],2,FALSE)),\"\",VLOOKUP(A72,tesserati[],2,FALSE))","v":""},{"$f":"IF(ISERROR(VLOOKUP(A72,tesserati[],3,FALSE)),\"\",VLOOKUP(A72,tesserati[],3,FALSE))","v":""},{"$f":"IF(ISERROR(VLOOKUP(A72,tesserati[],4,FALSE)),\"\",VLOOKUP(A72,tesserati[],4,FALSE))","v":""},{"$f":"IF(ISERROR(VLOOKUP(A72,tesserati[],5,FALSE)),\"\",VLOOKUP(A72,tesserati[],5,FALSE))","v":""},{"$f":"IF(ISERROR(VLOOKUP(A72,tesserati[],7,FALSE)),\"\",VLOOKUP(A72,tesserati[],7,FALSE))","v":""}]

{"sheet":"STAFFETTE 4X100 RM","index":5,"n_rows":72,"n_cols":12,"rows_kept":72,"cut":false,"hidden":false,"merged":[[53,6,56,6],[53,7,56,7],[53,8,56,8],[53,9,56,9],[57,6,60,6],[57,7,60,7],[57,8,60,8],[57,9,60,9],[45,6,48,6],[45,7,48,7],[45,8,48,8],[45,9,48,9],[49,6,52,6],[49,7,52,7],[49,8,52,8],[49,9,52,9],[37,6,40,6],[37,7,40,7],[37,8,40,8],[37,9,40,9],[41,6,44,6],[41,7,44,7],[41,8,44,8],[41,9,44,9],[28,6,31,6],[28,7,31,7],[28,8,31,8],[28,9,31,9],[33,6,36,6],[33,7,36,7],[33,8,36,8],[33,9,36,9],[32,0,32,11],[20,6,23,6],[20,7,23,7],[20,8,23,8],[20,9,23,9],[24,6,27,6],[24,7,27,7],[24,8,27,8],[24,9,27,9],[12,6,15,6],[12,7,15,7],[12,8,15,8],[12,9,15,9],[16,6,19,6],[16,7,19,7],[16,8,19,8],[16,9,19,9],[8,6,11,6],[8,7,11,7],[8,8,11,8],[8,9,11,9],[5,0,6,0],[5,1,6,2],[5,3,6,3],[5,4,6,4],[5,5,6,5],[5,6,6,6],[7,0,7,11],[5,7,6,7],[5,8,6,8],[5,9,6,9],[5,10,6,10],[5,11,6,11],[2,0,2,1],[2,4,4,4],[2,5,2,7],[2,8,2,10],[2,11,4,11],[3,0,4,1],[3,2,4,2],[3,3,4,3],[3,5,4,7],[3,8,4,10],[0,2,0,4],[0,5,0,7],[0,8,0,10],[0,11,1,11],[1,2,1,4],[1,5,1,7],[1,8,1,10]]}
[null,null,"MANIFESTAZIONE",null,null,"LOCALITA'",null,null,"SOCIETA' ORGANIZZATRICE"]
[null,null,"6° prova provinciale",null,null,"Tezze sul Brenta",null,null,"CSI Tezze sul Brenta"]
["CATEGORIA",null,"ORA INIZIO","ORA FINE",null,"GARA",null,null,"DATA"]
["RAGAZZI",null,null,null,null,"STAFFETTA 4 X 100",null,null,"2017-09-24"]
[]
["N. tessera","ATLETA\nCOGNOME E NOME",null,"SOCIETA'","NASCITA","CATEGORIA","Corsia","PETTORALE","Tempo","Piazzamento","PUNTI","CL."]
[]
["1 SERIE",{"$f":"IF(ISERROR(VLOOKUP(A8,tesserati[],2,FALSE)),\"\",VLOOKUP(A8,tesserati[],2,FALSE))","v":""},{"$f":"IF(ISERROR(VLOOKUP(A8,tesserati[],3,FALSE)),\"\",VLOOKUP(A8,tesserati[],3,FALSE))","v":""},{"$f":"IF(ISERROR(VLOOKUP(#REF!,tesserati[],5,FALSE)),\"\",VLOOKUP(#REF!,tesserati[],5,FALSE))","v":""},{"$f":"IF(ISERROR(VLOOKUP(A8,tesserati[],4,FALSE)),\"\",VLOOKUP(A8,tesserati[],4,FALSE))","v":""},{"$f":"IF(ISERROR(VLOOKUP(A8,tesserati[],7,FALSE)),\"\",VLOOKUP(A8,tesserati[],7,FALSE))","v":""}]
[3854,{"$f":"IF(ISERROR(VLOOKUP(A9,tesserati[],2,FALSE)),\"\",VLOOKUP(A9,tesserati[],2,FALSE))","v":"PEREGO"},{"$f":"IF(ISERROR(VLOOKUP(A9,tesserati[],3,FALSE)),\"\",VLOOKUP(A9,tesserati[],3,FALSE))","v":"CRISTIAN"},{"$f":"IF(ISERROR(VLOOKUP(A9,tesserati[],4,FALSE)),\"\",VLOOKUP(A9,tesserati[],4,FALSE))","v":"ATLETICA VALCHIAMPO"},{"$f":"IF(ISERROR(VLOOKUP(A9,tesserati[],5,FALSE)),\"\",VLOOKUP(A9,tesserati[],5,FALSE))","v":2004},{"$f":"IF(ISERROR(VLOOKUP(A9,tesserati[],7,FALSE)),\"\",VLOOKUP(A9,tesserati[],7,FALSE))","v":"RM"},2,null,55.2,1]
[3846,{"$f":"IF(ISERROR(VLOOKUP(A10,tesserati[],2,FALSE)),\"\",VLOOKUP(A10,tesserati[],2,FALSE))","v":"MISTRORIGO"},{"$f":"IF(ISERROR(VLOOKUP(A10,tesserati[],3,FALSE)),\"\",VLOOKUP(A10,tesserati[],3,FALSE))","v":"ALBERTO"},{"$f":"IF(ISERROR(VLOOKUP(A10,tesserati[],4,FALSE)),\"\",VLOOKUP(A10,tesserati[],4,FALSE))","v":"ATLETICA VALCHIAMPO"},{"$f":"IF(ISERROR(VLOOKUP(A10,tesserati[],5,FALSE)),\"\",VLOOKUP(A10,tesserati[],5,FALSE))","v":2004},{"$f":"IF(ISERROR(VLOOKUP(A10,tesserati[],7,FALSE)),\"\",VLOOKUP(A10,tesserati[],7,FALSE))","v":"RM"}]
[3835,{"$f":"IF(ISERROR(VLOOKUP(A11,tesserati[],2,FALSE)),\"\",VLOOKUP(A11,tesserati[],2,FALSE))","v":"GIRARDELLO"},{"$f":"IF(ISERROR(VLOOKUP(A11,tesserati[],3,FALSE)),\"\",VLOOKUP(A11,tesserati[],3,FALSE))","v":"NICOLA"},{"$f":"IF(ISERROR(VLOOKUP(A11,tesserati[],4,FALSE)),\"\",VLOOKUP(A11,tesserati[],4,FALSE))","v":"ATLETICA VALCHIAMPO"},{"$f":"IF(ISERROR(VLOOKUP(A11,tesserati[],5,FALSE)),\"\",VLOOKUP(A11,tesserati[],5,FALSE))","v":2005},{"$f":"IF(ISERROR(VLOOKUP(A11,tesserati[],7,FALSE)),\"\",VLOOKUP(A11,tesserati[],7,FALSE))","v":"RM"}]
[3842,{"$f":"IF(ISERROR(VLOOKUP(A12,tesserati[],2,FALSE)),\"\",VLOOKUP(A12,tesserati[],2,FALSE))","v":"MECENERO"},{"$f":"IF(ISERROR(VLOOKUP(A12,tesserati[],3,FALSE)),\"\",VLOOKUP(A12,tesserati[],3,FALSE))","v":"ELIA"},{"$f":"IF(ISERROR(VLOOKUP(A12,tesserati[],4,FALSE)),\"\",VLOOKUP(A12,tesserati[],4,FALSE))","v":"ATLETICA VALCHIAMPO"},{"$f":"IF(ISERROR(VLOOKUP(A12,tesserati[],5,FALSE)),\"\",VLOOKUP(A12,tesserati[],5,FALSE))","v":2004},{"$f":"IF(ISERROR(VLOOKUP(A12,tesserati[],7,FALSE)),\"\",VLOOKUP(A12,tesserati[],7,FALSE))","v":"RM"}]
[null,{"$f":"IF(ISERROR(VLOOKUP(A13,tesserati[],2,FALSE)),\"\",VLOOKUP(A13,tesserati[],2,FALSE))","v":""},{"$f":"IF(ISERROR(VLOOKUP(A13,tesserati[],3,FALSE)),\"\",VLOOKUP(A13,tesserati[],3,FALSE))","v":""},{"$f":"IF(ISERROR(VLOOKUP(A13,tesserati[],4,FALSE)),\"\",VLOOKUP(A13,tesserati[],4,FALSE))","v":""},{"$f":"IF(ISERROR(VLOOKUP(A13,tesserati[],5,FALSE)),\"\",VLOOKUP(A13,tesserati[],5,FALSE))","v":""},{"$f":"IF(ISERROR(VLOOKUP(A13,tesserati[],7,FALSE)),\"\",VLOOKUP(A13,tesserati[],7,FALSE))","v":""}]
[null,{"$f":"IF(ISERROR(VLOOKUP(A14,tesserati[],2,FALSE)),\"\",VLOOKUP(A14,tesserati[],2,FALSE))","v":""},{"$f":"IF(ISERROR(VLOOKUP(A14,tesserati[],3,FALSE)),\"\",VLOOKUP(A14,tesserati[],3,FALSE))","v":""},{"$f":"IF(ISERROR(VLOOKUP(A14,tesserati[],4,FALSE)),\"\",VLOOKUP(A14,tesserati[],4,FALSE))","v":""},{"$f":"IF(ISERROR(VLOOKUP(A14,tesserati[],5,FALSE)),\"\",VLOOKUP(A14,tesserati[],5,FALSE))","v":""},{"$f":"IF(ISERROR(VLOOKUP(A14,tesserati[],7,FALSE)),\"\",VLOOKUP(A14,tesserati[],7,FALSE))","v":""}]
[null,{"$f":"IF(ISERROR(VLOOKUP(A15,tesserati[],2,FALSE)),\"\",VLOOKUP(A15,tesserati[],2,FALSE))","v":""},{"$f":"IF(ISERROR(VLOOKUP(A15,tesserati[],3,FALSE)),\"\",VLOOKUP(A15,tesserati[],3,FALSE))","v":""},{"$f":"IF(ISERROR(VLOOKUP(A15,tesserati[],4,FALSE)),\"\",VLOOKUP(A15,tesserati[],4,FALSE))","v":""},{"$f":"IF(ISERROR(VLOOKUP(A15,tesserati[],5,FALSE)),\"\",VLOOKUP(A15,tesserati[],5,FALSE))","v":""},{"$f":"IF(ISERROR(VLOOKUP(A15,tesserati[],7,FALSE)),\"\",VLOOKUP(A15,tesserati[],7,FALSE))","v":""}]
[null,{"$f":"IF(ISERROR(VLOOKUP(A16,tesserati[],2,FALSE)),\"\",VLOOKUP(A16,tesserati[],2,FALSE))","v":""},{"$f":"IF(ISERROR(VLOOKUP(A16,tesserati[],3,FALSE)),\"\",VLOOKUP(A16,tesserati[],3,FALSE))","v":""},{"$f":"IF(ISERROR(VLOOKUP(A16,tesserati[],4,FALSE)),\"\",VLOOKUP(A16,tesserati[],4,FALSE))","v":""},{"$f":"IF(ISERROR(VLOOKUP(A16,tesserati[],5,FALSE)),\"\",VLOOKUP(A16,tesserati[],5,FALSE))","v":""},{"$f":"IF(ISERROR(VLOOKUP(A16,tesserati[],7,FALSE)),\"\",VLOOKUP(A16,tesserati[],7,FALSE))","v":""}]
[null,{"$f":"IF(ISERROR(VLOOKUP(A17,tesserati[],2,FALSE)),\"\",VLOOKUP(A17,tesserati[],2,FALSE))","v":""},{"$f":"IF(ISERROR(VLOOKUP(A17,tesserati[],3,FALSE)),\"\",VLOOKUP(A17,tesserati[],3,FALSE))","v":""},{"$f":"IF(ISERROR(VLOOKUP(A17,tesserati[],4,FALSE)),\"\",VLOOKUP(A17,tesserati[],4,FALSE))","v":""},{"$f":"IF(ISERROR(VLOOKUP(A17,tesserati[],5,FALSE)),\"\",VLOOKUP(A17,tesserati[],5,FALSE))","v":""},{"$f":"IF(ISERROR(VLOOKUP(A17,tesserati[],7,FALSE)),\"\",VLOOKUP(A17,tesserati[],7,FALSE))","v":""}]
[null,{"$f":"IF(ISERROR(VLOOKUP(A18,tesserati[],2,FALSE)),\"\",VLOOKUP(A18,tesserati[],2,FALSE))","v":""},{"$f":"IF(ISERROR(VLOOKUP(A18,tesserati[],3,FALSE)),\"\",VLOOKUP(A18,tesserati[],3,FALSE))","v":""},{"$f":"IF(ISERROR(VLOOKUP(A18,tesserati[],4,FALSE)),\"\",VLOOKUP(A18,tesserati[],4,FALSE))","v":""},{"$f":"IF(ISERROR(VLOOKUP(A18,tesserati[],5,FALSE)),\"\",VLOOKUP(A18,tesserati[],5,FALSE))","v":""},{"$f":"IF(ISERROR(VLOOKUP(A18,tesserati[],7,FALSE)),\"\",VLOOKUP(A18,tesserati[],7,FALSE))","v":""}]
[null,{"$f":"IF(ISERROR(VLOOKUP(A19,tesserati[],2,FALSE)),\"\",VLOOKUP(A19,tesserati[],2,FALSE))","v":""},{"$f":"IF(ISERROR(VLOOKUP(A19,tesserati[],3,FALSE)),\"\",VLOOKUP(A19,tesserati[],3,FALSE))","v":""},{"$f":"IF(ISERROR(VLOOKUP(A19,tesserati[],4,FALSE)),\"\",VLOOKUP(A19,tesserati[],4,FALSE))","v":""},{"$f":"IF(ISERROR(VLOOKUP(A19,tesserati[],5,FALSE)),\"\",VLOOKUP(A19,tesserati[],5,FALSE))","v":""},{"$f":"IF(ISERROR(VLOOKUP(A19,tesserati[],7,FALSE)),\"\",VLOOKUP(A19,tesserati[],7,FALSE))","v":""}]
[null,{"$f":"IF(ISERROR(VLOOKUP(A20,tesserati[],2,FALSE)),\"\",VLOOKUP(A20,tesserati[],2,FALSE))","v":""},{"$f":"IF(ISERROR(VLOOKUP(A20,tesserati[],3,FALSE)),\"\",VLOOKUP(A20,tesserati[],3,FALSE))","v":""},{"$f":"IF(ISERROR(VLOOKUP(A20,tesserati[],4,FALSE)),\"\",VLOOKUP(A20,tesserati[],4,FALSE))","v":""},{"$f":"IF(ISERROR(VLOOKUP(A20,tesserati[],5,FALSE)),\"\",VLOOKUP(A20,tesserati[],5,FALSE))","v":""},{"$f":"IF(ISERROR(VLOOKUP(A20,tesserati[],7,FALSE)),\"\",VLOOKUP(A20,tesserati[],7,FALSE))","v":""}]
[null,{"$f":"IF(ISERROR(VLOOKUP(A21,tesserati[],2,FALSE)),\"\",VLOOKUP(A21,tesserati[],2,FALSE))","v":""},{"$f":"IF(ISERROR(VLOOKUP(A21,tesserati[],3,FALSE)),\"\",VLOOKUP(A21,tesserati[],3,FALSE))","v":""},{"$f":"IF(ISERROR(VLOOKUP(A21,tesserati[],4,FALSE)),\"\",VLOOKUP(A21,tesserati[],4,FALSE))","v":""},{"$f":"IF(ISERROR(VLOOKUP(A21,tesserati[],5,FALSE)),\"\",VLOOKUP(A21,tesserati[],5,FALSE))","v":""},{"$f":"IF(ISERROR(VLOOKUP(A21,tesserati[],7,FALSE)),\"\",VLOOKUP(A21,tesserati[],7,FALSE))","v":""},4]
[null,{"$f":"IF(ISERROR(VLOOKUP(A22,tesserati[],2,FALSE)),\"\",VLOOKUP(A22,tesserati[],2,FALSE))","v":""},{"$f":"IF(ISERROR(VLOOKUP(A22,tesserati[],3,FALSE)),\"\",VLOOKUP(A22,tesserati[],3,FALSE))","v":""},{"$f":"IF(ISERROR(VLOOKUP(A22,tesserati[],4,FALSE)),\"\",VLOOKUP(A22,tesserati[],4,FALSE))","v":""},{"$f":"IF(ISERROR(VLOOKUP(A22,tesserati[],5,FALSE)),\"\",VLOOKUP(A22,tesserati[],5,FALSE))","v":""},{"$f":"IF(ISERROR(VLOOKUP(A22,tesserati[],7,FALSE)),\"\",VLOOKUP(A22,tesserati[],7,FALSE))","v":""}]
[null,{"$f":"IF(ISERROR(VLOOKUP(A23,tesserati[],2,FALSE)),\"\",VLOOKUP(A23,tesserati[],2,FALSE))","v":""},{"$f":"IF(ISERROR(VLOOKUP(A23,tesserati[],3,FALSE)),\"\",VLOOKUP(A23,tesserati[],3,FALSE))","v":""},{"$f":"IF(ISERROR(VLOOKUP(A23,tesserati[],4,FALSE)),\"\",VLOOKUP(A23,tesserati[],4,FALSE))","v":""},{"$f":"IF(ISERROR(VLOOKUP(A23,tesserati[],5,FALSE)),\"\",VLOOKUP(A23,tesserati[],5,FALSE))","v":""},{"$f":"IF(ISERROR(VLOOKUP(A23,tesserati[],7,FALSE)),\"\",VLOOKUP(A23,tesserati[],7,FALSE))","v":""}]
[null,{"$f":"IF(ISERROR(VLOOKUP(A24,tesserati[],2,FALSE)),\"\",VLOOKUP(A24,tesserati[],2,FALSE))","v":""},{"$f":"IF(ISERROR(VLOOKUP(A24,tesserati[],3,FALSE)),\"\",VLOOKUP(A24,tesserati[],3,FALSE))","v":""},{"$f":"IF(ISERROR(VLOOKUP(A24,tesserati[],4,FALSE)),\"\",VLOOKUP(A24,tesserati[],4,FALSE))","v":""},{"$f":"IF(ISERROR(VLOOKUP(A24,tesserati[],5,FALSE)),\"\",VLOOKUP(A24,tesserati[],5,FALSE))","v":""},{"$f":"IF(ISERROR(VLOOKUP(A24,tesserati[],7,FALSE)),\"\",VLOOKUP(A24,tesserati[],7,FALSE))","v":""}]
[null,{"$f":"IF(ISERROR(VLOOKUP(A25,tesserati[],2,FALSE)),\"\",VLOOKUP(A25,tesserati[],2,FALSE))","v":""},{"$f":"IF(ISERROR(VLOOKUP(A25,tesserati[],3,FALSE)),\"\",VLOOKUP(A25,tesserati[],3,FALSE))","v":""},{"$f":"IF(ISERROR(VLOOKUP(A25,tesserati[],4,FALSE)),\"\",VLOOKUP(A25,tesserati[],4,FALSE))","v":""},{"$f":"IF(ISERROR(VLOOKUP(A25,tesserati[],5,FALSE)),\"\",VLOOKUP(A25,tesserati[],5,FALSE))","v":""},{"$f":"IF(ISERROR(VLOOKUP(A25,tesserati[],7,FALSE)),\"\",VLOOKUP(A25,tesserati[],7,FALSE))","v":""},5]
[null,{"$f":"IF(ISERROR(VLOOKUP(A26,tesserati[],2,FALSE)),\"\",VLOOKUP(A26,tesserati[],2,FALSE))","v":""},{"$f":"IF(ISERROR(VLOOKUP(A26,tesserati[],3,FALSE)),\"\",VLOOKUP(A26,tesserati[],3,FALSE))","v":""},{"$f":"IF(ISERROR(VLOOKUP(A26,tesserati[],4,FALSE)),\"\",VLOOKUP(A26,tesserati[],4,FALSE))","v":""},{"$f":"IF(ISERROR(VLOOKUP(A26,tesserati[],5,FALSE)),\"\",VLOOKUP(A26,tesserati[],5,FALSE))","v":""},{"$f":"IF(ISERROR(VLOOKUP(A26,tesserati[],7,FALSE)),\"\",VLOOKUP(A26,tesserati[],7,FALSE))","v":""}]
[null,{"$f":"IF(ISERROR(VLOOKUP(A27,tesserati[],2,FALSE)),\"\",VLOOKUP(A27,tesserati[],2,FALSE))","v":""},{"$f":"IF(ISERROR(VLOOKUP(A27,tesserati[],3,FALSE)),\"\",VLOOKUP(A27,tesserati[],3,FALSE))","v":""},{"$f":"IF(ISERROR(VLOOKUP(A27,tesserati[],4,FALSE)),\"\",VLOOKUP(A27,tesserati[],4,FALSE))","v":""},{"$f":"IF(ISERROR(VLOOKUP(A27,tesserati[],5,FALSE)),\"\",VLOOKUP(A27,tesserati[],5,FALSE))","v":""},{"$f":"IF(ISERROR(VLOOKUP(A27,tesserati[],7,FALSE)),\"\",VLOOKUP(A27,tesserati[],7,FALSE))","v":""}]
[null,{"$f":"IF(ISERROR(VLOOKUP(A28,tesserati[],2,FALSE)),\"\",VLOOKUP(A28,tesserati[],2,FALSE))","v":""},{"$f":"IF(ISERROR(VLOOKUP(A28,tesserati[],3,FALSE)),\"\",VLOOKUP(A28,tesserati[],3,FALSE))","v":""},{"$f":"IF(ISERROR(VLOOKUP(A28,tesserati[],4,FALSE)),\"\",VLOOKUP(A28,tesserati[],4,FALSE))","v":""},{"$f":"IF(ISERROR(VLOOKUP(A28,tesserati[],5,FALSE)),\"\",VLOOKUP(A28,tesserati[],5,FALSE))","v":""},{"$f":"IF(ISERROR(VLOOKUP(A28,tesserati[],7,FALSE)),\"\",VLOOKUP(A28,tesserati[],7,FALSE))","v":""}]
[null,{"$f":"IF(ISERROR(VLOOKUP(A29,tesserati[],2,FALSE)),\"\",VLOOKUP(A29,tesserati[],2,FALSE))","v":""},{"$f":"IF(ISERROR(VLOOKUP(A29,tesserati[],3,FALSE)),\"\",VLOOKUP(A29,tesserati[],3,FALSE))","v":""},{"$f":"IF(ISERROR(VLOOKUP(A29,tesserati[],4,FALSE)),\"\",VLOOKUP(A29,tesserati[],4,FALSE))","v":""},{"$f":"IF(ISERROR(VLOOKUP(A29,tesserati[],5,FALSE)),\"\",VLOOKUP(A29,tesserati[],5,FALSE))","v":""},{"$f":"IF(ISERROR(VLOOKUP(A29,tesserati[],7,FALSE)),\"\",VLOOKUP(A29,tesserati[],7,FALSE))","v":""},6]
[null,{"$f":"IF(ISERROR(VLOOKUP(A30,tesserati[],2,FALSE)),\"\",VLOOKUP(A30,tesserati[],2,FALSE))","v":""},{"$f":"IF(ISERROR(VLOOKUP(A30,tesserati[],3,FALSE)),\"\",VLOOKUP(A30,tesserati[],3,FALSE))","v":""},{"$f":"IF(ISERROR(VLOOKUP(A30,tesserati[],4,FALSE)),\"\",VLOOKUP(A30,tesserati[],4,FALSE))","v":""},{"$f":"IF(ISERROR(VLOOKUP(A30,tesserati[],5,FALSE)),\"\",VLOOKUP(A30,tesserati[],5,FALSE))","v":""},{"$f":"IF(ISERROR(VLOOKUP(A30,tesserati[],7,FALSE)),\"\",VLOOKUP(A30,tesserati[],7,FALSE))","v":""}]
[null,{"$f":"IF(ISERROR(VLOOKUP(A31,tesserati[],2,FALSE)),\"\",VLOOKUP(A31,tesserati[],2,FALSE))","v":""},{"$f":"IF(ISERROR(VLOOKUP(A31,tesserati[],3,FALSE)),\"\",VLOOKUP(A31,tesserati[],3,FALSE))","v":""},{"$f":"IF(ISERROR(VLOOKUP(A31,tesserati[],4,FALSE)),\"\",VLOOKUP(A31,tesserati[],4,FALSE))","v":""},{"$f":"IF(ISERROR(VLOOKUP(A31,tesserati[],5,FALSE)),\"\",VLOOKUP(A31,tesserati[],5,FALSE))","v":""},{"$f":"IF(ISERROR(VLOOKUP(A31,tesserati[],7,FALSE)),\"\",VLOOKUP(A31,tesserati[],7,FALSE))","v":""}]
[null,{"$f":"IF(ISERROR(VLOOKUP(A32,tesserati[],2,FALSE)),\"\",VLOOKUP(A32,tesserati[],2,FALSE))","v":""},{"$f":"IF(ISERROR(VLOOKUP(A32,tesserati[],3,FALSE)),\"\",VLOOKUP(A32,tesserati[],3,FALSE))","v":""},{"$f":"IF(ISERROR(VLOOKUP(A32,tesserati[],4,FALSE)),\"\",VLOOKUP(A32,tesserati[],4,FALSE))","v":""},{"$f":"IF(ISERROR(VLOOKUP(A32,tesserati[],5,FALSE)),\"\",VLOOKUP(A32,tesserati[],5,FALSE))","v":""},{"$f":"IF(ISERROR(VLOOKUP(A32,tesserati[],7,FALSE)),\"\",VLOOKUP(A32,tesserati[],7,FALSE))","v":""}]
["2 SERIE"]
[null,{"$f":"IF(ISERROR(VLOOKUP(A34,tesserati[],2,FALSE)),\"\",VLOOKUP(A34,tesserati[],2,FALSE))","v":""},{"$f":"IF(ISERROR(VLOOKUP(A34,tesserati[],3,FALSE)),\"\",VLOOKUP(A34,tesserati[],3,FALSE))","v":""},{"$f":"IF(ISERROR(VLOOKUP(A34,tesserati[],4,FALSE)),\"\",VLOOKUP(A34,tesserati[],4,FALSE))","v":""},{"$f":"IF(ISERROR(VLOOKUP(A34,tesserati[],5,FALSE)),\"\",VLOOKUP(A34,tesserati[],5,FALSE))","v":""},{"$f":"IF(ISERROR(VLOOKUP(A34,tesserati[],7,FALSE)),\"\",VLOOKUP(A34,tesserati[],7,FALSE))","v":""},1]
[null,{"$f":"IF(ISERROR(VLOOKUP(A35,tesserati[],2,FALSE)),\"\",VLOOKUP(A35,tesserati[],2,FALSE))","v":""},{"$f":"IF(ISERROR(VLOOKUP(A35,tesserati[],3,FALSE)),\"\",VLOOKUP(A35,tesserati[],3,FALSE))","v":""},{"$f":"IF(ISERROR(VLOOKUP(A35,tesserati[],4,FALSE)),\"\",VLOOKUP(A35,tesserati[],4,FALSE))","v":""},{"$f":"IF(ISERROR(VLOOKUP(A35,tesserati[],5,FALSE)),\"\",VLOOKUP(A35,tesserati[],5,FALSE))","v":""},{"$f":"IF(ISERROR(VLOOKUP(A35,tesserati[],7,FALSE)),\"\",VLOOKUP(A35,tesserati[],7,FALSE))","v":""}]
[null,{"$f":"IF(ISERROR(VLOOKUP(A36,tesserati[],2,FALSE)),\"\",VLOOKUP(A36,tesserati[],2,FALSE))","v":""},{"$f":"IF(ISERROR(VLOOKUP(A36,tesserati[],3,FALSE)),\"\",VLOOKUP(A36,tesserati[],3,FALSE))","v":""},{"$f":"IF(ISERROR(VLOOKUP(A36,tesserati[],4,FALSE)),\"\",VLOOKUP(A36,tesserati[],4,FALSE))","v":""},{"$f":"IF(ISERROR(VLOOKUP(A36,tesserati[],5,FALSE)),\"\",VLOOKUP(A36,tesserati[],5,FALSE))","v":""},{"$f":"IF(ISERROR(VLOOKUP(A36,tesserati[],7,FALSE)),\"\",VLOOKUP(A36,tesserati[],7,FALSE))","v":""}]
[null,{"$f":"IF(ISERROR(VLOOKUP(A37,tesserati[],2,FALSE)),\"\",VLOOKUP(A37,tesserati[],2,FALSE))","v":""},{"$f":"IF(ISERROR(VLOOKUP(A37,tesserati[],3,FALSE)),\"\",VLOOKUP(A37,tesserati[],3,FALSE))","v":""},{"$f":"IF(ISERROR(VLOOKUP(A37,tesserati[],4,FALSE)),\"\",VLOOKUP(A37,tesserati[],4,FALSE))","v":""},{"$f":"IF(ISERROR(VLOOKUP(A37,tesserati[],5,FALSE)),\"\",VLOOKUP(A37,tesserati[],5,FALSE))","v":""},{"$f":"IF(ISERROR(VLOOKUP(A37,tesserati[],7,FALSE)),\"\",VLOOKUP(A37,tesserati[],7,FALSE))","v":""}]
[null,{"$f":"IF(ISERROR(VLOOKUP(A38,tesserati[],2,FALSE)),\"\",VLOOKUP(A38,tesserati[],2,FALSE))","v":""},{"$f":"IF(ISERROR(VLOOKUP(A38,tesserati[],3,FALSE)),\"\",VLOOKUP(A38,tesserati[],3,FALSE))","v":""},{"$f":"IF(ISERROR(VLOOKUP(A38,tesserati[],4,FALSE)),\"\",VLOOKUP(A38,tesserati[],4,FALSE))","v":""},{"$f":"IF(ISERROR(VLOOKUP(A38,tesserati[],5,FALSE)),\"\",VLOOKUP(A38,tesserati[],5,FALSE))","v":""},{"$f":"IF(ISERROR(VLOOKUP(A38,tesserati[],7,FALSE)),\"\",VLOOKUP(A38,tesserati[],7,FALSE))","v":""},2]
[null,{"$f":"IF(ISERROR(VLOOKUP(A39,tesserati[],2,FALSE)),\"\",VLOOKUP(A39,tesserati[],2,FALSE))","v":""},{"$f":"IF(ISERROR(VLOOKUP(A39,tesserati[],3,FALSE)),\"\",VLOOKUP(A39,tesserati[],3,FALSE))","v":""},{"$f":"IF(ISERROR(VLOOKUP(A39,tesserati[],4,FALSE)),\"\",VLOOKUP(A39,tesserati[],4,FALSE))","v":""},{"$f":"IF(ISERROR(VLOOKUP(A39,tesserati[],5,FALSE)),\"\",VLOOKUP(A39,tesserati[],5,FALSE))","v":""},{"$f":"IF(ISERROR(VLOOKUP(A39,tesserati[],7,FALSE)),\"\",VLOOKUP(A39,tesserati[],7,FALSE))","v":""}]
[null,{"$f":"IF(ISERROR(VLOOKUP(A40,tesserati[],2,FALSE)),\"\",VLOOKUP(A40,tesserati[],2,FALSE))","v":""},{"$f":"IF(ISERROR(VLOOKUP(A40,tesserati[],3,FALSE)),\"\",VLOOKUP(A40,tesserati[],3,FALSE))","v":""},{"$f":"IF(ISERROR(VLOOKUP(A40,tesserati[],4,FALSE)),\"\",VLOOKUP(A40,tesserati[],4,FALSE))","v":""},{"$f":"IF(ISERROR(VLOOKUP(A40,tesserati[],5,FALSE)),\"\",VLOOKUP(A40,tesserati[],5,FALSE))","v":""},{"$f":"IF(ISERROR(VLOOKUP(A40,tesserati[],7,FALSE)),\"\",VLOOKUP(A40,tesserati[],7,FALSE))","v":""}]
[null,{"$f":"IF(ISERROR(VLOOKUP(A41,tesserati[],2,FALSE)),\"\",VLOOKUP(A41,tesserati[],2,FALSE))","v":""},{"$f":"IF(ISERROR(VLOOKUP(A41,tesserati[],3,FALSE)),\"\",VLOOKUP(A41,tesserati[],3,FALSE))","v":""},{"$f":"IF(ISERROR(VLOOKUP(A41,tesserati[],4,FALSE)),\"\",VLOOKUP(A41,tesserati[],4,FALSE))","v":""},{"$f":"IF(ISERROR(VLOOKUP(A41,tesserati[],5,FALSE)),\"\",VLOOKUP(A41,tesserati[],5,FALSE))","v":""},{"$f":"IF(ISERROR(VLOOKUP(A41,tesserati[],7,FALSE)),\"\",VLOOKUP(A41,tesserati[],7,FALSE))","v":""}]
[null,{"$f":"IF(ISERROR(VLOOKUP(A42,tesserati[],2,FALSE)),\"\",VLOOKUP(A42,tesserati[],2,FALSE))","v":""},{"$f":"IF(ISERROR(VLOOKUP(A42,tesserati[],3,FALSE)),\"\",VLOOKUP(A42,tesserati[],3,FALSE))","v":""},{"$f":"IF(ISERROR(VLOOKUP(A42,tesserati[],4,FALSE)),\"\",VLOOKUP(A42,tesserati[],4,FALSE))","v":""},{"$f":"IF(ISERROR(VLOOKUP(A42,tesserati[],5,FALSE)),\"\",VLOOKUP(A42,tesserati[],5,FALSE))","v":""},{"$f":"IF(ISERROR(VLOOKUP(A42,tesserati[],7,FALSE)),\"\",VLOOKUP(A42,tesserati[],7,FALSE))","v":""},3]
[null,{"$f":"IF(ISERROR(VLOOKUP(A43,tesserati[],2,FALSE)),\"\",VLOOKUP(A43,tesserati[],2,FALSE))","v":""},{"$f":"IF(ISERROR(VLOOKUP(A43,tesserati[],3,FALSE)),\"\",VLOOKUP(A43,tesserati[],3,FALSE))","v":""},{"$f":"IF(ISERROR(VLOOKUP(A43,tesserati[],4,FALSE)),\"\",VLOOKUP(A43,tesserati[],4,FALSE))","v":""},{"$f":"IF(ISERROR(VLOOKUP(A43,tesserati[],5,FALSE)),\"\",VLOOKUP(A43,tesserati[],5,FALSE))","v":""},{"$f":"IF(ISERROR(VLOOKUP(A43,tesserati[],7,FALSE)),\"\",VLOOKUP(A43,tesserati[],7,FALSE))","v":""}]
[null,{"$f":"IF(ISERROR(VLOOKUP(A44,tesserati[],2,FALSE)),\"\",VLOOKUP(A44,tesserati[],2,FALSE))","v":""},{"$f":"IF(ISERROR(VLOOKUP(A44,tesserati[],3,FALSE)),\"\",VLOOKUP(A44,tesserati[],3,FALSE))","v":""},{"$f":"IF(ISERROR(VLOOKUP(A44,tesserati[],4,FALSE)),\"\",VLOOKUP(A44,tesserati[],4,FALSE))","v":""},{"$f":"IF(ISERROR(VLOOKUP(A44,tesserati[],5,FALSE)),\"\",VLOOKUP(A44,tesserati[],5,FALSE))","v":""},{"$f":"IF(ISERROR(VLOOKUP(A44,tesserati[],7,FALSE)),\"\",VLOOKUP(A44,tesserati[],7,FALSE))","v":""}]
[null,{"$f":"IF(ISERROR(VLOOKUP(A45,tesserati[],2,FALSE)),\"\",VLOOKUP(A45,tesserati[],2,FALSE))","v":""},{"$f":"IF(ISERROR(VLOOKUP(A45,tesserati[],3,FALSE)),\"\",VLOOKUP(A45,tesserati[],3,FALSE))","v":""},{"$f":"IF(ISERROR(VLOOKUP(A45,tesserati[],4,FALSE)),\"\",VLOOKUP(A45,tesserati[],4,FALSE))","v":""},{"$f":"IF(ISERROR(VLOOKUP(A45,tesserati[],5,FALSE)),\"\",VLOOKUP(A45,tesserati[],5,FALSE))","v":""},{"$f":"IF(ISERROR(VLOOKUP(A45,tesserati[],7,FALSE)),\"\",VLOOKUP(A45,tesserati[],7,FALSE))","v":""}]
[null,{"$f":"IF(ISERROR(VLOOKUP(A46,tesserati[],2,FALSE)),\"\",VLOOKUP(A46,tesserati[],2,FALSE))","v":""},{"$f":"IF(ISERROR(VLOOKUP(A46,tesserati[],3,FALSE)),\"\",VLOOKUP(A46,tesserati[],3,FALSE))","v":""},{"$f":"IF(ISERROR(VLOOKUP(A46,tesserati[],4,FALSE)),\"\",VLOOKUP(A46,tesserati[],4,FALSE))","v":""},{"$f":"IF(ISERROR(VLOOKUP(A46,tesserati[],5,FALSE)),\"\",VLOOKUP(A46,tesserati[],5,FALSE))","v":""},{"$f":"IF(ISERROR(VLOOKUP(A46,tesserati[],7,FALSE)),\"\",VLOOKUP(A46,tesserati[],7,FALSE))","v":""},4]
[null,{"$f":"IF(ISERROR(VLOOKUP(A47,tesserati[],2,FALSE)),\"\",VLOOKUP(A47,tesserati[],2,FALSE))","v":""},{"$f":"IF(ISERROR(VLOOKUP(A47,tesserati[],3,FALSE)),\"\",VLOOKUP(A47,tesserati[],3,FALSE))","v":""},{"$f":"IF(ISERROR(VLOOKUP(A47,tesserati[],4,FALSE)),\"\",VLOOKUP(A47,tesserati[],4,FALSE))","v":""},{"$f":"IF(ISERROR(VLOOKUP(A47,tesserati[],5,FALSE)),\"\",VLOOKUP(A47,tesserati[],5,FALSE))","v":""},{"$f":"IF(ISERROR(VLOOKUP(A47,tesserati[],7,FALSE)),\"\",VLOOKUP(A47,tesserati[],7,FALSE))","v":""}]
[null,{"$f":"IF(ISERROR(VLOOKUP(A48,tesserati[],2,FALSE)),\"\",VLOOKUP(A48,tesserati[],2,FALSE))","v":""},{"$f":"IF(ISERROR(VLOOKUP(A48,tesserati[],3,FALSE)),\"\",VLOOKUP(A48,tesserati[],3,FALSE))","v":""},{"$f":"IF(ISERROR(VLOOKUP(A48,tesserati[],4,FALSE)),\"\",VLOOKUP(A48,tesserati[],4,FALSE))","v":""},{"$f":"IF(ISERROR(VLOOKUP(A48,tesserati[],5,FALSE)),\"\",VLOOKUP(A48,tesserati[],5,FALSE))","v":""},{"$f":"IF(ISERROR(VLOOKUP(A48,tesserati[],7,FALSE)),\"\",VLOOKUP(A48,tesserati[],7,FALSE))","v":""}]
[null,{"$f":"IF(ISERROR(VLOOKUP(A49,tesserati[],2,FALSE)),\"\",VLOOKUP(A49,tesserati[],2,FALSE))","v":""},{"$f":"IF(ISERROR(VLOOKUP(A49,tesserati[],3,FALSE)),\"\",VLOOKUP(A49,tesserati[],3,FALSE))","v":""},{"$f":"IF(ISERROR(VLOOKUP(A49,tesserati[],4,FALSE)),\"\",VLOOKUP(A49,tesserati[],4,FALSE))","v":""},{"$f":"IF(ISERROR(VLOOKUP(A49,tesserati[],5,FALSE)),\"\",VLOOKUP(A49,tesserati[],5,FALSE))","v":""},{"$f":"IF(ISERROR(VLOOKUP(A49,tesserati[],7,FALSE)),\"\",VLOOKUP(A49,tesserati[],7,FALSE))","v":""}]
[null,{"$f":"IF(ISERROR(VLOOKUP(A50,tesserati[],2,FALSE)),\"\",VLOOKUP(A50,tesserati[],2,FALSE))","v":""},{"$f":"IF(ISERROR(VLOOKUP(A50,tesserati[],3,FALSE)),\"\",VLOOKUP(A50,tesserati[],3,FALSE))","v":""},{"$f":"IF(ISERROR(VLOOKUP(A50,tesserati[],4,FALSE)),\"\",VLOOKUP(A50,tesserati[],4,FALSE))","v":""},{"$f":"IF(ISERROR(VLOOKUP(A50,tesserati[],5,FALSE)),\"\",VLOOKUP(A50,tesserati[],5,FALSE))","v":""},{"$f":"IF(ISERROR(VLOOKUP(A50,tesserati[],7,FALSE)),\"\",VLOOKUP(A50,tesserati[],7,FALSE))","v":""},5]
[null,{"$f":"IF(ISERROR(VLOOKUP(A51,tesserati[],2,FALSE)),\"\",VLOOKUP(A51,tesserati[],2,FALSE))","v":""},{"$f":"IF(ISERROR(VLOOKUP(A51,tesserati[],3,FALSE)),\"\",VLOOKUP(A51,tesserati[],3,FALSE))","v":""},{"$f":"IF(ISERROR(VLOOKUP(A51,tesserati[],4,FALSE)),\"\",VLOOKUP(A51,tesserati[],4,FALSE))","v":""},{"$f":"IF(ISERROR(VLOOKUP(A51,tesserati[],5,FALSE)),\"\",VLOOKUP(A51,tesserati[],5,FALSE))","v":""},{"$f":"IF(ISERROR(VLOOKUP(A51,tesserati[],7,FALSE)),\"\",VLOOKUP(A51,tesserati[],7,FALSE))","v":""}]
[null,{"$f":"IF(ISERROR(VLOOKUP(A52,tesserati[],2,FALSE)),\"\",VLOOKUP(A52,tesserati[],2,FALSE))","v":""},{"$f":"IF(ISERROR(VLOOKUP(A52,tesserati[],3,FALSE)),\"\",VLOOKUP(A52,tesserati[],3,FALSE))","v":""},{"$f":"IF(ISERROR(VLOOKUP(A52,tesserati[],4,FALSE)),\"\",VLOOKUP(A52,tesserati[],4,FALSE))","v":""},{"$f":"IF(ISERROR(VLOOKUP(A52,tesserati[],5,FALSE)),\"\",VLOOKUP(A52,tesserati[],5,FALSE))","v":""},{"$f":"IF(ISERROR(VLOOKUP(A52,tesserati[],7,FALSE)),\"\",VLOOKUP(A52,tesserati[],7,FALSE))","v":""}]
[null,{"$f":"IF(ISERROR(VLOOKUP(A53,tesserati[],2,FALSE)),\"\",VLOOKUP(A53,tesserati[],2,FALSE))","v":""},{"$f":"IF(ISERROR(VLOOKUP(A53,tesserati[],3,FALSE)),\"\",VLOOKUP(A53,tesserati[],3,FALSE))","v":""},{"$f":"IF(ISERROR(VLOOKUP(A53,tesserati[],4,FALSE)),\"\",VLOOKUP(A53,tesserati[],4,FALSE))","v":""},{"$f":"IF(ISERROR(VLOOKUP(A53,tesserati[],5,FALSE)),\"\",VLOOKUP(A53,tesserati[],5,FALSE))","v":""},{"$f":"IF(ISERROR(VLOOKUP(A53,tesserati[],7,FALSE)),\"\",VLOOKUP(A53,tesserati[],7,FALSE))","v":""}]
[null,{"$f":"IF(ISERROR(VLOOKUP(A54,tesserati[],2,FALSE)),\"\",VLOOKUP(A54,tesserati[],2,FALSE))","v":""},{"$f":"IF(ISERROR(VLOOKUP(A54,tesserati[],3,FALSE)),\"\",VLOOKUP(A54,tesserati[],3,FALSE))","v":""},{"$f":"IF(ISERROR(VLOOKUP(A54,tesserati[],4,FALSE)),\"\",VLOOKUP(A54,tesserati[],4,FALSE))","v":""},{"$f":"IF(ISERROR(VLOOKUP(A54,tesserati[],5,FALSE)),\"\",VLOOKUP(A54,tesserati[],5,FALSE))","v":""},{"$f":"IF(ISERROR(VLOOKUP(A54,tesserati[],7,FALSE)),\"\",VLOOKUP(A54,tesserati[],7,FALSE))","v":""},6]
[null,{"$f":"IF(ISERROR(VLOOKUP(A55,tesserati[],2,FALSE)),\"\",VLOOKUP(A55,tesserati[],2,FALSE))","v":""},{"$f":"IF(ISERROR(VLOOKUP(A55,tesserati[],3,FALSE)),\"\",VLOOKUP(A55,tesserati[],3,FALSE))","v":""},{"$f":"IF(ISERROR(VLOOKUP(A55,tesserati[],4,FALSE)),\"\",VLOOKUP(A55,tesserati[],4,FALSE))","v":""},{"$f":"IF(ISERROR(VLOOKUP(A55,tesserati[],5,FALSE)),\"\",VLOOKUP(A55,tesserati[],5,FALSE))","v":""},{"$f":"IF(ISERROR(VLOOKUP(A55,tesserati[],7,FALSE)),\"\",VLOOKUP(A55,tesserati[],7,FALSE))","v":""}]
[null,{"$f":"IF(ISERROR(VLOOKUP(A56,tesserati[],2,FALSE)),\"\",VLOOKUP(A56,tesserati[],2,FALSE))","v":""},{"$f":"IF(ISERROR(VLOOKUP(A56,tesserati[],3,FALSE)),\"\",VLOOKUP(A56,tesserati[],3,FALSE))","v":""},{"$f":"IF(ISERROR(VLOOKUP(A56,tesserati[],4,FALSE)),\"\",VLOOKUP(A56,tesserati[],4,FALSE))","v":""},{"$f":"IF(ISERROR(VLOOKUP(A56,tesserati[],5,FALSE)),\"\",VLOOKUP(A56,tesserati[],5,FALSE))","v":""},{"$f":"IF(ISERROR(VLOOKUP(A56,tesserati[],7,FALSE)),\"\",VLOOKUP(A56,tesserati[],7,FALSE))","v":""}]
[null,{"$f":"IF(ISERROR(VLOOKUP(A57,tesserati[],2,FALSE)),\"\",VLOOKUP(A57,tesserati[],2,FALSE))","v":""},{"$f":"IF(ISERROR(VLOOKUP(A57,tesserati[],3,FALSE)),\"\",VLOOKUP(A57,tesserati[],3,FALSE))","v":""},{"$f":"IF(ISERROR(VLOOKUP(A57,tesserati[],4,FALSE)),\"\",VLOOKUP(A57,tesserati[],4,FALSE))","v":""},{"$f":"IF(ISERROR(VLOOKUP(A57,tesserati[],5,FALSE)),\"\",VLOOKUP(A57,tesserati[],5,FALSE))","v":""},{"$f":"IF(ISERROR(VLOOKUP(A57,tesserati[],7,FALSE)),\"\",VLOOKUP(A57,tesserati[],7,FALSE))","v":""}]
[null,{"$f":"IF(ISERROR(VLOOKUP(A58,tesserati[],2,FALSE)),\"\",VLOOKUP(A58,tesserati[],2,FALSE))","v":""},{"$f":"IF(ISERROR(VLOOKUP(A58,tesserati[],3,FALSE)),\"\",VLOOKUP(A58,tesserati[],3,FALSE))","v":""},{"$f":"IF(ISERROR(VLOOKUP(A58,tesserati[],4,FALSE)),\"\",VLOOKUP(A58,tesserati[],4,FALSE))","v":""},{"$f":"IF(ISERROR(VLOOKUP(A58,tesserati[],5,FALSE)),\"\",VLOOKUP(A58,tesserati[],5,FALSE))","v":""},{"$f":"IF(ISERROR(VLOOKUP(A58,tesserati[],7,FALSE)),\"\",VLOOKUP(A58,tesserati[],7,FALSE))","v":""}]
[null,{"$f":"IF(ISERROR(VLOOKUP(A59,tesserati[],2,FALSE)),\"\",VLOOKUP(A59,tesserati[],2,FALSE))","v":""},{"$f":"IF(ISERROR(VLOOKUP(A59,tesserati[],3,FALSE)),\"\",VLOOKUP(A59,tesserati[],3,FALSE))","v":""},{"$f":"IF(ISERROR(VLOOKUP(A59,tesserati[],4,FALSE)),\"\",VLOOKUP(A59,tesserati[],4,FALSE))","v":""},{"$f":"IF(ISERROR(VLOOKUP(A59,tesserati[],5,FALSE)),\"\",VLOOKUP(A59,tesserati[],5,FALSE))","v":""},{"$f":"IF(ISERROR(VLOOKUP(A59,tesserati[],7,FALSE)),\"\",VLOOKUP(A59,tesserati[],7,FALSE))","v":""}]
[null,{"$f":"IF(ISERROR(VLOOKUP(A60,tesserati[],2,FALSE)),\"\",VLOOKUP(A60,tesserati[],2,FALSE))","v":""},{"$f":"IF(ISERROR(VLOOKUP(A60,tesserati[],3,FALSE)),\"\",VLOOKUP(A60,tesserati[],3,FALSE))","v":""},{"$f":"IF(ISERROR(VLOOKUP(A60,tesserati[],4,FALSE)),\"\",VLOOKUP(A60,tesserati[],4,FALSE))","v":""},{"$f":"IF(ISERROR(VLOOKUP(A60,tesserati[],5,FALSE)),\"\",VLOOKUP(A60,tesserati[],5,FALSE))","v":""},{"$f":"IF(ISERROR(VLOOKUP(A60,tesserati[],7,FALSE)),\"\",VLOOKUP(A60,tesserati[],7,FALSE))","v":""}]
[null,{"$f":"IF(ISERROR(VLOOKUP(A61,tesserati[],2,FALSE)),\"\",VLOOKUP(A61,tesserati[],2,FALSE))","v":""},{"$f":"IF(ISERROR(VLOOKUP(A61,tesserati[],3,FALSE)),\"\",VLOOKUP(A61,tesserati[],3,FALSE))","v":""},{"$f":"IF(ISERROR(VLOOKUP(A61,tesserati[],4,FALSE)),\"\",VLOOKUP(A61,tesserati[],4,FALSE))","v":""},{"$f":"IF(ISERROR(VLOOKUP(A61,tesserati[],5,FALSE)),\"\",VLOOKUP(A61,tesserati[],5,FALSE))","v":""},{"$f":"IF(ISERROR(VLOOKUP(A61,tesserati[],7,FALSE)),\"\",VLOOKUP(A61,tesserati[],7,FALSE))","v":""}]
[null,{"$f":"IF(ISERROR(VLOOKUP(A62,tesserati[],2,FALSE)),\"\",VLOOKUP(A62,tesserati[],2,FALSE))","v":""},{"$f":"IF(ISERROR(VLOOKUP(A62,tesserati[],3,FALSE)),\"\",VLOOKUP(A62,tesserati[],3,FALSE))","v":""},{"$f":"IF(ISERROR(VLOOKUP(A62,tesserati[],4,FALSE)),\"\",VLOOKUP(A62,tesserati[],4,FALSE))","v":""},{"$f":"IF(ISERROR(VLOOKUP(A62,tesserati[],5,FALSE)),\"\",VLOOKUP(A62,tesserati[],5,FALSE))","v":""},{"$f":"IF(ISERROR(VLOOKUP(A62,tesserati[],7,FALSE)),\"\",VLOOKUP(A62,tesserati[],7,FALSE))","v":""}]
[null,{"$f":"IF(ISERROR(VLOOKUP(A63,tesserati[],2,FALSE)),\"\",VLOOKUP(A63,tesserati[],2,FALSE))","v":""},{"$f":"IF(ISERROR(VLOOKUP(A63,tesserati[],3,FALSE)),\"\",VLOOKUP(A63,tesserati[],3,FALSE))","v":""},{"$f":"IF(ISERROR(VLOOKUP(A63,tesserati[],4,FALSE)),\"\",VLOOKUP(A63,tesserati[],4,FALSE))","v":""},{"$f":"IF(ISERROR(VLOOKUP(A63,tesserati[],5,FALSE)),\"\",VLOOKUP(A63,tesserati[],5,FALSE))","v":""},{"$f":"IF(ISERROR(VLOOKUP(A63,tesserati[],7,FALSE)),\"\",VLOOKUP(A63,tesserati[],7,FALSE))","v":""}]
[null,{"$f":"IF(ISERROR(VLOOKUP(A64,tesserati[],2,FALSE)),\"\",VLOOKUP(A64,tesserati[],2,FALSE))","v":""},{"$f":"IF(ISERROR(VLOOKUP(A64,tesserati[],3,FALSE)),\"\",VLOOKUP(A64,tesserati[],3,FALSE))","v":""},{"$f":"IF(ISERROR(VLOOKUP(A64,tesserati[],4,FALSE)),\"\",VLOOKUP(A64,tesserati[],4,FALSE))","v":""},{"$f":"IF(ISERROR(VLOOKUP(A64,tesserati[],5,FALSE)),\"\",VLOOKUP(A64,tesserati[],5,FALSE))","v":""},{"$f":"IF(ISERROR(VLOOKUP(A64,tesserati[],7,FALSE)),\"\",VLOOKUP(A64,tesserati[],7,FALSE))","v":""}]
[null,{"$f":"IF(ISERROR(VLOOKUP(A65,tesserati[],2,FALSE)),\"\",VLOOKUP(A65,tesserati[],2,FALSE))","v":""},{"$f":"IF(ISERROR(VLOOKUP(A65,tesserati[],3,FALSE)),\"\",VLOOKUP(A65,tesserati[],3,FALSE))","v":""},{"$f":"IF(ISERROR(VLOOKUP(A65,tesserati[],4,FALSE)),\"\",VLOOKUP(A65,tesserati[],4,FALSE))","v":""},{"$f":"IF(ISERROR(VLOOKUP(A65,tesserati[],5,FALSE)),\"\",VLOOKUP(A65,tesserati[],5,FALSE))","v":""},{"$f":"IF(ISERROR(VLOOKUP(A65,tesserati[],7,FALSE)),\"\",VLOOKUP(A65,tesserati[],7,FALSE))","v":""}]
[null,{"$f":"IF(ISERROR(VLOOKUP(A66,tesserati[],2,FALSE)),\"\",VLOOKUP(A66,tesserati[],2,FALSE))","v":""},{"$f":"IF(ISERROR(VLOOKUP(A66,tesserati[],3,FALSE)),\"\",VLOOKUP(A66,tesserati[],3,FALSE))","v":""},{"$f":"IF(ISERROR(VLOOKUP(A66,tesserati[],4,FALSE)),\"\",VLOOKUP(A66,tesserati[],4,FALSE))","v":""},{"$f":"IF(ISERROR(VLOOKUP(A66,tesserati[],5,FALSE)),\"\",VLOOKUP(A66,tesserati[],5,FALSE))","v":""},{"$f":"IF(ISERROR(VLOOKUP(A66,tesserati[],7,FALSE)),\"\",VLOOKUP(A66,tesserati[],7,FALSE))","v":""}]
[null,{"$f":"IF(ISERROR(VLOOKUP(A67,tesserati[],2,FALSE)),\"\",VLOOKUP(A67,tesserati[],2,FALSE))","v":""},{"$f":"IF(ISERROR(VLOOKUP(A67,tesserati[],3,FALSE)),\"\",VLOOKUP(A67,tesserati[],3,FALSE))","v":""},{"$f":"IF(ISERROR(VLOOKUP(A67,tesserati[],4,FALSE)),\"\",VLOOKUP(A67,tesserati[],4,FALSE))","v":""},{"$f":"IF(ISERROR(VLOOKUP(A67,tesserati[],5,FALSE)),\"\",VLOOKUP(A67,tesserati[],5,FALSE))","v":""},{"$f":"IF(ISERROR(VLOOKUP(A67,tesserati[],7,FALSE)),\"\",VLOOKUP(A67,tesserati[],7,FALSE))","v":""}]
[null,{"$f":"IF(ISERROR(VLOOKUP(A68,tesserati[],2,FALSE)),\"\",VLOOKUP(A68,tesserati[],2,FALSE))","v":""},{"$f":"IF(ISERROR(VLOOKUP(A68,tesserati[],3,FALSE)),\"\",VLOOKUP(A68,tesserati[],3,FALSE))","v":""},{"$f":"IF(ISERROR(VLOOKUP(A68,tesserati[],4,FALSE)),\"\",VLOOKUP(A68,tesserati[],4,FALSE))","v":""},{"$f":"IF(ISERROR(VLOOKUP(A68,tesserati[],5,FALSE)),\"\",VLOOKUP(A68,tesserati[],5,FALSE))","v":""},{"$f":"IF(ISERROR(VLOOKUP(A68,tesserati[],7,FALSE)),\"\",VLOOKUP(A68,tesserati[],7,FALSE))","v":""}]
[null,{"$f":"IF(ISERROR(VLOOKUP(A69,tesserati[],2,FALSE)),\"\",VLOOKUP(A69,tesserati[],2,FALSE))","v":""},{"$f":"IF(ISERROR(VLOOKUP(A69,tesserati[],3,FALSE)),\"\",VLOOKUP(A69,tesserati[],3,FALSE))","v":""},{"$f":"IF(ISERROR(VLOOKUP(A69,tesserati[],4,FALSE)),\"\",VLOOKUP(A69,tesserati[],4,FALSE))","v":""},{"$f":"IF(ISERROR(VLOOKUP(A69,tesserati[],5,FALSE)),\"\",VLOOKUP(A69,tesserati[],5,FALSE))","v":""},{"$f":"IF(ISERROR(VLOOKUP(A69,tesserati[],7,FALSE)),\"\",VLOOKUP(A69,tesserati[],7,FALSE))","v":""}]
[null,{"$f":"IF(ISERROR(VLOOKUP(A70,tesserati[],2,FALSE)),\"\",VLOOKUP(A70,tesserati[],2,FALSE))","v":""},{"$f":"IF(ISERROR(VLOOKUP(A70,tesserati[],3,FALSE)),\"\",VLOOKUP(A70,tesserati[],3,FALSE))","v":""},{"$f":"IF(ISERROR(VLOOKUP(A70,tesserati[],4,FALSE)),\"\",VLOOKUP(A70,tesserati[],4,FALSE))","v":""},{"$f":"IF(ISERROR(VLOOKUP(A70,tesserati[],5,FALSE)),\"\",VLOOKUP(A70,tesserati[],5,FALSE))","v":""},{"$f":"IF(ISERROR(VLOOKUP(A70,tesserati[],7,FALSE)),\"\",VLOOKUP(A70,tesserati[],7,FALSE))","v":""}]
[null,{"$f":"IF(ISERROR(VLOOKUP(A71,tesserati[],2,FALSE)),\"\",VLOOKUP(A71,tesserati[],2,FALSE))","v":""},{"$f":"IF(ISERROR(VLOOKUP(A71,tesserati[],3,FALSE)),\"\",VLOOKUP(A71,tesserati[],3,FALSE))","v":""},{"$f":"IF(ISERROR(VLOOKUP(A71,tesserati[],4,FALSE)),\"\",VLOOKUP(A71,tesserati[],4,FALSE))","v":""},{"$f":"IF(ISERROR(VLOOKUP(A71,tesserati[],5,FALSE)),\"\",VLOOKUP(A71,tesserati[],5,FALSE))","v":""},{"$f":"IF(ISERROR(VLOOKUP(A71,tesserati[],7,FALSE)),\"\",VLOOKUP(A71,tesserati[],7,FALSE))","v":""}]
[null,{"$f":"IF(ISERROR(VLOOKUP(A72,tesserati[],2,FALSE)),\"\",VLOOKUP(A72,tesserati[],2,FALSE))","v":""},{"$f":"IF(ISERROR(VLOOKUP(A72,tesserati[],3,FALSE)),\"\",VLOOKUP(A72,tesserati[],3,FALSE))","v":""},{"$f":"IF(ISERROR(VLOOKUP(A72,tesserati[],4,FALSE)),\"\",VLOOKUP(A72,tesserati[],4,FALSE))","v":""},{"$f":"IF(ISERROR(VLOOKUP(A72,tesserati[],5,FALSE)),\"\",VLOOKUP(A72,tesserati[],5,FALSE))","v":""},{"$f":"IF(ISERROR(VLOOKUP(A72,tesserati[],7,FALSE)),\"\",VLOOKUP(A72,tesserati[],7,FALSE))","v":""}]

{"sheet":"STAFFETTE 4X100 RF","index":6,"n_rows":72,"n_cols":12,"rows_kept":72,"cut":false,"hidden":false,"merged":[[53,6,56,6],[53,7,56,7],[53,8,56,8],[53,9,56,9],[57,6,60,6],[57,7,60,7],[57,8,60,8],[57,9,60,9],[45,6,48,6],[45,7,48,7],[45,8,48,8],[45,9,48,9],[49,6,52,6],[49,7,52,7],[49,8,52,8],[49,9,52,9],[37,6,40,6],[37,7,40,7],[37,8,40,8],[37,9,40,9],[41,6,44,6],[41,7,44,7],[41,8,44,8],[41,9,44,9],[28,6,31,6],[28,7,31,7],[28,8,31,8],[28,9,31,9],[33,6,36,6],[33,7,36,7],[33,8,36,8],[33,9,36,9],[32,0,32,11],[20,6,23,6],[20,7,23,7],[20,8,23,8],[20,9,23,9],[24,6,27,6],[24,7,27,7],[24,8,27,8],[24,9,27,9],[12,6,15,6],[12,7,15,7],[12,8,15,8],[12,9,15,9],[16,6,19,6],[16,7,19,7],[16,8,19,8],[16,9,19,9],[8,6,11,6],[8,7,11,7],[8,8,11,8],[8,9,11,9],[5,0,6,0],[5,1,6,2],[5,3,6,3],[5,4,6,4],[5,5,6,5],[5,6,6,6],[7,0,7,11],[5,7,6,7],[5,8,6,8],[5,9,6,9],[5,10,6,10],[5,11,6,11],[2,0,2,1],[2,4,4,4],[2,5,2,7],[2,8,2,10],[2,11,4,11],[3,0,4,1],[3,2,4,2],[3,3,4,3],[3,5,4,7],[3,8,4,10],[0,2,0,4],[0,5,0,7],[0,8,0,10],[0,11,1,11],[1,2,1,4],[1,5,1,7],[1,8,1,10]]}
[null,null,"MANIFESTAZIONE",null,null,"LOCALITA'",null,null,"SOCIETA' ORGANIZZATRICE"]
[null,null,"6° prova provinciale",null,null,"Tezze sul Brenta",null,null,"CSI Tezze sul Brenta"]
["CATEGORIA",null,"ORA INIZIO","ORA FINE",null,"GARA",null,null,"DATA"]
["RAGAZZE",null,null,null,null,"STAFFETTA 4 X 100",null,null,"2017-09-24"]
[]
["N. tessera","ATLETA\nCOGNOME E NOME",null,"SOCIETA'","NASCITA","CATEGORIA","Corsia","PETTORALE","Tempo","Piazzamento","PUNTI","CL."]
[]
["1 SERIE",{"$f":"IF(ISERROR(VLOOKUP(A8,tesserati[],2,FALSE)),\"\",VLOOKUP(A8,tesserati[],2,FALSE))","v":""},{"$f":"IF(ISERROR(VLOOKUP(A8,tesserati[],3,FALSE)),\"\",VLOOKUP(A8,tesserati[],3,FALSE))","v":""},{"$f":"IF(ISERROR(VLOOKUP(#REF!,tesserati[],5,FALSE)),\"\",VLOOKUP(#REF!,tesserati[],5,FALSE))","v":""},{"$f":"IF(ISERROR(VLOOKUP(A8,tesserati[],4,FALSE)),\"\",VLOOKUP(A8,tesserati[],4,FALSE))","v":""},{"$f":"IF(ISERROR(VLOOKUP(A8,tesserati[],7,FALSE)),\"\",VLOOKUP(A8,tesserati[],7,FALSE))","v":""}]
[2728,{"$f":"IF(ISERROR(VLOOKUP(A9,tesserati[],2,FALSE)),\"\",VLOOKUP(A9,tesserati[],2,FALSE))","v":"GALLEAZZO"},{"$f":"IF(ISERROR(VLOOKUP(A9,tesserati[],3,FALSE)),\"\",VLOOKUP(A9,tesserati[],3,FALSE))","v":"MATILDE"},{"$f":"IF(ISERROR(VLOOKUP(A9,tesserati[],4,FALSE)),\"\",VLOOKUP(A9,tesserati[],4,FALSE))","v":"POL. DIL. MONTECCHIO PRECALCINO"},{"$f":"IF(ISERROR(VLOOKUP(A9,tesserati[],5,FALSE)),\"\",VLOOKUP(A9,tesserati[],5,FALSE))","v":2004},{"$f":"IF(ISERROR(VLOOKUP(A9,tesserati[],7,FALSE)),\"\",VLOOKUP(A9,tesserati[],7,FALSE))","v":"RF"},1,null,59.6,1]
[2704,{"$f":"IF(ISERROR(VLOOKUP(A10,tesserati[],2,FALSE)),\"\",VLOOKUP(A10,tesserati[],2,FALSE))","v":"CHEMELLO"},{"$f":"IF(ISERROR(VLOOKUP(A10,tesserati[],3,FALSE)),\"\",VLOOKUP(A10,tesserati[],3,FALSE))","v":"SILVIA"},{"$f":"IF(ISERROR(VLOOKUP(A10,tesserati[],4,FALSE)),\"\",VLOOKUP(A10,tesserati[],4,FALSE))","v":"POL. DIL. MONTECCHIO PRECALCINO"},{"$f":"IF(ISERROR(VLOOKUP(A10,tesserati[],5,FALSE)),\"\",VLOOKUP(A10,tesserati[],5,FALSE))","v":2004},{"$f":"IF(ISERROR(VLOOKUP(A10,tesserati[],7,FALSE)),\"\",VLOOKUP(A10,tesserati[],7,FALSE))","v":"RF"}]
[2721,{"$f":"IF(ISERROR(VLOOKUP(A11,tesserati[],2,FALSE)),\"\",VLOOKUP(A11,tesserati[],2,FALSE))","v":"TESTOLIN"},{"$f":"IF(ISERROR(VLOOKUP(A11,tesserati[],3,FALSE)),\"\",VLOOKUP(A11,tesserati[],3,FALSE))","v":"ANGELA"},{"$f":"IF(ISERROR(VLOOKUP(A11,tesserati[],4,FALSE)),\"\",VLOOKUP(A11,tesserati[],4,FALSE))","v":"POL. DIL. MONTECCHIO PRECALCINO"},{"$f":"IF(ISERROR(VLOOKUP(A11,tesserati[],5,FALSE)),\"\",VLOOKUP(A11,tesserati[],5,FALSE))","v":2004},{"$f":"IF(ISERROR(VLOOKUP(A11,tesserati[],7,FALSE)),\"\",VLOOKUP(A11,tesserati[],7,FALSE))","v":"RF"}]
[2696,{"$f":"IF(ISERROR(VLOOKUP(A12,tesserati[],2,FALSE)),\"\",VLOOKUP(A12,tesserati[],2,FALSE))","v":"MACULAN"},{"$f":"IF(ISERROR(VLOOKUP(A12,tesserati[],3,FALSE)),\"\",VLOOKUP(A12,tesserati[],3,FALSE))","v":"NOEMI"},{"$f":"IF(ISERROR(VLOOKUP(A12,tesserati[],4,FALSE)),\"\",VLOOKUP(A12,tesserati[],4,FALSE))","v":"POL. DIL. MONTECCHIO PRECALCINO"},{"$f":"IF(ISERROR(VLOOKUP(A12,tesserati[],5,FALSE)),\"\",VLOOKUP(A12,tesserati[],5,FALSE))","v":2004},{"$f":"IF(ISERROR(VLOOKUP(A12,tesserati[],7,FALSE)),\"\",VLOOKUP(A12,tesserati[],7,FALSE))","v":"RF"}]
[null,{"$f":"IF(ISERROR(VLOOKUP(A13,tesserati[],2,FALSE)),\"\",VLOOKUP(A13,tesserati[],2,FALSE))","v":""},{"$f":"IF(ISERROR(VLOOKUP(A13,tesserati[],3,FALSE)),\"\",VLOOKUP(A13,tesserati[],3,FALSE))","v":""},{"$f":"IF(ISERROR(VLOOKUP(A13,tesserati[],4,FALSE)),\"\",VLOOKUP(A13,tesserati[],4,FALSE))","v":""},{"$f":"IF(ISERROR(VLOOKUP(A13,tesserati[],5,FALSE)),\"\",VLOOKUP(A13,tesserati[],5,FALSE))","v":""},{"$f":"IF(ISERROR(VLOOKUP(A13,tesserati[],7,FALSE)),\"\",VLOOKUP(A13,tesserati[],7,FALSE))","v":""}]
[null,{"$f":"IF(ISERROR(VLOOKUP(A14,tesserati[],2,FALSE)),\"\",VLOOKUP(A14,tesserati[],2,FALSE))","v":""},{"$f":"IF(ISERROR(VLOOKUP(A14,tesserati[],3,FALSE)),\"\",VLOOKUP(A14,tesserati[],3,FALSE))","v":""},{"$f":"IF(ISERROR(VLOOKUP(A14,tesserati[],4,FALSE)),\"\",VLOOKUP(A14,tesserati[],4,FALSE))","v":""},{"$f":"IF(ISERROR(VLOOKUP(A14,tesserati[],5,FALSE)),\"\",VLOOKUP(A14,tesserati[],5,FALSE))","v":""},{"$f":"IF(ISERROR(VLOOKUP(A14,tesserati[],7,FALSE)),\"\",VLOOKUP(A14,tesserati[],7,FALSE))","v":""}]
[null,{"$f":"IF(ISERROR(VLOOKUP(A15,tesserati[],2,FALSE)),\"\",VLOOKUP(A15,tesserati[],2,FALSE))","v":""},{"$f":"IF(ISERROR(VLOOKUP(A15,tesserati[],3,FALSE)),\"\",VLOOKUP(A15,tesserati[],3,FALSE))","v":""},{"$f":"IF(ISERROR(VLOOKUP(A15,tesserati[],4,FALSE)),\"\",VLOOKUP(A15,tesserati[],4,FALSE))","v":""},{"$f":"IF(ISERROR(VLOOKUP(A15,tesserati[],5,FALSE)),\"\",VLOOKUP(A15,tesserati[],5,FALSE))","v":""},{"$f":"IF(ISERROR(VLOOKUP(A15,tesserati[],7,FALSE)),\"\",VLOOKUP(A15,tesserati[],7,FALSE))","v":""}]
[null,{"$f":"IF(ISERROR(VLOOKUP(A16,tesserati[],2,FALSE)),\"\",VLOOKUP(A16,tesserati[],2,FALSE))","v":""},{"$f":"IF(ISERROR(VLOOKUP(A16,tesserati[],3,FALSE)),\"\",VLOOKUP(A16,tesserati[],3,FALSE))","v":""},{"$f":"IF(ISERROR(VLOOKUP(A16,tesserati[],4,FALSE)),\"\",VLOOKUP(A16,tesserati[],4,FALSE))","v":""},{"$f":"IF(ISERROR(VLOOKUP(A16,tesserati[],5,FALSE)),\"\",VLOOKUP(A16,tesserati[],5,FALSE))","v":""},{"$f":"IF(ISERROR(VLOOKUP(A16,tesserati[],7,FALSE)),\"\",VLOOKUP(A16,tesserati[],7,FALSE))","v":""}]
[null,{"$f":"IF(ISERROR(VLOOKUP(A17,tesserati[],2,FALSE)),\"\",VLOOKUP(A17,tesserati[],2,FALSE))","v":""},{"$f":"IF(ISERROR(VLOOKUP(A17,tesserati[],3,FALSE)),\"\",VLOOKUP(A17,tesserati[],3,FALSE))","v":""},{"$f":"IF(ISERROR(VLOOKUP(A17,tesserati[],4,FALSE)),\"\",VLOOKUP(A17,tesserati[],4,FALSE))","v":""},{"$f":"IF(ISERROR(VLOOKUP(A17,tesserati[],5,FALSE)),\"\",VLOOKUP(A17,tesserati[],5,FALSE))","v":""},{"$f":"IF(ISERROR(VLOOKUP(A17,tesserati[],7,FALSE)),\"\",VLOOKUP(A17,tesserati[],7,FALSE))","v":""}]
[null,{"$f":"IF(ISERROR(VLOOKUP(A18,tesserati[],2,FALSE)),\"\",VLOOKUP(A18,tesserati[],2,FALSE))","v":""},{"$f":"IF(ISERROR(VLOOKUP(A18,tesserati[],3,FALSE)),\"\",VLOOKUP(A18,tesserati[],3,FALSE))","v":""},{"$f":"IF(ISERROR(VLOOKUP(A18,tesserati[],4,FALSE)),\"\",VLOOKUP(A18,tesserati[],4,FALSE))","v":""},{"$f":"IF(ISERROR(VLOOKUP(A18,tesserati[],5,FALSE)),\"\",VLOOKUP(A18,tesserati[],5,FALSE))","v":""},{"$f":"IF(ISERROR(VLOOKUP(A18,tesserati[],7,FALSE)),\"\",VLOOKUP(A18,tesserati[],7,FALSE))","v":""}]
[null,{"$f":"IF(ISERROR(VLOOKUP(A19,tesserati[],2,FALSE)),\"\",VLOOKUP(A19,tesserati[],2,FALSE))","v":""},{"$f":"IF(ISERROR(VLOOKUP(A19,tesserati[],3,FALSE)),\"\",VLOOKUP(A19,tesserati[],3,FALSE))","v":""},{"$f":"IF(ISERROR(VLOOKUP(A19,tesserati[],4,FALSE)),\"\",VLOOKUP(A19,tesserati[],4,FALSE))","v":""},{"$f":"IF(ISERROR(VLOOKUP(A19,tesserati[],5,FALSE)),\"\",VLOOKUP(A19,tesserati[],5,FALSE))","v":""},{"$f":"IF(ISERROR(VLOOKUP(A19,tesserati[],7,FALSE)),\"\",VLOOKUP(A19,tesserati[],7,FALSE))","v":""}]
[null,{"$f":"IF(ISERROR(VLOOKUP(A20,tesserati[],2,FALSE)),\"\",VLOOKUP(A20,tesserati[],2,FALSE))","v":""},{"$f":"IF(ISERROR(VLOOKUP(A20,tesserati[],3,FALSE)),\"\",VLOOKUP(A20,tesserati[],3,FALSE))","v":""},{"$f":"IF(ISERROR(VLOOKUP(A20,tesserati[],4,FALSE)),\"\",VLOOKUP(A20,tesserati[],4,FALSE))","v":""},{"$f":"IF(ISERROR(VLOOKUP(A20,tesserati[],5,FALSE)),\"\",VLOOKUP(A20,tesserati[],5,FALSE))","v":""},{"$f":"IF(ISERROR(VLOOKUP(A20,tesserati[],7,FALSE)),\"\",VLOOKUP(A20,tesserati[],7,FALSE))","v":""}]
[null,{"$f":"IF(ISERROR(VLOOKUP(A21,tesserati[],2,FALSE)),\"\",VLOOKUP(A21,tesserati[],2,FALSE))","v":""},{"$f":"IF(ISERROR(VLOOKUP(A21,tesserati[],3,FALSE)),\"\",VLOOKUP(A21,tesserati[],3,FALSE))","v":""},{"$f":"IF(ISERROR(VLOOKUP(A21,tesserati[],4,FALSE)),\"\",VLOOKUP(A21,tesserati[],4,FALSE))","v":""},{"$f":"IF(ISERROR(VLOOKUP(A21,tesserati[],5,FALSE)),\"\",VLOOKUP(A21,tesserati[],5,FALSE))","v":""},{"$f":"IF(ISERROR(VLOOKUP(A21,tesserati[],7,FALSE)),\"\",VLOOKUP(A21,tesserati[],7,FALSE))","v":""},4]
[null,{"$f":"IF(ISERROR(VLOOKUP(A22,tesserati[],2,FALSE)),\"\",VLOOKUP(A22,tesserati[],2,FALSE))","v":""},{"$f":"IF(ISERROR(VLOOKUP(A22,tesserati[],3,FALSE)),\"\",VLOOKUP(A22,tesserati[],3,FALSE))","v":""},{"$f":"IF(ISERROR(VLOOKUP(A22,tesserati[],4,FALSE)),\"\",VLOOKUP(A22,tesserati[],4,FALSE))","v":""},{"$f":"IF(ISERROR(VLOOKUP(A22,tesserati[],5,FALSE)),\"\",VLOOKUP(A22,tesserati[],5,FALSE))","v":""},{"$f":"IF(ISERROR(VLOOKUP(A22,tesserati[],7,FALSE)),\"\",VLOOKUP(A22,tesserati[],7,FALSE))","v":""}]
[null,{"$f":"IF(ISERROR(VLOOKUP(A23,tesserati[],2,FALSE)),\"\",VLOOKUP(A23,tesserati[],2,FALSE))","v":""},{"$f":"IF(ISERROR(VLOOKUP(A23,tesserati[],3,FALSE)),\"\",VLOOKUP(A23,tesserati[],3,FALSE))","v":""},{"$f":"IF(ISERROR(VLOOKUP(A23,tesserati[],4,FALSE)),\"\",VLOOKUP(A23,tesserati[],4,FALSE))","v":""},{"$f":"IF(ISERROR(VLOOKUP(A23,tesserati[],5,FALSE)),\"\",VLOOKUP(A23,tesserati[],5,FALSE))","v":""},{"$f":"IF(ISERROR(VLOOKUP(A23,tesserati[],7,FALSE)),\"\",VLOOKUP(A23,tesserati[],7,FALSE))","v":""}]
[null,{"$f":"IF(ISERROR(VLOOKUP(A24,tesserati[],2,FALSE)),\"\",VLOOKUP(A24,tesserati[],2,FALSE))","v":""},{"$f":"IF(ISERROR(VLOOKUP(A24,tesserati[],3,FALSE)),\"\",VLOOKUP(A24,tesserati[],3,FALSE))","v":""},{"$f":"IF(ISERROR(VLOOKUP(A24,tesserati[],4,FALSE)),\"\",VLOOKUP(A24,tesserati[],4,FALSE))","v":""},{"$f":"IF(ISERROR(VLOOKUP(A24,tesserati[],5,FALSE)),\"\",VLOOKUP(A24,tesserati[],5,FALSE))","v":""},{"$f":"IF(ISERROR(VLOOKUP(A24,tesserati[],7,FALSE)),\"\",VLOOKUP(A24,tesserati[],7,FALSE))","v":""}]
[null,{"$f":"IF(ISERROR(VLOOKUP(A25,tesserati[],2,FALSE)),\"\",VLOOKUP(A25,tesserati[],2,FALSE))","v":""},{"$f":"IF(ISERROR(VLOOKUP(A25,tesserati[],3,FALSE)),\"\",VLOOKUP(A25,tesserati[],3,FALSE))","v":""},{"$f":"IF(ISERROR(VLOOKUP(A25,tesserati[],4,FALSE)),\"\",VLOOKUP(A25,tesserati[],4,FALSE))","v":""},{"$f":"IF(ISERROR(VLOOKUP(A25,tesserati[],5,FALSE)),\"\",VLOOKUP(A25,tesserati[],5,FALSE))","v":""},{"$f":"IF(ISERROR(VLOOKUP(A25,tesserati[],7,FALSE)),\"\",VLOOKUP(A25,tesserati[],7,FALSE))","v":""},5]
[null,{"$f":"IF(ISERROR(VLOOKUP(A26,tesserati[],2,FALSE)),\"\",VLOOKUP(A26,tesserati[],2,FALSE))","v":""},{"$f":"IF(ISERROR(VLOOKUP(A26,tesserati[],3,FALSE)),\"\",VLOOKUP(A26,tesserati[],3,FALSE))","v":""},{"$f":"IF(ISERROR(VLOOKUP(A26,tesserati[],4,FALSE)),\"\",VLOOKUP(A26,tesserati[],4,FALSE))","v":""},{"$f":"IF(ISERROR(VLOOKUP(A26,tesserati[],5,FALSE)),\"\",VLOOKUP(A26,tesserati[],5,FALSE))","v":""},{"$f":"IF(ISERROR(VLOOKUP(A26,tesserati[],7,FALSE)),\"\",VLOOKUP(A26,tesserati[],7,FALSE))","v":""}]
[null,{"$f":"IF(ISERROR(VLOOKUP(A27,tesserati[],2,FALSE)),\"\",VLOOKUP(A27,tesserati[],2,FALSE))","v":""},{"$f":"IF(ISERROR(VLOOKUP(A27,tesserati[],3,FALSE)),\"\",VLOOKUP(A27,tesserati[],3,FALSE))","v":""},{"$f":"IF(ISERROR(VLOOKUP(A27,tesserati[],4,FALSE)),\"\",VLOOKUP(A27,tesserati[],4,FALSE))","v":""},{"$f":"IF(ISERROR(VLOOKUP(A27,tesserati[],5,FALSE)),\"\",VLOOKUP(A27,tesserati[],5,FALSE))","v":""},{"$f":"IF(ISERROR(VLOOKUP(A27,tesserati[],7,FALSE)),\"\",VLOOKUP(A27,tesserati[],7,FALSE))","v":""}]
[null,{"$f":"IF(ISERROR(VLOOKUP(A28,tesserati[],2,FALSE)),\"\",VLOOKUP(A28,tesserati[],2,FALSE))","v":""},{"$f":"IF(ISERROR(VLOOKUP(A28,tesserati[],3,FALSE)),\"\",VLOOKUP(A28,tesserati[],3,FALSE))","v":""},{"$f":"IF(ISERROR(VLOOKUP(A28,tesserati[],4,FALSE)),\"\",VLOOKUP(A28,tesserati[],4,FALSE))","v":""},{"$f":"IF(ISERROR(VLOOKUP(A28,tesserati[],5,FALSE)),\"\",VLOOKUP(A28,tesserati[],5,FALSE))","v":""},{"$f":"IF(ISERROR(VLOOKUP(A28,tesserati[],7,FALSE)),\"\",VLOOKUP(A28,tesserati[],7,FALSE))","v":""}]
[null,{"$f":"IF(ISERROR(VLOOKUP(A29,tesserati[],2,FALSE)),\"\",VLOOKUP(A29,tesserati[],2,FALSE))","v":""},{"$f":"IF(ISERROR(VLOOKUP(A29,tesserati[],3,FALSE)),\"\",VLOOKUP(A29,tesserati[],3,FALSE))","v":""},{"$f":"IF(ISERROR(VLOOKUP(A29,tesserati[],4,FALSE)),\"\",VLOOKUP(A29,tesserati[],4,FALSE))","v":""},{"$f":"IF(ISERROR(VLOOKUP(A29,tesserati[],5,FALSE)),\"\",VLOOKUP(A29,tesserati[],5,FALSE))","v":""},{"$f":"IF(ISERROR(VLOOKUP(A29,tesserati[],7,FALSE)),\"\",VLOOKUP(A29,tesserati[],7,FALSE))","v":""},6]
[null,{"$f":"IF(ISERROR(VLOOKUP(A30,tesserati[],2,FALSE)),\"\",VLOOKUP(A30,tesserati[],2,FALSE))","v":""},{"$f":"IF(ISERROR(VLOOKUP(A30,tesserati[],3,FALSE)),\"\",VLOOKUP(A30,tesserati[],3,FALSE))","v":""},{"$f":"IF(ISERROR(VLOOKUP(A30,tesserati[],4,FALSE)),\"\",VLOOKUP(A30,tesserati[],4,FALSE))","v":""},{"$f":"IF(ISERROR(VLOOKUP(A30,tesserati[],5,FALSE)),\"\",VLOOKUP(A30,tesserati[],5,FALSE))","v":""},{"$f":"IF(ISERROR(VLOOKUP(A30,tesserati[],7,FALSE)),\"\",VLOOKUP(A30,tesserati[],7,FALSE))","v":""}]
[null,{"$f":"IF(ISERROR(VLOOKUP(A31,tesserati[],2,FALSE)),\"\",VLOOKUP(A31,tesserati[],2,FALSE))","v":""},{"$f":"IF(ISERROR(VLOOKUP(A31,tesserati[],3,FALSE)),\"\",VLOOKUP(A31,tesserati[],3,FALSE))","v":""},{"$f":"IF(ISERROR(VLOOKUP(A31,tesserati[],4,FALSE)),\"\",VLOOKUP(A31,tesserati[],4,FALSE))","v":""},{"$f":"IF(ISERROR(VLOOKUP(A31,tesserati[],5,FALSE)),\"\",VLOOKUP(A31,tesserati[],5,FALSE))","v":""},{"$f":"IF(ISERROR(VLOOKUP(A31,tesserati[],7,FALSE)),\"\",VLOOKUP(A31,tesserati[],7,FALSE))","v":""}]
[null,{"$f":"IF(ISERROR(VLOOKUP(A32,tesserati[],2,FALSE)),\"\",VLOOKUP(A32,tesserati[],2,FALSE))","v":""},{"$f":"IF(ISERROR(VLOOKUP(A32,tesserati[],3,FALSE)),\"\",VLOOKUP(A32,tesserati[],3,FALSE))","v":""},{"$f":"IF(ISERROR(VLOOKUP(A32,tesserati[],4,FALSE)),\"\",VLOOKUP(A32,tesserati[],4,FALSE))","v":""},{"$f":"IF(ISERROR(VLOOKUP(A32,tesserati[],5,FALSE)),\"\",VLOOKUP(A32,tesserati[],5,FALSE))","v":""},{"$f":"IF(ISERROR(VLOOKUP(A32,tesserati[],7,FALSE)),\"\",VLOOKUP(A32,tesserati[],7,FALSE))","v":""}]
["2 SERIE"]
[null,{"$f":"IF(ISERROR(VLOOKUP(A34,tesserati[],2,FALSE)),\"\",VLOOKUP(A34,tesserati[],2,FALSE))","v":""},{"$f":"IF(ISERROR(VLOOKUP(A34,tesserati[],3,FALSE)),\"\",VLOOKUP(A34,tesserati[],3,FALSE))","v":""},{"$f":"IF(ISERROR(VLOOKUP(A34,tesserati[],4,FALSE)),\"\",VLOOKUP(A34,tesserati[],4,FALSE))","v":""},{"$f":"IF(ISERROR(VLOOKUP(A34,tesserati[],5,FALSE)),\"\",VLOOKUP(A34,tesserati[],5,FALSE))","v":""},{"$f":"IF(ISERROR(VLOOKUP(A34,tesserati[],7,FALSE)),\"\",VLOOKUP(A34,tesserati[],7,FALSE))","v":""},1]
[null,{"$f":"IF(ISERROR(VLOOKUP(A35,tesserati[],2,FALSE)),\"\",VLOOKUP(A35,tesserati[],2,FALSE))","v":""},{"$f":"IF(ISERROR(VLOOKUP(A35,tesserati[],3,FALSE)),\"\",VLOOKUP(A35,tesserati[],3,FALSE))","v":""},{"$f":"IF(ISERROR(VLOOKUP(A35,tesserati[],4,FALSE)),\"\",VLOOKUP(A35,tesserati[],4,FALSE))","v":""},{"$f":"IF(ISERROR(VLOOKUP(A35,tesserati[],5,FALSE)),\"\",VLOOKUP(A35,tesserati[],5,FALSE))","v":""},{"$f":"IF(ISERROR(VLOOKUP(A35,tesserati[],7,FALSE)),\"\",VLOOKUP(A35,tesserati[],7,FALSE))","v":""}]
[null,{"$f":"IF(ISERROR(VLOOKUP(A36,tesserati[],2,FALSE)),\"\",VLOOKUP(A36,tesserati[],2,FALSE))","v":""},{"$f":"IF(ISERROR(VLOOKUP(A36,tesserati[],3,FALSE)),\"\",VLOOKUP(A36,tesserati[],3,FALSE))","v":""},{"$f":"IF(ISERROR(VLOOKUP(A36,tesserati[],4,FALSE)),\"\",VLOOKUP(A36,tesserati[],4,FALSE))","v":""},{"$f":"IF(ISERROR(VLOOKUP(A36,tesserati[],5,FALSE)),\"\",VLOOKUP(A36,tesserati[],5,FALSE))","v":""},{"$f":"IF(ISERROR(VLOOKUP(A36,tesserati[],7,FALSE)),\"\",VLOOKUP(A36,tesserati[],7,FALSE))","v":""}]
[null,{"$f":"IF(ISERROR(VLOOKUP(A37,tesserati[],2,FALSE)),\"\",VLOOKUP(A37,tesserati[],2,FALSE))","v":""},{"$f":"IF(ISERROR(VLOOKUP(A37,tesserati[],3,FALSE)),\"\",VLOOKUP(A37,tesserati[],3,FALSE))","v":""},{"$f":"IF(ISERROR(VLOOKUP(A37,tesserati[],4,FALSE)),\"\",VLOOKUP(A37,tesserati[],4,FALSE))","v":""},{"$f":"IF(ISERROR(VLOOKUP(A37,tesserati[],5,FALSE)),\"\",VLOOKUP(A37,tesserati[],5,FALSE))","v":""},{"$f":"IF(ISERROR(VLOOKUP(A37,tesserati[],7,FALSE)),\"\",VLOOKUP(A37,tesserati[],7,FALSE))","v":""}]
[null,{"$f":"IF(ISERROR(VLOOKUP(A38,tesserati[],2,FALSE)),\"\",VLOOKUP(A38,tesserati[],2,FALSE))","v":""},{"$f":"IF(ISERROR(VLOOKUP(A38,tesserati[],3,FALSE)),\"\",VLOOKUP(A38,tesserati[],3,FALSE))","v":""},{"$f":"IF(ISERROR(VLOOKUP(A38,tesserati[],4,FALSE)),\"\",VLOOKUP(A38,tesserati[],4,FALSE))","v":""},{"$f":"IF(ISERROR(VLOOKUP(A38,tesserati[],5,FALSE)),\"\",VLOOKUP(A38,tesserati[],5,FALSE))","v":""},{"$f":"IF(ISERROR(VLOOKUP(A38,tesserati[],7,FALSE)),\"\",VLOOKUP(A38,tesserati[],7,FALSE))","v":""},2]
[null,{"$f":"IF(ISERROR(VLOOKUP(A39,tesserati[],2,FALSE)),\"\",VLOOKUP(A39,tesserati[],2,FALSE))","v":""},{"$f":"IF(ISERROR(VLOOKUP(A39,tesserati[],3,FALSE)),\"\",VLOOKUP(A39,tesserati[],3,FALSE))","v":""},{"$f":"IF(ISERROR(VLOOKUP(A39,tesserati[],4,FALSE)),\"\",VLOOKUP(A39,tesserati[],4,FALSE))","v":""},{"$f":"IF(ISERROR(VLOOKUP(A39,tesserati[],5,FALSE)),\"\",VLOOKUP(A39,tesserati[],5,FALSE))","v":""},{"$f":"IF(ISERROR(VLOOKUP(A39,tesserati[],7,FALSE)),\"\",VLOOKUP(A39,tesserati[],7,FALSE))","v":""}]
[null,{"$f":"IF(ISERROR(VLOOKUP(A40,tesserati[],2,FALSE)),\"\",VLOOKUP(A40,tesserati[],2,FALSE))","v":""},{"$f":"IF(ISERROR(VLOOKUP(A40,tesserati[],3,FALSE)),\"\",VLOOKUP(A40,tesserati[],3,FALSE))","v":""},{"$f":"IF(ISERROR(VLOOKUP(A40,tesserati[],4,FALSE)),\"\",VLOOKUP(A40,tesserati[],4,FALSE))","v":""},{"$f":"IF(ISERROR(VLOOKUP(A40,tesserati[],5,FALSE)),\"\",VLOOKUP(A40,tesserati[],5,FALSE))","v":""},{"$f":"IF(ISERROR(VLOOKUP(A40,tesserati[],7,FALSE)),\"\",VLOOKUP(A40,tesserati[],7,FALSE))","v":""}]
[null,{"$f":"IF(ISERROR(VLOOKUP(A41,tesserati[],2,FALSE)),\"\",VLOOKUP(A41,tesserati[],2,FALSE))","v":""},{"$f":"IF(ISERROR(VLOOKUP(A41,tesserati[],3,FALSE)),\"\",VLOOKUP(A41,tesserati[],3,FALSE))","v":""},{"$f":"IF(ISERROR(VLOOKUP(A41,tesserati[],4,FALSE)),\"\",VLOOKUP(A41,tesserati[],4,FALSE))","v":""},{"$f":"IF(ISERROR(VLOOKUP(A41,tesserati[],5,FALSE)),\"\",VLOOKUP(A41,tesserati[],5,FALSE))","v":""},{"$f":"IF(ISERROR(VLOOKUP(A41,tesserati[],7,FALSE)),\"\",VLOOKUP(A41,tesserati[],7,FALSE))","v":""}]
[null,{"$f":"IF(ISERROR(VLOOKUP(A42,tesserati[],2,FALSE)),\"\",VLOOKUP(A42,tesserati[],2,FALSE))","v":""},{"$f":"IF(ISERROR(VLOOKUP(A42,tesserati[],3,FALSE)),\"\",VLOOKUP(A42,tesserati[],3,FALSE))","v":""},{"$f":"IF(ISERROR(VLOOKUP(A42,tesserati[],4,FALSE)),\"\",VLOOKUP(A42,tesserati[],4,FALSE))","v":""},{"$f":"IF(ISERROR(VLOOKUP(A42,tesserati[],5,FALSE)),\"\",VLOOKUP(A42,tesserati[],5,FALSE))","v":""},{"$f":"IF(ISERROR(VLOOKUP(A42,tesserati[],7,FALSE)),\"\",VLOOKUP(A42,tesserati[],7,FALSE))","v":""},3]
[null,{"$f":"IF(ISERROR(VLOOKUP(A43,tesserati[],2,FALSE)),\"\",VLOOKUP(A43,tesserati[],2,FALSE))","v":""},{"$f":"IF(ISERROR(VLOOKUP(A43,tesserati[],3,FALSE)),\"\",VLOOKUP(A43,tesserati[],3,FALSE))","v":""},{"$f":"IF(ISERROR(VLOOKUP(A43,tesserati[],4,FALSE)),\"\",VLOOKUP(A43,tesserati[],4,FALSE))","v":""},{"$f":"IF(ISERROR(VLOOKUP(A43,tesserati[],5,FALSE)),\"\",VLOOKUP(A43,tesserati[],5,FALSE))","v":""},{"$f":"IF(ISERROR(VLOOKUP(A43,tesserati[],7,FALSE)),\"\",VLOOKUP(A43,tesserati[],7,FALSE))","v":""}]
[null,{"$f":"IF(ISERROR(VLOOKUP(A44,tesserati[],2,FALSE)),\"\",VLOOKUP(A44,tesserati[],2,FALSE))","v":""},{"$f":"IF(ISERROR(VLOOKUP(A44,tesserati[],3,FALSE)),\"\",VLOOKUP(A44,tesserati[],3,FALSE))","v":""},{"$f":"IF(ISERROR(VLOOKUP(A44,tesserati[],4,FALSE)),\"\",VLOOKUP(A44,tesserati[],4,FALSE))","v":""},{"$f":"IF(ISERROR(VLOOKUP(A44,tesserati[],5,FALSE)),\"\",VLOOKUP(A44,tesserati[],5,FALSE))","v":""},{"$f":"IF(ISERROR(VLOOKUP(A44,tesserati[],7,FALSE)),\"\",VLOOKUP(A44,tesserati[],7,FALSE))","v":""}]
[null,{"$f":"IF(ISERROR(VLOOKUP(A45,tesserati[],2,FALSE)),\"\",VLOOKUP(A45,tesserati[],2,FALSE))","v":""},{"$f":"IF(ISERROR(VLOOKUP(A45,tesserati[],3,FALSE)),\"\",VLOOKUP(A45,tesserati[],3,FALSE))","v":""},{"$f":"IF(ISERROR(VLOOKUP(A45,tesserati[],4,FALSE)),\"\",VLOOKUP(A45,tesserati[],4,FALSE))","v":""},{"$f":"IF(ISERROR(VLOOKUP(A45,tesserati[],5,FALSE)),\"\",VLOOKUP(A45,tesserati[],5,FALSE))","v":""},{"$f":"IF(ISERROR(VLOOKUP(A45,tesserati[],7,FALSE)),\"\",VLOOKUP(A45,tesserati[],7,FALSE))","v":""}]
[null,{"$f":"IF(ISERROR(VLOOKUP(A46,tesserati[],2,FALSE)),\"\",VLOOKUP(A46,tesserati[],2,FALSE))","v":""},{"$f":"IF(ISERROR(VLOOKUP(A46,tesserati[],3,FALSE)),\"\",VLOOKUP(A46,tesserati[],3,FALSE))","v":""},{"$f":"IF(ISERROR(VLOOKUP(A46,tesserati[],4,FALSE)),\"\",VLOOKUP(A46,tesserati[],4,FALSE))","v":""},{"$f":"IF(ISERROR(VLOOKUP(A46,tesserati[],5,FALSE)),\"\",VLOOKUP(A46,tesserati[],5,FALSE))","v":""},{"$f":"IF(ISERROR(VLOOKUP(A46,tesserati[],7,FALSE)),\"\",VLOOKUP(A46,tesserati[],7,FALSE))","v":""},4]
[null,{"$f":"IF(ISERROR(VLOOKUP(A47,tesserati[],2,FALSE)),\"\",VLOOKUP(A47,tesserati[],2,FALSE))","v":""},{"$f":"IF(ISERROR(VLOOKUP(A47,tesserati[],3,FALSE)),\"\",VLOOKUP(A47,tesserati[],3,FALSE))","v":""},{"$f":"IF(ISERROR(VLOOKUP(A47,tesserati[],4,FALSE)),\"\",VLOOKUP(A47,tesserati[],4,FALSE))","v":""},{"$f":"IF(ISERROR(VLOOKUP(A47,tesserati[],5,FALSE)),\"\",VLOOKUP(A47,tesserati[],5,FALSE))","v":""},{"$f":"IF(ISERROR(VLOOKUP(A47,tesserati[],7,FALSE)),\"\",VLOOKUP(A47,tesserati[],7,FALSE))","v":""}]
[null,{"$f":"IF(ISERROR(VLOOKUP(A48,tesserati[],2,FALSE)),\"\",VLOOKUP(A48,tesserati[],2,FALSE))","v":""},{"$f":"IF(ISERROR(VLOOKUP(A48,tesserati[],3,FALSE)),\"\",VLOOKUP(A48,tesserati[],3,FALSE))","v":""},{"$f":"IF(ISERROR(VLOOKUP(A48,tesserati[],4,FALSE)),\"\",VLOOKUP(A48,tesserati[],4,FALSE))","v":""},{"$f":"IF(ISERROR(VLOOKUP(A48,tesserati[],5,FALSE)),\"\",VLOOKUP(A48,tesserati[],5,FALSE))","v":""},{"$f":"IF(ISERROR(VLOOKUP(A48,tesserati[],7,FALSE)),\"\",VLOOKUP(A48,tesserati[],7,FALSE))","v":""}]
[null,{"$f":"IF(ISERROR(VLOOKUP(A49,tesserati[],2,FALSE)),\"\",VLOOKUP(A49,tesserati[],2,FALSE))","v":""},{"$f":"IF(ISERROR(VLOOKUP(A49,tesserati[],3,FALSE)),\"\",VLOOKUP(A49,tesserati[],3,FALSE))","v":""},{"$f":"IF(ISERROR(VLOOKUP(A49,tesserati[],4,FALSE)),\"\",VLOOKUP(A49,tesserati[],4,FALSE))","v":""},{"$f":"IF(ISERROR(VLOOKUP(A49,tesserati[],5,FALSE)),\"\",VLOOKUP(A49,tesserati[],5,FALSE))","v":""},{"$f":"IF(ISERROR(VLOOKUP(A49,tesserati[],7,FALSE)),\"\",VLOOKUP(A49,tesserati[],7,FALSE))","v":""}]
[null,{"$f":"IF(ISERROR(VLOOKUP(A50,tesserati[],2,FALSE)),\"\",VLOOKUP(A50,tesserati[],2,FALSE))","v":""},{"$f":"IF(ISERROR(VLOOKUP(A50,tesserati[],3,FALSE)),\"\",VLOOKUP(A50,tesserati[],3,FALSE))","v":""},{"$f":"IF(ISERROR(VLOOKUP(A50,tesserati[],4,FALSE)),\"\",VLOOKUP(A50,tesserati[],4,FALSE))","v":""},{"$f":"IF(ISERROR(VLOOKUP(A50,tesserati[],5,FALSE)),\"\",VLOOKUP(A50,tesserati[],5,FALSE))","v":""},{"$f":"IF(ISERROR(VLOOKUP(A50,tesserati[],7,FALSE)),\"\",VLOOKUP(A50,tesserati[],7,FALSE))","v":""},5]
[null,{"$f":"IF(ISERROR(VLOOKUP(A51,tesserati[],2,FALSE)),\"\",VLOOKUP(A51,tesserati[],2,FALSE))","v":""},{"$f":"IF(ISERROR(VLOOKUP(A51,tesserati[],3,FALSE)),\"\",VLOOKUP(A51,tesserati[],3,FALSE))","v":""},{"$f":"IF(ISERROR(VLOOKUP(A51,tesserati[],4,FALSE)),\"\",VLOOKUP(A51,tesserati[],4,FALSE))","v":""},{"$f":"IF(ISERROR(VLOOKUP(A51,tesserati[],5,FALSE)),\"\",VLOOKUP(A51,tesserati[],5,FALSE))","v":""},{"$f":"IF(ISERROR(VLOOKUP(A51,tesserati[],7,FALSE)),\"\",VLOOKUP(A51,tesserati[],7,FALSE))","v":""}]
[null,{"$f":"IF(ISERROR(VLOOKUP(A52,tesserati[],2,FALSE)),\"\",VLOOKUP(A52,tesserati[],2,FALSE))","v":""},{"$f":"IF(ISERROR(VLOOKUP(A52,tesserati[],3,FALSE)),\"\",VLOOKUP(A52,tesserati[],3,FALSE))","v":""},{"$f":"IF(ISERROR(VLOOKUP(A52,tesserati[],4,FALSE)),\"\",VLOOKUP(A52,tesserati[],4,FALSE))","v":""},{"$f":"IF(ISERROR(VLOOKUP(A52,tesserati[],5,FALSE)),\"\",VLOOKUP(A52,tesserati[],5,FALSE))","v":""},{"$f":"IF(ISERROR(VLOOKUP(A52,tesserati[],7,FALSE)),\"\",VLOOKUP(A52,tesserati[],7,FALSE))","v":""}]
[null,{"$f":"IF(ISERROR(VLOOKUP(A53,tesserati[],2,FALSE)),\"\",VLOOKUP(A53,tesserati[],2,FALSE))","v":""},{"$f":"IF(ISERROR(VLOOKUP(A53,tesserati[],3,FALSE)),\"\",VLOOKUP(A53,tesserati[],3,FALSE))","v":""},{"$f":"IF(ISERROR(VLOOKUP(A53,tesserati[],4,FALSE)),\"\",VLOOKUP(A53,tesserati[],4,FALSE))","v":""},{"$f":"IF(ISERROR(VLOOKUP(A53,tesserati[],5,FALSE)),\"\",VLOOKUP(A53,tesserati[],5,FALSE))","v":""},{"$f":"IF(ISERROR(VLOOKUP(A53,tesserati[],7,FALSE)),\"\",VLOOKUP(A53,tesserati[],7,FALSE))","v":""}]
[null,{"$f":"IF(ISERROR(VLOOKUP(A54,tesserati[],2,FALSE)),\"\",VLOOKUP(A54,tesserati[],2,FALSE))","v":""},{"$f":"IF(ISERROR(VLOOKUP(A54,tesserati[],3,FALSE)),\"\",VLOOKUP(A54,tesserati[],3,FALSE))","v":""},{"$f":"IF(ISERROR(VLOOKUP(A54,tesserati[],4,FALSE)),\"\",VLOOKUP(A54,tesserati[],4,FALSE))","v":""},{"$f":"IF(ISERROR(VLOOKUP(A54,tesserati[],5,FALSE)),\"\",VLOOKUP(A54,tesserati[],5,FALSE))","v":""},{"$f":"IF(ISERROR(VLOOKUP(A54,tesserati[],7,FALSE)),\"\",VLOOKUP(A54,tesserati[],7,FALSE))","v":""},6]
[null,{"$f":"IF(ISERROR(VLOOKUP(A55,tesserati[],2,FALSE)),\"\",VLOOKUP(A55,tesserati[],2,FALSE))","v":""},{"$f":"IF(ISERROR(VLOOKUP(A55,tesserati[],3,FALSE)),\"\",VLOOKUP(A55,tesserati[],3,FALSE))","v":""},{"$f":"IF(ISERROR(VLOOKUP(A55,tesserati[],4,FALSE)),\"\",VLOOKUP(A55,tesserati[],4,FALSE))","v":""},{"$f":"IF(ISERROR(VLOOKUP(A55,tesserati[],5,FALSE)),\"\",VLOOKUP(A55,tesserati[],5,FALSE))","v":""},{"$f":"IF(ISERROR(VLOOKUP(A55,tesserati[],7,FALSE)),\"\",VLOOKUP(A55,tesserati[],7,FALSE))","v":""}]
[null,{"$f":"IF(ISERROR(VLOOKUP(A56,tesserati[],2,FALSE)),\"\",VLOOKUP(A56,tesserati[],2,FALSE))","v":""},{"$f":"IF(ISERROR(VLOOKUP(A56,tesserati[],3,FALSE)),\"\",VLOOKUP(A56,tesserati[],3,FALSE))","v":""},{"$f":"IF(ISERROR(VLOOKUP(A56,tesserati[],4,FALSE)),\"\",VLOOKUP(A56,tesserati[],4,FALSE))","v":""},{"$f":"IF(ISERROR(VLOOKUP(A56,tesserati[],5,FALSE)),\"\",VLOOKUP(A56,tesserati[],5,FALSE))","v":""},{"$f":"IF(ISERROR(VLOOKUP(A56,tesserati[],7,FALSE)),\"\",VLOOKUP(A56,tesserati[],7,FALSE))","v":""}]
[null,{"$f":"IF(ISERROR(VLOOKUP(A57,tesserati[],2,FALSE)),\"\",VLOOKUP(A57,tesserati[],2,FALSE))","v":""},{"$f":"IF(ISERROR(VLOOKUP(A57,tesserati[],3,FALSE)),\"\",VLOOKUP(A57,tesserati[],3,FALSE))","v":""},{"$f":"IF(ISERROR(VLOOKUP(A57,tesserati[],4,FALSE)),\"\",VLOOKUP(A57,tesserati[],4,FALSE))","v":""},{"$f":"IF(ISERROR(VLOOKUP(A57,tesserati[],5,FALSE)),\"\",VLOOKUP(A57,tesserati[],5,FALSE))","v":""},{"$f":"IF(ISERROR(VLOOKUP(A57,tesserati[],7,FALSE)),\"\",VLOOKUP(A57,tesserati[],7,FALSE))","v":""}]
[null,{"$f":"IF(ISERROR(VLOOKUP(A58,tesserati[],2,FALSE)),\"\",VLOOKUP(A58,tesserati[],2,FALSE))","v":""},{"$f":"IF(ISERROR(VLOOKUP(A58,tesserati[],3,FALSE)),\"\",VLOOKUP(A58,tesserati[],3,FALSE))","v":""},{"$f":"IF(ISERROR(VLOOKUP(A58,tesserati[],4,FALSE)),\"\",VLOOKUP(A58,tesserati[],4,FALSE))","v":""},{"$f":"IF(ISERROR(VLOOKUP(A58,tesserati[],5,FALSE)),\"\",VLOOKUP(A58,tesserati[],5,FALSE))","v":""},{"$f":"IF(ISERROR(VLOOKUP(A58,tesserati[],7,FALSE)),\"\",VLOOKUP(A58,tesserati[],7,FALSE))","v":""}]
[null,{"$f":"IF(ISERROR(VLOOKUP(A59,tesserati[],2,FALSE)),\"\",VLOOKUP(A59,tesserati[],2,FALSE))","v":""},{"$f":"IF(ISERROR(VLOOKUP(A59,tesserati[],3,FALSE)),\"\",VLOOKUP(A59,tesserati[],3,FALSE))","v":""},{"$f":"IF(ISERROR(VLOOKUP(A59,tesserati[],4,FALSE)),\"\",VLOOKUP(A59,tesserati[],4,FALSE))","v":""},{"$f":"IF(ISERROR(VLOOKUP(A59,tesserati[],5,FALSE)),\"\",VLOOKUP(A59,tesserati[],5,FALSE))","v":""},{"$f":"IF(ISERROR(VLOOKUP(A59,tesserati[],7,FALSE)),\"\",VLOOKUP(A59,tesserati[],7,FALSE))","v":""}]
[null,{"$f":"IF(ISERROR(VLOOKUP(A60,tesserati[],2,FALSE)),\"\",VLOOKUP(A60,tesserati[],2,FALSE))","v":""},{"$f":"IF(ISERROR(VLOOKUP(A60,tesserati[],3,FALSE)),\"\",VLOOKUP(A60,tesserati[],3,FALSE))","v":""},{"$f":"IF(ISERROR(VLOOKUP(A60,tesserati[],4,FALSE)),\"\",VLOOKUP(A60,tesserati[],4,FALSE))","v":""},{"$f":"IF(ISERROR(VLOOKUP(A60,tesserati[],5,FALSE)),\"\",VLOOKUP(A60,tesserati[],5,FALSE))","v":""},{"$f":"IF(ISERROR(VLOOKUP(A60,tesserati[],7,FALSE)),\"\",VLOOKUP(A60,tesserati[],7,FALSE))","v":""}]
[null,{"$f":"IF(ISERROR(VLOOKUP(A61,tesserati[],2,FALSE)),\"\",VLOOKUP(A61,tesserati[],2,FALSE))","v":""},{"$f":"IF(ISERROR(VLOOKUP(A61,tesserati[],3,FALSE)),\"\",VLOOKUP(A61,tesserati[],3,FALSE))","v":""},{"$f":"IF(ISERROR(VLOOKUP(A61,tesserati[],4,FALSE)),\"\",VLOOKUP(A61,tesserati[],4,FALSE))","v":""},{"$f":"IF(ISERROR(VLOOKUP(A61,tesserati[],5,FALSE)),\"\",VLOOKUP(A61,tesserati[],5,FALSE))","v":""},{"$f":"IF(ISERROR(VLOOKUP(A61,tesserati[],7,FALSE)),\"\",VLOOKUP(A61,tesserati[],7,FALSE))","v":""}]
[null,{"$f":"IF(ISERROR(VLOOKUP(A62,tesserati[],2,FALSE)),\"\",VLOOKUP(A62,tesserati[],2,FALSE))","v":""},{"$f":"IF(ISERROR(VLOOKUP(A62,tesserati[],3,FALSE)),\"\",VLOOKUP(A62,tesserati[],3,FALSE))","v":""},{"$f":"IF(ISERROR(VLOOKUP(A62,tesserati[],4,FALSE)),\"\",VLOOKUP(A62,tesserati[],4,FALSE))","v":""},{"$f":"IF(ISERROR(VLOOKUP(A62,tesserati[],5,FALSE)),\"\",VLOOKUP(A62,tesserati[],5,FALSE))","v":""},{"$f":"IF(ISERROR(VLOOKUP(A62,tesserati[],7,FALSE)),\"\",VLOOKUP(A62,tesserati[],7,FALSE))","v":""}]
[null,{"$f":"IF(ISERROR(VLOOKUP(A63,tesserati[],2,FALSE)),\"\",VLOOKUP(A63,tesserati[],2,FALSE))","v":""},{"$f":"IF(ISERROR(VLOOKUP(A63,tesserati[],3,FALSE)),\"\",VLOOKUP(A63,tesserati[],3,FALSE))","v":""},{"$f":"IF(ISERROR(VLOOKUP(A63,tesserati[],4,FALSE)),\"\",VLOOKUP(A63,tesserati[],4,FALSE))","v":""},{"$f":"IF(ISERROR(VLOOKUP(A63,tesserati[],5,FALSE)),\"\",VLOOKUP(A63,tesserati[],5,FALSE))","v":""},{"$f":"IF(ISERROR(VLOOKUP(A63,tesserati[],7,FALSE)),\"\",VLOOKUP(A63,tesserati[],7,FALSE))","v":""}]
[null,{"$f":"IF(ISERROR(VLOOKUP(A64,tesserati[],2,FALSE)),\"\",VLOOKUP(A64,tesserati[],2,FALSE))","v":""},{"$f":"IF(ISERROR(VLOOKUP(A64,tesserati[],3,FALSE)),\"\",VLOOKUP(A64,tesserati[],3,FALSE))","v":""},{"$f":"IF(ISERROR(VLOOKUP(A64,tesserati[],4,FALSE)),\"\",VLOOKUP(A64,tesserati[],4,FALSE))","v":""},{"$f":"IF(ISERROR(VLOOKUP(A64,tesserati[],5,FALSE)),\"\",VLOOKUP(A64,tesserati[],5,FALSE))","v":""},{"$f":"IF(ISERROR(VLOOKUP(A64,tesserati[],7,FALSE)),\"\",VLOOKUP(A64,tesserati[],7,FALSE))","v":""}]
[null,{"$f":"IF(ISERROR(VLOOKUP(A65,tesserati[],2,FALSE)),\"\",VLOOKUP(A65,tesserati[],2,FALSE))","v":""},{"$f":"IF(ISERROR(VLOOKUP(A65,tesserati[],3,FALSE)),\"\",VLOOKUP(A65,tesserati[],3,FALSE))","v":""},{"$f":"IF(ISERROR(VLOOKUP(A65,tesserati[],4,FALSE)),\"\",VLOOKUP(A65,tesserati[],4,FALSE))","v":""},{"$f":"IF(ISERROR(VLOOKUP(A65,tesserati[],5,FALSE)),\"\",VLOOKUP(A65,tesserati[],5,FALSE))","v":""},{"$f":"IF(ISERROR(VLOOKUP(A65,tesserati[],7,FALSE)),\"\",VLOOKUP(A65,tesserati[],7,FALSE))","v":""}]
[null,{"$f":"IF(ISERROR(VLOOKUP(A66,tesserati[],2,FALSE)),\"\",VLOOKUP(A66,tesserati[],2,FALSE))","v":""},{"$f":"IF(ISERROR(VLOOKUP(A66,tesserati[],3,FALSE)),\"\",VLOOKUP(A66,tesserati[],3,FALSE))","v":""},{"$f":"IF(ISERROR(VLOOKUP(A66,tesserati[],4,FALSE)),\"\",VLOOKUP(A66,tesserati[],4,FALSE))","v":""},{"$f":"IF(ISERROR(VLOOKUP(A66,tesserati[],5,FALSE)),\"\",VLOOKUP(A66,tesserati[],5,FALSE))","v":""},{"$f":"IF(ISERROR(VLOOKUP(A66,tesserati[],7,FALSE)),\"\",VLOOKUP(A66,tesserati[],7,FALSE))","v":""}]
[null,{"$f":"IF(ISERROR(VLOOKUP(A67,tesserati[],2,FALSE)),\"\",VLOOKUP(A67,tesserati[],2,FALSE))","v":""},{"$f":"IF(ISERROR(VLOOKUP(A67,tesserati[],3,FALSE)),\"\",VLOOKUP(A67,tesserati[],3,FALSE))","v":""},{"$f":"IF(ISERROR(VLOOKUP(A67,tesserati[],4,FALSE)),\"\",VLOOKUP(A67,tesserati[],4,FALSE))","v":""},{"$f":"IF(ISERROR(VLOOKUP(A67,tesserati[],5,FALSE)),\"\",VLOOKUP(A67,tesserati[],5,FALSE))","v":""},{"$f":"IF(ISERROR(VLOOKUP(A67,tesserati[],7,FALSE)),\"\",VLOOKUP(A67,tesserati[],7,FALSE))","v":""}]
[null,{"$f":"IF(ISERROR(VLOOKUP(A68,tesserati[],2,FALSE)),\"\",VLOOKUP(A68,tesserati[],2,FALSE))","v":""},{"$f":"IF(ISERROR(VLOOKUP(A68,tesserati[],3,FALSE)),\"\",VLOOKUP(A68,tesserati[],3,FALSE))","v":""},{"$f":"IF(ISERROR(VLOOKUP(A68,tesserati[],4,FALSE)),\"\",VLOOKUP(A68,tesserati[],4,FALSE))","v":""},{"$f":"IF(ISERROR(VLOOKUP(A68,tesserati[],5,FALSE)),\"\",VLOOKUP(A68,tesserati[],5,FALSE))","v":""},{"$f":"IF(ISERROR(VLOOKUP(A68,tesserati[],7,FALSE)),\"\",VLOOKUP(A68,tesserati[],7,FALSE))","v":""}]
[null,{"$f":"IF(ISERROR(VLOOKUP(A69,tesserati[],2,FALSE)),\"\",VLOOKUP(A69,tesserati[],2,FALSE))","v":""},{"$f":"IF(ISERROR(VLOOKUP(A69,tesserati[],3,FALSE)),\"\",VLOOKUP(A69,tesserati[],3,FALSE))","v":""},{"$f":"IF(ISERROR(VLOOKUP(A69,tesserati[],4,FALSE)),\"\",VLOOKUP(A69,tesserati[],4,FALSE))","v":""},{"$f":"IF(ISERROR(VLOOKUP(A69,tesserati[],5,FALSE)),\"\",VLOOKUP(A69,tesserati[],5,FALSE))","v":""},{"$f":"IF(ISERROR(VLOOKUP(A69,tesserati[],7,FALSE)),\"\",VLOOKUP(A69,tesserati[],7,FALSE))","v":""}]
[null,{"$f":"IF(ISERROR(VLOOKUP(A70,tesserati[],2,FALSE)),\"\",VLOOKUP(A70,tesserati[],2,FALSE))","v":""},{"$f":"IF(ISERROR(VLOOKUP(A70,tesserati[],3,FALSE)),\"\",VLOOKUP(A70,tesserati[],3,FALSE))","v":""},{"$f":"IF(ISERROR(VLOOKUP(A70,tesserati[],4,FALSE)),\"\",VLOOKUP(A70,tesserati[],4,FALSE))","v":""},{"$f":"IF(ISERROR(VLOOKUP(A70,tesserati[],5,FALSE)),\"\",VLOOKUP(A70,tesserati[],5,FALSE))","v":""},{"$f":"IF(ISERROR(VLOOKUP(A70,tesserati[],7,FALSE)),\"\",VLOOKUP(A70,tesserati[],7,FALSE))","v":""}]
[null,{"$f":"IF(ISERROR(VLOOKUP(A71,tesserati[],2,FALSE)),\"\",VLOOKUP(A71,tesserati[],2,FALSE))","v":""},{"$f":"IF(ISERROR(VLOOKUP(A71,tesserati[],3,FALSE)),\"\",VLOOKUP(A71,tesserati[],3,FALSE))","v":""},{"$f":"IF(ISERROR(VLOOKUP(A71,tesserati[],4,FALSE)),\"\",VLOOKUP(A71,tesserati[],4,FALSE))","v":""},{"$f":"IF(ISERROR(VLOOKUP(A71,tesserati[],5,FALSE)),\"\",VLOOKUP(A71,tesserati[],5,FALSE))","v":""},{"$f":"IF(ISERROR(VLOOKUP(A71,tesserati[],7,FALSE)),\"\",VLOOKUP(A71,tesserati[],7,FALSE))","v":""}]
[null,{"$f":"IF(ISERROR(VLOOKUP(A72,tesserati[],2,FALSE)),\"\",VLOOKUP(A72,tesserati[],2,FALSE))","v":""},{"$f":"IF(ISERROR(VLOOKUP(A72,tesserati[],3,FALSE)),\"\",VLOOKUP(A72,tesserati[],3,FALSE))","v":""},{"$f":"IF(ISERROR(VLOOKUP(A72,tesserati[],4,FALSE)),\"\",VLOOKUP(A72,tesserati[],4,FALSE))","v":""},{"$f":"IF(ISERROR(VLOOKUP(A72,tesserati[],5,FALSE)),\"\",VLOOKUP(A72,tesserati[],5,FALSE))","v":""},{"$f":"IF(ISERROR(VLOOKUP(A72,tesserati[],7,FALSE)),\"\",VLOOKUP(A72,tesserati[],7,FALSE))","v":""}]

{"sheet":"STAFFETTE 4X50 ES","index":7,"n_rows":72,"n_cols":12,"rows_kept":72,"cut":false,"hidden":false,"merged":[[57,9,60,9],[49,6,52,6],[53,6,56,6],[57,6,60,6],[57,7,60,7],[57,8,60,8],[49,7,52,7],[49,8,52,8],[49,9,52,9],[53,7,56,7],[53,8,56,8],[53,9,56,9],[41,6,44,6],[45,6,48,6],[32,0,32,11],[28,7,31,7],[41,7,44,7],[41,8,44,8],[41,9,44,9],[45,7,48,7],[45,8,48,8],[45,9,48,9],[33,7,36,7],[33,8,36,8],[33,9,36,9],[37,7,40,7],[37,8,40,8],[37,9,40,9],[20,6,23,6],[24,6,27,6],[28,6,31,6],[33,6,36,6],[37,6,40,6],[0,11,1,11],[1,2,1,4],[1,5,1,7],[1,8,1,10],[2,11,4,11],[3,8,4,10],[3,3,4,3],[5,3,6,3],[0,2,0,4],[0,5,0,7],[0,8,0,10],[5,6,6,6],[5,11,6,11],[2,0,2,1],[2,4,4,4],[2,5,2,7],[2,8,2,10],[5,0,6,0],[5,1,6,2],[5,4,6,4],[5,5,6,5],[5,7,6,7],[5,8,6,8],[5,9,6,9],[5,10,6,10],[3,0,4,1],[3,2,4,2],[3,5,4,7],[8,7,11,7],[16,7,19,7],[24,7,27,7],[20,7,23,7],[7,0,7,11],[24,8,27,8],[24,9,27,9],[20,8,23,8],[20,9,23,9],[8,8,11,8],[8,9,11,9],[16,8,19,8],[16,9,19,9],[8,6,11,6],[12,6,15,6],[16,6,19,6],[12,7,15,7],[12,8,15,8],[12,9,15,9],[28,8,31,8],[28,9,31,9]]}
[null,null,"MANIFESTAZIONE",null,null,"LOCALITA'",null,null,"SOCIETA' ORGANIZZATRICE"]
[null,null,"6° prova provinciale",null,null,"Tezze sul Brenta",null,null,"CSI Tezze sul Brenta"]
["CATEGORIA",null,"ORA INIZIO","ORA FINE",null,"GARA",null,null,"DATA"]
["ESORDIENTI",null,null,null,null,"STAFFETTA 4 X 50",null,null,"2017-09-24"]
[]
["N. tessera","ATLETA\nCOGNOME E NOME",null,"SOCIETA'","NASCITA","CATEGORIA","Corsia","PETTORALE","Tempo","Piazzamento","PUNTI","CL."]
[]
["1 SERIE",{"$f":"IF(ISERROR(VLOOKUP(A8,tesserati[],2,FALSE)),\"\",VLOOKUP(A8,tesserati[],2,FALSE))","v":""},{"$f":"IF(ISERROR(VLOOKUP(A8,tesserati[],3,FALSE)),\"\",VLOOKUP(A8,tesserati[],3,FALSE))","v":""},{"$f":"IF(ISERROR(VLOOKUP(#REF!,tesserati[],5,FALSE)),\"\",VLOOKUP(#REF!,tesserati[],5,FALSE))","v":""},{"$f":"IF(ISERROR(VLOOKUP(A8,tesserati[],4,FALSE)),\"\",VLOOKUP(A8,tesserati[],4,FALSE))","v":""},{"$f":"IF(ISERROR(VLOOKUP(A8,tesserati[],7,FALSE)),\"\",VLOOKUP(A8,tesserati[],7,FALSE))","v":""}]
[2944,{"$f":"IF(ISERROR(VLOOKUP(A9,tesserati[],2,FALSE)),\"\",VLOOKUP(A9,tesserati[],2,FALSE))","v":"ALBA"},{"$f":"IF(ISERROR(VLOOKUP(A9,tesserati[],3,FALSE)),\"\",VLOOKUP(A9,tesserati[],3,FALSE))","v":"SARA"},{"$f":"IF(ISERROR(VLOOKUP(A9,tesserati[],4,FALSE)),\"\",VLOOKUP(A9,tesserati[],4,FALSE))","v":"ATLETICA UNION CREAZZO"},{"$f":"IF(ISERROR(VLOOKUP(A9,tesserati[],5,FALSE)),\"\",VLOOKUP(A9,tesserati[],5,FALSE))","v":2006},{"$f":"IF(ISERROR(VLOOKUP(A9,tesserati[],7,FALSE)),\"\",VLOOKUP(A9,tesserati[],7,FALSE))","v":"EF"},1,null,31.1,1]
[2963,{"$f":"IF(ISERROR(VLOOKUP(A10,tesserati[],2,FALSE)),\"\",VLOOKUP(A10,tesserati[],2,FALSE))","v":"DE CAO"},{"$f":"IF(ISERROR(VLOOKUP(A10,tesserati[],3,FALSE)),\"\",VLOOKUP(A10,tesserati[],3,FALSE))","v":"DILETTA"},{"$f":"IF(ISERROR(VLOOKUP(A10,tesserati[],4,FALSE)),\"\",VLOOKUP(A10,tesserati[],4,FALSE))","v":"ATLETICA UNION CREAZZO"},{"$f":"IF(ISERROR(VLOOKUP(A10,tesserati[],5,FALSE)),\"\",VLOOKUP(A10,tesserati[],5,FALSE))","v":2006},{"$f":"IF(ISERROR(VLOOKUP(A10,tesserati[],7,FALSE)),\"\",VLOOKUP(A10,tesserati[],7,FALSE))","v":"EF"}]
[2929,{"$f":"IF(ISERROR(VLOOKUP(A11,tesserati[],2,FALSE)),\"\",VLOOKUP(A11,tesserati[],2,FALSE))","v":"MASSIGNAN"},{"$f":"IF(ISERROR(VLOOKUP(A11,tesserati[],3,FALSE)),\"\",VLOOKUP(A11,tesserati[],3,FALSE))","v":"CAMILLA"},{"$f":"IF(ISERROR(VLOOKUP(A11,tesserati[],4,FALSE)),\"\",VLOOKUP(A11,tesserati[],4,FALSE))","v":"ATLETICA UNION CREAZZO"},{"$f":"IF(ISERROR(VLOOKUP(A11,tesserati[],5,FALSE)),\"\",VLOOKUP(A11,tesserati[],5,FALSE))","v":2006},{"$f":"IF(ISERROR(VLOOKUP(A11,tesserati[],7,FALSE)),\"\",VLOOKUP(A11,tesserati[],7,FALSE))","v":"EF"}]
[3459,{"$f":"IF(ISERROR(VLOOKUP(A12,tesserati[],2,FALSE)),\"\",VLOOKUP(A12,tesserati[],2,FALSE))","v":"CAPITANIO"},{"$f":"IF(ISERROR(VLOOKUP(A12,tesserati[],3,FALSE)),\"\",VLOOKUP(A12,tesserati[],3,FALSE))","v":"NICOLE"},{"$f":"IF(ISERROR(VLOOKUP(A12,tesserati[],4,FALSE)),\"\",VLOOKUP(A12,tesserati[],4,FALSE))","v":"ATLETICA UNION CREAZZO"},{"$f":"IF(ISERROR(VLOOKUP(A12,tesserati[],5,FALSE)),\"\",VLOOKUP(A12,tesserati[],5,FALSE))","v":2006},{"$f":"IF(ISERROR(VLOOKUP(A12,tesserati[],7,FALSE)),\"\",VLOOKUP(A12,tesserati[],7,FALSE))","v":"EF"}]
[4578,{"$f":"IF(ISERROR(VLOOKUP(A13,tesserati[],2,FALSE)),\"\",VLOOKUP(A13,tesserati[],2,FALSE))","v":"GOTTER"},{"$f":"IF(ISERROR(VLOOKUP(A13,tesserati[],3,FALSE)),\"\",VLOOKUP(A13,tesserati[],3,FALSE))","v":"TAMARA"},{"$f":"IF(ISERROR(VLOOKUP(A13,tesserati[],4,FALSE)),\"\",VLOOKUP(A13,tesserati[],4,FALSE))","v":"CSI ATLETICA COLLI BERICI"},{"$f":"IF(ISERROR(VLOOKUP(A13,tesserati[],5,FALSE)),\"\",VLOOKUP(A13,tesserati[],5,FALSE))","v":2006},{"$f":"IF(ISERROR(VLOOKUP(A13,tesserati[],7,FALSE)),\"\",VLOOKUP(A13,tesserati[],7,FALSE))","v":"EF"},2,null,31.3,2]
[4402,{"$f":"IF(ISERROR(VLOOKUP(A14,tesserati[],2,FALSE)),\"\",VLOOKUP(A14,tesserati[],2,FALSE))","v":"TOGNETTI"},{"$f":"IF(ISERROR(VLOOKUP(A14,tesserati[],3,FALSE)),\"\",VLOOKUP(A14,tesserati[],3,FALSE))","v":"CRISTIANO"},{"$f":"IF(ISERROR(VLOOKUP(A14,tesserati[],4,FALSE)),\"\",VLOOKUP(A14,tesserati[],4,FALSE))","v":"CSI ATLETICA COLLI BERICI"},{"$f":"IF(ISERROR(VLOOKUP(A14,tesserati[],5,FALSE)),\"\",VLOOKUP(A14,tesserati[],5,FALSE))","v":2006},{"$f":"IF(ISERROR(VLOOKUP(A14,tesserati[],7,FALSE)),\"\",VLOOKUP(A14,tesserati[],7,FALSE))","v":"EM"}]
[4405,{"$f":"IF(ISERROR(VLOOKUP(A15,tesserati[],2,FALSE)),\"\",VLOOKUP(A15,tesserati[],2,FALSE))","v":"VALLORTIGARA"},{"$f":"IF(ISERROR(VLOOKUP(A15,tesserati[],3,FALSE)),\"\",VLOOKUP(A15,tesserati[],3,FALSE))","v":"SIMONE"},{"$f":"IF(ISERROR(VLOOKUP(A15,tesserati[],4,FALSE)),\"\",VLOOKUP(A15,tesserati[],4,FALSE))","v":"CSI ATLETICA COLLI BERICI"},{"$f":"IF(ISERROR(VLOOKUP(A15,tesserati[],5,FALSE)),\"\",VLOOKUP(A15,tesserati[],5,FALSE))","v":2007},{"$f":"IF(ISERROR(VLOOKUP(A15,tesserati[],7,FALSE)),\"\",VLOOKUP(A15,tesserati[],7,FALSE))","v":"EM"}]
[4393,{"$f":"IF(ISERROR(VLOOKUP(A16,tesserati[],2,FALSE)),\"\",VLOOKUP(A16,tesserati[],2,FALSE))","v":"MATTIAZZI"},{"$f":"IF(ISERROR(VLOOKUP(A16,tesserati[],3,FALSE)),\"\",VLOOKUP(A16,tesserati[],3,FALSE))","v":"MARTINO"},{"$f":"IF(ISERROR(VLOOKUP(A16,tesserati[],4,FALSE)),\"\",VLOOKUP(A16,tesserati[],4,FALSE))","v":"CSI ATLETICA COLLI BERICI"},{"$f":"IF(ISERROR(VLOOKUP(A16,tesserati[],5,FALSE)),\"\",VLOOKUP(A16,tesserati[],5,FALSE))","v":2006},{"$f":"IF(ISERROR(VLOOKUP(A16,tesserati[],7,FALSE)),\"\",VLOOKUP(A16,tesserati[],7,FALSE))","v":"EM"}]
[3987,{"$f":"IF(ISERROR(VLOOKUP(A17,tesserati[],2,FALSE)),\"\",VLOOKUP(A17,tesserati[],2,FALSE))","v":"MIGLIORINI"},{"$f":"IF(ISERROR(VLOOKUP(A17,tesserati[],3,FALSE)),\"\",VLOOKUP(A17,tesserati[],3,FALSE))","v":"SUSY"},{"$f":"IF(ISERROR(VLOOKUP(A17,tesserati[],4,FALSE)),\"\",VLOOKUP(A17,tesserati[],4,FALSE))","v":"POLISPORTIVA DUEVILLE"},{"$f":"IF(ISERROR(VLOOKUP(A17,tesserati[],5,FALSE)),\"\",VLOOKUP(A17,tesserati[],5,FALSE))","v":2006},{"$f":"IF(ISERROR(VLOOKUP(A17,tesserati[],7,FALSE)),\"\",VLOOKUP(A17,tesserati[],7,FALSE))","v":"EF"},6,null,31.6,3]
[4018,{"$f":"IF(ISERROR(VLOOKUP(A18,tesserati[],2,FALSE)),\"\",VLOOKUP(A18,tesserati[],2,FALSE))","v":"VELLER"},{"$f":"IF(ISERROR(VLOOKUP(A18,tesserati[],3,FALSE)),\"\",VLOOKUP(A18,tesserati[],3,FALSE))","v":"MARIA"},{"$f":"IF(ISERROR(VLOOKUP(A18,tesserati[],4,FALSE)),\"\",VLOOKUP(A18,tesserati[],4,FALSE))","v":"POLISPORTIVA DUEVILLE"},{"$f":"IF(ISERROR(VLOOKUP(A18,tesserati[],5,FALSE)),\"\",VLOOKUP(A18,tesserati[],5,FALSE))","v":2006},{"$f":"IF(ISERROR(VLOOKUP(A18,tesserati[],7,FALSE)),\"\",VLOOKUP(A18,tesserati[],7,FALSE))","v":"EF"}]
[4043,{"$f":"IF(ISERROR(VLOOKUP(A19,tesserati[],2,FALSE)),\"\",VLOOKUP(A19,tesserati[],2,FALSE))","v":"ZOLIN"},{"$f":"IF(ISERROR(VLOOKUP(A19,tesserati[],3,FALSE)),\"\",VLOOKUP(A19,tesserati[],3,FALSE))","v":"AURORA"},{"$f":"IF(ISERROR(VLOOKUP(A19,tesserati[],4,FALSE)),\"\",VLOOKUP(A19,tesserati[],4,FALSE))","v":"POLISPORTIVA DUEVILLE"},{"$f":"IF(ISERROR(VLOOKUP(A19,tesserati[],5,FALSE)),\"\",VLOOKUP(A19,tesserati[],5,FALSE))","v":2007},{"$f":"IF(ISERROR(VLOOKUP(A19,tesserati[],7,FALSE)),\"\",VLOOKUP(A19,tesserati[],7,FALSE))","v":"EF"}]
[4047,{"$f":"IF(ISERROR(VLOOKUP(A20,tesserati[],2,FALSE)),\"\",VLOOKUP(A20,tesserati[],2,FALSE))","v":"COPIELLO"},{"$f":"IF(ISERROR(VLOOKUP(A20,tesserati[],3,FALSE)),\"\",VLOOKUP(A20,tesserati[],3,FALSE))","v":"SOFIA"},{"$f":"IF(ISERROR(VLOOKUP(A20,tesserati[],4,FALSE)),\"\",VLOOKUP(A20,tesserati[],4,FALSE))","v":"POLISPORTIVA DUEVILLE"},{"$f":"IF(ISERROR(VLOOKUP(A20,tesserati[],5,FALSE)),\"\",VLOOKUP(A20,tesserati[],5,FALSE))","v":2007},{"$f":"IF(ISERROR(VLOOKUP(A20,tesserati[],7,FALSE)),\"\",VLOOKUP(A20,tesserati[],7,FALSE))","v":"EF"}]
[2732,{"$f":"IF(ISERROR(VLOOKUP(A21,tesserati[],2,FALSE)),\"\",VLOOKUP(A21,tesserati[],2,FALSE))","v":"SCHNEIDER"},{"$f":"IF(ISERROR(VLOOKUP(A21,tesserati[],3,FALSE)),\"\",VLOOKUP(A21,tesserati[],3,FALSE))","v":"LUCA"},{"$f":"IF(ISERROR(VLOOKUP(A21,tesserati[],4,FALSE)),\"\",VLOOKUP(A21,tesserati[],4,FALSE))","v":"POL. DIL. MONTECCHIO PRECALCINO"},{"$f":"IF(ISERROR(VLOOKUP(A21,tesserati[],5,FALSE)),\"\",VLOOKUP(A21,tesserati[],5,FALSE))","v":2006},{"$f":"IF(ISERROR(VLOOKUP(A21,tesserati[],7,FALSE)),\"\",VLOOKUP(A21,tesserati[],7,FALSE))","v":"EM"},3,null,33.1,4]
[2738,{"$f":"IF(ISERROR(VLOOKUP(A22,tesserati[],2,FALSE)),\"\",VLOOKUP(A22,tesserati[],2,FALSE))","v":"DAL ZOTTO"},{"$f":"IF(ISERROR(VLOOKUP(A22,tesserati[],3,FALSE)),\"\",VLOOKUP(A22,tesserati[],3,FALSE))","v":"PIETRO"},{"$f":"IF(ISERROR(VLOOKUP(A22,tesserati[],4,FALSE)),\"\",VLOOKUP(A22,tesserati[],4,FALSE))","v":"POL. DIL. MONTECCHIO PRECALCINO"},{"$f":"IF(ISERROR(VLOOKUP(A22,tesserati[],5,FALSE)),\"\",VLOOKUP(A22,tesserati[],5,FALSE))","v":2006},{"$f":"IF(ISERROR(VLOOKUP(A22,tesserati[],7,FALSE)),\"\",VLOOKUP(A22,tesserati[],7,FALSE))","v":"EM"}]
[3242,{"$f":"IF(ISERROR(VLOOKUP(A23,tesserati[],2,FALSE)),\"\",VLOOKUP(A23,tesserati[],2,FALSE))","v":"EL HACHIMI"},{"$f":"IF(ISERROR(VLOOKUP(A23,tesserati[],3,FALSE)),\"\",VLOOKUP(A23,tesserati[],3,FALSE))","v":"AIMAN"},{"$f":"IF(ISERROR(VLOOKUP(A23,tesserati[],4,FALSE)),\"\",VLOOKUP(A23,tesserati[],4,FALSE))","v":"POL. DIL. MONTECCHIO PRECALCINO"},{"$f":"IF(ISERROR(VLOOKUP(A23,tesserati[],5,FALSE)),\"\",VLOOKUP(A23,tesserati[],5,FALSE))","v":2007},{"$f":"IF(ISERROR(VLOOKUP(A23,tesserati[],7,FALSE)),\"\",VLOOKUP(A23,tesserati[],7,FALSE))","v":"EM"}]
[2692,{"$f":"IF(ISERROR(VLOOKUP(A24,tesserati[],2,FALSE)),\"\",VLOOKUP(A24,tesserati[],2,FALSE))","v":"CAPPELLOTTO"},{"$f":"IF(ISERROR(VLOOKUP(A24,tesserati[],3,FALSE)),\"\",VLOOKUP(A24,tesserati[],3,FALSE))","v":"FILIPPO"},{"$f":"IF(ISERROR(VLOOKUP(A24,tesserati[],4,FALSE)),\"\",VLOOKUP(A24,tesserati[],4,FALSE))","v":"POL. DIL. MONTECCHIO PRECALCINO"},{"$f":"IF(ISERROR(VLOOKUP(A24,tesserati[],5,FALSE)),\"\",VLOOKUP(A24,tesserati[],5,FALSE))","v":2006},{"$f":"IF(ISERROR(VLOOKUP(A24,tesserati[],7,FALSE)),\"\",VLOOKUP(A24,tesserati[],7,FALSE))","v":"EM"}]
[3044,{"$f":"IF(ISERROR(VLOOKUP(A25,tesserati[],2,FALSE)),\"\",VLOOKUP(A25,tesserati[],2,FALSE))","v":"TREVISAN"},{"$f":"IF(ISERROR(VLOOKUP(A25,tesserati[],3,FALSE)),\"\",VLOOKUP(A25,tesserati[],3,FALSE))","v":"CRISTIAN"},{"$f":"IF(ISERROR(VLOOKUP(A25,tesserati[],4,FALSE)),\"\",VLOOKUP(A25,tesserati[],4,FALSE))","v":"ATLETICA UNION CREAZZO"},{"$f":"IF(ISERROR(VLOOKUP(A25,tesserati[],5,FALSE)),\"\",VLOOKUP(A25,tesserati[],5,FALSE))","v":2007},{"$f":"IF(ISERROR(VLOOKUP(A25,tesserati[],7,FALSE)),\"\",VLOOKUP(A25,tesserati[],7,FALSE))","v":"EM"},5,null,34.1,5]
[8897,{"$f":"IF(ISERROR(VLOOKUP(A26,tesserati[],2,FALSE)),\"\",VLOOKUP(A26,tesserati[],2,FALSE))","v":"FERRARIN"},{"$f":"IF(ISERROR(VLOOKUP(A26,tesserati[],3,FALSE)),\"\",VLOOKUP(A26,tesserati[],3,FALSE))","v":"ALBERTO"},{"$f":"IF(ISERROR(VLOOKUP(A26,tesserati[],4,FALSE)),\"\",VLOOKUP(A26,tesserati[],4,FALSE))","v":"ATLETICA UNION CREAZZO"},{"$f":"IF(ISERROR(VLOOKUP(A26,tesserati[],5,FALSE)),\"\",VLOOKUP(A26,tesserati[],5,FALSE))","v":2007},{"$f":"IF(ISERROR(VLOOKUP(A26,tesserati[],7,FALSE)),\"\",VLOOKUP(A26,tesserati[],7,FALSE))","v":"EM"}]
[2928,{"$f":"IF(ISERROR(VLOOKUP(A27,tesserati[],2,FALSE)),\"\",VLOOKUP(A27,tesserati[],2,FALSE))","v":"FAEDO"},{"$f":"IF(ISERROR(VLOOKUP(A27,tesserati[],3,FALSE)),\"\",VLOOKUP(A27,tesserati[],3,FALSE))","v":"SARA"},{"$f":"IF(ISERROR(VLOOKUP(A27,tesserati[],4,FALSE)),\"\",VLOOKUP(A27,tesserati[],4,FALSE))","v":"ATLETICA UNION CREAZZO"},{"$f":"IF(ISERROR(VLOOKUP(A27,tesserati[],5,FALSE)),\"\",VLOOKUP(A27,tesserati[],5,FALSE))","v":2007},{"$f":"IF(ISERROR(VLOOKUP(A27,tesserati[],7,FALSE)),\"\",VLOOKUP(A27,tesserati[],7,FALSE))","v":"EF"}]
[3051,{"$f":"IF(ISERROR(VLOOKUP(A28,tesserati[],2,FALSE)),\"\",VLOOKUP(A28,tesserati[],2,FALSE))","v":"DE CAO"},{"$f":"IF(ISERROR(VLOOKUP(A28,tesserati[],3,FALSE)),\"\",VLOOKUP(A28,tesserati[],3,FALSE))","v":"FRANCESCO"},{"$f":"IF(ISERROR(VLOOKUP(A28,tesserati[],4,FALSE)),\"\",VLOOKUP(A28,tesserati[],4,FALSE))","v":"ATLETICA UNION CREAZZO"},{"$f":"IF(ISERROR(VLOOKUP(A28,tesserati[],5,FALSE)),\"\",VLOOKUP(A28,tesserati[],5,FALSE))","v":2006},{"$f":"IF(ISERROR(VLOOKUP(A28,tesserati[],7,FALSE)),\"\",VLOOKUP(A28,tesserati[],7,FALSE))","v":"EM"}]
[2705,{"$f":"IF(ISERROR(VLOOKUP(A29,tesserati[],2,FALSE)),\"\",VLOOKUP(A29,tesserati[],2,FALSE))","v":"COSTALUNGA"},{"$f":"IF(ISERROR(VLOOKUP(A29,tesserati[],3,FALSE)),\"\",VLOOKUP(A29,tesserati[],3,FALSE))","v":"KENSY"},{"$f":"IF(ISERROR(VLOOKUP(A29,tesserati[],4,FALSE)),\"\",VLOOKUP(A29,tesserati[],4,FALSE))","v":"POL. DIL. MONTECCHIO PRECALCINO"},{"$f":"IF(ISERROR(VLOOKUP(A29,tesserati[],5,FALSE)),\"\",VLOOKUP(A29,tesserati[],5,FALSE))","v":2007},{"$f":"IF(ISERROR(VLOOKUP(A29,tesserati[],7,FALSE)),\"\",VLOOKUP(A29,tesserati[],7,FALSE))","v":"EF"},4,null,34.700000000000003,6]
[2703,{"$f":"IF(ISERROR(VLOOKUP(A30,tesserati[],2,FALSE)),\"\",VLOOKUP(A30,tesserati[],2,FALSE))","v":"CHEMELLO"},{"$f":"IF(ISERROR(VLOOKUP(A30,tesserati[],3,FALSE)),\"\",VLOOKUP(A30,tesserati[],3,FALSE))","v":"CHIARA"},{"$f":"IF(ISERROR(VLOOKUP(A30,tesserati[],4,FALSE)),\"\",VLOOKUP(A30,tesserati[],4,FALSE))","v":"POL. DIL. MONTECCHIO PRECALCINO"},{"$f":"IF(ISERROR(VLOOKUP(A30,tesserati[],5,FALSE)),\"\",VLOOKUP(A30,tesserati[],5,FALSE))","v":2006},{"$f":"IF(ISERROR(VLOOKUP(A30,tesserati[],7,FALSE)),\"\",VLOOKUP(A30,tesserati[],7,FALSE))","v":"EF"}]
[2733,{"$f":"IF(ISERROR(VLOOKUP(A31,tesserati[],2,FALSE)),\"\",VLOOKUP(A31,tesserati[],2,FALSE))","v":"MAINO"},{"$f":"IF(ISERROR(VLOOKUP(A31,tesserati[],3,FALSE)),\"\",VLOOKUP(A31,tesserati[],3,FALSE))","v":"CHIARA"},{"$f":"IF(ISERROR(VLOOKUP(A31,tesserati[],4,FALSE)),\"\",VLOOKUP(A31,tesserati[],4,FALSE))","v":"POL. DIL. MONTECCHIO PRECALCINO"},{"$f":"IF(ISERROR(VLOOKUP(A31,tesserati[],5,FALSE)),\"\",VLOOKUP(A31,tesserati[],5,FALSE))","v":2006},{"$f":"IF(ISERROR(VLOOKUP(A31,tesserati[],7,FALSE)),\"\",VLOOKUP(A31,tesserati[],7,FALSE))","v":"EF"}]
[2722,{"$f":"IF(ISERROR(VLOOKUP(A32,tesserati[],2,FALSE)),\"\",VLOOKUP(A32,tesserati[],2,FALSE))","v":"ELLERO"},{"$f":"IF(ISERROR(VLOOKUP(A32,tesserati[],3,FALSE)),\"\",VLOOKUP(A32,tesserati[],3,FALSE))","v":"ALICE"},{"$f":"IF(ISERROR(VLOOKUP(A32,tesserati[],4,FALSE)),\"\",VLOOKUP(A32,tesserati[],4,FALSE))","v":"POL. DIL. MONTECCHIO PRECALCINO"},{"$f":"IF(ISERROR(VLOOKUP(A32,tesserati[],5,FALSE)),\"\",VLOOKUP(A32,tesserati[],5,FALSE))","v":2006},{"$f":"IF(ISERROR(VLOOKUP(A32,tesserati[],7,FALSE)),\"\",VLOOKUP(A32,tesserati[],7,FALSE))","v":"EF"}]
["2 SERIE"]
[null,{"$f":"IF(ISERROR(VLOOKUP(A34,tesserati[],2,FALSE)),\"\",VLOOKUP(A34,tesserati[],2,FALSE))","v":""},{"$f":"IF(ISERROR(VLOOKUP(A34,tesserati[],3,FALSE)),\"\",VLOOKUP(A34,tesserati[],3,FALSE))","v":""},{"$f":"IF(ISERROR(VLOOKUP(A34,tesserati[],4,FALSE)),\"\",VLOOKUP(A34,tesserati[],4,FALSE))","v":""},{"$f":"IF(ISERROR(VLOOKUP(A34,tesserati[],5,FALSE)),\"\",VLOOKUP(A34,tesserati[],5,FALSE))","v":""},{"$f":"IF(ISERROR(VLOOKUP(A34,tesserati[],7,FALSE)),\"\",VLOOKUP(A34,tesserati[],7,FALSE))","v":""},1]
[null,{"$f":"IF(ISERROR(VLOOKUP(A35,tesserati[],2,FALSE)),\"\",VLOOKUP(A35,tesserati[],2,FALSE))","v":""},{"$f":"IF(ISERROR(VLOOKUP(A35,tesserati[],3,FALSE)),\"\",VLOOKUP(A35,tesserati[],3,FALSE))","v":""},{"$f":"IF(ISERROR(VLOOKUP(A35,tesserati[],4,FALSE)),\"\",VLOOKUP(A35,tesserati[],4,FALSE))","v":""},{"$f":"IF(ISERROR(VLOOKUP(A35,tesserati[],5,FALSE)),\"\",VLOOKUP(A35,tesserati[],5,FALSE))","v":""},{"$f":"IF(ISERROR(VLOOKUP(A35,tesserati[],7,FALSE)),\"\",VLOOKUP(A35,tesserati[],7,FALSE))","v":""}]
[null,{"$f":"IF(ISERROR(VLOOKUP(A36,tesserati[],2,FALSE)),\"\",VLOOKUP(A36,tesserati[],2,FALSE))","v":""},{"$f":"IF(ISERROR(VLOOKUP(A36,tesserati[],3,FALSE)),\"\",VLOOKUP(A36,tesserati[],3,FALSE))","v":""},{"$f":"IF(ISERROR(VLOOKUP(A36,tesserati[],4,FALSE)),\"\",VLOOKUP(A36,tesserati[],4,FALSE))","v":""},{"$f":"IF(ISERROR(VLOOKUP(A36,tesserati[],5,FALSE)),\"\",VLOOKUP(A36,tesserati[],5,FALSE))","v":""},{"$f":"IF(ISERROR(VLOOKUP(A36,tesserati[],7,FALSE)),\"\",VLOOKUP(A36,tesserati[],7,FALSE))","v":""}]
[null,{"$f":"IF(ISERROR(VLOOKUP(A37,tesserati[],2,FALSE)),\"\",VLOOKUP(A37,tesserati[],2,FALSE))","v":""},{"$f":"IF(ISERROR(VLOOKUP(A37,tesserati[],3,FALSE)),\"\",VLOOKUP(A37,tesserati[],3,FALSE))","v":""},{"$f":"IF(ISERROR(VLOOKUP(A37,tesserati[],4,FALSE)),\"\",VLOOKUP(A37,tesserati[],4,FALSE))","v":""},{"$f":"IF(ISERROR(VLOOKUP(A37,tesserati[],5,FALSE)),\"\",VLOOKUP(A37,tesserati[],5,FALSE))","v":""},{"$f":"IF(ISERROR(VLOOKUP(A37,tesserati[],7,FALSE)),\"\",VLOOKUP(A37,tesserati[],7,FALSE))","v":""}]
[null,{"$f":"IF(ISERROR(VLOOKUP(A38,tesserati[],2,FALSE)),\"\",VLOOKUP(A38,tesserati[],2,FALSE))","v":""},{"$f":"IF(ISERROR(VLOOKUP(A38,tesserati[],3,FALSE)),\"\",VLOOKUP(A38,tesserati[],3,FALSE))","v":""},{"$f":"IF(ISERROR(VLOOKUP(A38,tesserati[],4,FALSE)),\"\",VLOOKUP(A38,tesserati[],4,FALSE))","v":""},{"$f":"IF(ISERROR(VLOOKUP(A38,tesserati[],5,FALSE)),\"\",VLOOKUP(A38,tesserati[],5,FALSE))","v":""},{"$f":"IF(ISERROR(VLOOKUP(A38,tesserati[],7,FALSE)),\"\",VLOOKUP(A38,tesserati[],7,FALSE))","v":""},2]
[null,{"$f":"IF(ISERROR(VLOOKUP(A39,tesserati[],2,FALSE)),\"\",VLOOKUP(A39,tesserati[],2,FALSE))","v":""},{"$f":"IF(ISERROR(VLOOKUP(A39,tesserati[],3,FALSE)),\"\",VLOOKUP(A39,tesserati[],3,FALSE))","v":""},{"$f":"IF(ISERROR(VLOOKUP(A39,tesserati[],4,FALSE)),\"\",VLOOKUP(A39,tesserati[],4,FALSE))","v":""},{"$f":"IF(ISERROR(VLOOKUP(A39,tesserati[],5,FALSE)),\"\",VLOOKUP(A39,tesserati[],5,FALSE))","v":""},{"$f":"IF(ISERROR(VLOOKUP(A39,tesserati[],7,FALSE)),\"\",VLOOKUP(A39,tesserati[],7,FALSE))","v":""}]
[null,{"$f":"IF(ISERROR(VLOOKUP(A40,tesserati[],2,FALSE)),\"\",VLOOKUP(A40,tesserati[],2,FALSE))","v":""},{"$f":"IF(ISERROR(VLOOKUP(A40,tesserati[],3,FALSE)),\"\",VLOOKUP(A40,tesserati[],3,FALSE))","v":""},{"$f":"IF(ISERROR(VLOOKUP(A40,tesserati[],4,FALSE)),\"\",VLOOKUP(A40,tesserati[],4,FALSE))","v":""},{"$f":"IF(ISERROR(VLOOKUP(A40,tesserati[],5,FALSE)),\"\",VLOOKUP(A40,tesserati[],5,FALSE))","v":""},{"$f":"IF(ISERROR(VLOOKUP(A40,tesserati[],7,FALSE)),\"\",VLOOKUP(A40,tesserati[],7,FALSE))","v":""}]
[null,{"$f":"IF(ISERROR(VLOOKUP(A41,tesserati[],2,FALSE)),\"\",VLOOKUP(A41,tesserati[],2,FALSE))","v":""},{"$f":"IF(ISERROR(VLOOKUP(A41,tesserati[],3,FALSE)),\"\",VLOOKUP(A41,tesserati[],3,FALSE))","v":""},{"$f":"IF(ISERROR(VLOOKUP(A41,tesserati[],4,FALSE)),\"\",VLOOKUP(A41,tesserati[],4,FALSE))","v":""},{"$f":"IF(ISERROR(VLOOKUP(A41,tesserati[],5,FALSE)),\"\",VLOOKUP(A41,tesserati[],5,FALSE))","v":""},{"$f":"IF(ISERROR(VLOOKUP(A41,tesserati[],7,FALSE)),\"\",VLOOKUP(A41,tesserati[],7,FALSE))","v":""}]
[null,{"$f":"IF(ISERROR(VLOOKUP(A42,tesserati[],2,FALSE)),\"\",VLOOKUP(A42,tesserati[],2,FALSE))","v":""},{"$f":"IF(ISERROR(VLOOKUP(A42,tesserati[],3,FALSE)),\"\",VLOOKUP(A42,tesserati[],3,FALSE))","v":""},{"$f":"IF(ISERROR(VLOOKUP(A42,tesserati[],4,FALSE)),\"\",VLOOKUP(A42,tesserati[],4,FALSE))","v":""},{"$f":"IF(ISERROR(VLOOKUP(A42,tesserati[],5,FALSE)),\"\",VLOOKUP(A42,tesserati[],5,FALSE))","v":""},{"$f":"IF(ISERROR(VLOOKUP(A42,tesserati[],7,FALSE)),\"\",VLOOKUP(A42,tesserati[],7,FALSE))","v":""},3]
[null,{"$f":"IF(ISERROR(VLOOKUP(A43,tesserati[],2,FALSE)),\"\",VLOOKUP(A43,tesserati[],2,FALSE))","v":""},{"$f":"IF(ISERROR(VLOOKUP(A43,tesserati[],3,FALSE)),\"\",VLOOKUP(A43,tesserati[],3,FALSE))","v":""},{"$f":"IF(ISERROR(VLOOKUP(A43,tesserati[],4,FALSE)),\"\",VLOOKUP(A43,tesserati[],4,FALSE))","v":""},{"$f":"IF(ISERROR(VLOOKUP(A43,tesserati[],5,FALSE)),\"\",VLOOKUP(A43,tesserati[],5,FALSE))","v":""},{"$f":"IF(ISERROR(VLOOKUP(A43,tesserati[],7,FALSE)),\"\",VLOOKUP(A43,tesserati[],7,FALSE))","v":""}]
[null,{"$f":"IF(ISERROR(VLOOKUP(A44,tesserati[],2,FALSE)),\"\",VLOOKUP(A44,tesserati[],2,FALSE))","v":""},{"$f":"IF(ISERROR(VLOOKUP(A44,tesserati[],3,FALSE)),\"\",VLOOKUP(A44,tesserati[],3,FALSE))","v":""},{"$f":"IF(ISERROR(VLOOKUP(A44,tesserati[],4,FALSE)),\"\",VLOOKUP(A44,tesserati[],4,FALSE))","v":""},{"$f":"IF(ISERROR(VLOOKUP(A44,tesserati[],5,FALSE)),\"\",VLOOKUP(A44,tesserati[],5,FALSE))","v":""},{"$f":"IF(ISERROR(VLOOKUP(A44,tesserati[],7,FALSE)),\"\",VLOOKUP(A44,tesserati[],7,FALSE))","v":""}]
[null,{"$f":"IF(ISERROR(VLOOKUP(A45,tesserati[],2,FALSE)),\"\",VLOOKUP(A45,tesserati[],2,FALSE))","v":""},{"$f":"IF(ISERROR(VLOOKUP(A45,tesserati[],3,FALSE)),\"\",VLOOKUP(A45,tesserati[],3,FALSE))","v":""},{"$f":"IF(ISERROR(VLOOKUP(A45,tesserati[],4,FALSE)),\"\",VLOOKUP(A45,tesserati[],4,FALSE))","v":""},{"$f":"IF(ISERROR(VLOOKUP(A45,tesserati[],5,FALSE)),\"\",VLOOKUP(A45,tesserati[],5,FALSE))","v":""},{"$f":"IF(ISERROR(VLOOKUP(A45,tesserati[],7,FALSE)),\"\",VLOOKUP(A45,tesserati[],7,FALSE))","v":""}]
[null,{"$f":"IF(ISERROR(VLOOKUP(A46,tesserati[],2,FALSE)),\"\",VLOOKUP(A46,tesserati[],2,FALSE))","v":""},{"$f":"IF(ISERROR(VLOOKUP(A46,tesserati[],3,FALSE)),\"\",VLOOKUP(A46,tesserati[],3,FALSE))","v":""},{"$f":"IF(ISERROR(VLOOKUP(A46,tesserati[],4,FALSE)),\"\",VLOOKUP(A46,tesserati[],4,FALSE))","v":""},{"$f":"IF(ISERROR(VLOOKUP(A46,tesserati[],5,FALSE)),\"\",VLOOKUP(A46,tesserati[],5,FALSE))","v":""},{"$f":"IF(ISERROR(VLOOKUP(A46,tesserati[],7,FALSE)),\"\",VLOOKUP(A46,tesserati[],7,FALSE))","v":""},4]
[null,{"$f":"IF(ISERROR(VLOOKUP(A47,tesserati[],2,FALSE)),\"\",VLOOKUP(A47,tesserati[],2,FALSE))","v":""},{"$f":"IF(ISERROR(VLOOKUP(A47,tesserati[],3,FALSE)),\"\",VLOOKUP(A47,tesserati[],3,FALSE))","v":""},{"$f":"IF(ISERROR(VLOOKUP(A47,tesserati[],4,FALSE)),\"\",VLOOKUP(A47,tesserati[],4,FALSE))","v":""},{"$f":"IF(ISERROR(VLOOKUP(A47,tesserati[],5,FALSE)),\"\",VLOOKUP(A47,tesserati[],5,FALSE))","v":""},{"$f":"IF(ISERROR(VLOOKUP(A47,tesserati[],7,FALSE)),\"\",VLOOKUP(A47,tesserati[],7,FALSE))","v":""}]
[null,{"$f":"IF(ISERROR(VLOOKUP(A48,tesserati[],2,FALSE)),\"\",VLOOKUP(A48,tesserati[],2,FALSE))","v":""},{"$f":"IF(ISERROR(VLOOKUP(A48,tesserati[],3,FALSE)),\"\",VLOOKUP(A48,tesserati[],3,FALSE))","v":""},{"$f":"IF(ISERROR(VLOOKUP(A48,tesserati[],4,FALSE)),\"\",VLOOKUP(A48,tesserati[],4,FALSE))","v":""},{"$f":"IF(ISERROR(VLOOKUP(A48,tesserati[],5,FALSE)),\"\",VLOOKUP(A48,tesserati[],5,FALSE))","v":""},{"$f":"IF(ISERROR(VLOOKUP(A48,tesserati[],7,FALSE)),\"\",VLOOKUP(A48,tesserati[],7,FALSE))","v":""}]
[null,{"$f":"IF(ISERROR(VLOOKUP(A49,tesserati[],2,FALSE)),\"\",VLOOKUP(A49,tesserati[],2,FALSE))","v":""},{"$f":"IF(ISERROR(VLOOKUP(A49,tesserati[],3,FALSE)),\"\",VLOOKUP(A49,tesserati[],3,FALSE))","v":""},{"$f":"IF(ISERROR(VLOOKUP(A49,tesserati[],4,FALSE)),\"\",VLOOKUP(A49,tesserati[],4,FALSE))","v":""},{"$f":"IF(ISERROR(VLOOKUP(A49,tesserati[],5,FALSE)),\"\",VLOOKUP(A49,tesserati[],5,FALSE))","v":""},{"$f":"IF(ISERROR(VLOOKUP(A49,tesserati[],7,FALSE)),\"\",VLOOKUP(A49,tesserati[],7,FALSE))","v":""}]
[null,{"$f":"IF(ISERROR(VLOOKUP(A50,tesserati[],2,FALSE)),\"\",VLOOKUP(A50,tesserati[],2,FALSE))","v":""},{"$f":"IF(ISERROR(VLOOKUP(A50,tesserati[],3,FALSE)),\"\",VLOOKUP(A50,tesserati[],3,FALSE))","v":""},{"$f":"IF(ISERROR(VLOOKUP(A50,tesserati[],4,FALSE)),\"\",VLOOKUP(A50,tesserati[],4,FALSE))","v":""},{"$f":"IF(ISERROR(VLOOKUP(A50,tesserati[],5,FALSE)),\"\",VLOOKUP(A50,tesserati[],5,FALSE))","v":""},{"$f":"IF(ISERROR(VLOOKUP(A50,tesserati[],7,FALSE)),\"\",VLOOKUP(A50,tesserati[],7,FALSE))","v":""},5]
[null,{"$f":"IF(ISERROR(VLOOKUP(A51,tesserati[],2,FALSE)),\"\",VLOOKUP(A51,tesserati[],2,FALSE))","v":""},{"$f":"IF(ISERROR(VLOOKUP(A51,tesserati[],3,FALSE)),\"\",VLOOKUP(A51,tesserati[],3,FALSE))","v":""},{"$f":"IF(ISERROR(VLOOKUP(A51,tesserati[],4,FALSE)),\"\",VLOOKUP(A51,tesserati[],4,FALSE))","v":""},{"$f":"IF(ISERROR(VLOOKUP(A51,tesserati[],5,FALSE)),\"\",VLOOKUP(A51,tesserati[],5,FALSE))","v":""},{"$f":"IF(ISERROR(VLOOKUP(A51,tesserati[],7,FALSE)),\"\",VLOOKUP(A51,tesserati[],7,FALSE))","v":""}]
[null,{"$f":"IF(ISERROR(VLOOKUP(A52,tesserati[],2,FALSE)),\"\",VLOOKUP(A52,tesserati[],2,FALSE))","v":""},{"$f":"IF(ISERROR(VLOOKUP(A52,tesserati[],3,FALSE)),\"\",VLOOKUP(A52,tesserati[],3,FALSE))","v":""},{"$f":"IF(ISERROR(VLOOKUP(A52,tesserati[],4,FALSE)),\"\",VLOOKUP(A52,tesserati[],4,FALSE))","v":""},{"$f":"IF(ISERROR(VLOOKUP(A52,tesserati[],5,FALSE)),\"\",VLOOKUP(A52,tesserati[],5,FALSE))","v":""},{"$f":"IF(ISERROR(VLOOKUP(A52,tesserati[],7,FALSE)),\"\",VLOOKUP(A52,tesserati[],7,FALSE))","v":""}]
[null,{"$f":"IF(ISERROR(VLOOKUP(A53,tesserati[],2,FALSE)),\"\",VLOOKUP(A53,tesserati[],2,FALSE))","v":""},{"$f":"IF(ISERROR(VLOOKUP(A53,tesserati[],3,FALSE)),\"\",VLOOKUP(A53,tesserati[],3,FALSE))","v":""},{"$f":"IF(ISERROR(VLOOKUP(A53,tesserati[],4,FALSE)),\"\",VLOOKUP(A53,tesserati[],4,FALSE))","v":""},{"$f":"IF(ISERROR(VLOOKUP(A53,tesserati[],5,FALSE)),\"\",VLOOKUP(A53,tesserati[],5,FALSE))","v":""},{"$f":"IF(ISERROR(VLOOKUP(A53,tesserati[],7,FALSE)),\"\",VLOOKUP(A53,tesserati[],7,FALSE))","v":""}]
[null,{"$f":"IF(ISERROR(VLOOKUP(A54,tesserati[],2,FALSE)),\"\",VLOOKUP(A54,tesserati[],2,FALSE))","v":""},{"$f":"IF(ISERROR(VLOOKUP(A54,tesserati[],3,FALSE)),\"\",VLOOKUP(A54,tesserati[],3,FALSE))","v":""},{"$f":"IF(ISERROR(VLOOKUP(A54,tesserati[],4,FALSE)),\"\",VLOOKUP(A54,tesserati[],4,FALSE))","v":""},{"$f":"IF(ISERROR(VLOOKUP(A54,tesserati[],5,FALSE)),\"\",VLOOKUP(A54,tesserati[],5,FALSE))","v":""},{"$f":"IF(ISERROR(VLOOKUP(A54,tesserati[],7,FALSE)),\"\",VLOOKUP(A54,tesserati[],7,FALSE))","v":""},6]
[null,{"$f":"IF(ISERROR(VLOOKUP(A55,tesserati[],2,FALSE)),\"\",VLOOKUP(A55,tesserati[],2,FALSE))","v":""},{"$f":"IF(ISERROR(VLOOKUP(A55,tesserati[],3,FALSE)),\"\",VLOOKUP(A55,tesserati[],3,FALSE))","v":""},{"$f":"IF(ISERROR(VLOOKUP(A55,tesserati[],4,FALSE)),\"\",VLOOKUP(A55,tesserati[],4,FALSE))","v":""},{"$f":"IF(ISERROR(VLOOKUP(A55,tesserati[],5,FALSE)),\"\",VLOOKUP(A55,tesserati[],5,FALSE))","v":""},{"$f":"IF(ISERROR(VLOOKUP(A55,tesserati[],7,FALSE)),\"\",VLOOKUP(A55,tesserati[],7,FALSE))","v":""}]
[null,{"$f":"IF(ISERROR(VLOOKUP(A56,tesserati[],2,FALSE)),\"\",VLOOKUP(A56,tesserati[],2,FALSE))","v":""},{"$f":"IF(ISERROR(VLOOKUP(A56,tesserati[],3,FALSE)),\"\",VLOOKUP(A56,tesserati[],3,FALSE))","v":""},{"$f":"IF(ISERROR(VLOOKUP(A56,tesserati[],4,FALSE)),\"\",VLOOKUP(A56,tesserati[],4,FALSE))","v":""},{"$f":"IF(ISERROR(VLOOKUP(A56,tesserati[],5,FALSE)),\"\",VLOOKUP(A56,tesserati[],5,FALSE))","v":""},{"$f":"IF(ISERROR(VLOOKUP(A56,tesserati[],7,FALSE)),\"\",VLOOKUP(A56,tesserati[],7,FALSE))","v":""}]
[null,{"$f":"IF(ISERROR(VLOOKUP(A57,tesserati[],2,FALSE)),\"\",VLOOKUP(A57,tesserati[],2,FALSE))","v":""},{"$f":"IF(ISERROR(VLOOKUP(A57,tesserati[],3,FALSE)),\"\",VLOOKUP(A57,tesserati[],3,FALSE))","v":""},{"$f":"IF(ISERROR(VLOOKUP(A57,tesserati[],4,FALSE)),\"\",VLOOKUP(A57,tesserati[],4,FALSE))","v":""},{"$f":"IF(ISERROR(VLOOKUP(A57,tesserati[],5,FALSE)),\"\",VLOOKUP(A57,tesserati[],5,FALSE))","v":""},{"$f":"IF(ISERROR(VLOOKUP(A57,tesserati[],7,FALSE)),\"\",VLOOKUP(A57,tesserati[],7,FALSE))","v":""}]
[null,{"$f":"IF(ISERROR(VLOOKUP(A58,tesserati[],2,FALSE)),\"\",VLOOKUP(A58,tesserati[],2,FALSE))","v":""},{"$f":"IF(ISERROR(VLOOKUP(A58,tesserati[],3,FALSE)),\"\",VLOOKUP(A58,tesserati[],3,FALSE))","v":""},{"$f":"IF(ISERROR(VLOOKUP(A58,tesserati[],4,FALSE)),\"\",VLOOKUP(A58,tesserati[],4,FALSE))","v":""},{"$f":"IF(ISERROR(VLOOKUP(A58,tesserati[],5,FALSE)),\"\",VLOOKUP(A58,tesserati[],5,FALSE))","v":""},{"$f":"IF(ISERROR(VLOOKUP(A58,tesserati[],7,FALSE)),\"\",VLOOKUP(A58,tesserati[],7,FALSE))","v":""}]
[null,{"$f":"IF(ISERROR(VLOOKUP(A59,tesserati[],2,FALSE)),\"\",VLOOKUP(A59,tesserati[],2,FALSE))","v":""},{"$f":"IF(ISERROR(VLOOKUP(A59,tesserati[],3,FALSE)),\"\",VLOOKUP(A59,tesserati[],3,FALSE))","v":""},{"$f":"IF(ISERROR(VLOOKUP(A59,tesserati[],4,FALSE)),\"\",VLOOKUP(A59,tesserati[],4,FALSE))","v":""},{"$f":"IF(ISERROR(VLOOKUP(A59,tesserati[],5,FALSE)),\"\",VLOOKUP(A59,tesserati[],5,FALSE))","v":""},{"$f":"IF(ISERROR(VLOOKUP(A59,tesserati[],7,FALSE)),\"\",VLOOKUP(A59,tesserati[],7,FALSE))","v":""}]
[null,{"$f":"IF(ISERROR(VLOOKUP(A60,tesserati[],2,FALSE)),\"\",VLOOKUP(A60,tesserati[],2,FALSE))","v":""},{"$f":"IF(ISERROR(VLOOKUP(A60,tesserati[],3,FALSE)),\"\",VLOOKUP(A60,tesserati[],3,FALSE))","v":""},{"$f":"IF(ISERROR(VLOOKUP(A60,tesserati[],4,FALSE)),\"\",VLOOKUP(A60,tesserati[],4,FALSE))","v":""},{"$f":"IF(ISERROR(VLOOKUP(A60,tesserati[],5,FALSE)),\"\",VLOOKUP(A60,tesserati[],5,FALSE))","v":""},{"$f":"IF(ISERROR(VLOOKUP(A60,tesserati[],7,FALSE)),\"\",VLOOKUP(A60,tesserati[],7,FALSE))","v":""}]
[null,{"$f":"IF(ISERROR(VLOOKUP(A61,tesserati[],2,FALSE)),\"\",VLOOKUP(A61,tesserati[],2,FALSE))","v":""},{"$f":"IF(ISERROR(VLOOKUP(A61,tesserati[],3,FALSE)),\"\",VLOOKUP(A61,tesserati[],3,FALSE))","v":""},{"$f":"IF(ISERROR(VLOOKUP(A61,tesserati[],4,FALSE)),\"\",VLOOKUP(A61,tesserati[],4,FALSE))","v":""},{"$f":"IF(ISERROR(VLOOKUP(A61,tesserati[],5,FALSE)),\"\",VLOOKUP(A61,tesserati[],5,FALSE))","v":""},{"$f":"IF(ISERROR(VLOOKUP(A61,tesserati[],7,FALSE)),\"\",VLOOKUP(A61,tesserati[],7,FALSE))","v":""}]
[null,{"$f":"IF(ISERROR(VLOOKUP(A62,tesserati[],2,FALSE)),\"\",VLOOKUP(A62,tesserati[],2,FALSE))","v":""},{"$f":"IF(ISERROR(VLOOKUP(A62,tesserati[],3,FALSE)),\"\",VLOOKUP(A62,tesserati[],3,FALSE))","v":""},{"$f":"IF(ISERROR(VLOOKUP(A62,tesserati[],4,FALSE)),\"\",VLOOKUP(A62,tesserati[],4,FALSE))","v":""},{"$f":"IF(ISERROR(VLOOKUP(A62,tesserati[],5,FALSE)),\"\",VLOOKUP(A62,tesserati[],5,FALSE))","v":""},{"$f":"IF(ISERROR(VLOOKUP(A62,tesserati[],7,FALSE)),\"\",VLOOKUP(A62,tesserati[],7,FALSE))","v":""}]
[null,{"$f":"IF(ISERROR(VLOOKUP(A63,tesserati[],2,FALSE)),\"\",VLOOKUP(A63,tesserati[],2,FALSE))","v":""},{"$f":"IF(ISERROR(VLOOKUP(A63,tesserati[],3,FALSE)),\"\",VLOOKUP(A63,tesserati[],3,FALSE))","v":""},{"$f":"IF(ISERROR(VLOOKUP(A63,tesserati[],4,FALSE)),\"\",VLOOKUP(A63,tesserati[],4,FALSE))","v":""},{"$f":"IF(ISERROR(VLOOKUP(A63,tesserati[],5,FALSE)),\"\",VLOOKUP(A63,tesserati[],5,FALSE))","v":""},{"$f":"IF(ISERROR(VLOOKUP(A63,tesserati[],7,FALSE)),\"\",VLOOKUP(A63,tesserati[],7,FALSE))","v":""}]
[null,{"$f":"IF(ISERROR(VLOOKUP(A64,tesserati[],2,FALSE)),\"\",VLOOKUP(A64,tesserati[],2,FALSE))","v":""},{"$f":"IF(ISERROR(VLOOKUP(A64,tesserati[],3,FALSE)),\"\",VLOOKUP(A64,tesserati[],3,FALSE))","v":""},{"$f":"IF(ISERROR(VLOOKUP(A64,tesserati[],4,FALSE)),\"\",VLOOKUP(A64,tesserati[],4,FALSE))","v":""},{"$f":"IF(ISERROR(VLOOKUP(A64,tesserati[],5,FALSE)),\"\",VLOOKUP(A64,tesserati[],5,FALSE))","v":""},{"$f":"IF(ISERROR(VLOOKUP(A64,tesserati[],7,FALSE)),\"\",VLOOKUP(A64,tesserati[],7,FALSE))","v":""}]
[null,{"$f":"IF(ISERROR(VLOOKUP(A65,tesserati[],2,FALSE)),\"\",VLOOKUP(A65,tesserati[],2,FALSE))","v":""},{"$f":"IF(ISERROR(VLOOKUP(A65,tesserati[],3,FALSE)),\"\",VLOOKUP(A65,tesserati[],3,FALSE))","v":""},{"$f":"IF(ISERROR(VLOOKUP(A65,tesserati[],4,FALSE)),\"\",VLOOKUP(A65,tesserati[],4,FALSE))","v":""},{"$f":"IF(ISERROR(VLOOKUP(A65,tesserati[],5,FALSE)),\"\",VLOOKUP(A65,tesserati[],5,FALSE))","v":""},{"$f":"IF(ISERROR(VLOOKUP(A65,tesserati[],7,FALSE)),\"\",VLOOKUP(A65,tesserati[],7,FALSE))","v":""}]
[null,{"$f":"IF(ISERROR(VLOOKUP(A66,tesserati[],2,FALSE)),\"\",VLOOKUP(A66,tesserati[],2,FALSE))","v":""},{"$f":"IF(ISERROR(VLOOKUP(A66,tesserati[],3,FALSE)),\"\",VLOOKUP(A66,tesserati[],3,FALSE))","v":""},{"$f":"IF(ISERROR(VLOOKUP(A66,tesserati[],4,FALSE)),\"\",VLOOKUP(A66,tesserati[],4,FALSE))","v":""},{"$f":"IF(ISERROR(VLOOKUP(A66,tesserati[],5,FALSE)),\"\",VLOOKUP(A66,tesserati[],5,FALSE))","v":""},{"$f":"IF(ISERROR(VLOOKUP(A66,tesserati[],7,FALSE)),\"\",VLOOKUP(A66,tesserati[],7,FALSE))","v":""}]
[null,{"$f":"IF(ISERROR(VLOOKUP(A67,tesserati[],2,FALSE)),\"\",VLOOKUP(A67,tesserati[],2,FALSE))","v":""},{"$f":"IF(ISERROR(VLOOKUP(A67,tesserati[],3,FALSE)),\"\",VLOOKUP(A67,tesserati[],3,FALSE))","v":""},{"$f":"IF(ISERROR(VLOOKUP(A67,tesserati[],4,FALSE)),\"\",VLOOKUP(A67,tesserati[],4,FALSE))","v":""},{"$f":"IF(ISERROR(VLOOKUP(A67,tesserati[],5,FALSE)),\"\",VLOOKUP(A67,tesserati[],5,FALSE))","v":""},{"$f":"IF(ISERROR(VLOOKUP(A67,tesserati[],7,FALSE)),\"\",VLOOKUP(A67,tesserati[],7,FALSE))","v":""}]
[null,{"$f":"IF(ISERROR(VLOOKUP(A68,tesserati[],2,FALSE)),\"\",VLOOKUP(A68,tesserati[],2,FALSE))","v":""},{"$f":"IF(ISERROR(VLOOKUP(A68,tesserati[],3,FALSE)),\"\",VLOOKUP(A68,tesserati[],3,FALSE))","v":""},{"$f":"IF(ISERROR(VLOOKUP(A68,tesserati[],4,FALSE)),\"\",VLOOKUP(A68,tesserati[],4,FALSE))","v":""},{"$f":"IF(ISERROR(VLOOKUP(A68,tesserati[],5,FALSE)),\"\",VLOOKUP(A68,tesserati[],5,FALSE))","v":""},{"$f":"IF(ISERROR(VLOOKUP(A68,tesserati[],7,FALSE)),\"\",VLOOKUP(A68,tesserati[],7,FALSE))","v":""}]
[null,{"$f":"IF(ISERROR(VLOOKUP(A69,tesserati[],2,FALSE)),\"\",VLOOKUP(A69,tesserati[],2,FALSE))","v":""},{"$f":"IF(ISERROR(VLOOKUP(A69,tesserati[],3,FALSE)),\"\",VLOOKUP(A69,tesserati[],3,FALSE))","v":""},{"$f":"IF(ISERROR(VLOOKUP(A69,tesserati[],4,FALSE)),\"\",VLOOKUP(A69,tesserati[],4,FALSE))","v":""},{"$f":"IF(ISERROR(VLOOKUP(A69,tesserati[],5,FALSE)),\"\",VLOOKUP(A69,tesserati[],5,FALSE))","v":""},{"$f":"IF(ISERROR(VLOOKUP(A69,tesserati[],7,FALSE)),\"\",VLOOKUP(A69,tesserati[],7,FALSE))","v":""}]
[null,{"$f":"IF(ISERROR(VLOOKUP(A70,tesserati[],2,FALSE)),\"\",VLOOKUP(A70,tesserati[],2,FALSE))","v":""},{"$f":"IF(ISERROR(VLOOKUP(A70,tesserati[],3,FALSE)),\"\",VLOOKUP(A70,tesserati[],3,FALSE))","v":""},{"$f":"IF(ISERROR(VLOOKUP(A70,tesserati[],4,FALSE)),\"\",VLOOKUP(A70,tesserati[],4,FALSE))","v":""},{"$f":"IF(ISERROR(VLOOKUP(A70,tesserati[],5,FALSE)),\"\",VLOOKUP(A70,tesserati[],5,FALSE))","v":""},{"$f":"IF(ISERROR(VLOOKUP(A70,tesserati[],7,FALSE)),\"\",VLOOKUP(A70,tesserati[],7,FALSE))","v":""}]
[null,{"$f":"IF(ISERROR(VLOOKUP(A71,tesserati[],2,FALSE)),\"\",VLOOKUP(A71,tesserati[],2,FALSE))","v":""},{"$f":"IF(ISERROR(VLOOKUP(A71,tesserati[],3,FALSE)),\"\",VLOOKUP(A71,tesserati[],3,FALSE))","v":""},{"$f":"IF(ISERROR(VLOOKUP(A71,tesserati[],4,FALSE)),\"\",VLOOKUP(A71,tesserati[],4,FALSE))","v":""},{"$f":"IF(ISERROR(VLOOKUP(A71,tesserati[],5,FALSE)),\"\",VLOOKUP(A71,tesserati[],5,FALSE))","v":""},{"$f":"IF(ISERROR(VLOOKUP(A71,tesserati[],7,FALSE)),\"\",VLOOKUP(A71,tesserati[],7,FALSE))","v":""}]
[null,{"$f":"IF(ISERROR(VLOOKUP(A72,tesserati[],2,FALSE)),\"\",VLOOKUP(A72,tesserati[],2,FALSE))","v":""},{"$f":"IF(ISERROR(VLOOKUP(A72,tesserati[],3,FALSE)),\"\",VLOOKUP(A72,tesserati[],3,FALSE))","v":""},{"$f":"IF(ISERROR(VLOOKUP(A72,tesserati[],4,FALSE)),\"\",VLOOKUP(A72,tesserati[],4,FALSE))","v":""},{"$f":"IF(ISERROR(VLOOKUP(A72,tesserati[],5,FALSE)),\"\",VLOOKUP(A72,tesserati[],5,FALSE))","v":""},{"$f":"IF(ISERROR(VLOOKUP(A72,tesserati[],7,FALSE)),\"\",VLOOKUP(A72,tesserati[],7,FALSE))","v":""}]

{"sheet":"STAFFETTE 4X100 Master M","index":8,"n_rows":72,"n_cols":12,"rows_kept":72,"cut":false,"hidden":false,"merged":[[0,2,0,4],[0,5,0,7],[0,8,0,10],[0,11,1,11],[1,2,1,4],[1,5,1,7],[1,8,1,10],[2,11,4,11],[3,0,4,1],[3,2,4,2],[3,3,4,3],[3,5,4,7],[3,8,4,10],[2,0,2,1],[2,4,4,4],[2,5,2,7],[2,8,2,10],[5,9,6,9],[5,10,6,10],[5,11,6,11],[5,0,6,0],[5,1,6,2],[5,3,6,3],[5,4,6,4],[5,5,6,5],[7,0,7,11],[5,6,6,6],[16,6,19,6],[16,7,19,7],[16,8,19,8],[16,9,19,9],[12,6,15,6],[12,7,15,7],[12,8,15,8],[12,9,15,9],[8,6,11,6],[8,7,11,7],[8,8,11,8],[8,9,11,9],[5,7,6,7],[5,8,6,8],[20,6,23,6],[20,7,23,7],[20,8,23,8],[20,9,23,9],[24,6,27,6],[24,7,27,7],[24,8,27,8],[24,9,27,9],[28,6,31,6],[28,7,31,7],[28,8,31,8],[28,9,31,9],[33,6,36,6],[33,7,36,7],[33,8,36,8],[33,9,36,9],[32,0,32,11],[37,6,40,6],[37,7,40,7],[37,8,40,8],[37,9,40,9],[41,6,44,6],[41,7,44,7],[41,8,44,8],[41,9,44,9],[45,6,48,6],[45,7,48,7],[45,8,48,8],[45,9,48,9],[49,6,52,6],[49,7,52,7],[49,8,52,8],[49,9,52,9],[53,6,56,6],[53,7,56,7],[53,8,56,8],[53,9,56,9],[57,6,60,6],[57,7,60,7],[57,8,60,8],[57,9,60,9]]}
[null,null,"MANIFESTAZIONE",null,null,"LOCALITA'",null,null,"SOCIETA' ORGANIZZATRICE"]
[null,null,"6° prova provinciale",null,null,"Tezze sul Brenta",null,null,"CSI Tezze sul Brenta"]
["CATEGORIA",null,"ORA INIZIO","ORA FINE",null,"GARA",null,null,"DATA"]
["MASTER M",null,null,null,null,"STAFFETTA 4 X 100",null,null,"2017-09-24"]
[]
["N. tessera","ATLETA\nCOGNOME E NOME",null,"SOCIETA'","NASCITA","CATEGORIA","Corsia","PETTORALE","Tempo","Piazzamento","PUNTI","CL."]
[]
["1 SERIE",{"$f":"IF(ISERROR(VLOOKUP(A8,tesserati[],2,FALSE)),\"\",VLOOKUP(A8,tesserati[],2,FALSE))","v":""},{"$f":"IF(ISERROR(VLOOKUP(A8,tesserati[],3,FALSE)),\"\",VLOOKUP(A8,tesserati[],3,FALSE))","v":""},{"$f":"IF(ISERROR(VLOOKUP(#REF!,tesserati[],5,FALSE)),\"\",VLOOKUP(#REF!,tesserati[],5,FALSE))","v":""},{"$f":"IF(ISERROR(VLOOKUP(A8,tesserati[],4,FALSE)),\"\",VLOOKUP(A8,tesserati[],4,FALSE))","v":""},{"$f":"IF(ISERROR(VLOOKUP(A8,tesserati[],7,FALSE)),\"\",VLOOKUP(A8,tesserati[],7,FALSE))","v":""}]
[null,{"$f":"IF(ISERROR(VLOOKUP(A9,tesserati[],2,FALSE)),\"\",VLOOKUP(A9,tesserati[],2,FALSE))","v":""},{"$f":"IF(ISERROR(VLOOKUP(A9,tesserati[],3,FALSE)),\"\",VLOOKUP(A9,tesserati[],3,FALSE))","v":""},{"$f":"IF(ISERROR(VLOOKUP(A9,tesserati[],4,FALSE)),\"\",VLOOKUP(A9,tesserati[],4,FALSE))","v":""},{"$f":"IF(ISERROR(VLOOKUP(A9,tesserati[],5,FALSE)),\"\",VLOOKUP(A9,tesserati[],5,FALSE))","v":""},{"$f":"IF(ISERROR(VLOOKUP(A9,tesserati[],7,FALSE)),\"\",VLOOKUP(A9,tesserati[],7,FALSE))","v":""},1]
[null,{"$f":"IF(ISERROR(VLOOKUP(A10,tesserati[],2,FALSE)),\"\",VLOOKUP(A10,tesserati[],2,FALSE))","v":""},{"$f":"IF(ISERROR(VLOOKUP(A10,tesserati[],3,FALSE)),\"\",VLOOKUP(A10,tesserati[],3,FALSE))","v":""},{"$f":"IF(ISERROR(VLOOKUP(A10,tesserati[],4,FALSE)),\"\",VLOOKUP(A10,tesserati[],4,FALSE))","v":""},{"$f":"IF(ISERROR(VLOOKUP(A10,tesserati[],5,FALSE)),\"\",VLOOKUP(A10,tesserati[],5,FALSE))","v":""},{"$f":"IF(ISERROR(VLOOKUP(A10,tesserati[],7,FALSE)),\"\",VLOOKUP(A10,tesserati[],7,FALSE))","v":""}]
[null,{"$f":"IF(ISERROR(VLOOKUP(A11,tesserati[],2,FALSE)),\"\",VLOOKUP(A11,tesserati[],2,FALSE))","v":""},{"$f":"IF(ISERROR(VLOOKUP(A11,tesserati[],3,FALSE)),\"\",VLOOKUP(A11,tesserati[],3,FALSE))","v":""},{"$f":"IF(ISERROR(VLOOKUP(A11,tesserati[],4,FALSE)),\"\",VLOOKUP(A11,tesserati[],4,FALSE))","v":""},{"$f":"IF(ISERROR(VLOOKUP(A11,tesserati[],5,FALSE)),\"\",VLOOKUP(A11,tesserati[],5,FALSE))","v":""},{"$f":"IF(ISERROR(VLOOKUP(A11,tesserati[],7,FALSE)),\"\",VLOOKUP(A11,tesserati[],7,FALSE))","v":""}]
[null,{"$f":"IF(ISERROR(VLOOKUP(A12,tesserati[],2,FALSE)),\"\",VLOOKUP(A12,tesserati[],2,FALSE))","v":""},{"$f":"IF(ISERROR(VLOOKUP(A12,tesserati[],3,FALSE)),\"\",VLOOKUP(A12,tesserati[],3,FALSE))","v":""},{"$f":"IF(ISERROR(VLOOKUP(A12,tesserati[],4,FALSE)),\"\",VLOOKUP(A12,tesserati[],4,FALSE))","v":""},{"$f":"IF(ISERROR(VLOOKUP(A12,tesserati[],5,FALSE)),\"\",VLOOKUP(A12,tesserati[],5,FALSE))","v":""},{"$f":"IF(ISERROR(VLOOKUP(A12,tesserati[],7,FALSE)),\"\",VLOOKUP(A12,tesserati[],7,FALSE))","v":""}]
[null,{"$f":"IF(ISERROR(VLOOKUP(A13,tesserati[],2,FALSE)),\"\",VLOOKUP(A13,tesserati[],2,FALSE))","v":""},{"$f":"IF(ISERROR(VLOOKUP(A13,tesserati[],3,FALSE)),\"\",VLOOKUP(A13,tesserati[],3,FALSE))","v":""},{"$f":"IF(ISERROR(VLOOKUP(A13,tesserati[],4,FALSE)),\"\",VLOOKUP(A13,tesserati[],4,FALSE))","v":""},{"$f":"IF(ISERROR(VLOOKUP(A13,tesserati[],5,FALSE)),\"\",VLOOKUP(A13,tesserati[],5,FALSE))","v":""},{"$f":"IF(ISERROR(VLOOKUP(A13,tesserati[],7,FALSE)),\"\",VLOOKUP(A13,tesserati[],7,FALSE))","v":""},2]
[null,{"$f":"IF(ISERROR(VLOOKUP(A14,tesserati[],2,FALSE)),\"\",VLOOKUP(A14,tesserati[],2,FALSE))","v":""},{"$f":"IF(ISERROR(VLOOKUP(A14,tesserati[],3,FALSE)),\"\",VLOOKUP(A14,tesserati[],3,FALSE))","v":""},{"$f":"IF(ISERROR(VLOOKUP(A14,tesserati[],4,FALSE)),\"\",VLOOKUP(A14,tesserati[],4,FALSE))","v":""},{"$f":"IF(ISERROR(VLOOKUP(A14,tesserati[],5,FALSE)),\"\",VLOOKUP(A14,tesserati[],5,FALSE))","v":""},{"$f":"IF(ISERROR(VLOOKUP(A14,tesserati[],7,FALSE)),\"\",VLOOKUP(A14,tesserati[],7,FALSE))","v":""}]
[null,{"$f":"IF(ISERROR(VLOOKUP(A15,tesserati[],2,FALSE)),\"\",VLOOKUP(A15,tesserati[],2,FALSE))","v":""},{"$f":"IF(ISERROR(VLOOKUP(A15,tesserati[],3,FALSE)),\"\",VLOOKUP(A15,tesserati[],3,FALSE))","v":""},{"$f":"IF(ISERROR(VLOOKUP(A15,tesserati[],4,FALSE)),\"\",VLOOKUP(A15,tesserati[],4,FALSE))","v":""},{"$f":"IF(ISERROR(VLOOKUP(A15,tesserati[],5,FALSE)),\"\",VLOOKUP(A15,tesserati[],5,FALSE))","v":""},{"$f":"IF(ISERROR(VLOOKUP(A15,tesserati[],7,FALSE)),\"\",VLOOKUP(A15,tesserati[],7,FALSE))","v":""}]
[null,{"$f":"IF(ISERROR(VLOOKUP(A16,tesserati[],2,FALSE)),\"\",VLOOKUP(A16,tesserati[],2,FALSE))","v":""},{"$f":"IF(ISERROR(VLOOKUP(A16,tesserati[],3,FALSE)),\"\",VLOOKUP(A16,tesserati[],3,FALSE))","v":""},{"$f":"IF(ISERROR(VLOOKUP(A16,tesserati[],4,FALSE)),\"\",VLOOKUP(A16,tesserati[],4,FALSE))","v":""},{"$f":"IF(ISERROR(VLOOKUP(A16,tesserati[],5,FALSE)),\"\",VLOOKUP(A16,tesserati[],5,FALSE))","v":""},{"$f":"IF(ISERROR(VLOOKUP(A16,tesserati[],7,FALSE)),\"\",VLOOKUP(A16,tesserati[],7,FALSE))","v":""}]
[null,{"$f":"IF(ISERROR(VLOOKUP(A17,tesserati[],2,FALSE)),\"\",VLOOKUP(A17,tesserati[],2,FALSE))","v":""},{"$f":"IF(ISERROR(VLOOKUP(A17,tesserati[],3,FALSE)),\"\",VLOOKUP(A17,tesserati[],3,FALSE))","v":""},{"$f":"IF(ISERROR(VLOOKUP(A17,tesserati[],4,FALSE)),\"\",VLOOKUP(A17,tesserati[],4,FALSE))","v":""},{"$f":"IF(ISERROR(VLOOKUP(A17,tesserati[],5,FALSE)),\"\",VLOOKUP(A17,tesserati[],5,FALSE))","v":""},{"$f":"IF(ISERROR(VLOOKUP(A17,tesserati[],7,FALSE)),\"\",VLOOKUP(A17,tesserati[],7,FALSE))","v":""},3]
[null,{"$f":"IF(ISERROR(VLOOKUP(A18,tesserati[],2,FALSE)),\"\",VLOOKUP(A18,tesserati[],2,FALSE))","v":""},{"$f":"IF(ISERROR(VLOOKUP(A18,tesserati[],3,FALSE)),\"\",VLOOKUP(A18,tesserati[],3,FALSE))","v":""},{"$f":"IF(ISERROR(VLOOKUP(A18,tesserati[],4,FALSE)),\"\",VLOOKUP(A18,tesserati[],4,FALSE))","v":""},{"$f":"IF(ISERROR(VLOOKUP(A18,tesserati[],5,FALSE)),\"\",VLOOKUP(A18,tesserati[],5,FALSE))","v":""},{"$f":"IF(ISERROR(VLOOKUP(A18,tesserati[],7,FALSE)),\"\",VLOOKUP(A18,tesserati[],7,FALSE))","v":""}]
[null,{"$f":"IF(ISERROR(VLOOKUP(A19,tesserati[],2,FALSE)),\"\",VLOOKUP(A19,tesserati[],2,FALSE))","v":""},{"$f":"IF(ISERROR(VLOOKUP(A19,tesserati[],3,FALSE)),\"\",VLOOKUP(A19,tesserati[],3,FALSE))","v":""},{"$f":"IF(ISERROR(VLOOKUP(A19,tesserati[],4,FALSE)),\"\",VLOOKUP(A19,tesserati[],4,FALSE))","v":""},{"$f":"IF(ISERROR(VLOOKUP(A19,tesserati[],5,FALSE)),\"\",VLOOKUP(A19,tesserati[],5,FALSE))","v":""},{"$f":"IF(ISERROR(VLOOKUP(A19,tesserati[],7,FALSE)),\"\",VLOOKUP(A19,tesserati[],7,FALSE))","v":""}]
[null,{"$f":"IF(ISERROR(VLOOKUP(A20,tesserati[],2,FALSE)),\"\",VLOOKUP(A20,tesserati[],2,FALSE))","v":""},{"$f":"IF(ISERROR(VLOOKUP(A20,tesserati[],3,FALSE)),\"\",VLOOKUP(A20,tesserati[],3,FALSE))","v":""},{"$f":"IF(ISERROR(VLOOKUP(A20,tesserati[],4,FALSE)),\"\",VLOOKUP(A20,tesserati[],4,FALSE))","v":""},{"$f":"IF(ISERROR(VLOOKUP(A20,tesserati[],5,FALSE)),\"\",VLOOKUP(A20,tesserati[],5,FALSE))","v":""},{"$f":"IF(ISERROR(VLOOKUP(A20,tesserati[],7,FALSE)),\"\",VLOOKUP(A20,tesserati[],7,FALSE))","v":""}]
[null,{"$f":"IF(ISERROR(VLOOKUP(A21,tesserati[],2,FALSE)),\"\",VLOOKUP(A21,tesserati[],2,FALSE))","v":""},{"$f":"IF(ISERROR(VLOOKUP(A21,tesserati[],3,FALSE)),\"\",VLOOKUP(A21,tesserati[],3,FALSE))","v":""},{"$f":"IF(ISERROR(VLOOKUP(A21,tesserati[],4,FALSE)),\"\",VLOOKUP(A21,tesserati[],4,FALSE))","v":""},{"$f":"IF(ISERROR(VLOOKUP(A21,tesserati[],5,FALSE)),\"\",VLOOKUP(A21,tesserati[],5,FALSE))","v":""},{"$f":"IF(ISERROR(VLOOKUP(A21,tesserati[],7,FALSE)),\"\",VLOOKUP(A21,tesserati[],7,FALSE))","v":""},4]
[null,{"$f":"IF(ISERROR(VLOOKUP(A22,tesserati[],2,FALSE)),\"\",VLOOKUP(A22,tesserati[],2,FALSE))","v":""},{"$f":"IF(ISERROR(VLOOKUP(A22,tesserati[],3,FALSE)),\"\",VLOOKUP(A22,tesserati[],3,FALSE))","v":""},{"$f":"IF(ISERROR(VLOOKUP(A22,tesserati[],4,FALSE)),\"\",VLOOKUP(A22,tesserati[],4,FALSE))","v":""},{"$f":"IF(ISERROR(VLOOKUP(A22,tesserati[],5,FALSE)),\"\",VLOOKUP(A22,tesserati[],5,FALSE))","v":""},{"$f":"IF(ISERROR(VLOOKUP(A22,tesserati[],7,FALSE)),\"\",VLOOKUP(A22,tesserati[],7,FALSE))","v":""}]
[null,{"$f":"IF(ISERROR(VLOOKUP(A23,tesserati[],2,FALSE)),\"\",VLOOKUP(A23,tesserati[],2,FALSE))","v":""},{"$f":"IF(ISERROR(VLOOKUP(A23,tesserati[],3,FALSE)),\"\",VLOOKUP(A23,tesserati[],3,FALSE))","v":""},{"$f":"IF(ISERROR(VLOOKUP(A23,tesserati[],4,FALSE)),\"\",VLOOKUP(A23,tesserati[],4,FALSE))","v":""},{"$f":"IF(ISERROR(VLOOKUP(A23,tesserati[],5,FALSE)),\"\",VLOOKUP(A23,tesserati[],5,FALSE))","v":""},{"$f":"IF(ISERROR(VLOOKUP(A23,tesserati[],7,FALSE)),\"\",VLOOKUP(A23,tesserati[],7,FALSE))","v":""}]
[null,{"$f":"IF(ISERROR(VLOOKUP(A24,tesserati[],2,FALSE)),\"\",VLOOKUP(A24,tesserati[],2,FALSE))","v":""},{"$f":"IF(ISERROR(VLOOKUP(A24,tesserati[],3,FALSE)),\"\",VLOOKUP(A24,tesserati[],3,FALSE))","v":""},{"$f":"IF(ISERROR(VLOOKUP(A24,tesserati[],4,FALSE)),\"\",VLOOKUP(A24,tesserati[],4,FALSE))","v":""},{"$f":"IF(ISERROR(VLOOKUP(A24,tesserati[],5,FALSE)),\"\",VLOOKUP(A24,tesserati[],5,FALSE))","v":""},{"$f":"IF(ISERROR(VLOOKUP(A24,tesserati[],7,FALSE)),\"\",VLOOKUP(A24,tesserati[],7,FALSE))","v":""}]
[null,{"$f":"IF(ISERROR(VLOOKUP(A25,tesserati[],2,FALSE)),\"\",VLOOKUP(A25,tesserati[],2,FALSE))","v":""},{"$f":"IF(ISERROR(VLOOKUP(A25,tesserati[],3,FALSE)),\"\",VLOOKUP(A25,tesserati[],3,FALSE))","v":""},{"$f":"IF(ISERROR(VLOOKUP(A25,tesserati[],4,FALSE)),\"\",VLOOKUP(A25,tesserati[],4,FALSE))","v":""},{"$f":"IF(ISERROR(VLOOKUP(A25,tesserati[],5,FALSE)),\"\",VLOOKUP(A25,tesserati[],5,FALSE))","v":""},{"$f":"IF(ISERROR(VLOOKUP(A25,tesserati[],7,FALSE)),\"\",VLOOKUP(A25,tesserati[],7,FALSE))","v":""},5]
[null,{"$f":"IF(ISERROR(VLOOKUP(A26,tesserati[],2,FALSE)),\"\",VLOOKUP(A26,tesserati[],2,FALSE))","v":""},{"$f":"IF(ISERROR(VLOOKUP(A26,tesserati[],3,FALSE)),\"\",VLOOKUP(A26,tesserati[],3,FALSE))","v":""},{"$f":"IF(ISERROR(VLOOKUP(A26,tesserati[],4,FALSE)),\"\",VLOOKUP(A26,tesserati[],4,FALSE))","v":""},{"$f":"IF(ISERROR(VLOOKUP(A26,tesserati[],5,FALSE)),\"\",VLOOKUP(A26,tesserati[],5,FALSE))","v":""},{"$f":"IF(ISERROR(VLOOKUP(A26,tesserati[],7,FALSE)),\"\",VLOOKUP(A26,tesserati[],7,FALSE))","v":""}]
[null,{"$f":"IF(ISERROR(VLOOKUP(A27,tesserati[],2,FALSE)),\"\",VLOOKUP(A27,tesserati[],2,FALSE))","v":""},{"$f":"IF(ISERROR(VLOOKUP(A27,tesserati[],3,FALSE)),\"\",VLOOKUP(A27,tesserati[],3,FALSE))","v":""},{"$f":"IF(ISERROR(VLOOKUP(A27,tesserati[],4,FALSE)),\"\",VLOOKUP(A27,tesserati[],4,FALSE))","v":""},{"$f":"IF(ISERROR(VLOOKUP(A27,tesserati[],5,FALSE)),\"\",VLOOKUP(A27,tesserati[],5,FALSE))","v":""},{"$f":"IF(ISERROR(VLOOKUP(A27,tesserati[],7,FALSE)),\"\",VLOOKUP(A27,tesserati[],7,FALSE))","v":""}]
[null,{"$f":"IF(ISERROR(VLOOKUP(A28,tesserati[],2,FALSE)),\"\",VLOOKUP(A28,tesserati[],2,FALSE))","v":""},{"$f":"IF(ISERROR(VLOOKUP(A28,tesserati[],3,FALSE)),\"\",VLOOKUP(A28,tesserati[],3,FALSE))","v":""},{"$f":"IF(ISERROR(VLOOKUP(A28,tesserati[],4,FALSE)),\"\",VLOOKUP(A28,tesserati[],4,FALSE))","v":""},{"$f":"IF(ISERROR(VLOOKUP(A28,tesserati[],5,FALSE)),\"\",VLOOKUP(A28,tesserati[],5,FALSE))","v":""},{"$f":"IF(ISERROR(VLOOKUP(A28,tesserati[],7,FALSE)),\"\",VLOOKUP(A28,tesserati[],7,FALSE))","v":""}]
[null,{"$f":"IF(ISERROR(VLOOKUP(A29,tesserati[],2,FALSE)),\"\",VLOOKUP(A29,tesserati[],2,FALSE))","v":""},{"$f":"IF(ISERROR(VLOOKUP(A29,tesserati[],3,FALSE)),\"\",VLOOKUP(A29,tesserati[],3,FALSE))","v":""},{"$f":"IF(ISERROR(VLOOKUP(A29,tesserati[],4,FALSE)),\"\",VLOOKUP(A29,tesserati[],4,FALSE))","v":""},{"$f":"IF(ISERROR(VLOOKUP(A29,tesserati[],5,FALSE)),\"\",VLOOKUP(A29,tesserati[],5,FALSE))","v":""},{"$f":"IF(ISERROR(VLOOKUP(A29,tesserati[],7,FALSE)),\"\",VLOOKUP(A29,tesserati[],7,FALSE))","v":""},6]
[null,{"$f":"IF(ISERROR(VLOOKUP(A30,tesserati[],2,FALSE)),\"\",VLOOKUP(A30,tesserati[],2,FALSE))","v":""},{"$f":"IF(ISERROR(VLOOKUP(A30,tesserati[],3,FALSE)),\"\",VLOOKUP(A30,tesserati[],3,FALSE))","v":""},{"$f":"IF(ISERROR(VLOOKUP(A30,tesserati[],4,FALSE)),\"\",VLOOKUP(A30,tesserati[],4,FALSE))","v":""},{"$f":"IF(ISERROR(VLOOKUP(A30,tesserati[],5,FALSE)),\"\",VLOOKUP(A30,tesserati[],5,FALSE))","v":""},{"$f":"IF(ISERROR(VLOOKUP(A30,tesserati[],7,FALSE)),\"\",VLOOKUP(A30,tesserati[],7,FALSE))","v":""}]
[null,{"$f":"IF(ISERROR(VLOOKUP(A31,tesserati[],2,FALSE)),\"\",VLOOKUP(A31,tesserati[],2,FALSE))","v":""},{"$f":"IF(ISERROR(VLOOKUP(A31,tesserati[],3,FALSE)),\"\",VLOOKUP(A31,tesserati[],3,FALSE))","v":""},{"$f":"IF(ISERROR(VLOOKUP(A31,tesserati[],4,FALSE)),\"\",VLOOKUP(A31,tesserati[],4,FALSE))","v":""},{"$f":"IF(ISERROR(VLOOKUP(A31,tesserati[],5,FALSE)),\"\",VLOOKUP(A31,tesserati[],5,FALSE))","v":""},{"$f":"IF(ISERROR(VLOOKUP(A31,tesserati[],7,FALSE)),\"\",VLOOKUP(A31,tesserati[],7,FALSE))","v":""}]
[null,{"$f":"IF(ISERROR(VLOOKUP(A32,tesserati[],2,FALSE)),\"\",VLOOKUP(A32,tesserati[],2,FALSE))","v":""},{"$f":"IF(ISERROR(VLOOKUP(A32,tesserati[],3,FALSE)),\"\",VLOOKUP(A32,tesserati[],3,FALSE))","v":""},{"$f":"IF(ISERROR(VLOOKUP(A32,tesserati[],4,FALSE)),\"\",VLOOKUP(A32,tesserati[],4,FALSE))","v":""},{"$f":"IF(ISERROR(VLOOKUP(A32,tesserati[],5,FALSE)),\"\",VLOOKUP(A32,tesserati[],5,FALSE))","v":""},{"$f":"IF(ISERROR(VLOOKUP(A32,tesserati[],7,FALSE)),\"\",VLOOKUP(A32,tesserati[],7,FALSE))","v":""}]
["2 SERIE"]
[null,{"$f":"IF(ISERROR(VLOOKUP(A34,tesserati[],2,FALSE)),\"\",VLOOKUP(A34,tesserati[],2,FALSE))","v":""},{"$f":"IF(ISERROR(VLOOKUP(A34,tesserati[],3,FALSE)),\"\",VLOOKUP(A34,tesserati[],3,FALSE))","v":""},{"$f":"IF(ISERROR(VLOOKUP(A34,tesserati[],4,FALSE)),\"\",VLOOKUP(A34,tesserati[],4,FALSE))","v":""},{"$f":"IF(ISERROR(VLOOKUP(A34,tesserati[],5,FALSE)),\"\",VLOOKUP(A34,tesserati[],5,FALSE))","v":""},{"$f":"IF(ISERROR(VLOOKUP(A34,tesserati[],7,FALSE)),\"\",VLOOKUP(A34,tesserati[],7,FALSE))","v":""},1]
[null,{"$f":"IF(ISERROR(VLOOKUP(A35,tesserati[],2,FALSE)),\"\",VLOOKUP(A35,tesserati[],2,FALSE))","v":""},{"$f":"IF(ISERROR(VLOOKUP(A35,tesserati[],3,FALSE)),\"\",VLOOKUP(A35,tesserati[],3,FALSE))","v":""},{"$f":"IF(ISERROR(VLOOKUP(A35,tesserati[],4,FALSE)),\"\",VLOOKUP(A35,tesserati[],4,FALSE))","v":""},{"$f":"IF(ISERROR(VLOOKUP(A35,tesserati[],5,FALSE)),\"\",VLOOKUP(A35,tesserati[],5,FALSE))","v":""},{"$f":"IF(ISERROR(VLOOKUP(A35,tesserati[],7,FALSE)),\"\",VLOOKUP(A35,tesserati[],7,FALSE))","v":""}]
[null,{"$f":"IF(ISERROR(VLOOKUP(A36,tesserati[],2,FALSE)),\"\",VLOOKUP(A36,tesserati[],2,FALSE))","v":""},{"$f":"IF(ISERROR(VLOOKUP(A36,tesserati[],3,FALSE)),\"\",VLOOKUP(A36,tesserati[],3,FALSE))","v":""},{"$f":"IF(ISERROR(VLOOKUP(A36,tesserati[],4,FALSE)),\"\",VLOOKUP(A36,tesserati[],4,FALSE))","v":""},{"$f":"IF(ISERROR(VLOOKUP(A36,tesserati[],5,FALSE)),\"\",VLOOKUP(A36,tesserati[],5,FALSE))","v":""},{"$f":"IF(ISERROR(VLOOKUP(A36,tesserati[],7,FALSE)),\"\",VLOOKUP(A36,tesserati[],7,FALSE))","v":""}]
[null,{"$f":"IF(ISERROR(VLOOKUP(A37,tesserati[],2,FALSE)),\"\",VLOOKUP(A37,tesserati[],2,FALSE))","v":""},{"$f":"IF(ISERROR(VLOOKUP(A37,tesserati[],3,FALSE)),\"\",VLOOKUP(A37,tesserati[],3,FALSE))","v":""},{"$f":"IF(ISERROR(VLOOKUP(A37,tesserati[],4,FALSE)),\"\",VLOOKUP(A37,tesserati[],4,FALSE))","v":""},{"$f":"IF(ISERROR(VLOOKUP(A37,tesserati[],5,FALSE)),\"\",VLOOKUP(A37,tesserati[],5,FALSE))","v":""},{"$f":"IF(ISERROR(VLOOKUP(A37,tesserati[],7,FALSE)),\"\",VLOOKUP(A37,tesserati[],7,FALSE))","v":""}]
[null,{"$f":"IF(ISERROR(VLOOKUP(A38,tesserati[],2,FALSE)),\"\",VLOOKUP(A38,tesserati[],2,FALSE))","v":""},{"$f":"IF(ISERROR(VLOOKUP(A38,tesserati[],3,FALSE)),\"\",VLOOKUP(A38,tesserati[],3,FALSE))","v":""},{"$f":"IF(ISERROR(VLOOKUP(A38,tesserati[],4,FALSE)),\"\",VLOOKUP(A38,tesserati[],4,FALSE))","v":""},{"$f":"IF(ISERROR(VLOOKUP(A38,tesserati[],5,FALSE)),\"\",VLOOKUP(A38,tesserati[],5,FALSE))","v":""},{"$f":"IF(ISERROR(VLOOKUP(A38,tesserati[],7,FALSE)),\"\",VLOOKUP(A38,tesserati[],7,FALSE))","v":""},2]
[null,{"$f":"IF(ISERROR(VLOOKUP(A39,tesserati[],2,FALSE)),\"\",VLOOKUP(A39,tesserati[],2,FALSE))","v":""},{"$f":"IF(ISERROR(VLOOKUP(A39,tesserati[],3,FALSE)),\"\",VLOOKUP(A39,tesserati[],3,FALSE))","v":""},{"$f":"IF(ISERROR(VLOOKUP(A39,tesserati[],4,FALSE)),\"\",VLOOKUP(A39,tesserati[],4,FALSE))","v":""},{"$f":"IF(ISERROR(VLOOKUP(A39,tesserati[],5,FALSE)),\"\",VLOOKUP(A39,tesserati[],5,FALSE))","v":""},{"$f":"IF(ISERROR(VLOOKUP(A39,tesserati[],7,FALSE)),\"\",VLOOKUP(A39,tesserati[],7,FALSE))","v":""}]
[null,{"$f":"IF(ISERROR(VLOOKUP(A40,tesserati[],2,FALSE)),\"\",VLOOKUP(A40,tesserati[],2,FALSE))","v":""},{"$f":"IF(ISERROR(VLOOKUP(A40,tesserati[],3,FALSE)),\"\",VLOOKUP(A40,tesserati[],3,FALSE))","v":""},{"$f":"IF(ISERROR(VLOOKUP(A40,tesserati[],4,FALSE)),\"\",VLOOKUP(A40,tesserati[],4,FALSE))","v":""},{"$f":"IF(ISERROR(VLOOKUP(A40,tesserati[],5,FALSE)),\"\",VLOOKUP(A40,tesserati[],5,FALSE))","v":""},{"$f":"IF(ISERROR(VLOOKUP(A40,tesserati[],7,FALSE)),\"\",VLOOKUP(A40,tesserati[],7,FALSE))","v":""}]
[null,{"$f":"IF(ISERROR(VLOOKUP(A41,tesserati[],2,FALSE)),\"\",VLOOKUP(A41,tesserati[],2,FALSE))","v":""},{"$f":"IF(ISERROR(VLOOKUP(A41,tesserati[],3,FALSE)),\"\",VLOOKUP(A41,tesserati[],3,FALSE))","v":""},{"$f":"IF(ISERROR(VLOOKUP(A41,tesserati[],4,FALSE)),\"\",VLOOKUP(A41,tesserati[],4,FALSE))","v":""},{"$f":"IF(ISERROR(VLOOKUP(A41,tesserati[],5,FALSE)),\"\",VLOOKUP(A41,tesserati[],5,FALSE))","v":""},{"$f":"IF(ISERROR(VLOOKUP(A41,tesserati[],7,FALSE)),\"\",VLOOKUP(A41,tesserati[],7,FALSE))","v":""}]
[null,{"$f":"IF(ISERROR(VLOOKUP(A42,tesserati[],2,FALSE)),\"\",VLOOKUP(A42,tesserati[],2,FALSE))","v":""},{"$f":"IF(ISERROR(VLOOKUP(A42,tesserati[],3,FALSE)),\"\",VLOOKUP(A42,tesserati[],3,FALSE))","v":""},{"$f":"IF(ISERROR(VLOOKUP(A42,tesserati[],4,FALSE)),\"\",VLOOKUP(A42,tesserati[],4,FALSE))","v":""},{"$f":"IF(ISERROR(VLOOKUP(A42,tesserati[],5,FALSE)),\"\",VLOOKUP(A42,tesserati[],5,FALSE))","v":""},{"$f":"IF(ISERROR(VLOOKUP(A42,tesserati[],7,FALSE)),\"\",VLOOKUP(A42,tesserati[],7,FALSE))","v":""},3]
[null,{"$f":"IF(ISERROR(VLOOKUP(A43,tesserati[],2,FALSE)),\"\",VLOOKUP(A43,tesserati[],2,FALSE))","v":""},{"$f":"IF(ISERROR(VLOOKUP(A43,tesserati[],3,FALSE)),\"\",VLOOKUP(A43,tesserati[],3,FALSE))","v":""},{"$f":"IF(ISERROR(VLOOKUP(A43,tesserati[],4,FALSE)),\"\",VLOOKUP(A43,tesserati[],4,FALSE))","v":""},{"$f":"IF(ISERROR(VLOOKUP(A43,tesserati[],5,FALSE)),\"\",VLOOKUP(A43,tesserati[],5,FALSE))","v":""},{"$f":"IF(ISERROR(VLOOKUP(A43,tesserati[],7,FALSE)),\"\",VLOOKUP(A43,tesserati[],7,FALSE))","v":""}]
[null,{"$f":"IF(ISERROR(VLOOKUP(A44,tesserati[],2,FALSE)),\"\",VLOOKUP(A44,tesserati[],2,FALSE))","v":""},{"$f":"IF(ISERROR(VLOOKUP(A44,tesserati[],3,FALSE)),\"\",VLOOKUP(A44,tesserati[],3,FALSE))","v":""},{"$f":"IF(ISERROR(VLOOKUP(A44,tesserati[],4,FALSE)),\"\",VLOOKUP(A44,tesserati[],4,FALSE))","v":""},{"$f":"IF(ISERROR(VLOOKUP(A44,tesserati[],5,FALSE)),\"\",VLOOKUP(A44,tesserati[],5,FALSE))","v":""},{"$f":"IF(ISERROR(VLOOKUP(A44,tesserati[],7,FALSE)),\"\",VLOOKUP(A44,tesserati[],7,FALSE))","v":""}]
[null,{"$f":"IF(ISERROR(VLOOKUP(A45,tesserati[],2,FALSE)),\"\",VLOOKUP(A45,tesserati[],2,FALSE))","v":""},{"$f":"IF(ISERROR(VLOOKUP(A45,tesserati[],3,FALSE)),\"\",VLOOKUP(A45,tesserati[],3,FALSE))","v":""},{"$f":"IF(ISERROR(VLOOKUP(A45,tesserati[],4,FALSE)),\"\",VLOOKUP(A45,tesserati[],4,FALSE))","v":""},{"$f":"IF(ISERROR(VLOOKUP(A45,tesserati[],5,FALSE)),\"\",VLOOKUP(A45,tesserati[],5,FALSE))","v":""},{"$f":"IF(ISERROR(VLOOKUP(A45,tesserati[],7,FALSE)),\"\",VLOOKUP(A45,tesserati[],7,FALSE))","v":""}]
[null,{"$f":"IF(ISERROR(VLOOKUP(A46,tesserati[],2,FALSE)),\"\",VLOOKUP(A46,tesserati[],2,FALSE))","v":""},{"$f":"IF(ISERROR(VLOOKUP(A46,tesserati[],3,FALSE)),\"\",VLOOKUP(A46,tesserati[],3,FALSE))","v":""},{"$f":"IF(ISERROR(VLOOKUP(A46,tesserati[],4,FALSE)),\"\",VLOOKUP(A46,tesserati[],4,FALSE))","v":""},{"$f":"IF(ISERROR(VLOOKUP(A46,tesserati[],5,FALSE)),\"\",VLOOKUP(A46,tesserati[],5,FALSE))","v":""},{"$f":"IF(ISERROR(VLOOKUP(A46,tesserati[],7,FALSE)),\"\",VLOOKUP(A46,tesserati[],7,FALSE))","v":""},4]
[null,{"$f":"IF(ISERROR(VLOOKUP(A47,tesserati[],2,FALSE)),\"\",VLOOKUP(A47,tesserati[],2,FALSE))","v":""},{"$f":"IF(ISERROR(VLOOKUP(A47,tesserati[],3,FALSE)),\"\",VLOOKUP(A47,tesserati[],3,FALSE))","v":""},{"$f":"IF(ISERROR(VLOOKUP(A47,tesserati[],4,FALSE)),\"\",VLOOKUP(A47,tesserati[],4,FALSE))","v":""},{"$f":"IF(ISERROR(VLOOKUP(A47,tesserati[],5,FALSE)),\"\",VLOOKUP(A47,tesserati[],5,FALSE))","v":""},{"$f":"IF(ISERROR(VLOOKUP(A47,tesserati[],7,FALSE)),\"\",VLOOKUP(A47,tesserati[],7,FALSE))","v":""}]
[null,{"$f":"IF(ISERROR(VLOOKUP(A48,tesserati[],2,FALSE)),\"\",VLOOKUP(A48,tesserati[],2,FALSE))","v":""},{"$f":"IF(ISERROR(VLOOKUP(A48,tesserati[],3,FALSE)),\"\",VLOOKUP(A48,tesserati[],3,FALSE))","v":""},{"$f":"IF(ISERROR(VLOOKUP(A48,tesserati[],4,FALSE)),\"\",VLOOKUP(A48,tesserati[],4,FALSE))","v":""},{"$f":"IF(ISERROR(VLOOKUP(A48,tesserati[],5,FALSE)),\"\",VLOOKUP(A48,tesserati[],5,FALSE))","v":""},{"$f":"IF(ISERROR(VLOOKUP(A48,tesserati[],7,FALSE)),\"\",VLOOKUP(A48,tesserati[],7,FALSE))","v":""}]
[null,{"$f":"IF(ISERROR(VLOOKUP(A49,tesserati[],2,FALSE)),\"\",VLOOKUP(A49,tesserati[],2,FALSE))","v":""},{"$f":"IF(ISERROR(VLOOKUP(A49,tesserati[],3,FALSE)),\"\",VLOOKUP(A49,tesserati[],3,FALSE))","v":""},{"$f":"IF(ISERROR(VLOOKUP(A49,tesserati[],4,FALSE)),\"\",VLOOKUP(A49,tesserati[],4,FALSE))","v":""},{"$f":"IF(ISERROR(VLOOKUP(A49,tesserati[],5,FALSE)),\"\",VLOOKUP(A49,tesserati[],5,FALSE))","v":""},{"$f":"IF(ISERROR(VLOOKUP(A49,tesserati[],7,FALSE)),\"\",VLOOKUP(A49,tesserati[],7,FALSE))","v":""}]
[null,{"$f":"IF(ISERROR(VLOOKUP(A50,tesserati[],2,FALSE)),\"\",VLOOKUP(A50,tesserati[],2,FALSE))","v":""},{"$f":"IF(ISERROR(VLOOKUP(A50,tesserati[],3,FALSE)),\"\",VLOOKUP(A50,tesserati[],3,FALSE))","v":""},{"$f":"IF(ISERROR(VLOOKUP(A50,tesserati[],4,FALSE)),\"\",VLOOKUP(A50,tesserati[],4,FALSE))","v":""},{"$f":"IF(ISERROR(VLOOKUP(A50,tesserati[],5,FALSE)),\"\",VLOOKUP(A50,tesserati[],5,FALSE))","v":""},{"$f":"IF(ISERROR(VLOOKUP(A50,tesserati[],7,FALSE)),\"\",VLOOKUP(A50,tesserati[],7,FALSE))","v":""},5]
[null,{"$f":"IF(ISERROR(VLOOKUP(A51,tesserati[],2,FALSE)),\"\",VLOOKUP(A51,tesserati[],2,FALSE))","v":""},{"$f":"IF(ISERROR(VLOOKUP(A51,tesserati[],3,FALSE)),\"\",VLOOKUP(A51,tesserati[],3,FALSE))","v":""},{"$f":"IF(ISERROR(VLOOKUP(A51,tesserati[],4,FALSE)),\"\",VLOOKUP(A51,tesserati[],4,FALSE))","v":""},{"$f":"IF(ISERROR(VLOOKUP(A51,tesserati[],5,FALSE)),\"\",VLOOKUP(A51,tesserati[],5,FALSE))","v":""},{"$f":"IF(ISERROR(VLOOKUP(A51,tesserati[],7,FALSE)),\"\",VLOOKUP(A51,tesserati[],7,FALSE))","v":""}]
[null,{"$f":"IF(ISERROR(VLOOKUP(A52,tesserati[],2,FALSE)),\"\",VLOOKUP(A52,tesserati[],2,FALSE))","v":""},{"$f":"IF(ISERROR(VLOOKUP(A52,tesserati[],3,FALSE)),\"\",VLOOKUP(A52,tesserati[],3,FALSE))","v":""},{"$f":"IF(ISERROR(VLOOKUP(A52,tesserati[],4,FALSE)),\"\",VLOOKUP(A52,tesserati[],4,FALSE))","v":""},{"$f":"IF(ISERROR(VLOOKUP(A52,tesserati[],5,FALSE)),\"\",VLOOKUP(A52,tesserati[],5,FALSE))","v":""},{"$f":"IF(ISERROR(VLOOKUP(A52,tesserati[],7,FALSE)),\"\",VLOOKUP(A52,tesserati[],7,FALSE))","v":""}]
[null,{"$f":"IF(ISERROR(VLOOKUP(A53,tesserati[],2,FALSE)),\"\",VLOOKUP(A53,tesserati[],2,FALSE))","v":""},{"$f":"IF(ISERROR(VLOOKUP(A53,tesserati[],3,FALSE)),\"\",VLOOKUP(A53,tesserati[],3,FALSE))","v":""},{"$f":"IF(ISERROR(VLOOKUP(A53,tesserati[],4,FALSE)),\"\",VLOOKUP(A53,tesserati[],4,FALSE))","v":""},{"$f":"IF(ISERROR(VLOOKUP(A53,tesserati[],5,FALSE)),\"\",VLOOKUP(A53,tesserati[],5,FALSE))","v":""},{"$f":"IF(ISERROR(VLOOKUP(A53,tesserati[],7,FALSE)),\"\",VLOOKUP(A53,tesserati[],7,FALSE))","v":""}]
[null,{"$f":"IF(ISERROR(VLOOKUP(A54,tesserati[],2,FALSE)),\"\",VLOOKUP(A54,tesserati[],2,FALSE))","v":""},{"$f":"IF(ISERROR(VLOOKUP(A54,tesserati[],3,FALSE)),\"\",VLOOKUP(A54,tesserati[],3,FALSE))","v":""},{"$f":"IF(ISERROR(VLOOKUP(A54,tesserati[],4,FALSE)),\"\",VLOOKUP(A54,tesserati[],4,FALSE))","v":""},{"$f":"IF(ISERROR(VLOOKUP(A54,tesserati[],5,FALSE)),\"\",VLOOKUP(A54,tesserati[],5,FALSE))","v":""},{"$f":"IF(ISERROR(VLOOKUP(A54,tesserati[],7,FALSE)),\"\",VLOOKUP(A54,tesserati[],7,FALSE))","v":""},6]
[null,{"$f":"IF(ISERROR(VLOOKUP(A55,tesserati[],2,FALSE)),\"\",VLOOKUP(A55,tesserati[],2,FALSE))","v":""},{"$f":"IF(ISERROR(VLOOKUP(A55,tesserati[],3,FALSE)),\"\",VLOOKUP(A55,tesserati[],3,FALSE))","v":""},{"$f":"IF(ISERROR(VLOOKUP(A55,tesserati[],4,FALSE)),\"\",VLOOKUP(A55,tesserati[],4,FALSE))","v":""},{"$f":"IF(ISERROR(VLOOKUP(A55,tesserati[],5,FALSE)),\"\",VLOOKUP(A55,tesserati[],5,FALSE))","v":""},{"$f":"IF(ISERROR(VLOOKUP(A55,tesserati[],7,FALSE)),\"\",VLOOKUP(A55,tesserati[],7,FALSE))","v":""}]
[null,{"$f":"IF(ISERROR(VLOOKUP(A56,tesserati[],2,FALSE)),\"\",VLOOKUP(A56,tesserati[],2,FALSE))","v":""},{"$f":"IF(ISERROR(VLOOKUP(A56,tesserati[],3,FALSE)),\"\",VLOOKUP(A56,tesserati[],3,FALSE))","v":""},{"$f":"IF(ISERROR(VLOOKUP(A56,tesserati[],4,FALSE)),\"\",VLOOKUP(A56,tesserati[],4,FALSE))","v":""},{"$f":"IF(ISERROR(VLOOKUP(A56,tesserati[],5,FALSE)),\"\",VLOOKUP(A56,tesserati[],5,FALSE))","v":""},{"$f":"IF(ISERROR(VLOOKUP(A56,tesserati[],7,FALSE)),\"\",VLOOKUP(A56,tesserati[],7,FALSE))","v":""}]
[null,{"$f":"IF(ISERROR(VLOOKUP(A57,tesserati[],2,FALSE)),\"\",VLOOKUP(A57,tesserati[],2,FALSE))","v":""},{"$f":"IF(ISERROR(VLOOKUP(A57,tesserati[],3,FALSE)),\"\",VLOOKUP(A57,tesserati[],3,FALSE))","v":""},{"$f":"IF(ISERROR(VLOOKUP(A57,tesserati[],4,FALSE)),\"\",VLOOKUP(A57,tesserati[],4,FALSE))","v":""},{"$f":"IF(ISERROR(VLOOKUP(A57,tesserati[],5,FALSE)),\"\",VLOOKUP(A57,tesserati[],5,FALSE))","v":""},{"$f":"IF(ISERROR(VLOOKUP(A57,tesserati[],7,FALSE)),\"\",VLOOKUP(A57,tesserati[],7,FALSE))","v":""}]
[null,{"$f":"IF(ISERROR(VLOOKUP(A58,tesserati[],2,FALSE)),\"\",VLOOKUP(A58,tesserati[],2,FALSE))","v":""},{"$f":"IF(ISERROR(VLOOKUP(A58,tesserati[],3,FALSE)),\"\",VLOOKUP(A58,tesserati[],3,FALSE))","v":""},{"$f":"IF(ISERROR(VLOOKUP(A58,tesserati[],4,FALSE)),\"\",VLOOKUP(A58,tesserati[],4,FALSE))","v":""},{"$f":"IF(ISERROR(VLOOKUP(A58,tesserati[],5,FALSE)),\"\",VLOOKUP(A58,tesserati[],5,FALSE))","v":""},{"$f":"IF(ISERROR(VLOOKUP(A58,tesserati[],7,FALSE)),\"\",VLOOKUP(A58,tesserati[],7,FALSE))","v":""}]
[null,{"$f":"IF(ISERROR(VLOOKUP(A59,tesserati[],2,FALSE)),\"\",VLOOKUP(A59,tesserati[],2,FALSE))","v":""},{"$f":"IF(ISERROR(VLOOKUP(A59,tesserati[],3,FALSE)),\"\",VLOOKUP(A59,tesserati[],3,FALSE))","v":""},{"$f":"IF(ISERROR(VLOOKUP(A59,tesserati[],4,FALSE)),\"\",VLOOKUP(A59,tesserati[],4,FALSE))","v":""},{"$f":"IF(ISERROR(VLOOKUP(A59,tesserati[],5,FALSE)),\"\",VLOOKUP(A59,tesserati[],5,FALSE))","v":""},{"$f":"IF(ISERROR(VLOOKUP(A59,tesserati[],7,FALSE)),\"\",VLOOKUP(A59,tesserati[],7,FALSE))","v":""}]
[null,{"$f":"IF(ISERROR(VLOOKUP(A60,tesserati[],2,FALSE)),\"\",VLOOKUP(A60,tesserati[],2,FALSE))","v":""},{"$f":"IF(ISERROR(VLOOKUP(A60,tesserati[],3,FALSE)),\"\",VLOOKUP(A60,tesserati[],3,FALSE))","v":""},{"$f":"IF(ISERROR(VLOOKUP(A60,tesserati[],4,FALSE)),\"\",VLOOKUP(A60,tesserati[],4,FALSE))","v":""},{"$f":"IF(ISERROR(VLOOKUP(A60,tesserati[],5,FALSE)),\"\",VLOOKUP(A60,tesserati[],5,FALSE))","v":""},{"$f":"IF(ISERROR(VLOOKUP(A60,tesserati[],7,FALSE)),\"\",VLOOKUP(A60,tesserati[],7,FALSE))","v":""}]
[null,{"$f":"IF(ISERROR(VLOOKUP(A61,tesserati[],2,FALSE)),\"\",VLOOKUP(A61,tesserati[],2,FALSE))","v":""},{"$f":"IF(ISERROR(VLOOKUP(A61,tesserati[],3,FALSE)),\"\",VLOOKUP(A61,tesserati[],3,FALSE))","v":""},{"$f":"IF(ISERROR(VLOOKUP(A61,tesserati[],4,FALSE)),\"\",VLOOKUP(A61,tesserati[],4,FALSE))","v":""},{"$f":"IF(ISERROR(VLOOKUP(A61,tesserati[],5,FALSE)),\"\",VLOOKUP(A61,tesserati[],5,FALSE))","v":""},{"$f":"IF(ISERROR(VLOOKUP(A61,tesserati[],7,FALSE)),\"\",VLOOKUP(A61,tesserati[],7,FALSE))","v":""}]
[null,{"$f":"IF(ISERROR(VLOOKUP(A62,tesserati[],2,FALSE)),\"\",VLOOKUP(A62,tesserati[],2,FALSE))","v":""},{"$f":"IF(ISERROR(VLOOKUP(A62,tesserati[],3,FALSE)),\"\",VLOOKUP(A62,tesserati[],3,FALSE))","v":""},{"$f":"IF(ISERROR(VLOOKUP(A62,tesserati[],4,FALSE)),\"\",VLOOKUP(A62,tesserati[],4,FALSE))","v":""},{"$f":"IF(ISERROR(VLOOKUP(A62,tesserati[],5,FALSE)),\"\",VLOOKUP(A62,tesserati[],5,FALSE))","v":""},{"$f":"IF(ISERROR(VLOOKUP(A62,tesserati[],7,FALSE)),\"\",VLOOKUP(A62,tesserati[],7,FALSE))","v":""}]
[null,{"$f":"IF(ISERROR(VLOOKUP(A63,tesserati[],2,FALSE)),\"\",VLOOKUP(A63,tesserati[],2,FALSE))","v":""},{"$f":"IF(ISERROR(VLOOKUP(A63,tesserati[],3,FALSE)),\"\",VLOOKUP(A63,tesserati[],3,FALSE))","v":""},{"$f":"IF(ISERROR(VLOOKUP(A63,tesserati[],4,FALSE)),\"\",VLOOKUP(A63,tesserati[],4,FALSE))","v":""},{"$f":"IF(ISERROR(VLOOKUP(A63,tesserati[],5,FALSE)),\"\",VLOOKUP(A63,tesserati[],5,FALSE))","v":""},{"$f":"IF(ISERROR(VLOOKUP(A63,tesserati[],7,FALSE)),\"\",VLOOKUP(A63,tesserati[],7,FALSE))","v":""}]
[null,{"$f":"IF(ISERROR(VLOOKUP(A64,tesserati[],2,FALSE)),\"\",VLOOKUP(A64,tesserati[],2,FALSE))","v":""},{"$f":"IF(ISERROR(VLOOKUP(A64,tesserati[],3,FALSE)),\"\",VLOOKUP(A64,tesserati[],3,FALSE))","v":""},{"$f":"IF(ISERROR(VLOOKUP(A64,tesserati[],4,FALSE)),\"\",VLOOKUP(A64,tesserati[],4,FALSE))","v":""},{"$f":"IF(ISERROR(VLOOKUP(A64,tesserati[],5,FALSE)),\"\",VLOOKUP(A64,tesserati[],5,FALSE))","v":""},{"$f":"IF(ISERROR(VLOOKUP(A64,tesserati[],7,FALSE)),\"\",VLOOKUP(A64,tesserati[],7,FALSE))","v":""}]
[null,{"$f":"IF(ISERROR(VLOOKUP(A65,tesserati[],2,FALSE)),\"\",VLOOKUP(A65,tesserati[],2,FALSE))","v":""},{"$f":"IF(ISERROR(VLOOKUP(A65,tesserati[],3,FALSE)),\"\",VLOOKUP(A65,tesserati[],3,FALSE))","v":""},{"$f":"IF(ISERROR(VLOOKUP(A65,tesserati[],4,FALSE)),\"\",VLOOKUP(A65,tesserati[],4,FALSE))","v":""},{"$f":"IF(ISERROR(VLOOKUP(A65,tesserati[],5,FALSE)),\"\",VLOOKUP(A65,tesserati[],5,FALSE))","v":""},{"$f":"IF(ISERROR(VLOOKUP(A65,tesserati[],7,FALSE)),\"\",VLOOKUP(A65,tesserati[],7,FALSE))","v":""}]
[null,{"$f":"IF(ISERROR(VLOOKUP(A66,tesserati[],2,FALSE)),\"\",VLOOKUP(A66,tesserati[],2,FALSE))","v":""},{"$f":"IF(ISERROR(VLOOKUP(A66,tesserati[],3,FALSE)),\"\",VLOOKUP(A66,tesserati[],3,FALSE))","v":""},{"$f":"IF(ISERROR(VLOOKUP(A66,tesserati[],4,FALSE)),\"\",VLOOKUP(A66,tesserati[],4,FALSE))","v":""},{"$f":"IF(ISERROR(VLOOKUP(A66,tesserati[],5,FALSE)),\"\",VLOOKUP(A66,tesserati[],5,FALSE))","v":""},{"$f":"IF(ISERROR(VLOOKUP(A66,tesserati[],7,FALSE)),\"\",VLOOKUP(A66,tesserati[],7,FALSE))","v":""}]
[null,{"$f":"IF(ISERROR(VLOOKUP(A67,tesserati[],2,FALSE)),\"\",VLOOKUP(A67,tesserati[],2,FALSE))","v":""},{"$f":"IF(ISERROR(VLOOKUP(A67,tesserati[],3,FALSE)),\"\",VLOOKUP(A67,tesserati[],3,FALSE))","v":""},{"$f":"IF(ISERROR(VLOOKUP(A67,tesserati[],4,FALSE)),\"\",VLOOKUP(A67,tesserati[],4,FALSE))","v":""},{"$f":"IF(ISERROR(VLOOKUP(A67,tesserati[],5,FALSE)),\"\",VLOOKUP(A67,tesserati[],5,FALSE))","v":""},{"$f":"IF(ISERROR(VLOOKUP(A67,tesserati[],7,FALSE)),\"\",VLOOKUP(A67,tesserati[],7,FALSE))","v":""}]
[null,{"$f":"IF(ISERROR(VLOOKUP(A68,tesserati[],2,FALSE)),\"\",VLOOKUP(A68,tesserati[],2,FALSE))","v":""},{"$f":"IF(ISERROR(VLOOKUP(A68,tesserati[],3,FALSE)),\"\",VLOOKUP(A68,tesserati[],3,FALSE))","v":""},{"$f":"IF(ISERROR(VLOOKUP(A68,tesserati[],4,FALSE)),\"\",VLOOKUP(A68,tesserati[],4,FALSE))","v":""},{"$f":"IF(ISERROR(VLOOKUP(A68,tesserati[],5,FALSE)),\"\",VLOOKUP(A68,tesserati[],5,FALSE))","v":""},{"$f":"IF(ISERROR(VLOOKUP(A68,tesserati[],7,FALSE)),\"\",VLOOKUP(A68,tesserati[],7,FALSE))","v":""}]
[null,{"$f":"IF(ISERROR(VLOOKUP(A69,tesserati[],2,FALSE)),\"\",VLOOKUP(A69,tesserati[],2,FALSE))","v":""},{"$f":"IF(ISERROR(VLOOKUP(A69,tesserati[],3,FALSE)),\"\",VLOOKUP(A69,tesserati[],3,FALSE))","v":""},{"$f":"IF(ISERROR(VLOOKUP(A69,tesserati[],4,FALSE)),\"\",VLOOKUP(A69,tesserati[],4,FALSE))","v":""},{"$f":"IF(ISERROR(VLOOKUP(A69,tesserati[],5,FALSE)),\"\",VLOOKUP(A69,tesserati[],5,FALSE))","v":""},{"$f":"IF(ISERROR(VLOOKUP(A69,tesserati[],7,FALSE)),\"\",VLOOKUP(A69,tesserati[],7,FALSE))","v":""}]
[null,{"$f":"IF(ISERROR(VLOOKUP(A70,tesserati[],2,FALSE)),\"\",VLOOKUP(A70,tesserati[],2,FALSE))","v":""},{"$f":"IF(ISERROR(VLOOKUP(A70,tesserati[],3,FALSE)),\"\",VLOOKUP(A70,tesserati[],3,FALSE))","v":""},{"$f":"IF(ISERROR(VLOOKUP(A70,tesserati[],4,FALSE)),\"\",VLOOKUP(A70,tesserati[],4,FALSE))","v":""},{"$f":"IF(ISERROR(VLOOKUP(A70,tesserati[],5,FALSE)),\"\",VLOOKUP(A70,tesserati[],5,FALSE))","v":""},{"$f":"IF(ISERROR(VLOOKUP(A70,tesserati[],7,FALSE)),\"\",VLOOKUP(A70,tesserati[],7,FALSE))","v":""}]
[null,{"$f":"IF(ISERROR(VLOOKUP(A71,tesserati[],2,FALSE)),\"\",VLOOKUP(A71,tesserati[],2,FALSE))","v":""},{"$f":"IF(ISERROR(VLOOKUP(A71,tesserati[],3,FALSE)),\"\",VLOOKUP(A71,tesserati[],3,FALSE))","v":""},{"$f":"IF(ISERROR(VLOOKUP(A71,tesserati[],4,FALSE)),\"\",VLOOKUP(A71,tesserati[],4,FALSE))","v":""},{"$f":"IF(ISERROR(VLOOKUP(A71,tesserati[],5,FALSE)),\"\",VLOOKUP(A71,tesserati[],5,FALSE))","v":""},{"$f":"IF(ISERROR(VLOOKUP(A71,tesserati[],7,FALSE)),\"\",VLOOKUP(A71,tesserati[],7,FALSE))","v":""}]
[null,{"$f":"IF(ISERROR(VLOOKUP(A72,tesserati[],2,FALSE)),\"\",VLOOKUP(A72,tesserati[],2,FALSE))","v":""},{"$f":"IF(ISERROR(VLOOKUP(A72,tesserati[],3,FALSE)),\"\",VLOOKUP(A72,tesserati[],3,FALSE))","v":""},{"$f":"IF(ISERROR(VLOOKUP(A72,tesserati[],4,FALSE)),\"\",VLOOKUP(A72,tesserati[],4,FALSE))","v":""},{"$f":"IF(ISERROR(VLOOKUP(A72,tesserati[],5,FALSE)),\"\",VLOOKUP(A72,tesserati[],5,FALSE))","v":""},{"$f":"IF(ISERROR(VLOOKUP(A72,tesserati[],7,FALSE)),\"\",VLOOKUP(A72,tesserati[],7,FALSE))","v":""}]

{"sheet":"SVEDESE ASS FEM","index":9,"n_rows":72,"n_cols":12,"rows_kept":72,"cut":false,"hidden":false,"merged":[[0,2,0,4],[0,5,0,7],[0,8,0,10],[0,11,1,11],[1,2,1,4],[1,5,1,7],[1,8,1,10],[2,11,4,11],[3,0,4,1],[3,2,4,2],[3,3,4,3],[3,5,4,7],[3,8,4,10],[2,0,2,1],[2,4,4,4],[2,5,2,7],[2,8,2,10],[5,9,6,9],[5,10,6,10],[5,11,6,11],[5,0,6,0],[5,1,6,2],[5,3,6,3],[5,4,6,4],[5,5,6,5],[7,0,7,11],[5,6,6,6],[16,6,19,6],[16,7,19,7],[16,8,19,8],[16,9,19,9],[12,6,15,6],[12,7,15,7],[12,8,15,8],[12,9,15,9],[8,6,11,6],[8,7,11,7],[8,8,11,8],[8,9,11,9],[5,7,6,7],[5,8,6,8],[20,6,23,6],[20,7,23,7],[20,8,23,8],[20,9,23,9],[24,6,27,6],[24,7,27,7],[24,8,27,8],[24,9,27,9],[28,6,31,6],[28,7,31,7],[28,8,31,8],[28,9,31,9],[33,6,36,6],[33,7,36,7],[33,8,36,8],[33,9,36,9],[32,0,32,11],[37,6,40,6],[37,7,40,7],[37,8,40,8],[37,9,40,9],[41,6,44,6],[41,7,44,7],[41,8,44,8],[41,9,44,9],[45,6,48,6],[45,7,48,7],[45,8,48,8],[45,9,48,9],[49,6,52,6],[49,7,52,7],[49,8,52,8],[49,9,52,9],[53,6,56,6],[53,7,56,7],[53,8,56,8],[53,9,56,9],[57,6,60,6],[57,7,60,7],[57,8,60,8],[57,9,60,9]]}
[null,null,"MANIFESTAZIONE",null,null,"LOCALITA'",null,null,"SOCIETA' ORGANIZZATRICE"]
[null,null,"6° prova provinciale",null,null,"Tezze sul Brenta",null,null,"CSI Tezze sul Brenta"]
["CATEGORIA",null,"ORA INIZIO","ORA FINE",null,"GARA",null,null,"DATA"]
["ASS F",null,null,null,null,"SVEDESE",null,null,"2017-09-24"]
[]
["N. tessera","ATLETA\nCOGNOME E NOME",null,"SOCIETA'","NASCITA","CATEGORIA","Corsia","PETTORALE","Tempo","Piazzamento","PUNTI","CL."]
[]
["1 SERIE",{"$f":"IF(ISERROR(VLOOKUP(A8,tesserati[],2,FALSE)),\"\",VLOOKUP(A8,tesserati[],2,FALSE))","v":""},{"$f":"IF(ISERROR(VLOOKUP(A8,tesserati[],3,FALSE)),\"\",VLOOKUP(A8,tesserati[],3,FALSE))","v":""},{"$f":"IF(ISERROR(VLOOKUP(#REF!,tesserati[],5,FALSE)),\"\",VLOOKUP(#REF!,tesserati[],5,FALSE))","v":""},{"$f":"IF(ISERROR(VLOOKUP(A8,tesserati[],4,FALSE)),\"\",VLOOKUP(A8,tesserati[],4,FALSE))","v":""},{"$f":"IF(ISERROR(VLOOKUP(A8,tesserati[],7,FALSE)),\"\",VLOOKUP(A8,tesserati[],7,FALSE))","v":""}]
[3122,{"$f":"IF(ISERROR(VLOOKUP(A9,tesserati[],2,FALSE)),\"\",VLOOKUP(A9,tesserati[],2,FALSE))","v":"GRIGNOLO"},{"$f":"IF(ISERROR(VLOOKUP(A9,tesserati[],3,FALSE)),\"\",VLOOKUP(A9,tesserati[],3,FALSE))","v":"ALESSIA"},{"$f":"IF(ISERROR(VLOOKUP(A9,tesserati[],4,FALSE)),\"\",VLOOKUP(A9,tesserati[],4,FALSE))","v":"ATLETICA UNION CREAZZO"},{"$f":"IF(ISERROR(VLOOKUP(A9,tesserati[],5,FALSE)),\"\",VLOOKUP(A9,tesserati[],5,FALSE))","v":2000},{"$f":"IF(ISERROR(VLOOKUP(A9,tesserati[],7,FALSE)),\"\",VLOOKUP(A9,tesserati[],7,FALSE))","v":"AF"},1,25,"2,36.6",1]
[3123,{"$f":"IF(ISERROR(VLOOKUP(A10,tesserati[],2,FALSE)),\"\",VLOOKUP(A10,tesserati[],2,FALSE))","v":"URBANI"},{"$f":"IF(ISERROR(VLOOKUP(A10,tesserati[],3,FALSE)),\"\",VLOOKUP(A10,tesserati[],3,FALSE))","v":"CATERINA"},{"$f":"IF(ISERROR(VLOOKUP(A10,tesserati[],4,FALSE)),\"\",VLOOKUP(A10,tesserati[],4,FALSE))","v":"ATLETICA UNION CREAZZO"},{"$f":"IF(ISERROR(VLOOKUP(A10,tesserati[],5,FALSE)),\"\",VLOOKUP(A10,tesserati[],5,FALSE))","v":2000},{"$f":"IF(ISERROR(VLOOKUP(A10,tesserati[],7,FALSE)),\"\",VLOOKUP(A10,tesserati[],7,FALSE))","v":"AF"}]
[1956,{"$f":"IF(ISERROR(VLOOKUP(A11,tesserati[],2,FALSE)),\"\",VLOOKUP(A11,tesserati[],2,FALSE))","v":"MARAN"},{"$f":"IF(ISERROR(VLOOKUP(A11,tesserati[],3,FALSE)),\"\",VLOOKUP(A11,tesserati[],3,FALSE))","v":"ELISABETTA"},{"$f":"IF(ISERROR(VLOOKUP(A11,tesserati[],4,FALSE)),\"\",VLOOKUP(A11,tesserati[],4,FALSE))","v":"ATLETICA UNION CREAZZO"},{"$f":"IF(ISERROR(VLOOKUP(A11,tesserati[],5,FALSE)),\"\",VLOOKUP(A11,tesserati[],5,FALSE))","v":1992},{"$f":"IF(ISERROR(VLOOKUP(A11,tesserati[],7,FALSE)),\"\",VLOOKUP(A11,tesserati[],7,FALSE))","v":"SF"}]
[2958,{"$f":"IF(ISERROR(VLOOKUP(A12,tesserati[],2,FALSE)),\"\",VLOOKUP(A12,tesserati[],2,FALSE))","v":"CATTANI"},{"$f":"IF(ISERROR(VLOOKUP(A12,tesserati[],3,FALSE)),\"\",VLOOKUP(A12,tesserati[],3,FALSE))","v":"LEILA"},{"$f":"IF(ISERROR(VLOOKUP(A12,tesserati[],4,FALSE)),\"\",VLOOKUP(A12,tesserati[],4,FALSE))","v":"ATLETICA UNION CREAZZO"},{"$f":"IF(ISERROR(VLOOKUP(A12,tesserati[],5,FALSE)),\"\",VLOOKUP(A12,tesserati[],5,FALSE))","v":2001},{"$f":"IF(ISERROR(VLOOKUP(A12,tesserati[],7,FALSE)),\"\",VLOOKUP(A12,tesserati[],7,FALSE))","v":"AF"}]
[4004,{"$f":"IF(ISERROR(VLOOKUP(A13,tesserati[],2,FALSE)),\"\",VLOOKUP(A13,tesserati[],2,FALSE))","v":"RIGHI"},{"$f":"IF(ISERROR(VLOOKUP(A13,tesserati[],3,FALSE)),\"\",VLOOKUP(A13,tesserati[],3,FALSE))","v":"ELENA"},{"$f":"IF(ISERROR(VLOOKUP(A13,tesserati[],4,FALSE)),\"\",VLOOKUP(A13,tesserati[],4,FALSE))","v":"POLISPORTIVA DUEVILLE"},{"$f":"IF(ISERROR(VLOOKUP(A13,tesserati[],5,FALSE)),\"\",VLOOKUP(A13,tesserati[],5,FALSE))","v":1968},{"$f":"IF(ISERROR(VLOOKUP(A13,tesserati[],7,FALSE)),\"\",VLOOKUP(A13,tesserati[],7,FALSE))","v":"ABF"},2,83,"2,45.4",2]
[3336,{"$f":"IF(ISERROR(VLOOKUP(A14,tesserati[],2,FALSE)),\"\",VLOOKUP(A14,tesserati[],2,FALSE))","v":"GONELLA"},{"$f":"IF(ISERROR(VLOOKUP(A14,tesserati[],3,FALSE)),\"\",VLOOKUP(A14,tesserati[],3,FALSE))","v":"CLAUDIA"},{"$f":"IF(ISERROR(VLOOKUP(A14,tesserati[],4,FALSE)),\"\",VLOOKUP(A14,tesserati[],4,FALSE))","v":"POLISPORTIVA DUEVILLE"},{"$f":"IF(ISERROR(VLOOKUP(A14,tesserati[],5,FALSE)),\"\",VLOOKUP(A14,tesserati[],5,FALSE))","v":1966},{"$f":"IF(ISERROR(VLOOKUP(A14,tesserati[],7,FALSE)),\"\",VLOOKUP(A14,tesserati[],7,FALSE))","v":"ABF"}]
[3956,{"$f":"IF(ISERROR(VLOOKUP(A15,tesserati[],2,FALSE)),\"\",VLOOKUP(A15,tesserati[],2,FALSE))","v":"CRISTOFORI"},{"$f":"IF(ISERROR(VLOOKUP(A15,tesserati[],3,FALSE)),\"\",VLOOKUP(A15,tesserati[],3,FALSE))","v":"SARA"},{"$f":"IF(ISERROR(VLOOKUP(A15,tesserati[],4,FALSE)),\"\",VLOOKUP(A15,tesserati[],4,FALSE))","v":"POLISPORTIVA DUEVILLE"},{"$f":"IF(ISERROR(VLOOKUP(A15,tesserati[],5,FALSE)),\"\",VLOOKUP(A15,tesserati[],5,FALSE))","v":2000},{"$f":"IF(ISERROR(VLOOKUP(A15,tesserati[],7,FALSE)),\"\",VLOOKUP(A15,tesserati[],7,FALSE))","v":"AF"}]
[4035,{"$f":"IF(ISERROR(VLOOKUP(A16,tesserati[],2,FALSE)),\"\",VLOOKUP(A16,tesserati[],2,FALSE))","v":"FASSINA"},{"$f":"IF(ISERROR(VLOOKUP(A16,tesserati[],3,FALSE)),\"\",VLOOKUP(A16,tesserati[],3,FALSE))","v":"ALESSANDRA"},{"$f":"IF(ISERROR(VLOOKUP(A16,tesserati[],4,FALSE)),\"\",VLOOKUP(A16,tesserati[],4,FALSE))","v":"POLISPORTIVA DUEVILLE"},{"$f":"IF(ISERROR(VLOOKUP(A16,tesserati[],5,FALSE)),\"\",VLOOKUP(A16,tesserati[],5,FALSE))","v":2001},{"$f":"IF(ISERROR(VLOOKUP(A16,tesserati[],7,FALSE)),\"\",VLOOKUP(A16,tesserati[],7,FALSE))","v":"AF"}]
[2974,{"$f":"IF(ISERROR(VLOOKUP(A17,tesserati[],2,FALSE)),\"\",VLOOKUP(A17,tesserati[],2,FALSE))","v":"GASPARI"},{"$f":"IF(ISERROR(VLOOKUP(A17,tesserati[],3,FALSE)),\"\",VLOOKUP(A17,tesserati[],3,FALSE))","v":"NADIA"},{"$f":"IF(ISERROR(VLOOKUP(A17,tesserati[],4,FALSE)),\"\",VLOOKUP(A17,tesserati[],4,FALSE))","v":"ATLETICA UNION CREAZZO"},{"$f":"IF(ISERROR(VLOOKUP(A17,tesserati[],5,FALSE)),\"\",VLOOKUP(A17,tesserati[],5,FALSE))","v":1970},{"$f":"IF(ISERROR(VLOOKUP(A17,tesserati[],7,FALSE)),\"\",VLOOKUP(A17,tesserati[],7,FALSE))","v":"ABF"},3,6,"2,56.3",3]
[2951,{"$f":"IF(ISERROR(VLOOKUP(A18,tesserati[],2,FALSE)),\"\",VLOOKUP(A18,tesserati[],2,FALSE))","v":"BEVILACQUA"},{"$f":"IF(ISERROR(VLOOKUP(A18,tesserati[],3,FALSE)),\"\",VLOOKUP(A18,tesserati[],3,FALSE))","v":"DINA"},{"$f":"IF(ISERROR(VLOOKUP(A18,tesserati[],4,FALSE)),\"\",VLOOKUP(A18,tesserati[],4,FALSE))","v":"ATLETICA UNION CREAZZO"},{"$f":"IF(ISERROR(VLOOKUP(A18,tesserati[],5,FALSE)),\"\",VLOOKUP(A18,tesserati[],5,FALSE))","v":1965},{"$f":"IF(ISERROR(VLOOKUP(A18,tesserati[],7,FALSE)),\"\",VLOOKUP(A18,tesserati[],7,FALSE))","v":"ABF"}]
[4750,{"$f":"IF(ISERROR(VLOOKUP(A19,tesserati[],2,FALSE)),\"\",VLOOKUP(A19,tesserati[],2,FALSE))","v":"GIANELLO"},{"$f":"IF(ISERROR(VLOOKUP(A19,tesserati[],3,FALSE)),\"\",VLOOKUP(A19,tesserati[],3,FALSE))","v":"EVELIN"},{"$f":"IF(ISERROR(VLOOKUP(A19,tesserati[],4,FALSE)),\"\",VLOOKUP(A19,tesserati[],4,FALSE))","v":"ATLETICA UNION CREAZZO"},{"$f":"IF(ISERROR(VLOOKUP(A19,tesserati[],5,FALSE)),\"\",VLOOKUP(A19,tesserati[],5,FALSE))","v":1971},{"$f":"IF(ISERROR(VLOOKUP(A19,tesserati[],7,FALSE)),\"\",VLOOKUP(A19,tesserati[],7,FALSE))","v":"ABF"}]
[3025,{"$f":"IF(ISERROR(VLOOKUP(A20,tesserati[],2,FALSE)),\"\",VLOOKUP(A20,tesserati[],2,FALSE))","v":"ZERBINATI"},{"$f":"IF(ISERROR(VLOOKUP(A20,tesserati[],3,FALSE)),\"\",VLOOKUP(A20,tesserati[],3,FALSE))","v":"SARA"},{"$f":"IF(ISERROR(VLOOKUP(A20,tesserati[],4,FALSE)),\"\",VLOOKUP(A20,tesserati[],4,FALSE))","v":"ATLETICA UNION CREAZZO"},{"$f":"IF(ISERROR(VLOOKUP(A20,tesserati[],5,FALSE)),\"\",VLOOKUP(A20,tesserati[],5,FALSE))","v":1978},{"$f":"IF(ISERROR(VLOOKUP(A20,tesserati[],7,FALSE)),\"\",VLOOKUP(A20,tesserati[],7,FALSE))","v":"AAF"}]
[null,{"$f":"IF(ISERROR(VLOOKUP(A21,tesserati[],2,FALSE)),\"\",VLOOKUP(A21,tesserati[],2,FALSE))","v":""},{"$f":"IF(ISERROR(VLOOKUP(A21,tesserati[],3,FALSE)),\"\",VLOOKUP(A21,tesserati[],3,FALSE))","v":""},{"$f":"IF(ISERROR(VLOOKUP(A21,tesserati[],4,FALSE)),\"\",VLOOKUP(A21,tesserati[],4,FALSE))","v":""},{"$f":"IF(ISERROR(VLOOKUP(A21,tesserati[],5,FALSE)),\"\",VLOOKUP(A21,tesserati[],5,FALSE))","v":""},{"$f":"IF(ISERROR(VLOOKUP(A21,tesserati[],7,FALSE)),\"\",VLOOKUP(A21,tesserati[],7,FALSE))","v":""}]
[null,{"$f":"IF(ISERROR(VLOOKUP(A22,tesserati[],2,FALSE)),\"\",VLOOKUP(A22,tesserati[],2,FALSE))","v":""},{"$f":"IF(ISERROR(VLOOKUP(A22,tesserati[],3,FALSE)),\"\",VLOOKUP(A22,tesserati[],3,FALSE))","v":""},{"$f":"IF(ISERROR(VLOOKUP(A22,tesserati[],4,FALSE)),\"\",VLOOKUP(A22,tesserati[],4,FALSE))","v":""},{"$f":"IF(ISERROR(VLOOKUP(A22,tesserati[],5,FALSE)),\"\",VLOOKUP(A22,tesserati[],5,FALSE))","v":""},{"$f":"IF(ISERROR(VLOOKUP(A22,tesserati[],7,FALSE)),\"\",VLOOKUP(A22,tesserati[],7,FALSE))","v":""}]
[null,{"$f":"IF(ISERROR(VLOOKUP(A23,tesserati[],2,FALSE)),\"\",VLOOKUP(A23,tesserati[],2,FALSE))","v":""},{"$f":"IF(ISERROR(VLOOKUP(A23,tesserati[],3,FALSE)),\"\",VLOOKUP(A23,tesserati[],3,FALSE))","v":""},{"$f":"IF(ISERROR(VLOOKUP(A23,tesserati[],4,FALSE)),\"\",VLOOKUP(A23,tesserati[],4,FALSE))","v":""},{"$f":"IF(ISERROR(VLOOKUP(A23,tesserati[],5,FALSE)),\"\",VLOOKUP(A23,tesserati[],5,FALSE))","v":""},{"$f":"IF(ISERROR(VLOOKUP(A23,tesserati[],7,FALSE)),\"\",VLOOKUP(A23,tesserati[],7,FALSE))","v":""}]
[null,{"$f":"IF(ISERROR(VLOOKUP(A24,tesserati[],2,FALSE)),\"\",VLOOKUP(A24,tesserati[],2,FALSE))","v":""},{"$f":"IF(ISERROR(VLOOKUP(A24,tesserati[],3,FALSE)),\"\",VLOOKUP(A24,tesserati[],3,FALSE))","v":""},{"$f":"IF(ISERROR(VLOOKUP(A24,tesserati[],4,FALSE)),\"\",VLOOKUP(A24,tesserati[],4,FALSE))","v":""},{"$f":"IF(ISERROR(VLOOKUP(A24,tesserati[],5,FALSE)),\"\",VLOOKUP(A24,tesserati[],5,FALSE))","v":""},{"$f":"IF(ISERROR(VLOOKUP(A24,tesserati[],7,FALSE)),\"\",VLOOKUP(A24,tesserati[],7,FALSE))","v":""}]
[null,{"$f":"IF(ISERROR(VLOOKUP(A25,tesserati[],2,FALSE)),\"\",VLOOKUP(A25,tesserati[],2,FALSE))","v":""},{"$f":"IF(ISERROR(VLOOKUP(A25,tesserati[],3,FALSE)),\"\",VLOOKUP(A25,tesserati[],3,FALSE))","v":""},{"$f":"IF(ISERROR(VLOOKUP(A25,tesserati[],4,FALSE)),\"\",VLOOKUP(A25,tesserati[],4,FALSE))","v":""},{"$f":"IF(ISERROR(VLOOKUP(A25,tesserati[],5,FALSE)),\"\",VLOOKUP(A25,tesserati[],5,FALSE))","v":""},{"$f":"IF(ISERROR(VLOOKUP(A25,tesserati[],7,FALSE)),\"\",VLOOKUP(A25,tesserati[],7,FALSE))","v":""}]
[null,{"$f":"IF(ISERROR(VLOOKUP(A26,tesserati[],2,FALSE)),\"\",VLOOKUP(A26,tesserati[],2,FALSE))","v":""},{"$f":"IF(ISERROR(VLOOKUP(A26,tesserati[],3,FALSE)),\"\",VLOOKUP(A26,tesserati[],3,FALSE))","v":""},{"$f":"IF(ISERROR(VLOOKUP(A26,tesserati[],4,FALSE)),\"\",VLOOKUP(A26,tesserati[],4,FALSE))","v":""},{"$f":"IF(ISERROR(VLOOKUP(A26,tesserati[],5,FALSE)),\"\",VLOOKUP(A26,tesserati[],5,FALSE))","v":""},{"$f":"IF(ISERROR(VLOOKUP(A26,tesserati[],7,FALSE)),\"\",VLOOKUP(A26,tesserati[],7,FALSE))","v":""}]
[null,{"$f":"IF(ISERROR(VLOOKUP(A27,tesserati[],2,FALSE)),\"\",VLOOKUP(A27,tesserati[],2,FALSE))","v":""},{"$f":"IF(ISERROR(VLOOKUP(A27,tesserati[],3,FALSE)),\"\",VLOOKUP(A27,tesserati[],3,FALSE))","v":""},{"$f":"IF(ISERROR(VLOOKUP(A27,tesserati[],4,FALSE)),\"\",VLOOKUP(A27,tesserati[],4,FALSE))","v":""},{"$f":"IF(ISERROR(VLOOKUP(A27,tesserati[],5,FALSE)),\"\",VLOOKUP(A27,tesserati[],5,FALSE))","v":""},{"$f":"IF(ISERROR(VLOOKUP(A27,tesserati[],7,FALSE)),\"\",VLOOKUP(A27,tesserati[],7,FALSE))","v":""}]
[null,{"$f":"IF(ISERROR(VLOOKUP(A28,tesserati[],2,FALSE)),\"\",VLOOKUP(A28,tesserati[],2,FALSE))","v":""},{"$f":"IF(ISERROR(VLOOKUP(A28,tesserati[],3,FALSE)),\"\",VLOOKUP(A28,tesserati[],3,FALSE))","v":""},{"$f":"IF(ISERROR(VLOOKUP(A28,tesserati[],4,FALSE)),\"\",VLOOKUP(A28,tesserati[],4,FALSE))","v":""},{"$f":"IF(ISERROR(VLOOKUP(A28,tesserati[],5,FALSE)),\"\",VLOOKUP(A28,tesserati[],5,FALSE))","v":""},{"$f":"IF(ISERROR(VLOOKUP(A28,tesserati[],7,FALSE)),\"\",VLOOKUP(A28,tesserati[],7,FALSE))","v":""}]
[null,{"$f":"IF(ISERROR(VLOOKUP(A29,tesserati[],2,FALSE)),\"\",VLOOKUP(A29,tesserati[],2,FALSE))","v":""},{"$f":"IF(ISERROR(VLOOKUP(A29,tesserati[],3,FALSE)),\"\",VLOOKUP(A29,tesserati[],3,FALSE))","v":""},{"$f":"IF(ISERROR(VLOOKUP(A29,tesserati[],4,FALSE)),\"\",VLOOKUP(A29,tesserati[],4,FALSE))","v":""},{"$f":"IF(ISERROR(VLOOKUP(A29,tesserati[],5,FALSE)),\"\",VLOOKUP(A29,tesserati[],5,FALSE))","v":""},{"$f":"IF(ISERROR(VLOOKUP(A29,tesserati[],7,FALSE)),\"\",VLOOKUP(A29,tesserati[],7,FALSE))","v":""}]
[null,{"$f":"IF(ISERROR(VLOOKUP(A30,tesserati[],2,FALSE)),\"\",VLOOKUP(A30,tesserati[],2,FALSE))","v":""},{"$f":"IF(ISERROR(VLOOKUP(A30,tesserati[],3,FALSE)),\"\",VLOOKUP(A30,tesserati[],3,FALSE))","v":""},{"$f":"IF(ISERROR(VLOOKUP(A30,tesserati[],4,FALSE)),\"\",VLOOKUP(A30,tesserati[],4,FALSE))","v":""},{"$f":"IF(ISERROR(VLOOKUP(A30,tesserati[],5,FALSE)),\"\",VLOOKUP(A30,tesserati[],5,FALSE))","v":""},{"$f":"IF(ISERROR(VLOOKUP(A30,tesserati[],7,FALSE)),\"\",VLOOKUP(A30,tesserati[],7,FALSE))","v":""}]
[null,{"$f":"IF(ISERROR(VLOOKUP(A31,tesserati[],2,FALSE)),\"\",VLOOKUP(A31,tesserati[],2,FALSE))","v":""},{"$f":"IF(ISERROR(VLOOKUP(A31,tesserati[],3,FALSE)),\"\",VLOOKUP(A31,tesserati[],3,FALSE))","v":""},{"$f":"IF(ISERROR(VLOOKUP(A31,tesserati[],4,FALSE)),\"\",VLOOKUP(A31,tesserati[],4,FALSE))","v":""},{"$f":"IF(ISERROR(VLOOKUP(A31,tesserati[],5,FALSE)),\"\",VLOOKUP(A31,tesserati[],5,FALSE))","v":""},{"$f":"IF(ISERROR(VLOOKUP(A31,tesserati[],7,FALSE)),\"\",VLOOKUP(A31,tesserati[],7,FALSE))","v":""}]
[null,{"$f":"IF(ISERROR(VLOOKUP(A32,tesserati[],2,FALSE)),\"\",VLOOKUP(A32,tesserati[],2,FALSE))","v":""},{"$f":"IF(ISERROR(VLOOKUP(A32,tesserati[],3,FALSE)),\"\",VLOOKUP(A32,tesserati[],3,FALSE))","v":""},{"$f":"IF(ISERROR(VLOOKUP(A32,tesserati[],4,FALSE)),\"\",VLOOKUP(A32,tesserati[],4,FALSE))","v":""},{"$f":"IF(ISERROR(VLOOKUP(A32,tesserati[],5,FALSE)),\"\",VLOOKUP(A32,tesserati[],5,FALSE))","v":""},{"$f":"IF(ISERROR(VLOOKUP(A32,tesserati[],7,FALSE)),\"\",VLOOKUP(A32,tesserati[],7,FALSE))","v":""}]
["2 SERIE"]
[null,{"$f":"IF(ISERROR(VLOOKUP(A34,tesserati[],2,FALSE)),\"\",VLOOKUP(A34,tesserati[],2,FALSE))","v":""},{"$f":"IF(ISERROR(VLOOKUP(A34,tesserati[],3,FALSE)),\"\",VLOOKUP(A34,tesserati[],3,FALSE))","v":""},{"$f":"IF(ISERROR(VLOOKUP(A34,tesserati[],4,FALSE)),\"\",VLOOKUP(A34,tesserati[],4,FALSE))","v":""},{"$f":"IF(ISERROR(VLOOKUP(A34,tesserati[],5,FALSE)),\"\",VLOOKUP(A34,tesserati[],5,FALSE))","v":""},{"$f":"IF(ISERROR(VLOOKUP(A34,tesserati[],7,FALSE)),\"\",VLOOKUP(A34,tesserati[],7,FALSE))","v":""},1]
[null,{"$f":"IF(ISERROR(VLOOKUP(A35,tesserati[],2,FALSE)),\"\",VLOOKUP(A35,tesserati[],2,FALSE))","v":""},{"$f":"IF(ISERROR(VLOOKUP(A35,tesserati[],3,FALSE)),\"\",VLOOKUP(A35,tesserati[],3,FALSE))","v":""},{"$f":"IF(ISERROR(VLOOKUP(A35,tesserati[],4,FALSE)),\"\",VLOOKUP(A35,tesserati[],4,FALSE))","v":""},{"$f":"IF(ISERROR(VLOOKUP(A35,tesserati[],5,FALSE)),\"\",VLOOKUP(A35,tesserati[],5,FALSE))","v":""},{"$f":"IF(ISERROR(VLOOKUP(A35,tesserati[],7,FALSE)),\"\",VLOOKUP(A35,tesserati[],7,FALSE))","v":""}]
[null,{"$f":"IF(ISERROR(VLOOKUP(A36,tesserati[],2,FALSE)),\"\",VLOOKUP(A36,tesserati[],2,FALSE))","v":""},{"$f":"IF(ISERROR(VLOOKUP(A36,tesserati[],3,FALSE)),\"\",VLOOKUP(A36,tesserati[],3,FALSE))","v":""},{"$f":"IF(ISERROR(VLOOKUP(A36,tesserati[],4,FALSE)),\"\",VLOOKUP(A36,tesserati[],4,FALSE))","v":""},{"$f":"IF(ISERROR(VLOOKUP(A36,tesserati[],5,FALSE)),\"\",VLOOKUP(A36,tesserati[],5,FALSE))","v":""},{"$f":"IF(ISERROR(VLOOKUP(A36,tesserati[],7,FALSE)),\"\",VLOOKUP(A36,tesserati[],7,FALSE))","v":""}]
[null,{"$f":"IF(ISERROR(VLOOKUP(A37,tesserati[],2,FALSE)),\"\",VLOOKUP(A37,tesserati[],2,FALSE))","v":""},{"$f":"IF(ISERROR(VLOOKUP(A37,tesserati[],3,FALSE)),\"\",VLOOKUP(A37,tesserati[],3,FALSE))","v":""},{"$f":"IF(ISERROR(VLOOKUP(A37,tesserati[],4,FALSE)),\"\",VLOOKUP(A37,tesserati[],4,FALSE))","v":""},{"$f":"IF(ISERROR(VLOOKUP(A37,tesserati[],5,FALSE)),\"\",VLOOKUP(A37,tesserati[],5,FALSE))","v":""},{"$f":"IF(ISERROR(VLOOKUP(A37,tesserati[],7,FALSE)),\"\",VLOOKUP(A37,tesserati[],7,FALSE))","v":""}]
[null,{"$f":"IF(ISERROR(VLOOKUP(A38,tesserati[],2,FALSE)),\"\",VLOOKUP(A38,tesserati[],2,FALSE))","v":""},{"$f":"IF(ISERROR(VLOOKUP(A38,tesserati[],3,FALSE)),\"\",VLOOKUP(A38,tesserati[],3,FALSE))","v":""},{"$f":"IF(ISERROR(VLOOKUP(A38,tesserati[],4,FALSE)),\"\",VLOOKUP(A38,tesserati[],4,FALSE))","v":""},{"$f":"IF(ISERROR(VLOOKUP(A38,tesserati[],5,FALSE)),\"\",VLOOKUP(A38,tesserati[],5,FALSE))","v":""},{"$f":"IF(ISERROR(VLOOKUP(A38,tesserati[],7,FALSE)),\"\",VLOOKUP(A38,tesserati[],7,FALSE))","v":""},2]
[null,{"$f":"IF(ISERROR(VLOOKUP(A39,tesserati[],2,FALSE)),\"\",VLOOKUP(A39,tesserati[],2,FALSE))","v":""},{"$f":"IF(ISERROR(VLOOKUP(A39,tesserati[],3,FALSE)),\"\",VLOOKUP(A39,tesserati[],3,FALSE))","v":""},{"$f":"IF(ISERROR(VLOOKUP(A39,tesserati[],4,FALSE)),\"\",VLOOKUP(A39,tesserati[],4,FALSE))","v":""},{"$f":"IF(ISERROR(VLOOKUP(A39,tesserati[],5,FALSE)),\"\",VLOOKUP(A39,tesserati[],5,FALSE))","v":""},{"$f":"IF(ISERROR(VLOOKUP(A39,tesserati[],7,FALSE)),\"\",VLOOKUP(A39,tesserati[],7,FALSE))","v":""}]
[null,{"$f":"IF(ISERROR(VLOOKUP(A40,tesserati[],2,FALSE)),\"\",VLOOKUP(A40,tesserati[],2,FALSE))","v":""},{"$f":"IF(ISERROR(VLOOKUP(A40,tesserati[],3,FALSE)),\"\",VLOOKUP(A40,tesserati[],3,FALSE))","v":""},{"$f":"IF(ISERROR(VLOOKUP(A40,tesserati[],4,FALSE)),\"\",VLOOKUP(A40,tesserati[],4,FALSE))","v":""},{"$f":"IF(ISERROR(VLOOKUP(A40,tesserati[],5,FALSE)),\"\",VLOOKUP(A40,tesserati[],5,FALSE))","v":""},{"$f":"IF(ISERROR(VLOOKUP(A40,tesserati[],7,FALSE)),\"\",VLOOKUP(A40,tesserati[],7,FALSE))","v":""}]
[null,{"$f":"IF(ISERROR(VLOOKUP(A41,tesserati[],2,FALSE)),\"\",VLOOKUP(A41,tesserati[],2,FALSE))","v":""},{"$f":"IF(ISERROR(VLOOKUP(A41,tesserati[],3,FALSE)),\"\",VLOOKUP(A41,tesserati[],3,FALSE))","v":""},{"$f":"IF(ISERROR(VLOOKUP(A41,tesserati[],4,FALSE)),\"\",VLOOKUP(A41,tesserati[],4,FALSE))","v":""},{"$f":"IF(ISERROR(VLOOKUP(A41,tesserati[],5,FALSE)),\"\",VLOOKUP(A41,tesserati[],5,FALSE))","v":""},{"$f":"IF(ISERROR(VLOOKUP(A41,tesserati[],7,FALSE)),\"\",VLOOKUP(A41,tesserati[],7,FALSE))","v":""}]
[null,{"$f":"IF(ISERROR(VLOOKUP(A42,tesserati[],2,FALSE)),\"\",VLOOKUP(A42,tesserati[],2,FALSE))","v":""},{"$f":"IF(ISERROR(VLOOKUP(A42,tesserati[],3,FALSE)),\"\",VLOOKUP(A42,tesserati[],3,FALSE))","v":""},{"$f":"IF(ISERROR(VLOOKUP(A42,tesserati[],4,FALSE)),\"\",VLOOKUP(A42,tesserati[],4,FALSE))","v":""},{"$f":"IF(ISERROR(VLOOKUP(A42,tesserati[],5,FALSE)),\"\",VLOOKUP(A42,tesserati[],5,FALSE))","v":""},{"$f":"IF(ISERROR(VLOOKUP(A42,tesserati[],7,FALSE)),\"\",VLOOKUP(A42,tesserati[],7,FALSE))","v":""},3]
[null,{"$f":"IF(ISERROR(VLOOKUP(A43,tesserati[],2,FALSE)),\"\",VLOOKUP(A43,tesserati[],2,FALSE))","v":""},{"$f":"IF(ISERROR(VLOOKUP(A43,tesserati[],3,FALSE)),\"\",VLOOKUP(A43,tesserati[],3,FALSE))","v":""},{"$f":"IF(ISERROR(VLOOKUP(A43,tesserati[],4,FALSE)),\"\",VLOOKUP(A43,tesserati[],4,FALSE))","v":""},{"$f":"IF(ISERROR(VLOOKUP(A43,tesserati[],5,FALSE)),\"\",VLOOKUP(A43,tesserati[],5,FALSE))","v":""},{"$f":"IF(ISERROR(VLOOKUP(A43,tesserati[],7,FALSE)),\"\",VLOOKUP(A43,tesserati[],7,FALSE))","v":""}]
[null,{"$f":"IF(ISERROR(VLOOKUP(A44,tesserati[],2,FALSE)),\"\",VLOOKUP(A44,tesserati[],2,FALSE))","v":""},{"$f":"IF(ISERROR(VLOOKUP(A44,tesserati[],3,FALSE)),\"\",VLOOKUP(A44,tesserati[],3,FALSE))","v":""},{"$f":"IF(ISERROR(VLOOKUP(A44,tesserati[],4,FALSE)),\"\",VLOOKUP(A44,tesserati[],4,FALSE))","v":""},{"$f":"IF(ISERROR(VLOOKUP(A44,tesserati[],5,FALSE)),\"\",VLOOKUP(A44,tesserati[],5,FALSE))","v":""},{"$f":"IF(ISERROR(VLOOKUP(A44,tesserati[],7,FALSE)),\"\",VLOOKUP(A44,tesserati[],7,FALSE))","v":""}]
[null,{"$f":"IF(ISERROR(VLOOKUP(A45,tesserati[],2,FALSE)),\"\",VLOOKUP(A45,tesserati[],2,FALSE))","v":""},{"$f":"IF(ISERROR(VLOOKUP(A45,tesserati[],3,FALSE)),\"\",VLOOKUP(A45,tesserati[],3,FALSE))","v":""},{"$f":"IF(ISERROR(VLOOKUP(A45,tesserati[],4,FALSE)),\"\",VLOOKUP(A45,tesserati[],4,FALSE))","v":""},{"$f":"IF(ISERROR(VLOOKUP(A45,tesserati[],5,FALSE)),\"\",VLOOKUP(A45,tesserati[],5,FALSE))","v":""},{"$f":"IF(ISERROR(VLOOKUP(A45,tesserati[],7,FALSE)),\"\",VLOOKUP(A45,tesserati[],7,FALSE))","v":""}]
[null,{"$f":"IF(ISERROR(VLOOKUP(A46,tesserati[],2,FALSE)),\"\",VLOOKUP(A46,tesserati[],2,FALSE))","v":""},{"$f":"IF(ISERROR(VLOOKUP(A46,tesserati[],3,FALSE)),\"\",VLOOKUP(A46,tesserati[],3,FALSE))","v":""},{"$f":"IF(ISERROR(VLOOKUP(A46,tesserati[],4,FALSE)),\"\",VLOOKUP(A46,tesserati[],4,FALSE))","v":""},{"$f":"IF(ISERROR(VLOOKUP(A46,tesserati[],5,FALSE)),\"\",VLOOKUP(A46,tesserati[],5,FALSE))","v":""},{"$f":"IF(ISERROR(VLOOKUP(A46,tesserati[],7,FALSE)),\"\",VLOOKUP(A46,tesserati[],7,FALSE))","v":""},4]
[null,{"$f":"IF(ISERROR(VLOOKUP(A47,tesserati[],2,FALSE)),\"\",VLOOKUP(A47,tesserati[],2,FALSE))","v":""},{"$f":"IF(ISERROR(VLOOKUP(A47,tesserati[],3,FALSE)),\"\",VLOOKUP(A47,tesserati[],3,FALSE))","v":""},{"$f":"IF(ISERROR(VLOOKUP(A47,tesserati[],4,FALSE)),\"\",VLOOKUP(A47,tesserati[],4,FALSE))","v":""},{"$f":"IF(ISERROR(VLOOKUP(A47,tesserati[],5,FALSE)),\"\",VLOOKUP(A47,tesserati[],5,FALSE))","v":""},{"$f":"IF(ISERROR(VLOOKUP(A47,tesserati[],7,FALSE)),\"\",VLOOKUP(A47,tesserati[],7,FALSE))","v":""}]
[null,{"$f":"IF(ISERROR(VLOOKUP(A48,tesserati[],2,FALSE)),\"\",VLOOKUP(A48,tesserati[],2,FALSE))","v":""},{"$f":"IF(ISERROR(VLOOKUP(A48,tesserati[],3,FALSE)),\"\",VLOOKUP(A48,tesserati[],3,FALSE))","v":""},{"$f":"IF(ISERROR(VLOOKUP(A48,tesserati[],4,FALSE)),\"\",VLOOKUP(A48,tesserati[],4,FALSE))","v":""},{"$f":"IF(ISERROR(VLOOKUP(A48,tesserati[],5,FALSE)),\"\",VLOOKUP(A48,tesserati[],5,FALSE))","v":""},{"$f":"IF(ISERROR(VLOOKUP(A48,tesserati[],7,FALSE)),\"\",VLOOKUP(A48,tesserati[],7,FALSE))","v":""}]
[null,{"$f":"IF(ISERROR(VLOOKUP(A49,tesserati[],2,FALSE)),\"\",VLOOKUP(A49,tesserati[],2,FALSE))","v":""},{"$f":"IF(ISERROR(VLOOKUP(A49,tesserati[],3,FALSE)),\"\",VLOOKUP(A49,tesserati[],3,FALSE))","v":""},{"$f":"IF(ISERROR(VLOOKUP(A49,tesserati[],4,FALSE)),\"\",VLOOKUP(A49,tesserati[],4,FALSE))","v":""},{"$f":"IF(ISERROR(VLOOKUP(A49,tesserati[],5,FALSE)),\"\",VLOOKUP(A49,tesserati[],5,FALSE))","v":""},{"$f":"IF(ISERROR(VLOOKUP(A49,tesserati[],7,FALSE)),\"\",VLOOKUP(A49,tesserati[],7,FALSE))","v":""}]
[null,{"$f":"IF(ISERROR(VLOOKUP(A50,tesserati[],2,FALSE)),\"\",VLOOKUP(A50,tesserati[],2,FALSE))","v":""},{"$f":"IF(ISERROR(VLOOKUP(A50,tesserati[],3,FALSE)),\"\",VLOOKUP(A50,tesserati[],3,FALSE))","v":""},{"$f":"IF(ISERROR(VLOOKUP(A50,tesserati[],4,FALSE)),\"\",VLOOKUP(A50,tesserati[],4,FALSE))","v":""},{"$f":"IF(ISERROR(VLOOKUP(A50,tesserati[],5,FALSE)),\"\",VLOOKUP(A50,tesserati[],5,FALSE))","v":""},{"$f":"IF(ISERROR(VLOOKUP(A50,tesserati[],7,FALSE)),\"\",VLOOKUP(A50,tesserati[],7,FALSE))","v":""},5]
[null,{"$f":"IF(ISERROR(VLOOKUP(A51,tesserati[],2,FALSE)),\"\",VLOOKUP(A51,tesserati[],2,FALSE))","v":""},{"$f":"IF(ISERROR(VLOOKUP(A51,tesserati[],3,FALSE)),\"\",VLOOKUP(A51,tesserati[],3,FALSE))","v":""},{"$f":"IF(ISERROR(VLOOKUP(A51,tesserati[],4,FALSE)),\"\",VLOOKUP(A51,tesserati[],4,FALSE))","v":""},{"$f":"IF(ISERROR(VLOOKUP(A51,tesserati[],5,FALSE)),\"\",VLOOKUP(A51,tesserati[],5,FALSE))","v":""},{"$f":"IF(ISERROR(VLOOKUP(A51,tesserati[],7,FALSE)),\"\",VLOOKUP(A51,tesserati[],7,FALSE))","v":""}]
[null,{"$f":"IF(ISERROR(VLOOKUP(A52,tesserati[],2,FALSE)),\"\",VLOOKUP(A52,tesserati[],2,FALSE))","v":""},{"$f":"IF(ISERROR(VLOOKUP(A52,tesserati[],3,FALSE)),\"\",VLOOKUP(A52,tesserati[],3,FALSE))","v":""},{"$f":"IF(ISERROR(VLOOKUP(A52,tesserati[],4,FALSE)),\"\",VLOOKUP(A52,tesserati[],4,FALSE))","v":""},{"$f":"IF(ISERROR(VLOOKUP(A52,tesserati[],5,FALSE)),\"\",VLOOKUP(A52,tesserati[],5,FALSE))","v":""},{"$f":"IF(ISERROR(VLOOKUP(A52,tesserati[],7,FALSE)),\"\",VLOOKUP(A52,tesserati[],7,FALSE))","v":""}]
[null,{"$f":"IF(ISERROR(VLOOKUP(A53,tesserati[],2,FALSE)),\"\",VLOOKUP(A53,tesserati[],2,FALSE))","v":""},{"$f":"IF(ISERROR(VLOOKUP(A53,tesserati[],3,FALSE)),\"\",VLOOKUP(A53,tesserati[],3,FALSE))","v":""},{"$f":"IF(ISERROR(VLOOKUP(A53,tesserati[],4,FALSE)),\"\",VLOOKUP(A53,tesserati[],4,FALSE))","v":""},{"$f":"IF(ISERROR(VLOOKUP(A53,tesserati[],5,FALSE)),\"\",VLOOKUP(A53,tesserati[],5,FALSE))","v":""},{"$f":"IF(ISERROR(VLOOKUP(A53,tesserati[],7,FALSE)),\"\",VLOOKUP(A53,tesserati[],7,FALSE))","v":""}]
[null,{"$f":"IF(ISERROR(VLOOKUP(A54,tesserati[],2,FALSE)),\"\",VLOOKUP(A54,tesserati[],2,FALSE))","v":""},{"$f":"IF(ISERROR(VLOOKUP(A54,tesserati[],3,FALSE)),\"\",VLOOKUP(A54,tesserati[],3,FALSE))","v":""},{"$f":"IF(ISERROR(VLOOKUP(A54,tesserati[],4,FALSE)),\"\",VLOOKUP(A54,tesserati[],4,FALSE))","v":""},{"$f":"IF(ISERROR(VLOOKUP(A54,tesserati[],5,FALSE)),\"\",VLOOKUP(A54,tesserati[],5,FALSE))","v":""},{"$f":"IF(ISERROR(VLOOKUP(A54,tesserati[],7,FALSE)),\"\",VLOOKUP(A54,tesserati[],7,FALSE))","v":""},6]
[null,{"$f":"IF(ISERROR(VLOOKUP(A55,tesserati[],2,FALSE)),\"\",VLOOKUP(A55,tesserati[],2,FALSE))","v":""},{"$f":"IF(ISERROR(VLOOKUP(A55,tesserati[],3,FALSE)),\"\",VLOOKUP(A55,tesserati[],3,FALSE))","v":""},{"$f":"IF(ISERROR(VLOOKUP(A55,tesserati[],4,FALSE)),\"\",VLOOKUP(A55,tesserati[],4,FALSE))","v":""},{"$f":"IF(ISERROR(VLOOKUP(A55,tesserati[],5,FALSE)),\"\",VLOOKUP(A55,tesserati[],5,FALSE))","v":""},{"$f":"IF(ISERROR(VLOOKUP(A55,tesserati[],7,FALSE)),\"\",VLOOKUP(A55,tesserati[],7,FALSE))","v":""}]
[null,{"$f":"IF(ISERROR(VLOOKUP(A56,tesserati[],2,FALSE)),\"\",VLOOKUP(A56,tesserati[],2,FALSE))","v":""},{"$f":"IF(ISERROR(VLOOKUP(A56,tesserati[],3,FALSE)),\"\",VLOOKUP(A56,tesserati[],3,FALSE))","v":""},{"$f":"IF(ISERROR(VLOOKUP(A56,tesserati[],4,FALSE)),\"\",VLOOKUP(A56,tesserati[],4,FALSE))","v":""},{"$f":"IF(ISERROR(VLOOKUP(A56,tesserati[],5,FALSE)),\"\",VLOOKUP(A56,tesserati[],5,FALSE))","v":""},{"$f":"IF(ISERROR(VLOOKUP(A56,tesserati[],7,FALSE)),\"\",VLOOKUP(A56,tesserati[],7,FALSE))","v":""}]
[null,{"$f":"IF(ISERROR(VLOOKUP(A57,tesserati[],2,FALSE)),\"\",VLOOKUP(A57,tesserati[],2,FALSE))","v":""},{"$f":"IF(ISERROR(VLOOKUP(A57,tesserati[],3,FALSE)),\"\",VLOOKUP(A57,tesserati[],3,FALSE))","v":""},{"$f":"IF(ISERROR(VLOOKUP(A57,tesserati[],4,FALSE)),\"\",VLOOKUP(A57,tesserati[],4,FALSE))","v":""},{"$f":"IF(ISERROR(VLOOKUP(A57,tesserati[],5,FALSE)),\"\",VLOOKUP(A57,tesserati[],5,FALSE))","v":""},{"$f":"IF(ISERROR(VLOOKUP(A57,tesserati[],7,FALSE)),\"\",VLOOKUP(A57,tesserati[],7,FALSE))","v":""}]
[null,{"$f":"IF(ISERROR(VLOOKUP(A58,tesserati[],2,FALSE)),\"\",VLOOKUP(A58,tesserati[],2,FALSE))","v":""},{"$f":"IF(ISERROR(VLOOKUP(A58,tesserati[],3,FALSE)),\"\",VLOOKUP(A58,tesserati[],3,FALSE))","v":""},{"$f":"IF(ISERROR(VLOOKUP(A58,tesserati[],4,FALSE)),\"\",VLOOKUP(A58,tesserati[],4,FALSE))","v":""},{"$f":"IF(ISERROR(VLOOKUP(A58,tesserati[],5,FALSE)),\"\",VLOOKUP(A58,tesserati[],5,FALSE))","v":""},{"$f":"IF(ISERROR(VLOOKUP(A58,tesserati[],7,FALSE)),\"\",VLOOKUP(A58,tesserati[],7,FALSE))","v":""}]
[null,{"$f":"IF(ISERROR(VLOOKUP(A59,tesserati[],2,FALSE)),\"\",VLOOKUP(A59,tesserati[],2,FALSE))","v":""},{"$f":"IF(ISERROR(VLOOKUP(A59,tesserati[],3,FALSE)),\"\",VLOOKUP(A59,tesserati[],3,FALSE))","v":""},{"$f":"IF(ISERROR(VLOOKUP(A59,tesserati[],4,FALSE)),\"\",VLOOKUP(A59,tesserati[],4,FALSE))","v":""},{"$f":"IF(ISERROR(VLOOKUP(A59,tesserati[],5,FALSE)),\"\",VLOOKUP(A59,tesserati[],5,FALSE))","v":""},{"$f":"IF(ISERROR(VLOOKUP(A59,tesserati[],7,FALSE)),\"\",VLOOKUP(A59,tesserati[],7,FALSE))","v":""}]
[null,{"$f":"IF(ISERROR(VLOOKUP(A60,tesserati[],2,FALSE)),\"\",VLOOKUP(A60,tesserati[],2,FALSE))","v":""},{"$f":"IF(ISERROR(VLOOKUP(A60,tesserati[],3,FALSE)),\"\",VLOOKUP(A60,tesserati[],3,FALSE))","v":""},{"$f":"IF(ISERROR(VLOOKUP(A60,tesserati[],4,FALSE)),\"\",VLOOKUP(A60,tesserati[],4,FALSE))","v":""},{"$f":"IF(ISERROR(VLOOKUP(A60,tesserati[],5,FALSE)),\"\",VLOOKUP(A60,tesserati[],5,FALSE))","v":""},{"$f":"IF(ISERROR(VLOOKUP(A60,tesserati[],7,FALSE)),\"\",VLOOKUP(A60,tesserati[],7,FALSE))","v":""}]
[null,{"$f":"IF(ISERROR(VLOOKUP(A61,tesserati[],2,FALSE)),\"\",VLOOKUP(A61,tesserati[],2,FALSE))","v":""},{"$f":"IF(ISERROR(VLOOKUP(A61,tesserati[],3,FALSE)),\"\",VLOOKUP(A61,tesserati[],3,FALSE))","v":""},{"$f":"IF(ISERROR(VLOOKUP(A61,tesserati[],4,FALSE)),\"\",VLOOKUP(A61,tesserati[],4,FALSE))","v":""},{"$f":"IF(ISERROR(VLOOKUP(A61,tesserati[],5,FALSE)),\"\",VLOOKUP(A61,tesserati[],5,FALSE))","v":""},{"$f":"IF(ISERROR(VLOOKUP(A61,tesserati[],7,FALSE)),\"\",VLOOKUP(A61,tesserati[],7,FALSE))","v":""}]
[null,{"$f":"IF(ISERROR(VLOOKUP(A62,tesserati[],2,FALSE)),\"\",VLOOKUP(A62,tesserati[],2,FALSE))","v":""},{"$f":"IF(ISERROR(VLOOKUP(A62,tesserati[],3,FALSE)),\"\",VLOOKUP(A62,tesserati[],3,FALSE))","v":""},{"$f":"IF(ISERROR(VLOOKUP(A62,tesserati[],4,FALSE)),\"\",VLOOKUP(A62,tesserati[],4,FALSE))","v":""},{"$f":"IF(ISERROR(VLOOKUP(A62,tesserati[],5,FALSE)),\"\",VLOOKUP(A62,tesserati[],5,FALSE))","v":""},{"$f":"IF(ISERROR(VLOOKUP(A62,tesserati[],7,FALSE)),\"\",VLOOKUP(A62,tesserati[],7,FALSE))","v":""}]
[null,{"$f":"IF(ISERROR(VLOOKUP(A63,tesserati[],2,FALSE)),\"\",VLOOKUP(A63,tesserati[],2,FALSE))","v":""},{"$f":"IF(ISERROR(VLOOKUP(A63,tesserati[],3,FALSE)),\"\",VLOOKUP(A63,tesserati[],3,FALSE))","v":""},{"$f":"IF(ISERROR(VLOOKUP(A63,tesserati[],4,FALSE)),\"\",VLOOKUP(A63,tesserati[],4,FALSE))","v":""},{"$f":"IF(ISERROR(VLOOKUP(A63,tesserati[],5,FALSE)),\"\",VLOOKUP(A63,tesserati[],5,FALSE))","v":""},{"$f":"IF(ISERROR(VLOOKUP(A63,tesserati[],7,FALSE)),\"\",VLOOKUP(A63,tesserati[],7,FALSE))","v":""}]
[null,{"$f":"IF(ISERROR(VLOOKUP(A64,tesserati[],2,FALSE)),\"\",VLOOKUP(A64,tesserati[],2,FALSE))","v":""},{"$f":"IF(ISERROR(VLOOKUP(A64,tesserati[],3,FALSE)),\"\",VLOOKUP(A64,tesserati[],3,FALSE))","v":""},{"$f":"IF(ISERROR(VLOOKUP(A64,tesserati[],4,FALSE)),\"\",VLOOKUP(A64,tesserati[],4,FALSE))","v":""},{"$f":"IF(ISERROR(VLOOKUP(A64,tesserati[],5,FALSE)),\"\",VLOOKUP(A64,tesserati[],5,FALSE))","v":""},{"$f":"IF(ISERROR(VLOOKUP(A64,tesserati[],7,FALSE)),\"\",VLOOKUP(A64,tesserati[],7,FALSE))","v":""}]
[null,{"$f":"IF(ISERROR(VLOOKUP(A65,tesserati[],2,FALSE)),\"\",VLOOKUP(A65,tesserati[],2,FALSE))","v":""},{"$f":"IF(ISERROR(VLOOKUP(A65,tesserati[],3,FALSE)),\"\",VLOOKUP(A65,tesserati[],3,FALSE))","v":""},{"$f":"IF(ISERROR(VLOOKUP(A65,tesserati[],4,FALSE)),\"\",VLOOKUP(A65,tesserati[],4,FALSE))","v":""},{"$f":"IF(ISERROR(VLOOKUP(A65,tesserati[],5,FALSE)),\"\",VLOOKUP(A65,tesserati[],5,FALSE))","v":""},{"$f":"IF(ISERROR(VLOOKUP(A65,tesserati[],7,FALSE)),\"\",VLOOKUP(A65,tesserati[],7,FALSE))","v":""}]
[null,{"$f":"IF(ISERROR(VLOOKUP(A66,tesserati[],2,FALSE)),\"\",VLOOKUP(A66,tesserati[],2,FALSE))","v":""},{"$f":"IF(ISERROR(VLOOKUP(A66,tesserati[],3,FALSE)),\"\",VLOOKUP(A66,tesserati[],3,FALSE))","v":""},{"$f":"IF(ISERROR(VLOOKUP(A66,tesserati[],4,FALSE)),\"\",VLOOKUP(A66,tesserati[],4,FALSE))","v":""},{"$f":"IF(ISERROR(VLOOKUP(A66,tesserati[],5,FALSE)),\"\",VLOOKUP(A66,tesserati[],5,FALSE))","v":""},{"$f":"IF(ISERROR(VLOOKUP(A66,tesserati[],7,FALSE)),\"\",VLOOKUP(A66,tesserati[],7,FALSE))","v":""}]
[null,{"$f":"IF(ISERROR(VLOOKUP(A67,tesserati[],2,FALSE)),\"\",VLOOKUP(A67,tesserati[],2,FALSE))","v":""},{"$f":"IF(ISERROR(VLOOKUP(A67,tesserati[],3,FALSE)),\"\",VLOOKUP(A67,tesserati[],3,FALSE))","v":""},{"$f":"IF(ISERROR(VLOOKUP(A67,tesserati[],4,FALSE)),\"\",VLOOKUP(A67,tesserati[],4,FALSE))","v":""},{"$f":"IF(ISERROR(VLOOKUP(A67,tesserati[],5,FALSE)),\"\",VLOOKUP(A67,tesserati[],5,FALSE))","v":""},{"$f":"IF(ISERROR(VLOOKUP(A67,tesserati[],7,FALSE)),\"\",VLOOKUP(A67,tesserati[],7,FALSE))","v":""}]
[null,{"$f":"IF(ISERROR(VLOOKUP(A68,tesserati[],2,FALSE)),\"\",VLOOKUP(A68,tesserati[],2,FALSE))","v":""},{"$f":"IF(ISERROR(VLOOKUP(A68,tesserati[],3,FALSE)),\"\",VLOOKUP(A68,tesserati[],3,FALSE))","v":""},{"$f":"IF(ISERROR(VLOOKUP(A68,tesserati[],4,FALSE)),\"\",VLOOKUP(A68,tesserati[],4,FALSE))","v":""},{"$f":"IF(ISERROR(VLOOKUP(A68,tesserati[],5,FALSE)),\"\",VLOOKUP(A68,tesserati[],5,FALSE))","v":""},{"$f":"IF(ISERROR(VLOOKUP(A68,tesserati[],7,FALSE)),\"\",VLOOKUP(A68,tesserati[],7,FALSE))","v":""}]
[null,{"$f":"IF(ISERROR(VLOOKUP(A69,tesserati[],2,FALSE)),\"\",VLOOKUP(A69,tesserati[],2,FALSE))","v":""},{"$f":"IF(ISERROR(VLOOKUP(A69,tesserati[],3,FALSE)),\"\",VLOOKUP(A69,tesserati[],3,FALSE))","v":""},{"$f":"IF(ISERROR(VLOOKUP(A69,tesserati[],4,FALSE)),\"\",VLOOKUP(A69,tesserati[],4,FALSE))","v":""},{"$f":"IF(ISERROR(VLOOKUP(A69,tesserati[],5,FALSE)),\"\",VLOOKUP(A69,tesserati[],5,FALSE))","v":""},{"$f":"IF(ISERROR(VLOOKUP(A69,tesserati[],7,FALSE)),\"\",VLOOKUP(A69,tesserati[],7,FALSE))","v":""}]
[null,{"$f":"IF(ISERROR(VLOOKUP(A70,tesserati[],2,FALSE)),\"\",VLOOKUP(A70,tesserati[],2,FALSE))","v":""},{"$f":"IF(ISERROR(VLOOKUP(A70,tesserati[],3,FALSE)),\"\",VLOOKUP(A70,tesserati[],3,FALSE))","v":""},{"$f":"IF(ISERROR(VLOOKUP(A70,tesserati[],4,FALSE)),\"\",VLOOKUP(A70,tesserati[],4,FALSE))","v":""},{"$f":"IF(ISERROR(VLOOKUP(A70,tesserati[],5,FALSE)),\"\",VLOOKUP(A70,tesserati[],5,FALSE))","v":""},{"$f":"IF(ISERROR(VLOOKUP(A70,tesserati[],7,FALSE)),\"\",VLOOKUP(A70,tesserati[],7,FALSE))","v":""}]
[null,{"$f":"IF(ISERROR(VLOOKUP(A71,tesserati[],2,FALSE)),\"\",VLOOKUP(A71,tesserati[],2,FALSE))","v":""},{"$f":"IF(ISERROR(VLOOKUP(A71,tesserati[],3,FALSE)),\"\",VLOOKUP(A71,tesserati[],3,FALSE))","v":""},{"$f":"IF(ISERROR(VLOOKUP(A71,tesserati[],4,FALSE)),\"\",VLOOKUP(A71,tesserati[],4,FALSE))","v":""},{"$f":"IF(ISERROR(VLOOKUP(A71,tesserati[],5,FALSE)),\"\",VLOOKUP(A71,tesserati[],5,FALSE))","v":""},{"$f":"IF(ISERROR(VLOOKUP(A71,tesserati[],7,FALSE)),\"\",VLOOKUP(A71,tesserati[],7,FALSE))","v":""}]
[null,{"$f":"IF(ISERROR(VLOOKUP(A72,tesserati[],2,FALSE)),\"\",VLOOKUP(A72,tesserati[],2,FALSE))","v":""},{"$f":"IF(ISERROR(VLOOKUP(A72,tesserati[],3,FALSE)),\"\",VLOOKUP(A72,tesserati[],3,FALSE))","v":""},{"$f":"IF(ISERROR(VLOOKUP(A72,tesserati[],4,FALSE)),\"\",VLOOKUP(A72,tesserati[],4,FALSE))","v":""},{"$f":"IF(ISERROR(VLOOKUP(A72,tesserati[],5,FALSE)),\"\",VLOOKUP(A72,tesserati[],5,FALSE))","v":""},{"$f":"IF(ISERROR(VLOOKUP(A72,tesserati[],7,FALSE)),\"\",VLOOKUP(A72,tesserati[],7,FALSE))","v":""}]

{"sheet":"SVEDESE ASS MAS","index":10,"n_rows":72,"n_cols":12,"rows_kept":72,"cut":false,"hidden":false,"merged":[[0,2,0,4],[0,5,0,7],[0,8,0,10],[0,11,1,11],[1,2,1,4],[1,5,1,7],[1,8,1,10],[2,11,4,11],[3,0,4,1],[3,2,4,2],[3,3,4,3],[3,5,4,7],[3,8,4,10],[2,0,2,1],[2,4,4,4],[2,5,2,7],[2,8,2,10],[5,9,6,9],[5,10,6,10],[5,11,6,11],[5,0,6,0],[5,1,6,2],[5,3,6,3],[5,4,6,4],[5,5,6,5],[7,0,7,11],[5,6,6,6],[16,6,19,6],[16,7,19,7],[16,8,19,8],[16,9,19,9],[12,6,15,6],[12,7,15,7],[12,8,15,8],[12,9,15,9],[8,6,11,6],[8,7,11,7],[8,8,11,8],[8,9,11,9],[5,7,6,7],[5,8,6,8],[20,6,23,6],[20,7,23,7],[20,8,23,8],[20,9,23,9],[24,6,27,6],[24,7,27,7],[24,8,27,8],[24,9,27,9],[28,6,31,6],[28,7,31,7],[28,8,31,8],[28,9,31,9],[33,6,36,6],[33,7,36,7],[33,8,36,8],[33,9,36,9],[32,0,32,11],[37,6,40,6],[37,7,40,7],[37,8,40,8],[37,9,40,9],[41,6,44,6],[41,7,44,7],[41,8,44,8],[41,9,44,9],[45,6,48,6],[45,7,48,7],[45,8,48,8],[45,9,48,9],[49,6,52,6],[49,7,52,7],[49,8,52,8],[49,9,52,9],[53,6,56,6],[53,7,56,7],[53,8,56,8],[53,9,56,9],[57,6,60,6],[57,7,60,7],[57,8,60,8],[57,9,60,9]]}
[null,null,"MANIFESTAZIONE",null,null,"LOCALITA'",null,null,"SOCIETA' ORGANIZZATRICE"]
[null,null,"6° prova provinciale",null,null,"Tezze sul Brenta",null,null,"CSI Tezze sul Brenta"]
["CATEGORIA",null,"ORA INIZIO","ORA FINE",null,"GARA",null,null,"DATA"]
["ASS M",null,null,null,null,"SVEDESE",null,null,"2017-09-24"]
[]
["N. tessera","ATLETA\nCOGNOME E NOME",null,"SOCIETA'","NASCITA","CATEGORIA","Corsia","PETTORALE","Tempo","Piazzamento","PUNTI","CL."]
[]
["1 SERIE",{"$f":"IF(ISERROR(VLOOKUP(A8,tesserati[],2,FALSE)),\"\",VLOOKUP(A8,tesserati[],2,FALSE))","v":""},{"$f":"IF(ISERROR(VLOOKUP(A8,tesserati[],3,FALSE)),\"\",VLOOKUP(A8,tesserati[],3,FALSE))","v":""},{"$f":"IF(ISERROR(VLOOKUP(#REF!,tesserati[],5,FALSE)),\"\",VLOOKUP(#REF!,tesserati[],5,FALSE))","v":""},{"$f":"IF(ISERROR(VLOOKUP(A8,tesserati[],4,FALSE)),\"\",VLOOKUP(A8,tesserati[],4,FALSE))","v":""},{"$f":"IF(ISERROR(VLOOKUP(A8,tesserati[],7,FALSE)),\"\",VLOOKUP(A8,tesserati[],7,FALSE))","v":""}]
[4403,{"$f":"IF(ISERROR(VLOOKUP(A9,tesserati[],2,FALSE)),\"\",VLOOKUP(A9,tesserati[],2,FALSE))","v":"TOMBOLAN"},{"$f":"IF(ISERROR(VLOOKUP(A9,tesserati[],3,FALSE)),\"\",VLOOKUP(A9,tesserati[],3,FALSE))","v":"SIMONE"},{"$f":"IF(ISERROR(VLOOKUP(A9,tesserati[],4,FALSE)),\"\",VLOOKUP(A9,tesserati[],4,FALSE))","v":"CSI ATLETICA COLLI BERICI"},{"$f":"IF(ISERROR(VLOOKUP(A9,tesserati[],5,FALSE)),\"\",VLOOKUP(A9,tesserati[],5,FALSE))","v":1999},{"$f":"IF(ISERROR(VLOOKUP(A9,tesserati[],7,FALSE)),\"\",VLOOKUP(A9,tesserati[],7,FALSE))","v":"JM"},2,85,"2,07.5",1]
[4600,{"$f":"IF(ISERROR(VLOOKUP(A10,tesserati[],2,FALSE)),\"\",VLOOKUP(A10,tesserati[],2,FALSE))","v":"ZALTRON"},{"$f":"IF(ISERROR(VLOOKUP(A10,tesserati[],3,FALSE)),\"\",VLOOKUP(A10,tesserati[],3,FALSE))","v":"MATTIA"},{"$f":"IF(ISERROR(VLOOKUP(A10,tesserati[],4,FALSE)),\"\",VLOOKUP(A10,tesserati[],4,FALSE))","v":"CSI ATLETICA COLLI BERICI"},{"$f":"IF(ISERROR(VLOOKUP(A10,tesserati[],5,FALSE)),\"\",VLOOKUP(A10,tesserati[],5,FALSE))","v":1999},{"$f":"IF(ISERROR(VLOOKUP(A10,tesserati[],7,FALSE)),\"\",VLOOKUP(A10,tesserati[],7,FALSE))","v":"JM"}]
[4392,{"$f":"IF(ISERROR(VLOOKUP(A11,tesserati[],2,FALSE)),\"\",VLOOKUP(A11,tesserati[],2,FALSE))","v":"MARANGON"},{"$f":"IF(ISERROR(VLOOKUP(A11,tesserati[],3,FALSE)),\"\",VLOOKUP(A11,tesserati[],3,FALSE))","v":"PIETRO"},{"$f":"IF(ISERROR(VLOOKUP(A11,tesserati[],4,FALSE)),\"\",VLOOKUP(A11,tesserati[],4,FALSE))","v":"CSI ATLETICA COLLI BERICI"},{"$f":"IF(ISERROR(VLOOKUP(A11,tesserati[],5,FALSE)),\"\",VLOOKUP(A11,tesserati[],5,FALSE))","v":2001},{"$f":"IF(ISERROR(VLOOKUP(A11,tesserati[],7,FALSE)),\"\",VLOOKUP(A11,tesserati[],7,FALSE))","v":"AM"}]
[4569,{"$f":"IF(ISERROR(VLOOKUP(A12,tesserati[],2,FALSE)),\"\",VLOOKUP(A12,tesserati[],2,FALSE))","v":"CRIVELLARO"},{"$f":"IF(ISERROR(VLOOKUP(A12,tesserati[],3,FALSE)),\"\",VLOOKUP(A12,tesserati[],3,FALSE))","v":"MATTIA"},{"$f":"IF(ISERROR(VLOOKUP(A12,tesserati[],4,FALSE)),\"\",VLOOKUP(A12,tesserati[],4,FALSE))","v":"CSI ATLETICA COLLI BERICI"},{"$f":"IF(ISERROR(VLOOKUP(A12,tesserati[],5,FALSE)),\"\",VLOOKUP(A12,tesserati[],5,FALSE))","v":1991},{"$f":"IF(ISERROR(VLOOKUP(A12,tesserati[],7,FALSE)),\"\",VLOOKUP(A12,tesserati[],7,FALSE))","v":"SM"}]
[3975,{"$f":"IF(ISERROR(VLOOKUP(A13,tesserati[],2,FALSE)),\"\",VLOOKUP(A13,tesserati[],2,FALSE))","v":"LANARO"},{"$f":"IF(ISERROR(VLOOKUP(A13,tesserati[],3,FALSE)),\"\",VLOOKUP(A13,tesserati[],3,FALSE))","v":"GIACOMO"},{"$f":"IF(ISERROR(VLOOKUP(A13,tesserati[],4,FALSE)),\"\",VLOOKUP(A13,tesserati[],4,FALSE))","v":"POLISPORTIVA DUEVILLE"},{"$f":"IF(ISERROR(VLOOKUP(A13,tesserati[],5,FALSE)),\"\",VLOOKUP(A13,tesserati[],5,FALSE))","v":1998},{"$f":"IF(ISERROR(VLOOKUP(A13,tesserati[],7,FALSE)),\"\",VLOOKUP(A13,tesserati[],7,FALSE))","v":"JM"},3,431,"2,07.8",2]
[3967,{"$f":"IF(ISERROR(VLOOKUP(A14,tesserati[],2,FALSE)),\"\",VLOOKUP(A14,tesserati[],2,FALSE))","v":"FACCIN"},{"$f":"IF(ISERROR(VLOOKUP(A14,tesserati[],3,FALSE)),\"\",VLOOKUP(A14,tesserati[],3,FALSE))","v":"ENRICO"},{"$f":"IF(ISERROR(VLOOKUP(A14,tesserati[],4,FALSE)),\"\",VLOOKUP(A14,tesserati[],4,FALSE))","v":"POLISPORTIVA DUEVILLE"},{"$f":"IF(ISERROR(VLOOKUP(A14,tesserati[],5,FALSE)),\"\",VLOOKUP(A14,tesserati[],5,FALSE))","v":1998},{"$f":"IF(ISERROR(VLOOKUP(A14,tesserati[],7,FALSE)),\"\",VLOOKUP(A14,tesserati[],7,FALSE))","v":"JM"}]
[3965,{"$f":"IF(ISERROR(VLOOKUP(A15,tesserati[],2,FALSE)),\"\",VLOOKUP(A15,tesserati[],2,FALSE))","v":"FACCIN"},{"$f":"IF(ISERROR(VLOOKUP(A15,tesserati[],3,FALSE)),\"\",VLOOKUP(A15,tesserati[],3,FALSE))","v":"ELIA"},{"$f":"IF(ISERROR(VLOOKUP(A15,tesserati[],4,FALSE)),\"\",VLOOKUP(A15,tesserati[],4,FALSE))","v":"POLISPORTIVA DUEVILLE"},{"$f":"IF(ISERROR(VLOOKUP(A15,tesserati[],5,FALSE)),\"\",VLOOKUP(A15,tesserati[],5,FALSE))","v":2000},{"$f":"IF(ISERROR(VLOOKUP(A15,tesserati[],7,FALSE)),\"\",VLOOKUP(A15,tesserati[],7,FALSE))","v":"AM"}]
[3999,{"$f":"IF(ISERROR(VLOOKUP(A16,tesserati[],2,FALSE)),\"\",VLOOKUP(A16,tesserati[],2,FALSE))","v":"PIEROPAN"},{"$f":"IF(ISERROR(VLOOKUP(A16,tesserati[],3,FALSE)),\"\",VLOOKUP(A16,tesserati[],3,FALSE))","v":"RICCARDO"},{"$f":"IF(ISERROR(VLOOKUP(A16,tesserati[],4,FALSE)),\"\",VLOOKUP(A16,tesserati[],4,FALSE))","v":"POLISPORTIVA DUEVILLE"},{"$f":"IF(ISERROR(VLOOKUP(A16,tesserati[],5,FALSE)),\"\",VLOOKUP(A16,tesserati[],5,FALSE))","v":1994},{"$f":"IF(ISERROR(VLOOKUP(A16,tesserati[],7,FALSE)),\"\",VLOOKUP(A16,tesserati[],7,FALSE))","v":"SM"}]
[6720,{"$f":"IF(ISERROR(VLOOKUP(A17,tesserati[],2,FALSE)),\"\",VLOOKUP(A17,tesserati[],2,FALSE))","v":"MISSIAGGIA"},{"$f":"IF(ISERROR(VLOOKUP(A17,tesserati[],3,FALSE)),\"\",VLOOKUP(A17,tesserati[],3,FALSE))","v":"LUCA"},{"$f":"IF(ISERROR(VLOOKUP(A17,tesserati[],4,FALSE)),\"\",VLOOKUP(A17,tesserati[],4,FALSE))","v":"POL. DIL. MONTECCHIO PRECALCINO"},{"$f":"IF(ISERROR(VLOOKUP(A17,tesserati[],5,FALSE)),\"\",VLOOKUP(A17,tesserati[],5,FALSE))","v":2001},{"$f":"IF(ISERROR(VLOOKUP(A17,tesserati[],7,FALSE)),\"\",VLOOKUP(A17,tesserati[],7,FALSE))","v":"AM"},6,100,"2,14.5",3]
[2694,{"$f":"IF(ISERROR(VLOOKUP(A18,tesserati[],2,FALSE)),\"\",VLOOKUP(A18,tesserati[],2,FALSE))","v":"FRIZZARIN"},{"$f":"IF(ISERROR(VLOOKUP(A18,tesserati[],3,FALSE)),\"\",VLOOKUP(A18,tesserati[],3,FALSE))","v":"FABIO"},{"$f":"IF(ISERROR(VLOOKUP(A18,tesserati[],4,FALSE)),\"\",VLOOKUP(A18,tesserati[],4,FALSE))","v":"POL. DIL. MONTECCHIO PRECALCINO"},{"$f":"IF(ISERROR(VLOOKUP(A18,tesserati[],5,FALSE)),\"\",VLOOKUP(A18,tesserati[],5,FALSE))","v":2000},{"$f":"IF(ISERROR(VLOOKUP(A18,tesserati[],7,FALSE)),\"\",VLOOKUP(A18,tesserati[],7,FALSE))","v":"AM"}]
[2706,{"$f":"IF(ISERROR(VLOOKUP(A19,tesserati[],2,FALSE)),\"\",VLOOKUP(A19,tesserati[],2,FALSE))","v":"DAL FERRO"},{"$f":"IF(ISERROR(VLOOKUP(A19,tesserati[],3,FALSE)),\"\",VLOOKUP(A19,tesserati[],3,FALSE))","v":"NICOLA"},{"$f":"IF(ISERROR(VLOOKUP(A19,tesserati[],4,FALSE)),\"\",VLOOKUP(A19,tesserati[],4,FALSE))","v":"POL. DIL. MONTECCHIO PRECALCINO"},{"$f":"IF(ISERROR(VLOOKUP(A19,tesserati[],5,FALSE)),\"\",VLOOKUP(A19,tesserati[],5,FALSE))","v":2001},{"$f":"IF(ISERROR(VLOOKUP(A19,tesserati[],7,FALSE)),\"\",VLOOKUP(A19,tesserati[],7,FALSE))","v":"AM"}]
[2699,{"$f":"IF(ISERROR(VLOOKUP(A20,tesserati[],2,FALSE)),\"\",VLOOKUP(A20,tesserati[],2,FALSE))","v":"MORO"},{"$f":"IF(ISERROR(VLOOKUP(A20,tesserati[],3,FALSE)),\"\",VLOOKUP(A20,tesserati[],3,FALSE))","v":"FILIPPO"},{"$f":"IF(ISERROR(VLOOKUP(A20,tesserati[],4,FALSE)),\"\",VLOOKUP(A20,tesserati[],4,FALSE))","v":"POL. DIL. MONTECCHIO PRECALCINO"},{"$f":"IF(ISERROR(VLOOKUP(A20,tesserati[],5,FALSE)),\"\",VLOOKUP(A20,tesserati[],5,FALSE))","v":1996},{"$f":"IF(ISERROR(VLOOKUP(A20,tesserati[],7,FALSE)),\"\",VLOOKUP(A20,tesserati[],7,FALSE))","v":"SM"}]
[5218,{"$f":"IF(ISERROR(VLOOKUP(A21,tesserati[],2,FALSE)),\"\",VLOOKUP(A21,tesserati[],2,FALSE))","v":"RIZZOTTO"},{"$f":"IF(ISERROR(VLOOKUP(A21,tesserati[],3,FALSE)),\"\",VLOOKUP(A21,tesserati[],3,FALSE))","v":"ANDREA"},{"$f":"IF(ISERROR(VLOOKUP(A21,tesserati[],4,FALSE)),\"\",VLOOKUP(A21,tesserati[],4,FALSE))","v":"C.S.I. TEZZE SUL BRENTA"},{"$f":"IF(ISERROR(VLOOKUP(A21,tesserati[],5,FALSE)),\"\",VLOOKUP(A21,tesserati[],5,FALSE))","v":1997},{"$f":"IF(ISERROR(VLOOKUP(A21,tesserati[],7,FALSE)),\"\",VLOOKUP(A21,tesserati[],7,FALSE))","v":"SM"},5,103,"2,15.0",4]
[2461,{"$f":"IF(ISERROR(VLOOKUP(A22,tesserati[],2,FALSE)),\"\",VLOOKUP(A22,tesserati[],2,FALSE))","v":"BATTISTELLA"},{"$f":"IF(ISERROR(VLOOKUP(A22,tesserati[],3,FALSE)),\"\",VLOOKUP(A22,tesserati[],3,FALSE))","v":"ANDREA"},{"$f":"IF(ISERROR(VLOOKUP(A22,tesserati[],4,FALSE)),\"\",VLOOKUP(A22,tesserati[],4,FALSE))","v":"C.S.I. TEZZE SUL BRENTA"},{"$f":"IF(ISERROR(VLOOKUP(A22,tesserati[],5,FALSE)),\"\",VLOOKUP(A22,tesserati[],5,FALSE))","v":2001},{"$f":"IF(ISERROR(VLOOKUP(A22,tesserati[],7,FALSE)),\"\",VLOOKUP(A22,tesserati[],7,FALSE))","v":"AM"}]
[3462,{"$f":"IF(ISERROR(VLOOKUP(A23,tesserati[],2,FALSE)),\"\",VLOOKUP(A23,tesserati[],2,FALSE))","v":"ZERBINATI"},{"$f":"IF(ISERROR(VLOOKUP(A23,tesserati[],3,FALSE)),\"\",VLOOKUP(A23,tesserati[],3,FALSE))","v":"MICHELA"},{"$f":"IF(ISERROR(VLOOKUP(A23,tesserati[],4,FALSE)),\"\",VLOOKUP(A23,tesserati[],4,FALSE))","v":"ATLETICA UNION CREAZZO"},{"$f":"IF(ISERROR(VLOOKUP(A23,tesserati[],5,FALSE)),\"\",VLOOKUP(A23,tesserati[],5,FALSE))","v":1973},{"$f":"IF(ISERROR(VLOOKUP(A23,tesserati[],7,FALSE)),\"\",VLOOKUP(A23,tesserati[],7,FALSE))","v":"AAF"}]
[3635,{"$f":"IF(ISERROR(VLOOKUP(A24,tesserati[],2,FALSE)),\"\",VLOOKUP(A24,tesserati[],2,FALSE))","v":"CERANTOLA"},{"$f":"IF(ISERROR(VLOOKUP(A24,tesserati[],3,FALSE)),\"\",VLOOKUP(A24,tesserati[],3,FALSE))","v":"DANIELE"},{"$f":"IF(ISERROR(VLOOKUP(A24,tesserati[],4,FALSE)),\"\",VLOOKUP(A24,tesserati[],4,FALSE))","v":"C.S.I. TEZZE SUL BRENTA"},{"$f":"IF(ISERROR(VLOOKUP(A24,tesserati[],5,FALSE)),\"\",VLOOKUP(A24,tesserati[],5,FALSE))","v":1999},{"$f":"IF(ISERROR(VLOOKUP(A24,tesserati[],7,FALSE)),\"\",VLOOKUP(A24,tesserati[],7,FALSE))","v":"JM"}]
[4202,{"$f":"IF(ISERROR(VLOOKUP(A25,tesserati[],2,FALSE)),\"\",VLOOKUP(A25,tesserati[],2,FALSE))","v":"PELLIZZARO"},{"$f":"IF(ISERROR(VLOOKUP(A25,tesserati[],3,FALSE)),\"\",VLOOKUP(A25,tesserati[],3,FALSE))","v":"FABIO"},{"$f":"IF(ISERROR(VLOOKUP(A25,tesserati[],4,FALSE)),\"\",VLOOKUP(A25,tesserati[],4,FALSE))","v":"ATLETICA TRISSINO"},{"$f":"IF(ISERROR(VLOOKUP(A25,tesserati[],5,FALSE)),\"\",VLOOKUP(A25,tesserati[],5,FALSE))","v":1997},{"$f":"IF(ISERROR(VLOOKUP(A25,tesserati[],7,FALSE)),\"\",VLOOKUP(A25,tesserati[],7,FALSE))","v":"SM"},1,174,"2,17.0",5]
[4189,{"$f":"IF(ISERROR(VLOOKUP(A26,tesserati[],2,FALSE)),\"\",VLOOKUP(A26,tesserati[],2,FALSE))","v":"BUSATO"},{"$f":"IF(ISERROR(VLOOKUP(A26,tesserati[],3,FALSE)),\"\",VLOOKUP(A26,tesserati[],3,FALSE))","v":"GIOVANNI"},{"$f":"IF(ISERROR(VLOOKUP(A26,tesserati[],4,FALSE)),\"\",VLOOKUP(A26,tesserati[],4,FALSE))","v":"ATLETICA TRISSINO"},{"$f":"IF(ISERROR(VLOOKUP(A26,tesserati[],5,FALSE)),\"\",VLOOKUP(A26,tesserati[],5,FALSE))","v":2001},{"$f":"IF(ISERROR(VLOOKUP(A26,tesserati[],7,FALSE)),\"\",VLOOKUP(A26,tesserati[],7,FALSE))","v":"AM"}]
[4201,{"$f":"IF(ISERROR(VLOOKUP(A27,tesserati[],2,FALSE)),\"\",VLOOKUP(A27,tesserati[],2,FALSE))","v":"MEGGIOLARO"},{"$f":"IF(ISERROR(VLOOKUP(A27,tesserati[],3,FALSE)),\"\",VLOOKUP(A27,tesserati[],3,FALSE))","v":"FILIPPO"},{"$f":"IF(ISERROR(VLOOKUP(A27,tesserati[],4,FALSE)),\"\",VLOOKUP(A27,tesserati[],4,FALSE))","v":"ATLETICA TRISSINO"},{"$f":"IF(ISERROR(VLOOKUP(A27,tesserati[],5,FALSE)),\"\",VLOOKUP(A27,tesserati[],5,FALSE))","v":1998},{"$f":"IF(ISERROR(VLOOKUP(A27,tesserati[],7,FALSE)),\"\",VLOOKUP(A27,tesserati[],7,FALSE))","v":"JM"}]
[4204,{"$f":"IF(ISERROR(VLOOKUP(A28,tesserati[],2,FALSE)),\"\",VLOOKUP(A28,tesserati[],2,FALSE))","v":"SABBADINI"},{"$f":"IF(ISERROR(VLOOKUP(A28,tesserati[],3,FALSE)),\"\",VLOOKUP(A28,tesserati[],3,FALSE))","v":"SIMONE"},{"$f":"IF(ISERROR(VLOOKUP(A28,tesserati[],4,FALSE)),\"\",VLOOKUP(A28,tesserati[],4,FALSE))","v":"ATLETICA TRISSINO"},{"$f":"IF(ISERROR(VLOOKUP(A28,tesserati[],5,FALSE)),\"\",VLOOKUP(A28,tesserati[],5,FALSE))","v":2001},{"$f":"IF(ISERROR(VLOOKUP(A28,tesserati[],7,FALSE)),\"\",VLOOKUP(A28,tesserati[],7,FALSE))","v":"AM"}]
[2839,{"$f":"IF(ISERROR(VLOOKUP(A29,tesserati[],2,FALSE)),\"\",VLOOKUP(A29,tesserati[],2,FALSE))","v":"PISANELLO"},{"$f":"IF(ISERROR(VLOOKUP(A29,tesserati[],3,FALSE)),\"\",VLOOKUP(A29,tesserati[],3,FALSE))","v":"LORENZO"},{"$f":"IF(ISERROR(VLOOKUP(A29,tesserati[],4,FALSE)),\"\",VLOOKUP(A29,tesserati[],4,FALSE))","v":"RISORGIVE"},{"$f":"IF(ISERROR(VLOOKUP(A29,tesserati[],5,FALSE)),\"\",VLOOKUP(A29,tesserati[],5,FALSE))","v":1994},{"$f":"IF(ISERROR(VLOOKUP(A29,tesserati[],7,FALSE)),\"\",VLOOKUP(A29,tesserati[],7,FALSE))","v":"SM"},4,43,"2,21.3",6]
[2845,{"$f":"IF(ISERROR(VLOOKUP(A30,tesserati[],2,FALSE)),\"\",VLOOKUP(A30,tesserati[],2,FALSE))","v":"VASSALLO"},{"$f":"IF(ISERROR(VLOOKUP(A30,tesserati[],3,FALSE)),\"\",VLOOKUP(A30,tesserati[],3,FALSE))","v":"FEDERICO"},{"$f":"IF(ISERROR(VLOOKUP(A30,tesserati[],4,FALSE)),\"\",VLOOKUP(A30,tesserati[],4,FALSE))","v":"RISORGIVE"},{"$f":"IF(ISERROR(VLOOKUP(A30,tesserati[],5,FALSE)),\"\",VLOOKUP(A30,tesserati[],5,FALSE))","v":1993},{"$f":"IF(ISERROR(VLOOKUP(A30,tesserati[],7,FALSE)),\"\",VLOOKUP(A30,tesserati[],7,FALSE))","v":"SM"}]
[2825,{"$f":"IF(ISERROR(VLOOKUP(A31,tesserati[],2,FALSE)),\"\",VLOOKUP(A31,tesserati[],2,FALSE))","v":"CAPPELLARI"},{"$f":"IF(ISERROR(VLOOKUP(A31,tesserati[],3,FALSE)),\"\",VLOOKUP(A31,tesserati[],3,FALSE))","v":"GIACOMO"},{"$f":"IF(ISERROR(VLOOKUP(A31,tesserati[],4,FALSE)),\"\",VLOOKUP(A31,tesserati[],4,FALSE))","v":"RISORGIVE"},{"$f":"IF(ISERROR(VLOOKUP(A31,tesserati[],5,FALSE)),\"\",VLOOKUP(A31,tesserati[],5,FALSE))","v":1995},{"$f":"IF(ISERROR(VLOOKUP(A31,tesserati[],7,FALSE)),\"\",VLOOKUP(A31,tesserati[],7,FALSE))","v":"SM"}]
[2826,{"$f":"IF(ISERROR(VLOOKUP(A32,tesserati[],2,FALSE)),\"\",VLOOKUP(A32,tesserati[],2,FALSE))","v":"CATTELAN"},{"$f":"IF(ISERROR(VLOOKUP(A32,tesserati[],3,FALSE)),\"\",VLOOKUP(A32,tesserati[],3,FALSE))","v":"MANUEL"},{"$f":"IF(ISERROR(VLOOKUP(A32,tesserati[],4,FALSE)),\"\",VLOOKUP(A32,tesserati[],4,FALSE))","v":"RISORGIVE"},{"$f":"IF(ISERROR(VLOOKUP(A32,tesserati[],5,FALSE)),\"\",VLOOKUP(A32,tesserati[],5,FALSE))","v":1999},{"$f":"IF(ISERROR(VLOOKUP(A32,tesserati[],7,FALSE)),\"\",VLOOKUP(A32,tesserati[],7,FALSE))","v":"JM"}]
["2 SERIE"]
[null,{"$f":"IF(ISERROR(VLOOKUP(A34,tesserati[],2,FALSE)),\"\",VLOOKUP(A34,tesserati[],2,FALSE))","v":""},{"$f":"IF(ISERROR(VLOOKUP(A34,tesserati[],3,FALSE)),\"\",VLOOKUP(A34,tesserati[],3,FALSE))","v":""},{"$f":"IF(ISERROR(VLOOKUP(A34,tesserati[],4,FALSE)),\"\",VLOOKUP(A34,tesserati[],4,FALSE))","v":""},{"$f":"IF(ISERROR(VLOOKUP(A34,tesserati[],5,FALSE)),\"\",VLOOKUP(A34,tesserati[],5,FALSE))","v":""},{"$f":"IF(ISERROR(VLOOKUP(A34,tesserati[],7,FALSE)),\"\",VLOOKUP(A34,tesserati[],7,FALSE))","v":""},1]
[null,{"$f":"IF(ISERROR(VLOOKUP(A35,tesserati[],2,FALSE)),\"\",VLOOKUP(A35,tesserati[],2,FALSE))","v":""},{"$f":"IF(ISERROR(VLOOKUP(A35,tesserati[],3,FALSE)),\"\",VLOOKUP(A35,tesserati[],3,FALSE))","v":""},{"$f":"IF(ISERROR(VLOOKUP(A35,tesserati[],4,FALSE)),\"\",VLOOKUP(A35,tesserati[],4,FALSE))","v":""},{"$f":"IF(ISERROR(VLOOKUP(A35,tesserati[],5,FALSE)),\"\",VLOOKUP(A35,tesserati[],5,FALSE))","v":""},{"$f":"IF(ISERROR(VLOOKUP(A35,tesserati[],7,FALSE)),\"\",VLOOKUP(A35,tesserati[],7,FALSE))","v":""}]
[null,{"$f":"IF(ISERROR(VLOOKUP(A36,tesserati[],2,FALSE)),\"\",VLOOKUP(A36,tesserati[],2,FALSE))","v":""},{"$f":"IF(ISERROR(VLOOKUP(A36,tesserati[],3,FALSE)),\"\",VLOOKUP(A36,tesserati[],3,FALSE))","v":""},{"$f":"IF(ISERROR(VLOOKUP(A36,tesserati[],4,FALSE)),\"\",VLOOKUP(A36,tesserati[],4,FALSE))","v":""},{"$f":"IF(ISERROR(VLOOKUP(A36,tesserati[],5,FALSE)),\"\",VLOOKUP(A36,tesserati[],5,FALSE))","v":""},{"$f":"IF(ISERROR(VLOOKUP(A36,tesserati[],7,FALSE)),\"\",VLOOKUP(A36,tesserati[],7,FALSE))","v":""}]
[null,{"$f":"IF(ISERROR(VLOOKUP(A37,tesserati[],2,FALSE)),\"\",VLOOKUP(A37,tesserati[],2,FALSE))","v":""},{"$f":"IF(ISERROR(VLOOKUP(A37,tesserati[],3,FALSE)),\"\",VLOOKUP(A37,tesserati[],3,FALSE))","v":""},{"$f":"IF(ISERROR(VLOOKUP(A37,tesserati[],4,FALSE)),\"\",VLOOKUP(A37,tesserati[],4,FALSE))","v":""},{"$f":"IF(ISERROR(VLOOKUP(A37,tesserati[],5,FALSE)),\"\",VLOOKUP(A37,tesserati[],5,FALSE))","v":""},{"$f":"IF(ISERROR(VLOOKUP(A37,tesserati[],7,FALSE)),\"\",VLOOKUP(A37,tesserati[],7,FALSE))","v":""}]
[null,{"$f":"IF(ISERROR(VLOOKUP(A38,tesserati[],2,FALSE)),\"\",VLOOKUP(A38,tesserati[],2,FALSE))","v":""},{"$f":"IF(ISERROR(VLOOKUP(A38,tesserati[],3,FALSE)),\"\",VLOOKUP(A38,tesserati[],3,FALSE))","v":""},{"$f":"IF(ISERROR(VLOOKUP(A38,tesserati[],4,FALSE)),\"\",VLOOKUP(A38,tesserati[],4,FALSE))","v":""},{"$f":"IF(ISERROR(VLOOKUP(A38,tesserati[],5,FALSE)),\"\",VLOOKUP(A38,tesserati[],5,FALSE))","v":""},{"$f":"IF(ISERROR(VLOOKUP(A38,tesserati[],7,FALSE)),\"\",VLOOKUP(A38,tesserati[],7,FALSE))","v":""},2]
[null,{"$f":"IF(ISERROR(VLOOKUP(A39,tesserati[],2,FALSE)),\"\",VLOOKUP(A39,tesserati[],2,FALSE))","v":""},{"$f":"IF(ISERROR(VLOOKUP(A39,tesserati[],3,FALSE)),\"\",VLOOKUP(A39,tesserati[],3,FALSE))","v":""},{"$f":"IF(ISERROR(VLOOKUP(A39,tesserati[],4,FALSE)),\"\",VLOOKUP(A39,tesserati[],4,FALSE))","v":""},{"$f":"IF(ISERROR(VLOOKUP(A39,tesserati[],5,FALSE)),\"\",VLOOKUP(A39,tesserati[],5,FALSE))","v":""},{"$f":"IF(ISERROR(VLOOKUP(A39,tesserati[],7,FALSE)),\"\",VLOOKUP(A39,tesserati[],7,FALSE))","v":""}]
[null,{"$f":"IF(ISERROR(VLOOKUP(A40,tesserati[],2,FALSE)),\"\",VLOOKUP(A40,tesserati[],2,FALSE))","v":""},{"$f":"IF(ISERROR(VLOOKUP(A40,tesserati[],3,FALSE)),\"\",VLOOKUP(A40,tesserati[],3,FALSE))","v":""},{"$f":"IF(ISERROR(VLOOKUP(A40,tesserati[],4,FALSE)),\"\",VLOOKUP(A40,tesserati[],4,FALSE))","v":""},{"$f":"IF(ISERROR(VLOOKUP(A40,tesserati[],5,FALSE)),\"\",VLOOKUP(A40,tesserati[],5,FALSE))","v":""},{"$f":"IF(ISERROR(VLOOKUP(A40,tesserati[],7,FALSE)),\"\",VLOOKUP(A40,tesserati[],7,FALSE))","v":""}]
[null,{"$f":"IF(ISERROR(VLOOKUP(A41,tesserati[],2,FALSE)),\"\",VLOOKUP(A41,tesserati[],2,FALSE))","v":""},{"$f":"IF(ISERROR(VLOOKUP(A41,tesserati[],3,FALSE)),\"\",VLOOKUP(A41,tesserati[],3,FALSE))","v":""},{"$f":"IF(ISERROR(VLOOKUP(A41,tesserati[],4,FALSE)),\"\",VLOOKUP(A41,tesserati[],4,FALSE))","v":""},{"$f":"IF(ISERROR(VLOOKUP(A41,tesserati[],5,FALSE)),\"\",VLOOKUP(A41,tesserati[],5,FALSE))","v":""},{"$f":"IF(ISERROR(VLOOKUP(A41,tesserati[],7,FALSE)),\"\",VLOOKUP(A41,tesserati[],7,FALSE))","v":""}]
[null,{"$f":"IF(ISERROR(VLOOKUP(A42,tesserati[],2,FALSE)),\"\",VLOOKUP(A42,tesserati[],2,FALSE))","v":""},{"$f":"IF(ISERROR(VLOOKUP(A42,tesserati[],3,FALSE)),\"\",VLOOKUP(A42,tesserati[],3,FALSE))","v":""},{"$f":"IF(ISERROR(VLOOKUP(A42,tesserati[],4,FALSE)),\"\",VLOOKUP(A42,tesserati[],4,FALSE))","v":""},{"$f":"IF(ISERROR(VLOOKUP(A42,tesserati[],5,FALSE)),\"\",VLOOKUP(A42,tesserati[],5,FALSE))","v":""},{"$f":"IF(ISERROR(VLOOKUP(A42,tesserati[],7,FALSE)),\"\",VLOOKUP(A42,tesserati[],7,FALSE))","v":""},3]
[null,{"$f":"IF(ISERROR(VLOOKUP(A43,tesserati[],2,FALSE)),\"\",VLOOKUP(A43,tesserati[],2,FALSE))","v":""},{"$f":"IF(ISERROR(VLOOKUP(A43,tesserati[],3,FALSE)),\"\",VLOOKUP(A43,tesserati[],3,FALSE))","v":""},{"$f":"IF(ISERROR(VLOOKUP(A43,tesserati[],4,FALSE)),\"\",VLOOKUP(A43,tesserati[],4,FALSE))","v":""},{"$f":"IF(ISERROR(VLOOKUP(A43,tesserati[],5,FALSE)),\"\",VLOOKUP(A43,tesserati[],5,FALSE))","v":""},{"$f":"IF(ISERROR(VLOOKUP(A43,tesserati[],7,FALSE)),\"\",VLOOKUP(A43,tesserati[],7,FALSE))","v":""}]
[null,{"$f":"IF(ISERROR(VLOOKUP(A44,tesserati[],2,FALSE)),\"\",VLOOKUP(A44,tesserati[],2,FALSE))","v":""},{"$f":"IF(ISERROR(VLOOKUP(A44,tesserati[],3,FALSE)),\"\",VLOOKUP(A44,tesserati[],3,FALSE))","v":""},{"$f":"IF(ISERROR(VLOOKUP(A44,tesserati[],4,FALSE)),\"\",VLOOKUP(A44,tesserati[],4,FALSE))","v":""},{"$f":"IF(ISERROR(VLOOKUP(A44,tesserati[],5,FALSE)),\"\",VLOOKUP(A44,tesserati[],5,FALSE))","v":""},{"$f":"IF(ISERROR(VLOOKUP(A44,tesserati[],7,FALSE)),\"\",VLOOKUP(A44,tesserati[],7,FALSE))","v":""}]
[null,{"$f":"IF(ISERROR(VLOOKUP(A45,tesserati[],2,FALSE)),\"\",VLOOKUP(A45,tesserati[],2,FALSE))","v":""},{"$f":"IF(ISERROR(VLOOKUP(A45,tesserati[],3,FALSE)),\"\",VLOOKUP(A45,tesserati[],3,FALSE))","v":""},{"$f":"IF(ISERROR(VLOOKUP(A45,tesserati[],4,FALSE)),\"\",VLOOKUP(A45,tesserati[],4,FALSE))","v":""},{"$f":"IF(ISERROR(VLOOKUP(A45,tesserati[],5,FALSE)),\"\",VLOOKUP(A45,tesserati[],5,FALSE))","v":""},{"$f":"IF(ISERROR(VLOOKUP(A45,tesserati[],7,FALSE)),\"\",VLOOKUP(A45,tesserati[],7,FALSE))","v":""}]
[null,{"$f":"IF(ISERROR(VLOOKUP(A46,tesserati[],2,FALSE)),\"\",VLOOKUP(A46,tesserati[],2,FALSE))","v":""},{"$f":"IF(ISERROR(VLOOKUP(A46,tesserati[],3,FALSE)),\"\",VLOOKUP(A46,tesserati[],3,FALSE))","v":""},{"$f":"IF(ISERROR(VLOOKUP(A46,tesserati[],4,FALSE)),\"\",VLOOKUP(A46,tesserati[],4,FALSE))","v":""},{"$f":"IF(ISERROR(VLOOKUP(A46,tesserati[],5,FALSE)),\"\",VLOOKUP(A46,tesserati[],5,FALSE))","v":""},{"$f":"IF(ISERROR(VLOOKUP(A46,tesserati[],7,FALSE)),\"\",VLOOKUP(A46,tesserati[],7,FALSE))","v":""},4]
[null,{"$f":"IF(ISERROR(VLOOKUP(A47,tesserati[],2,FALSE)),\"\",VLOOKUP(A47,tesserati[],2,FALSE))","v":""},{"$f":"IF(ISERROR(VLOOKUP(A47,tesserati[],3,FALSE)),\"\",VLOOKUP(A47,tesserati[],3,FALSE))","v":""},{"$f":"IF(ISERROR(VLOOKUP(A47,tesserati[],4,FALSE)),\"\",VLOOKUP(A47,tesserati[],4,FALSE))","v":""},{"$f":"IF(ISERROR(VLOOKUP(A47,tesserati[],5,FALSE)),\"\",VLOOKUP(A47,tesserati[],5,FALSE))","v":""},{"$f":"IF(ISERROR(VLOOKUP(A47,tesserati[],7,FALSE)),\"\",VLOOKUP(A47,tesserati[],7,FALSE))","v":""}]
[null,{"$f":"IF(ISERROR(VLOOKUP(A48,tesserati[],2,FALSE)),\"\",VLOOKUP(A48,tesserati[],2,FALSE))","v":""},{"$f":"IF(ISERROR(VLOOKUP(A48,tesserati[],3,FALSE)),\"\",VLOOKUP(A48,tesserati[],3,FALSE))","v":""},{"$f":"IF(ISERROR(VLOOKUP(A48,tesserati[],4,FALSE)),\"\",VLOOKUP(A48,tesserati[],4,FALSE))","v":""},{"$f":"IF(ISERROR(VLOOKUP(A48,tesserati[],5,FALSE)),\"\",VLOOKUP(A48,tesserati[],5,FALSE))","v":""},{"$f":"IF(ISERROR(VLOOKUP(A48,tesserati[],7,FALSE)),\"\",VLOOKUP(A48,tesserati[],7,FALSE))","v":""}]
[null,{"$f":"IF(ISERROR(VLOOKUP(A49,tesserati[],2,FALSE)),\"\",VLOOKUP(A49,tesserati[],2,FALSE))","v":""},{"$f":"IF(ISERROR(VLOOKUP(A49,tesserati[],3,FALSE)),\"\",VLOOKUP(A49,tesserati[],3,FALSE))","v":""},{"$f":"IF(ISERROR(VLOOKUP(A49,tesserati[],4,FALSE)),\"\",VLOOKUP(A49,tesserati[],4,FALSE))","v":""},{"$f":"IF(ISERROR(VLOOKUP(A49,tesserati[],5,FALSE)),\"\",VLOOKUP(A49,tesserati[],5,FALSE))","v":""},{"$f":"IF(ISERROR(VLOOKUP(A49,tesserati[],7,FALSE)),\"\",VLOOKUP(A49,tesserati[],7,FALSE))","v":""}]
[null,{"$f":"IF(ISERROR(VLOOKUP(A50,tesserati[],2,FALSE)),\"\",VLOOKUP(A50,tesserati[],2,FALSE))","v":""},{"$f":"IF(ISERROR(VLOOKUP(A50,tesserati[],3,FALSE)),\"\",VLOOKUP(A50,tesserati[],3,FALSE))","v":""},{"$f":"IF(ISERROR(VLOOKUP(A50,tesserati[],4,FALSE)),\"\",VLOOKUP(A50,tesserati[],4,FALSE))","v":""},{"$f":"IF(ISERROR(VLOOKUP(A50,tesserati[],5,FALSE)),\"\",VLOOKUP(A50,tesserati[],5,FALSE))","v":""},{"$f":"IF(ISERROR(VLOOKUP(A50,tesserati[],7,FALSE)),\"\",VLOOKUP(A50,tesserati[],7,FALSE))","v":""},5]
[null,{"$f":"IF(ISERROR(VLOOKUP(A51,tesserati[],2,FALSE)),\"\",VLOOKUP(A51,tesserati[],2,FALSE))","v":""},{"$f":"IF(ISERROR(VLOOKUP(A51,tesserati[],3,FALSE)),\"\",VLOOKUP(A51,tesserati[],3,FALSE))","v":""},{"$f":"IF(ISERROR(VLOOKUP(A51,tesserati[],4,FALSE)),\"\",VLOOKUP(A51,tesserati[],4,FALSE))","v":""},{"$f":"IF(ISERROR(VLOOKUP(A51,tesserati[],5,FALSE)),\"\",VLOOKUP(A51,tesserati[],5,FALSE))","v":""},{"$f":"IF(ISERROR(VLOOKUP(A51,tesserati[],7,FALSE)),\"\",VLOOKUP(A51,tesserati[],7,FALSE))","v":""}]
[null,{"$f":"IF(ISERROR(VLOOKUP(A52,tesserati[],2,FALSE)),\"\",VLOOKUP(A52,tesserati[],2,FALSE))","v":""},{"$f":"IF(ISERROR(VLOOKUP(A52,tesserati[],3,FALSE)),\"\",VLOOKUP(A52,tesserati[],3,FALSE))","v":""},{"$f":"IF(ISERROR(VLOOKUP(A52,tesserati[],4,FALSE)),\"\",VLOOKUP(A52,tesserati[],4,FALSE))","v":""},{"$f":"IF(ISERROR(VLOOKUP(A52,tesserati[],5,FALSE)),\"\",VLOOKUP(A52,tesserati[],5,FALSE))","v":""},{"$f":"IF(ISERROR(VLOOKUP(A52,tesserati[],7,FALSE)),\"\",VLOOKUP(A52,tesserati[],7,FALSE))","v":""}]
[null,{"$f":"IF(ISERROR(VLOOKUP(A53,tesserati[],2,FALSE)),\"\",VLOOKUP(A53,tesserati[],2,FALSE))","v":""},{"$f":"IF(ISERROR(VLOOKUP(A53,tesserati[],3,FALSE)),\"\",VLOOKUP(A53,tesserati[],3,FALSE))","v":""},{"$f":"IF(ISERROR(VLOOKUP(A53,tesserati[],4,FALSE)),\"\",VLOOKUP(A53,tesserati[],4,FALSE))","v":""},{"$f":"IF(ISERROR(VLOOKUP(A53,tesserati[],5,FALSE)),\"\",VLOOKUP(A53,tesserati[],5,FALSE))","v":""},{"$f":"IF(ISERROR(VLOOKUP(A53,tesserati[],7,FALSE)),\"\",VLOOKUP(A53,tesserati[],7,FALSE))","v":""}]
[null,{"$f":"IF(ISERROR(VLOOKUP(A54,tesserati[],2,FALSE)),\"\",VLOOKUP(A54,tesserati[],2,FALSE))","v":""},{"$f":"IF(ISERROR(VLOOKUP(A54,tesserati[],3,FALSE)),\"\",VLOOKUP(A54,tesserati[],3,FALSE))","v":""},{"$f":"IF(ISERROR(VLOOKUP(A54,tesserati[],4,FALSE)),\"\",VLOOKUP(A54,tesserati[],4,FALSE))","v":""},{"$f":"IF(ISERROR(VLOOKUP(A54,tesserati[],5,FALSE)),\"\",VLOOKUP(A54,tesserati[],5,FALSE))","v":""},{"$f":"IF(ISERROR(VLOOKUP(A54,tesserati[],7,FALSE)),\"\",VLOOKUP(A54,tesserati[],7,FALSE))","v":""},6]
[null,{"$f":"IF(ISERROR(VLOOKUP(A55,tesserati[],2,FALSE)),\"\",VLOOKUP(A55,tesserati[],2,FALSE))","v":""},{"$f":"IF(ISERROR(VLOOKUP(A55,tesserati[],3,FALSE)),\"\",VLOOKUP(A55,tesserati[],3,FALSE))","v":""},{"$f":"IF(ISERROR(VLOOKUP(A55,tesserati[],4,FALSE)),\"\",VLOOKUP(A55,tesserati[],4,FALSE))","v":""},{"$f":"IF(ISERROR(VLOOKUP(A55,tesserati[],5,FALSE)),\"\",VLOOKUP(A55,tesserati[],5,FALSE))","v":""},{"$f":"IF(ISERROR(VLOOKUP(A55,tesserati[],7,FALSE)),\"\",VLOOKUP(A55,tesserati[],7,FALSE))","v":""}]
[null,{"$f":"IF(ISERROR(VLOOKUP(A56,tesserati[],2,FALSE)),\"\",VLOOKUP(A56,tesserati[],2,FALSE))","v":""},{"$f":"IF(ISERROR(VLOOKUP(A56,tesserati[],3,FALSE)),\"\",VLOOKUP(A56,tesserati[],3,FALSE))","v":""},{"$f":"IF(ISERROR(VLOOKUP(A56,tesserati[],4,FALSE)),\"\",VLOOKUP(A56,tesserati[],4,FALSE))","v":""},{"$f":"IF(ISERROR(VLOOKUP(A56,tesserati[],5,FALSE)),\"\",VLOOKUP(A56,tesserati[],5,FALSE))","v":""},{"$f":"IF(ISERROR(VLOOKUP(A56,tesserati[],7,FALSE)),\"\",VLOOKUP(A56,tesserati[],7,FALSE))","v":""}]
[null,{"$f":"IF(ISERROR(VLOOKUP(A57,tesserati[],2,FALSE)),\"\",VLOOKUP(A57,tesserati[],2,FALSE))","v":""},{"$f":"IF(ISERROR(VLOOKUP(A57,tesserati[],3,FALSE)),\"\",VLOOKUP(A57,tesserati[],3,FALSE))","v":""},{"$f":"IF(ISERROR(VLOOKUP(A57,tesserati[],4,FALSE)),\"\",VLOOKUP(A57,tesserati[],4,FALSE))","v":""},{"$f":"IF(ISERROR(VLOOKUP(A57,tesserati[],5,FALSE)),\"\",VLOOKUP(A57,tesserati[],5,FALSE))","v":""},{"$f":"IF(ISERROR(VLOOKUP(A57,tesserati[],7,FALSE)),\"\",VLOOKUP(A57,tesserati[],7,FALSE))","v":""}]
[null,{"$f":"IF(ISERROR(VLOOKUP(A58,tesserati[],2,FALSE)),\"\",VLOOKUP(A58,tesserati[],2,FALSE))","v":""},{"$f":"IF(ISERROR(VLOOKUP(A58,tesserati[],3,FALSE)),\"\",VLOOKUP(A58,tesserati[],3,FALSE))","v":""},{"$f":"IF(ISERROR(VLOOKUP(A58,tesserati[],4,FALSE)),\"\",VLOOKUP(A58,tesserati[],4,FALSE))","v":""},{"$f":"IF(ISERROR(VLOOKUP(A58,tesserati[],5,FALSE)),\"\",VLOOKUP(A58,tesserati[],5,FALSE))","v":""},{"$f":"IF(ISERROR(VLOOKUP(A58,tesserati[],7,FALSE)),\"\",VLOOKUP(A58,tesserati[],7,FALSE))","v":""}]
[null,{"$f":"IF(ISERROR(VLOOKUP(A59,tesserati[],2,FALSE)),\"\",VLOOKUP(A59,tesserati[],2,FALSE))","v":""},{"$f":"IF(ISERROR(VLOOKUP(A59,tesserati[],3,FALSE)),\"\",VLOOKUP(A59,tesserati[],3,FALSE))","v":""},{"$f":"IF(ISERROR(VLOOKUP(A59,tesserati[],4,FALSE)),\"\",VLOOKUP(A59,tesserati[],4,FALSE))","v":""},{"$f":"IF(ISERROR(VLOOKUP(A59,tesserati[],5,FALSE)),\"\",VLOOKUP(A59,tesserati[],5,FALSE))","v":""},{"$f":"IF(ISERROR(VLOOKUP(A59,tesserati[],7,FALSE)),\"\",VLOOKUP(A59,tesserati[],7,FALSE))","v":""}]
[null,{"$f":"IF(ISERROR(VLOOKUP(A60,tesserati[],2,FALSE)),\"\",VLOOKUP(A60,tesserati[],2,FALSE))","v":""},{"$f":"IF(ISERROR(VLOOKUP(A60,tesserati[],3,FALSE)),\"\",VLOOKUP(A60,tesserati[],3,FALSE))","v":""},{"$f":"IF(ISERROR(VLOOKUP(A60,tesserati[],4,FALSE)),\"\",VLOOKUP(A60,tesserati[],4,FALSE))","v":""},{"$f":"IF(ISERROR(VLOOKUP(A60,tesserati[],5,FALSE)),\"\",VLOOKUP(A60,tesserati[],5,FALSE))","v":""},{"$f":"IF(ISERROR(VLOOKUP(A60,tesserati[],7,FALSE)),\"\",VLOOKUP(A60,tesserati[],7,FALSE))","v":""}]
[null,{"$f":"IF(ISERROR(VLOOKUP(A61,tesserati[],2,FALSE)),\"\",VLOOKUP(A61,tesserati[],2,FALSE))","v":""},{"$f":"IF(ISERROR(VLOOKUP(A61,tesserati[],3,FALSE)),\"\",VLOOKUP(A61,tesserati[],3,FALSE))","v":""},{"$f":"IF(ISERROR(VLOOKUP(A61,tesserati[],4,FALSE)),\"\",VLOOKUP(A61,tesserati[],4,FALSE))","v":""},{"$f":"IF(ISERROR(VLOOKUP(A61,tesserati[],5,FALSE)),\"\",VLOOKUP(A61,tesserati[],5,FALSE))","v":""},{"$f":"IF(ISERROR(VLOOKUP(A61,tesserati[],7,FALSE)),\"\",VLOOKUP(A61,tesserati[],7,FALSE))","v":""}]
[null,{"$f":"IF(ISERROR(VLOOKUP(A62,tesserati[],2,FALSE)),\"\",VLOOKUP(A62,tesserati[],2,FALSE))","v":""},{"$f":"IF(ISERROR(VLOOKUP(A62,tesserati[],3,FALSE)),\"\",VLOOKUP(A62,tesserati[],3,FALSE))","v":""},{"$f":"IF(ISERROR(VLOOKUP(A62,tesserati[],4,FALSE)),\"\",VLOOKUP(A62,tesserati[],4,FALSE))","v":""},{"$f":"IF(ISERROR(VLOOKUP(A62,tesserati[],5,FALSE)),\"\",VLOOKUP(A62,tesserati[],5,FALSE))","v":""},{"$f":"IF(ISERROR(VLOOKUP(A62,tesserati[],7,FALSE)),\"\",VLOOKUP(A62,tesserati[],7,FALSE))","v":""}]
[null,{"$f":"IF(ISERROR(VLOOKUP(A63,tesserati[],2,FALSE)),\"\",VLOOKUP(A63,tesserati[],2,FALSE))","v":""},{"$f":"IF(ISERROR(VLOOKUP(A63,tesserati[],3,FALSE)),\"\",VLOOKUP(A63,tesserati[],3,FALSE))","v":""},{"$f":"IF(ISERROR(VLOOKUP(A63,tesserati[],4,FALSE)),\"\",VLOOKUP(A63,tesserati[],4,FALSE))","v":""},{"$f":"IF(ISERROR(VLOOKUP(A63,tesserati[],5,FALSE)),\"\",VLOOKUP(A63,tesserati[],5,FALSE))","v":""},{"$f":"IF(ISERROR(VLOOKUP(A63,tesserati[],7,FALSE)),\"\",VLOOKUP(A63,tesserati[],7,FALSE))","v":""}]
[null,{"$f":"IF(ISERROR(VLOOKUP(A64,tesserati[],2,FALSE)),\"\",VLOOKUP(A64,tesserati[],2,FALSE))","v":""},{"$f":"IF(ISERROR(VLOOKUP(A64,tesserati[],3,FALSE)),\"\",VLOOKUP(A64,tesserati[],3,FALSE))","v":""},{"$f":"IF(ISERROR(VLOOKUP(A64,tesserati[],4,FALSE)),\"\",VLOOKUP(A64,tesserati[],4,FALSE))","v":""},{"$f":"IF(ISERROR(VLOOKUP(A64,tesserati[],5,FALSE)),\"\",VLOOKUP(A64,tesserati[],5,FALSE))","v":""},{"$f":"IF(ISERROR(VLOOKUP(A64,tesserati[],7,FALSE)),\"\",VLOOKUP(A64,tesserati[],7,FALSE))","v":""}]
[null,{"$f":"IF(ISERROR(VLOOKUP(A65,tesserati[],2,FALSE)),\"\",VLOOKUP(A65,tesserati[],2,FALSE))","v":""},{"$f":"IF(ISERROR(VLOOKUP(A65,tesserati[],3,FALSE)),\"\",VLOOKUP(A65,tesserati[],3,FALSE))","v":""},{"$f":"IF(ISERROR(VLOOKUP(A65,tesserati[],4,FALSE)),\"\",VLOOKUP(A65,tesserati[],4,FALSE))","v":""},{"$f":"IF(ISERROR(VLOOKUP(A65,tesserati[],5,FALSE)),\"\",VLOOKUP(A65,tesserati[],5,FALSE))","v":""},{"$f":"IF(ISERROR(VLOOKUP(A65,tesserati[],7,FALSE)),\"\",VLOOKUP(A65,tesserati[],7,FALSE))","v":""}]
[null,{"$f":"IF(ISERROR(VLOOKUP(A66,tesserati[],2,FALSE)),\"\",VLOOKUP(A66,tesserati[],2,FALSE))","v":""},{"$f":"IF(ISERROR(VLOOKUP(A66,tesserati[],3,FALSE)),\"\",VLOOKUP(A66,tesserati[],3,FALSE))","v":""},{"$f":"IF(ISERROR(VLOOKUP(A66,tesserati[],4,FALSE)),\"\",VLOOKUP(A66,tesserati[],4,FALSE))","v":""},{"$f":"IF(ISERROR(VLOOKUP(A66,tesserati[],5,FALSE)),\"\",VLOOKUP(A66,tesserati[],5,FALSE))","v":""},{"$f":"IF(ISERROR(VLOOKUP(A66,tesserati[],7,FALSE)),\"\",VLOOKUP(A66,tesserati[],7,FALSE))","v":""}]
[null,{"$f":"IF(ISERROR(VLOOKUP(A67,tesserati[],2,FALSE)),\"\",VLOOKUP(A67,tesserati[],2,FALSE))","v":""},{"$f":"IF(ISERROR(VLOOKUP(A67,tesserati[],3,FALSE)),\"\",VLOOKUP(A67,tesserati[],3,FALSE))","v":""},{"$f":"IF(ISERROR(VLOOKUP(A67,tesserati[],4,FALSE)),\"\",VLOOKUP(A67,tesserati[],4,FALSE))","v":""},{"$f":"IF(ISERROR(VLOOKUP(A67,tesserati[],5,FALSE)),\"\",VLOOKUP(A67,tesserati[],5,FALSE))","v":""},{"$f":"IF(ISERROR(VLOOKUP(A67,tesserati[],7,FALSE)),\"\",VLOOKUP(A67,tesserati[],7,FALSE))","v":""}]
[null,{"$f":"IF(ISERROR(VLOOKUP(A68,tesserati[],2,FALSE)),\"\",VLOOKUP(A68,tesserati[],2,FALSE))","v":""},{"$f":"IF(ISERROR(VLOOKUP(A68,tesserati[],3,FALSE)),\"\",VLOOKUP(A68,tesserati[],3,FALSE))","v":""},{"$f":"IF(ISERROR(VLOOKUP(A68,tesserati[],4,FALSE)),\"\",VLOOKUP(A68,tesserati[],4,FALSE))","v":""},{"$f":"IF(ISERROR(VLOOKUP(A68,tesserati[],5,FALSE)),\"\",VLOOKUP(A68,tesserati[],5,FALSE))","v":""},{"$f":"IF(ISERROR(VLOOKUP(A68,tesserati[],7,FALSE)),\"\",VLOOKUP(A68,tesserati[],7,FALSE))","v":""}]
[null,{"$f":"IF(ISERROR(VLOOKUP(A69,tesserati[],2,FALSE)),\"\",VLOOKUP(A69,tesserati[],2,FALSE))","v":""},{"$f":"IF(ISERROR(VLOOKUP(A69,tesserati[],3,FALSE)),\"\",VLOOKUP(A69,tesserati[],3,FALSE))","v":""},{"$f":"IF(ISERROR(VLOOKUP(A69,tesserati[],4,FALSE)),\"\",VLOOKUP(A69,tesserati[],4,FALSE))","v":""},{"$f":"IF(ISERROR(VLOOKUP(A69,tesserati[],5,FALSE)),\"\",VLOOKUP(A69,tesserati[],5,FALSE))","v":""},{"$f":"IF(ISERROR(VLOOKUP(A69,tesserati[],7,FALSE)),\"\",VLOOKUP(A69,tesserati[],7,FALSE))","v":""}]
[null,{"$f":"IF(ISERROR(VLOOKUP(A70,tesserati[],2,FALSE)),\"\",VLOOKUP(A70,tesserati[],2,FALSE))","v":""},{"$f":"IF(ISERROR(VLOOKUP(A70,tesserati[],3,FALSE)),\"\",VLOOKUP(A70,tesserati[],3,FALSE))","v":""},{"$f":"IF(ISERROR(VLOOKUP(A70,tesserati[],4,FALSE)),\"\",VLOOKUP(A70,tesserati[],4,FALSE))","v":""},{"$f":"IF(ISERROR(VLOOKUP(A70,tesserati[],5,FALSE)),\"\",VLOOKUP(A70,tesserati[],5,FALSE))","v":""},{"$f":"IF(ISERROR(VLOOKUP(A70,tesserati[],7,FALSE)),\"\",VLOOKUP(A70,tesserati[],7,FALSE))","v":""}]
[null,{"$f":"IF(ISERROR(VLOOKUP(A71,tesserati[],2,FALSE)),\"\",VLOOKUP(A71,tesserati[],2,FALSE))","v":""},{"$f":"IF(ISERROR(VLOOKUP(A71,tesserati[],3,FALSE)),\"\",VLOOKUP(A71,tesserati[],3,FALSE))","v":""},{"$f":"IF(ISERROR(VLOOKUP(A71,tesserati[],4,FALSE)),\"\",VLOOKUP(A71,tesserati[],4,FALSE))","v":""},{"$f":"IF(ISERROR(VLOOKUP(A71,tesserati[],5,FALSE)),\"\",VLOOKUP(A71,tesserati[],5,FALSE))","v":""},{"$f":"IF(ISERROR(VLOOKUP(A71,tesserati[],7,FALSE)),\"\",VLOOKUP(A71,tesserati[],7,FALSE))","v":""}]
[null,{"$f":"IF(ISERROR(VLOOKUP(A72,tesserati[],2,FALSE)),\"\",VLOOKUP(A72,tesserati[],2,FALSE))","v":""},{"$f":"IF(ISERROR(VLOOKUP(A72,tesserati[],3,FALSE)),\"\",VLOOKUP(A72,tesserati[],3,FALSE))","v":""},{"$f":"IF(ISERROR(VLOOKUP(A72,tesserati[],4,FALSE)),\"\",VLOOKUP(A72,tesserati[],4,FALSE))","v":""},{"$f":"IF(ISERROR(VLOOKUP(A72,tesserati[],5,FALSE)),\"\",VLOOKUP(A72,tesserati[],5,FALSE))","v":""},{"$f":"IF(ISERROR(VLOOKUP(A72,tesserati[],7,FALSE)),\"\",VLOOKUP(A72,tesserati[],7,FALSE))","v":""}]

{"sheet":"SVEDESE CADETTI","index":11,"n_rows":72,"n_cols":12,"rows_kept":72,"cut":false,"hidden":false,"merged":[[0,2,0,4],[0,5,0,7],[0,8,0,10],[0,11,1,11],[1,2,1,4],[1,5,1,7],[1,8,1,10],[2,11,4,11],[3,0,4,1],[3,2,4,2],[3,3,4,3],[3,5,4,7],[3,8,4,10],[2,0,2,1],[2,4,4,4],[2,5,2,7],[2,8,2,10],[5,9,6,9],[5,10,6,10],[5,11,6,11],[5,0,6,0],[5,1,6,2],[5,3,6,3],[5,4,6,4],[5,5,6,5],[7,0,7,11],[5,6,6,6],[16,6,19,6],[16,7,19,7],[16,8,19,8],[16,9,19,9],[12,6,15,6],[12,7,15,7],[12,8,15,8],[12,9,15,9],[8,6,11,6],[8,7,11,7],[8,8,11,8],[8,9,11,9],[5,7,6,7],[5,8,6,8],[20,6,23,6],[20,7,23,7],[20,8,23,8],[20,9,23,9],[24,6,27,6],[24,7,27,7],[24,8,27,8],[24,9,27,9],[28,6,31,6],[28,7,31,7],[28,8,31,8],[28,9,31,9],[33,6,36,6],[33,7,36,7],[33,8,36,8],[33,9,36,9],[32,0,32,11],[37,6,40,6],[37,7,40,7],[37,8,40,8],[37,9,40,9],[41,6,44,6],[41,7,44,7],[41,8,44,8],[41,9,44,9],[45,6,48,6],[45,7,48,7],[45,8,48,8],[45,9,48,9],[49,6,52,6],[49,7,52,7],[49,8,52,8],[49,9,52,9],[53,6,56,6],[53,7,56,7],[53,8,56,8],[53,9,56,9],[57,6,60,6],[57,7,60,7],[57,8,60,8],[57,9,60,9]]}
[null,null,"MANIFESTAZIONE",null,null,"LOCALITA'",null,null,"SOCIETA' ORGANIZZATRICE"]
[null,null,"6° prova provinciale",null,null,"Tezze sul Brenta",null,null,"CSI Tezze sul Brenta"]
["CATEGORIA",null,"ORA INIZIO","ORA FINE",null,"GARA",null,null,"DATA"]
["CADETTI",null,null,null,null,"SVEDESE",null,null,"2017-09-24"]
[]
["N. tessera","ATLETA\nCOGNOME E NOME",null,"SOCIETA'","NASCITA","CATEGORIA","Corsia","PETTORALE","Tempo","Piazzamento","PUNTI","CL."]
[]
["1 SERIE",{"$f":"IF(ISERROR(VLOOKUP(A8,tesserati[],2,FALSE)),\"\",VLOOKUP(A8,tesserati[],2,FALSE))","v":""},{"$f":"IF(ISERROR(VLOOKUP(A8,tesserati[],3,FALSE)),\"\",VLOOKUP(A8,tesserati[],3,FALSE))","v":""},{"$f":"IF(ISERROR(VLOOKUP(#REF!,tesserati[],5,FALSE)),\"\",VLOOKUP(#REF!,tesserati[],5,FALSE))","v":""},{"$f":"IF(ISERROR(VLOOKUP(A8,tesserati[],4,FALSE)),\"\",VLOOKUP(A8,tesserati[],4,FALSE))","v":""},{"$f":"IF(ISERROR(VLOOKUP(A8,tesserati[],7,FALSE)),\"\",VLOOKUP(A8,tesserati[],7,FALSE))","v":""}]
[2695,{"$f":"IF(ISERROR(VLOOKUP(A9,tesserati[],2,FALSE)),\"\",VLOOKUP(A9,tesserati[],2,FALSE))","v":"GUERRERO"},{"$f":"IF(ISERROR(VLOOKUP(A9,tesserati[],3,FALSE)),\"\",VLOOKUP(A9,tesserati[],3,FALSE))","v":"FRANCO HECTOR"},{"$f":"IF(ISERROR(VLOOKUP(A9,tesserati[],4,FALSE)),\"\",VLOOKUP(A9,tesserati[],4,FALSE))","v":"POL. DIL. MONTECCHIO PRECALCINO"},{"$f":"IF(ISERROR(VLOOKUP(A9,tesserati[],5,FALSE)),\"\",VLOOKUP(A9,tesserati[],5,FALSE))","v":2003},{"$f":"IF(ISERROR(VLOOKUP(A9,tesserati[],7,FALSE)),\"\",VLOOKUP(A9,tesserati[],7,FALSE))","v":"CM"},3,144,"2,16.1",1]
[3246,{"$f":"IF(ISERROR(VLOOKUP(A10,tesserati[],2,FALSE)),\"\",VLOOKUP(A10,tesserati[],2,FALSE))","v":"ZUCCHI"},{"$f":"IF(ISERROR(VLOOKUP(A10,tesserati[],3,FALSE)),\"\",VLOOKUP(A10,tesserati[],3,FALSE))","v":"GIOELE"},{"$f":"IF(ISERROR(VLOOKUP(A10,tesserati[],4,FALSE)),\"\",VLOOKUP(A10,tesserati[],4,FALSE))","v":"POL. DIL. MONTECCHIO PRECALCINO"},{"$f":"IF(ISERROR(VLOOKUP(A10,tesserati[],5,FALSE)),\"\",VLOOKUP(A10,tesserati[],5,FALSE))","v":2002},{"$f":"IF(ISERROR(VLOOKUP(A10,tesserati[],7,FALSE)),\"\",VLOOKUP(A10,tesserati[],7,FALSE))","v":"CM"}]
[2693,{"$f":"IF(ISERROR(VLOOKUP(A11,tesserati[],2,FALSE)),\"\",VLOOKUP(A11,tesserati[],2,FALSE))","v":"CAPPELLOTTO"},{"$f":"IF(ISERROR(VLOOKUP(A11,tesserati[],3,FALSE)),\"\",VLOOKUP(A11,tesserati[],3,FALSE))","v":"FRANCESCO"},{"$f":"IF(ISERROR(VLOOKUP(A11,tesserati[],4,FALSE)),\"\",VLOOKUP(A11,tesserati[],4,FALSE))","v":"POL. DIL. MONTECCHIO PRECALCINO"},{"$f":"IF(ISERROR(VLOOKUP(A11,tesserati[],5,FALSE)),\"\",VLOOKUP(A11,tesserati[],5,FALSE))","v":2003},{"$f":"IF(ISERROR(VLOOKUP(A11,tesserati[],7,FALSE)),\"\",VLOOKUP(A11,tesserati[],7,FALSE))","v":"CM"}]
[2700,{"$f":"IF(ISERROR(VLOOKUP(A12,tesserati[],2,FALSE)),\"\",VLOOKUP(A12,tesserati[],2,FALSE))","v":"MORO"},{"$f":"IF(ISERROR(VLOOKUP(A12,tesserati[],3,FALSE)),\"\",VLOOKUP(A12,tesserati[],3,FALSE))","v":"TOMMASO"},{"$f":"IF(ISERROR(VLOOKUP(A12,tesserati[],4,FALSE)),\"\",VLOOKUP(A12,tesserati[],4,FALSE))","v":"POL. DIL. MONTECCHIO PRECALCINO"},{"$f":"IF(ISERROR(VLOOKUP(A12,tesserati[],5,FALSE)),\"\",VLOOKUP(A12,tesserati[],5,FALSE))","v":2003},{"$f":"IF(ISERROR(VLOOKUP(A12,tesserati[],7,FALSE)),\"\",VLOOKUP(A12,tesserati[],7,FALSE))","v":"CM"}]
[5178,{"$f":"IF(ISERROR(VLOOKUP(A13,tesserati[],2,FALSE)),\"\",VLOOKUP(A13,tesserati[],2,FALSE))","v":"GROSSELLE"},{"$f":"IF(ISERROR(VLOOKUP(A13,tesserati[],3,FALSE)),\"\",VLOOKUP(A13,tesserati[],3,FALSE))","v":"ANTONIO"},{"$f":"IF(ISERROR(VLOOKUP(A13,tesserati[],4,FALSE)),\"\",VLOOKUP(A13,tesserati[],4,FALSE))","v":"POLISPORTIVA SALF ALTOPADOVANA"},{"$f":"IF(ISERROR(VLOOKUP(A13,tesserati[],5,FALSE)),\"\",VLOOKUP(A13,tesserati[],5,FALSE))","v":2004},{"$f":"IF(ISERROR(VLOOKUP(A13,tesserati[],7,FALSE)),\"\",VLOOKUP(A13,tesserati[],7,FALSE))","v":"RM"},6,289,"2,19.8",2]
[5130,{"$f":"IF(ISERROR(VLOOKUP(A14,tesserati[],2,FALSE)),\"\",VLOOKUP(A14,tesserati[],2,FALSE))","v":"MERLO"},{"$f":"IF(ISERROR(VLOOKUP(A14,tesserati[],3,FALSE)),\"\",VLOOKUP(A14,tesserati[],3,FALSE))","v":"GIOVANNI"},{"$f":"IF(ISERROR(VLOOKUP(A14,tesserati[],4,FALSE)),\"\",VLOOKUP(A14,tesserati[],4,FALSE))","v":"POLISPORTIVA SALF ALTOPADOVANA"},{"$f":"IF(ISERROR(VLOOKUP(A14,tesserati[],5,FALSE)),\"\",VLOOKUP(A14,tesserati[],5,FALSE))","v":2003},{"$f":"IF(ISERROR(VLOOKUP(A14,tesserati[],7,FALSE)),\"\",VLOOKUP(A14,tesserati[],7,FALSE))","v":"CM"}]
[5118,{"$f":"IF(ISERROR(VLOOKUP(A15,tesserati[],2,FALSE)),\"\",VLOOKUP(A15,tesserati[],2,FALSE))","v":"FABIAN"},{"$f":"IF(ISERROR(VLOOKUP(A15,tesserati[],3,FALSE)),\"\",VLOOKUP(A15,tesserati[],3,FALSE))","v":"FILIPPO"},{"$f":"IF(ISERROR(VLOOKUP(A15,tesserati[],4,FALSE)),\"\",VLOOKUP(A15,tesserati[],4,FALSE))","v":"POLISPORTIVA SALF ALTOPADOVANA"},{"$f":"IF(ISERROR(VLOOKUP(A15,tesserati[],5,FALSE)),\"\",VLOOKUP(A15,tesserati[],5,FALSE))","v":2002},{"$f":"IF(ISERROR(VLOOKUP(A15,tesserati[],7,FALSE)),\"\",VLOOKUP(A15,tesserati[],7,FALSE))","v":"CM"}]
[5120,{"$f":"IF(ISERROR(VLOOKUP(A16,tesserati[],2,FALSE)),\"\",VLOOKUP(A16,tesserati[],2,FALSE))","v":"PERNECHELE"},{"$f":"IF(ISERROR(VLOOKUP(A16,tesserati[],3,FALSE)),\"\",VLOOKUP(A16,tesserati[],3,FALSE))","v":"NICOLA"},{"$f":"IF(ISERROR(VLOOKUP(A16,tesserati[],4,FALSE)),\"\",VLOOKUP(A16,tesserati[],4,FALSE))","v":"POLISPORTIVA SALF ALTOPADOVANA"},{"$f":"IF(ISERROR(VLOOKUP(A16,tesserati[],5,FALSE)),\"\",VLOOKUP(A16,tesserati[],5,FALSE))","v":2002},{"$f":"IF(ISERROR(VLOOKUP(A16,tesserati[],7,FALSE)),\"\",VLOOKUP(A16,tesserati[],7,FALSE))","v":"CM"}]
[4334,{"$f":"IF(ISERROR(VLOOKUP(A17,tesserati[],2,FALSE)),\"\",VLOOKUP(A17,tesserati[],2,FALSE))","v":"TURETTA"},{"$f":"IF(ISERROR(VLOOKUP(A17,tesserati[],3,FALSE)),\"\",VLOOKUP(A17,tesserati[],3,FALSE))","v":"MATTEO"},{"$f":"IF(ISERROR(VLOOKUP(A17,tesserati[],4,FALSE)),\"\",VLOOKUP(A17,tesserati[],4,FALSE))","v":"C.S.I. TEZZE SUL BRENTA"},{"$f":"IF(ISERROR(VLOOKUP(A17,tesserati[],5,FALSE)),\"\",VLOOKUP(A17,tesserati[],5,FALSE))","v":2004},{"$f":"IF(ISERROR(VLOOKUP(A17,tesserati[],7,FALSE)),\"\",VLOOKUP(A17,tesserati[],7,FALSE))","v":"RM"},5,98,"2,21.9",3]
[5221,{"$f":"IF(ISERROR(VLOOKUP(A18,tesserati[],2,FALSE)),\"\",VLOOKUP(A18,tesserati[],2,FALSE))","v":"GAMBARDELLA"},{"$f":"IF(ISERROR(VLOOKUP(A18,tesserati[],3,FALSE)),\"\",VLOOKUP(A18,tesserati[],3,FALSE))","v":"MICHELE PIO"},{"$f":"IF(ISERROR(VLOOKUP(A18,tesserati[],4,FALSE)),\"\",VLOOKUP(A18,tesserati[],4,FALSE))","v":"C.S.I. TEZZE SUL BRENTA"},{"$f":"IF(ISERROR(VLOOKUP(A18,tesserati[],5,FALSE)),\"\",VLOOKUP(A18,tesserati[],5,FALSE))","v":2002},{"$f":"IF(ISERROR(VLOOKUP(A18,tesserati[],7,FALSE)),\"\",VLOOKUP(A18,tesserati[],7,FALSE))","v":"CM"}]
[2464,{"$f":"IF(ISERROR(VLOOKUP(A19,tesserati[],2,FALSE)),\"\",VLOOKUP(A19,tesserati[],2,FALSE))","v":"LOVECCHIO"},{"$f":"IF(ISERROR(VLOOKUP(A19,tesserati[],3,FALSE)),\"\",VLOOKUP(A19,tesserati[],3,FALSE))","v":"PIO FEDERICO"},{"$f":"IF(ISERROR(VLOOKUP(A19,tesserati[],4,FALSE)),\"\",VLOOKUP(A19,tesserati[],4,FALSE))","v":"C.S.I. TEZZE SUL BRENTA"},{"$f":"IF(ISERROR(VLOOKUP(A19,tesserati[],5,FALSE)),\"\",VLOOKUP(A19,tesserati[],5,FALSE))","v":2003},{"$f":"IF(ISERROR(VLOOKUP(A19,tesserati[],7,FALSE)),\"\",VLOOKUP(A19,tesserati[],7,FALSE))","v":"CM"}]
[3636,{"$f":"IF(ISERROR(VLOOKUP(A20,tesserati[],2,FALSE)),\"\",VLOOKUP(A20,tesserati[],2,FALSE))","v":"CERANTOLA"},{"$f":"IF(ISERROR(VLOOKUP(A20,tesserati[],3,FALSE)),\"\",VLOOKUP(A20,tesserati[],3,FALSE))","v":"DAVIDE"},{"$f":"IF(ISERROR(VLOOKUP(A20,tesserati[],4,FALSE)),\"\",VLOOKUP(A20,tesserati[],4,FALSE))","v":"C.S.I. TEZZE SUL BRENTA"},{"$f":"IF(ISERROR(VLOOKUP(A20,tesserati[],5,FALSE)),\"\",VLOOKUP(A20,tesserati[],5,FALSE))","v":2003},{"$f":"IF(ISERROR(VLOOKUP(A20,tesserati[],7,FALSE)),\"\",VLOOKUP(A20,tesserati[],7,FALSE))","v":"CM"}]
[2978,{"$f":"IF(ISERROR(VLOOKUP(A21,tesserati[],2,FALSE)),\"\",VLOOKUP(A21,tesserati[],2,FALSE))","v":"MANCA"},{"$f":"IF(ISERROR(VLOOKUP(A21,tesserati[],3,FALSE)),\"\",VLOOKUP(A21,tesserati[],3,FALSE))","v":"ALESSANDRO"},{"$f":"IF(ISERROR(VLOOKUP(A21,tesserati[],4,FALSE)),\"\",VLOOKUP(A21,tesserati[],4,FALSE))","v":"ATLETICA UNION CREAZZO"},{"$f":"IF(ISERROR(VLOOKUP(A21,tesserati[],5,FALSE)),\"\",VLOOKUP(A21,tesserati[],5,FALSE))","v":2005},{"$f":"IF(ISERROR(VLOOKUP(A21,tesserati[],7,FALSE)),\"\",VLOOKUP(A21,tesserati[],7,FALSE))","v":"RM"},4,24,"2,30.8",4]
[2952,{"$f":"IF(ISERROR(VLOOKUP(A22,tesserati[],2,FALSE)),\"\",VLOOKUP(A22,tesserati[],2,FALSE))","v":"CAMPAGNOLO"},{"$f":"IF(ISERROR(VLOOKUP(A22,tesserati[],3,FALSE)),\"\",VLOOKUP(A22,tesserati[],3,FALSE))","v":"ANDREA"},{"$f":"IF(ISERROR(VLOOKUP(A22,tesserati[],4,FALSE)),\"\",VLOOKUP(A22,tesserati[],4,FALSE))","v":"ATLETICA UNION CREAZZO"},{"$f":"IF(ISERROR(VLOOKUP(A22,tesserati[],5,FALSE)),\"\",VLOOKUP(A22,tesserati[],5,FALSE))","v":2004},{"$f":"IF(ISERROR(VLOOKUP(A22,tesserati[],7,FALSE)),\"\",VLOOKUP(A22,tesserati[],7,FALSE))","v":"RM"}]
[2935,{"$f":"IF(ISERROR(VLOOKUP(A23,tesserati[],2,FALSE)),\"\",VLOOKUP(A23,tesserati[],2,FALSE))","v":"SCOTUZZI"},{"$f":"IF(ISERROR(VLOOKUP(A23,tesserati[],3,FALSE)),\"\",VLOOKUP(A23,tesserati[],3,FALSE))","v":"LEONARDO"},{"$f":"IF(ISERROR(VLOOKUP(A23,tesserati[],4,FALSE)),\"\",VLOOKUP(A23,tesserati[],4,FALSE))","v":"ATLETICA UNION CREAZZO"},{"$f":"IF(ISERROR(VLOOKUP(A23,tesserati[],5,FALSE)),\"\",VLOOKUP(A23,tesserati[],5,FALSE))","v":2003},{"$f":"IF(ISERROR(VLOOKUP(A23,tesserati[],7,FALSE)),\"\",VLOOKUP(A23,tesserati[],7,FALSE))","v":"CM"}]
[3468,{"$f":"IF(ISERROR(VLOOKUP(A24,tesserati[],2,FALSE)),\"\",VLOOKUP(A24,tesserati[],2,FALSE))","v":"BORON"},{"$f":"IF(ISERROR(VLOOKUP(A24,tesserati[],3,FALSE)),\"\",VLOOKUP(A24,tesserati[],3,FALSE))","v":"NICOLã"},{"$f":"IF(ISERROR(VLOOKUP(A24,tesserati[],4,FALSE)),\"\",VLOOKUP(A24,tesserati[],4,FALSE))","v":"ATLETICA UNION CREAZZO"},{"$f":"IF(ISERROR(VLOOKUP(A24,tesserati[],5,FALSE)),\"\",VLOOKUP(A24,tesserati[],5,FALSE))","v":2003},{"$f":"IF(ISERROR(VLOOKUP(A24,tesserati[],7,FALSE)),\"\",VLOOKUP(A24,tesserati[],7,FALSE))","v":"CM"}]
[4333,{"$f":"IF(ISERROR(VLOOKUP(A25,tesserati[],2,FALSE)),\"\",VLOOKUP(A25,tesserati[],2,FALSE))","v":"TODESCO"},{"$f":"IF(ISERROR(VLOOKUP(A25,tesserati[],3,FALSE)),\"\",VLOOKUP(A25,tesserati[],3,FALSE))","v":"FEDERICO"},{"$f":"IF(ISERROR(VLOOKUP(A25,tesserati[],4,FALSE)),\"\",VLOOKUP(A25,tesserati[],4,FALSE))","v":"C.S.I. TEZZE SUL BRENTA"},{"$f":"IF(ISERROR(VLOOKUP(A25,tesserati[],5,FALSE)),\"\",VLOOKUP(A25,tesserati[],5,FALSE))","v":2003},{"$f":"IF(ISERROR(VLOOKUP(A25,tesserati[],7,FALSE)),\"\",VLOOKUP(A25,tesserati[],7,FALSE))","v":"CM"},2,100,"2,45.5",5]
[3643,{"$f":"IF(ISERROR(VLOOKUP(A26,tesserati[],2,FALSE)),\"\",VLOOKUP(A26,tesserati[],2,FALSE))","v":"VISENTIN"},{"$f":"IF(ISERROR(VLOOKUP(A26,tesserati[],3,FALSE)),\"\",VLOOKUP(A26,tesserati[],3,FALSE))","v":"ANDREA"},{"$f":"IF(ISERROR(VLOOKUP(A26,tesserati[],4,FALSE)),\"\",VLOOKUP(A26,tesserati[],4,FALSE))","v":"C.S.I. TEZZE SUL BRENTA"},{"$f":"IF(ISERROR(VLOOKUP(A26,tesserati[],5,FALSE)),\"\",VLOOKUP(A26,tesserati[],5,FALSE))","v":2004},{"$f":"IF(ISERROR(VLOOKUP(A26,tesserati[],7,FALSE)),\"\",VLOOKUP(A26,tesserati[],7,FALSE))","v":"RM"}]
[2463,{"$f":"IF(ISERROR(VLOOKUP(A27,tesserati[],2,FALSE)),\"\",VLOOKUP(A27,tesserati[],2,FALSE))","v":"CAREGNATO"},{"$f":"IF(ISERROR(VLOOKUP(A27,tesserati[],3,FALSE)),\"\",VLOOKUP(A27,tesserati[],3,FALSE))","v":"PAOLO"},{"$f":"IF(ISERROR(VLOOKUP(A27,tesserati[],4,FALSE)),\"\",VLOOKUP(A27,tesserati[],4,FALSE))","v":"C.S.I. TEZZE SUL BRENTA"},{"$f":"IF(ISERROR(VLOOKUP(A27,tesserati[],5,FALSE)),\"\",VLOOKUP(A27,tesserati[],5,FALSE))","v":2003},{"$f":"IF(ISERROR(VLOOKUP(A27,tesserati[],7,FALSE)),\"\",VLOOKUP(A27,tesserati[],7,FALSE))","v":"CM"}]
[4336,{"$f":"IF(ISERROR(VLOOKUP(A28,tesserati[],2,FALSE)),\"\",VLOOKUP(A28,tesserati[],2,FALSE))","v":"GIROLIMETTO"},{"$f":"IF(ISERROR(VLOOKUP(A28,tesserati[],3,FALSE)),\"\",VLOOKUP(A28,tesserati[],3,FALSE))","v":"FEDERICO"},{"$f":"IF(ISERROR(VLOOKUP(A28,tesserati[],4,FALSE)),\"\",VLOOKUP(A28,tesserati[],4,FALSE))","v":"C.S.I. TEZZE SUL BRENTA"},{"$f":"IF(ISERROR(VLOOKUP(A28,tesserati[],5,FALSE)),\"\",VLOOKUP(A28,tesserati[],5,FALSE))","v":2003},{"$f":"IF(ISERROR(VLOOKUP(A28,tesserati[],7,FALSE)),\"\",VLOOKUP(A28,tesserati[],7,FALSE))","v":"CM"}]
[null,{"$f":"IF(ISERROR(VLOOKUP(A29,tesserati[],2,FALSE)),\"\",VLOOKUP(A29,tesserati[],2,FALSE))","v":""},{"$f":"IF(ISERROR(VLOOKUP(A29,tesserati[],3,FALSE)),\"\",VLOOKUP(A29,tesserati[],3,FALSE))","v":""},{"$f":"IF(ISERROR(VLOOKUP(A29,tesserati[],4,FALSE)),\"\",VLOOKUP(A29,tesserati[],4,FALSE))","v":""},{"$f":"IF(ISERROR(VLOOKUP(A29,tesserati[],5,FALSE)),\"\",VLOOKUP(A29,tesserati[],5,FALSE))","v":""},{"$f":"IF(ISERROR(VLOOKUP(A29,tesserati[],7,FALSE)),\"\",VLOOKUP(A29,tesserati[],7,FALSE))","v":""}]
[null,{"$f":"IF(ISERROR(VLOOKUP(A30,tesserati[],2,FALSE)),\"\",VLOOKUP(A30,tesserati[],2,FALSE))","v":""},{"$f":"IF(ISERROR(VLOOKUP(A30,tesserati[],3,FALSE)),\"\",VLOOKUP(A30,tesserati[],3,FALSE))","v":""},{"$f":"IF(ISERROR(VLOOKUP(A30,tesserati[],4,FALSE)),\"\",VLOOKUP(A30,tesserati[],4,FALSE))","v":""},{"$f":"IF(ISERROR(VLOOKUP(A30,tesserati[],5,FALSE)),\"\",VLOOKUP(A30,tesserati[],5,FALSE))","v":""},{"$f":"IF(ISERROR(VLOOKUP(A30,tesserati[],7,FALSE)),\"\",VLOOKUP(A30,tesserati[],7,FALSE))","v":""}]
[null,{"$f":"IF(ISERROR(VLOOKUP(A31,tesserati[],2,FALSE)),\"\",VLOOKUP(A31,tesserati[],2,FALSE))","v":""},{"$f":"IF(ISERROR(VLOOKUP(A31,tesserati[],3,FALSE)),\"\",VLOOKUP(A31,tesserati[],3,FALSE))","v":""},{"$f":"IF(ISERROR(VLOOKUP(A31,tesserati[],4,FALSE)),\"\",VLOOKUP(A31,tesserati[],4,FALSE))","v":""},{"$f":"IF(ISERROR(VLOOKUP(A31,tesserati[],5,FALSE)),\"\",VLOOKUP(A31,tesserati[],5,FALSE))","v":""},{"$f":"IF(ISERROR(VLOOKUP(A31,tesserati[],7,FALSE)),\"\",VLOOKUP(A31,tesserati[],7,FALSE))","v":""}]
[null,{"$f":"IF(ISERROR(VLOOKUP(A32,tesserati[],2,FALSE)),\"\",VLOOKUP(A32,tesserati[],2,FALSE))","v":""},{"$f":"IF(ISERROR(VLOOKUP(A32,tesserati[],3,FALSE)),\"\",VLOOKUP(A32,tesserati[],3,FALSE))","v":""},{"$f":"IF(ISERROR(VLOOKUP(A32,tesserati[],4,FALSE)),\"\",VLOOKUP(A32,tesserati[],4,FALSE))","v":""},{"$f":"IF(ISERROR(VLOOKUP(A32,tesserati[],5,FALSE)),\"\",VLOOKUP(A32,tesserati[],5,FALSE))","v":""},{"$f":"IF(ISERROR(VLOOKUP(A32,tesserati[],7,FALSE)),\"\",VLOOKUP(A32,tesserati[],7,FALSE))","v":""}]
["2 SERIE"]
[null,{"$f":"IF(ISERROR(VLOOKUP(A34,tesserati[],2,FALSE)),\"\",VLOOKUP(A34,tesserati[],2,FALSE))","v":""},{"$f":"IF(ISERROR(VLOOKUP(A34,tesserati[],3,FALSE)),\"\",VLOOKUP(A34,tesserati[],3,FALSE))","v":""},{"$f":"IF(ISERROR(VLOOKUP(A34,tesserati[],4,FALSE)),\"\",VLOOKUP(A34,tesserati[],4,FALSE))","v":""},{"$f":"IF(ISERROR(VLOOKUP(A34,tesserati[],5,FALSE)),\"\",VLOOKUP(A34,tesserati[],5,FALSE))","v":""},{"$f":"IF(ISERROR(VLOOKUP(A34,tesserati[],7,FALSE)),\"\",VLOOKUP(A34,tesserati[],7,FALSE))","v":""},1]
[null,{"$f":"IF(ISERROR(VLOOKUP(A35,tesserati[],2,FALSE)),\"\",VLOOKUP(A35,tesserati[],2,FALSE))","v":""},{"$f":"IF(ISERROR(VLOOKUP(A35,tesserati[],3,FALSE)),\"\",VLOOKUP(A35,tesserati[],3,FALSE))","v":""},{"$f":"IF(ISERROR(VLOOKUP(A35,tesserati[],4,FALSE)),\"\",VLOOKUP(A35,tesserati[],4,FALSE))","v":""},{"$f":"IF(ISERROR(VLOOKUP(A35,tesserati[],5,FALSE)),\"\",VLOOKUP(A35,tesserati[],5,FALSE))","v":""},{"$f":"IF(ISERROR(VLOOKUP(A35,tesserati[],7,FALSE)),\"\",VLOOKUP(A35,tesserati[],7,FALSE))","v":""}]
[null,{"$f":"IF(ISERROR(VLOOKUP(A36,tesserati[],2,FALSE)),\"\",VLOOKUP(A36,tesserati[],2,FALSE))","v":""},{"$f":"IF(ISERROR(VLOOKUP(A36,tesserati[],3,FALSE)),\"\",VLOOKUP(A36,tesserati[],3,FALSE))","v":""},{"$f":"IF(ISERROR(VLOOKUP(A36,tesserati[],4,FALSE)),\"\",VLOOKUP(A36,tesserati[],4,FALSE))","v":""},{"$f":"IF(ISERROR(VLOOKUP(A36,tesserati[],5,FALSE)),\"\",VLOOKUP(A36,tesserati[],5,FALSE))","v":""},{"$f":"IF(ISERROR(VLOOKUP(A36,tesserati[],7,FALSE)),\"\",VLOOKUP(A36,tesserati[],7,FALSE))","v":""}]
[null,{"$f":"IF(ISERROR(VLOOKUP(A37,tesserati[],2,FALSE)),\"\",VLOOKUP(A37,tesserati[],2,FALSE))","v":""},{"$f":"IF(ISERROR(VLOOKUP(A37,tesserati[],3,FALSE)),\"\",VLOOKUP(A37,tesserati[],3,FALSE))","v":""},{"$f":"IF(ISERROR(VLOOKUP(A37,tesserati[],4,FALSE)),\"\",VLOOKUP(A37,tesserati[],4,FALSE))","v":""},{"$f":"IF(ISERROR(VLOOKUP(A37,tesserati[],5,FALSE)),\"\",VLOOKUP(A37,tesserati[],5,FALSE))","v":""},{"$f":"IF(ISERROR(VLOOKUP(A37,tesserati[],7,FALSE)),\"\",VLOOKUP(A37,tesserati[],7,FALSE))","v":""}]
[null,{"$f":"IF(ISERROR(VLOOKUP(A38,tesserati[],2,FALSE)),\"\",VLOOKUP(A38,tesserati[],2,FALSE))","v":""},{"$f":"IF(ISERROR(VLOOKUP(A38,tesserati[],3,FALSE)),\"\",VLOOKUP(A38,tesserati[],3,FALSE))","v":""},{"$f":"IF(ISERROR(VLOOKUP(A38,tesserati[],4,FALSE)),\"\",VLOOKUP(A38,tesserati[],4,FALSE))","v":""},{"$f":"IF(ISERROR(VLOOKUP(A38,tesserati[],5,FALSE)),\"\",VLOOKUP(A38,tesserati[],5,FALSE))","v":""},{"$f":"IF(ISERROR(VLOOKUP(A38,tesserati[],7,FALSE)),\"\",VLOOKUP(A38,tesserati[],7,FALSE))","v":""},2]
[null,{"$f":"IF(ISERROR(VLOOKUP(A39,tesserati[],2,FALSE)),\"\",VLOOKUP(A39,tesserati[],2,FALSE))","v":""},{"$f":"IF(ISERROR(VLOOKUP(A39,tesserati[],3,FALSE)),\"\",VLOOKUP(A39,tesserati[],3,FALSE))","v":""},{"$f":"IF(ISERROR(VLOOKUP(A39,tesserati[],4,FALSE)),\"\",VLOOKUP(A39,tesserati[],4,FALSE))","v":""},{"$f":"IF(ISERROR(VLOOKUP(A39,tesserati[],5,FALSE)),\"\",VLOOKUP(A39,tesserati[],5,FALSE))","v":""},{"$f":"IF(ISERROR(VLOOKUP(A39,tesserati[],7,FALSE)),\"\",VLOOKUP(A39,tesserati[],7,FALSE))","v":""}]
[null,{"$f":"IF(ISERROR(VLOOKUP(A40,tesserati[],2,FALSE)),\"\",VLOOKUP(A40,tesserati[],2,FALSE))","v":""},{"$f":"IF(ISERROR(VLOOKUP(A40,tesserati[],3,FALSE)),\"\",VLOOKUP(A40,tesserati[],3,FALSE))","v":""},{"$f":"IF(ISERROR(VLOOKUP(A40,tesserati[],4,FALSE)),\"\",VLOOKUP(A40,tesserati[],4,FALSE))","v":""},{"$f":"IF(ISERROR(VLOOKUP(A40,tesserati[],5,FALSE)),\"\",VLOOKUP(A40,tesserati[],5,FALSE))","v":""},{"$f":"IF(ISERROR(VLOOKUP(A40,tesserati[],7,FALSE)),\"\",VLOOKUP(A40,tesserati[],7,FALSE))","v":""}]
[null,{"$f":"IF(ISERROR(VLOOKUP(A41,tesserati[],2,FALSE)),\"\",VLOOKUP(A41,tesserati[],2,FALSE))","v":""},{"$f":"IF(ISERROR(VLOOKUP(A41,tesserati[],3,FALSE)),\"\",VLOOKUP(A41,tesserati[],3,FALSE))","v":""},{"$f":"IF(ISERROR(VLOOKUP(A41,tesserati[],4,FALSE)),\"\",VLOOKUP(A41,tesserati[],4,FALSE))","v":""},{"$f":"IF(ISERROR(VLOOKUP(A41,tesserati[],5,FALSE)),\"\",VLOOKUP(A41,tesserati[],5,FALSE))","v":""},{"$f":"IF(ISERROR(VLOOKUP(A41,tesserati[],7,FALSE)),\"\",VLOOKUP(A41,tesserati[],7,FALSE))","v":""}]
[null,{"$f":"IF(ISERROR(VLOOKUP(A42,tesserati[],2,FALSE)),\"\",VLOOKUP(A42,tesserati[],2,FALSE))","v":""},{"$f":"IF(ISERROR(VLOOKUP(A42,tesserati[],3,FALSE)),\"\",VLOOKUP(A42,tesserati[],3,FALSE))","v":""},{"$f":"IF(ISERROR(VLOOKUP(A42,tesserati[],4,FALSE)),\"\",VLOOKUP(A42,tesserati[],4,FALSE))","v":""},{"$f":"IF(ISERROR(VLOOKUP(A42,tesserati[],5,FALSE)),\"\",VLOOKUP(A42,tesserati[],5,FALSE))","v":""},{"$f":"IF(ISERROR(VLOOKUP(A42,tesserati[],7,FALSE)),\"\",VLOOKUP(A42,tesserati[],7,FALSE))","v":""},3]
[null,{"$f":"IF(ISERROR(VLOOKUP(A43,tesserati[],2,FALSE)),\"\",VLOOKUP(A43,tesserati[],2,FALSE))","v":""},{"$f":"IF(ISERROR(VLOOKUP(A43,tesserati[],3,FALSE)),\"\",VLOOKUP(A43,tesserati[],3,FALSE))","v":""},{"$f":"IF(ISERROR(VLOOKUP(A43,tesserati[],4,FALSE)),\"\",VLOOKUP(A43,tesserati[],4,FALSE))","v":""},{"$f":"IF(ISERROR(VLOOKUP(A43,tesserati[],5,FALSE)),\"\",VLOOKUP(A43,tesserati[],5,FALSE))","v":""},{"$f":"IF(ISERROR(VLOOKUP(A43,tesserati[],7,FALSE)),\"\",VLOOKUP(A43,tesserati[],7,FALSE))","v":""}]
[null,{"$f":"IF(ISERROR(VLOOKUP(A44,tesserati[],2,FALSE)),\"\",VLOOKUP(A44,tesserati[],2,FALSE))","v":""},{"$f":"IF(ISERROR(VLOOKUP(A44,tesserati[],3,FALSE)),\"\",VLOOKUP(A44,tesserati[],3,FALSE))","v":""},{"$f":"IF(ISERROR(VLOOKUP(A44,tesserati[],4,FALSE)),\"\",VLOOKUP(A44,tesserati[],4,FALSE))","v":""},{"$f":"IF(ISERROR(VLOOKUP(A44,tesserati[],5,FALSE)),\"\",VLOOKUP(A44,tesserati[],5,FALSE))","v":""},{"$f":"IF(ISERROR(VLOOKUP(A44,tesserati[],7,FALSE)),\"\",VLOOKUP(A44,tesserati[],7,FALSE))","v":""}]
[null,{"$f":"IF(ISERROR(VLOOKUP(A45,tesserati[],2,FALSE)),\"\",VLOOKUP(A45,tesserati[],2,FALSE))","v":""},{"$f":"IF(ISERROR(VLOOKUP(A45,tesserati[],3,FALSE)),\"\",VLOOKUP(A45,tesserati[],3,FALSE))","v":""},{"$f":"IF(ISERROR(VLOOKUP(A45,tesserati[],4,FALSE)),\"\",VLOOKUP(A45,tesserati[],4,FALSE))","v":""},{"$f":"IF(ISERROR(VLOOKUP(A45,tesserati[],5,FALSE)),\"\",VLOOKUP(A45,tesserati[],5,FALSE))","v":""},{"$f":"IF(ISERROR(VLOOKUP(A45,tesserati[],7,FALSE)),\"\",VLOOKUP(A45,tesserati[],7,FALSE))","v":""}]
[null,{"$f":"IF(ISERROR(VLOOKUP(A46,tesserati[],2,FALSE)),\"\",VLOOKUP(A46,tesserati[],2,FALSE))","v":""},{"$f":"IF(ISERROR(VLOOKUP(A46,tesserati[],3,FALSE)),\"\",VLOOKUP(A46,tesserati[],3,FALSE))","v":""},{"$f":"IF(ISERROR(VLOOKUP(A46,tesserati[],4,FALSE)),\"\",VLOOKUP(A46,tesserati[],4,FALSE))","v":""},{"$f":"IF(ISERROR(VLOOKUP(A46,tesserati[],5,FALSE)),\"\",VLOOKUP(A46,tesserati[],5,FALSE))","v":""},{"$f":"IF(ISERROR(VLOOKUP(A46,tesserati[],7,FALSE)),\"\",VLOOKUP(A46,tesserati[],7,FALSE))","v":""},4]
[null,{"$f":"IF(ISERROR(VLOOKUP(A47,tesserati[],2,FALSE)),\"\",VLOOKUP(A47,tesserati[],2,FALSE))","v":""},{"$f":"IF(ISERROR(VLOOKUP(A47,tesserati[],3,FALSE)),\"\",VLOOKUP(A47,tesserati[],3,FALSE))","v":""},{"$f":"IF(ISERROR(VLOOKUP(A47,tesserati[],4,FALSE)),\"\",VLOOKUP(A47,tesserati[],4,FALSE))","v":""},{"$f":"IF(ISERROR(VLOOKUP(A47,tesserati[],5,FALSE)),\"\",VLOOKUP(A47,tesserati[],5,FALSE))","v":""},{"$f":"IF(ISERROR(VLOOKUP(A47,tesserati[],7,FALSE)),\"\",VLOOKUP(A47,tesserati[],7,FALSE))","v":""}]
[null,{"$f":"IF(ISERROR(VLOOKUP(A48,tesserati[],2,FALSE)),\"\",VLOOKUP(A48,tesserati[],2,FALSE))","v":""},{"$f":"IF(ISERROR(VLOOKUP(A48,tesserati[],3,FALSE)),\"\",VLOOKUP(A48,tesserati[],3,FALSE))","v":""},{"$f":"IF(ISERROR(VLOOKUP(A48,tesserati[],4,FALSE)),\"\",VLOOKUP(A48,tesserati[],4,FALSE))","v":""},{"$f":"IF(ISERROR(VLOOKUP(A48,tesserati[],5,FALSE)),\"\",VLOOKUP(A48,tesserati[],5,FALSE))","v":""},{"$f":"IF(ISERROR(VLOOKUP(A48,tesserati[],7,FALSE)),\"\",VLOOKUP(A48,tesserati[],7,FALSE))","v":""}]
[null,{"$f":"IF(ISERROR(VLOOKUP(A49,tesserati[],2,FALSE)),\"\",VLOOKUP(A49,tesserati[],2,FALSE))","v":""},{"$f":"IF(ISERROR(VLOOKUP(A49,tesserati[],3,FALSE)),\"\",VLOOKUP(A49,tesserati[],3,FALSE))","v":""},{"$f":"IF(ISERROR(VLOOKUP(A49,tesserati[],4,FALSE)),\"\",VLOOKUP(A49,tesserati[],4,FALSE))","v":""},{"$f":"IF(ISERROR(VLOOKUP(A49,tesserati[],5,FALSE)),\"\",VLOOKUP(A49,tesserati[],5,FALSE))","v":""},{"$f":"IF(ISERROR(VLOOKUP(A49,tesserati[],7,FALSE)),\"\",VLOOKUP(A49,tesserati[],7,FALSE))","v":""}]
[null,{"$f":"IF(ISERROR(VLOOKUP(A50,tesserati[],2,FALSE)),\"\",VLOOKUP(A50,tesserati[],2,FALSE))","v":""},{"$f":"IF(ISERROR(VLOOKUP(A50,tesserati[],3,FALSE)),\"\",VLOOKUP(A50,tesserati[],3,FALSE))","v":""},{"$f":"IF(ISERROR(VLOOKUP(A50,tesserati[],4,FALSE)),\"\",VLOOKUP(A50,tesserati[],4,FALSE))","v":""},{"$f":"IF(ISERROR(VLOOKUP(A50,tesserati[],5,FALSE)),\"\",VLOOKUP(A50,tesserati[],5,FALSE))","v":""},{"$f":"IF(ISERROR(VLOOKUP(A50,tesserati[],7,FALSE)),\"\",VLOOKUP(A50,tesserati[],7,FALSE))","v":""},5]
[null,{"$f":"IF(ISERROR(VLOOKUP(A51,tesserati[],2,FALSE)),\"\",VLOOKUP(A51,tesserati[],2,FALSE))","v":""},{"$f":"IF(ISERROR(VLOOKUP(A51,tesserati[],3,FALSE)),\"\",VLOOKUP(A51,tesserati[],3,FALSE))","v":""},{"$f":"IF(ISERROR(VLOOKUP(A51,tesserati[],4,FALSE)),\"\",VLOOKUP(A51,tesserati[],4,FALSE))","v":""},{"$f":"IF(ISERROR(VLOOKUP(A51,tesserati[],5,FALSE)),\"\",VLOOKUP(A51,tesserati[],5,FALSE))","v":""},{"$f":"IF(ISERROR(VLOOKUP(A51,tesserati[],7,FALSE)),\"\",VLOOKUP(A51,tesserati[],7,FALSE))","v":""}]
[null,{"$f":"IF(ISERROR(VLOOKUP(A52,tesserati[],2,FALSE)),\"\",VLOOKUP(A52,tesserati[],2,FALSE))","v":""},{"$f":"IF(ISERROR(VLOOKUP(A52,tesserati[],3,FALSE)),\"\",VLOOKUP(A52,tesserati[],3,FALSE))","v":""},{"$f":"IF(ISERROR(VLOOKUP(A52,tesserati[],4,FALSE)),\"\",VLOOKUP(A52,tesserati[],4,FALSE))","v":""},{"$f":"IF(ISERROR(VLOOKUP(A52,tesserati[],5,FALSE)),\"\",VLOOKUP(A52,tesserati[],5,FALSE))","v":""},{"$f":"IF(ISERROR(VLOOKUP(A52,tesserati[],7,FALSE)),\"\",VLOOKUP(A52,tesserati[],7,FALSE))","v":""}]
[null,{"$f":"IF(ISERROR(VLOOKUP(A53,tesserati[],2,FALSE)),\"\",VLOOKUP(A53,tesserati[],2,FALSE))","v":""},{"$f":"IF(ISERROR(VLOOKUP(A53,tesserati[],3,FALSE)),\"\",VLOOKUP(A53,tesserati[],3,FALSE))","v":""},{"$f":"IF(ISERROR(VLOOKUP(A53,tesserati[],4,FALSE)),\"\",VLOOKUP(A53,tesserati[],4,FALSE))","v":""},{"$f":"IF(ISERROR(VLOOKUP(A53,tesserati[],5,FALSE)),\"\",VLOOKUP(A53,tesserati[],5,FALSE))","v":""},{"$f":"IF(ISERROR(VLOOKUP(A53,tesserati[],7,FALSE)),\"\",VLOOKUP(A53,tesserati[],7,FALSE))","v":""}]
[null,{"$f":"IF(ISERROR(VLOOKUP(A54,tesserati[],2,FALSE)),\"\",VLOOKUP(A54,tesserati[],2,FALSE))","v":""},{"$f":"IF(ISERROR(VLOOKUP(A54,tesserati[],3,FALSE)),\"\",VLOOKUP(A54,tesserati[],3,FALSE))","v":""},{"$f":"IF(ISERROR(VLOOKUP(A54,tesserati[],4,FALSE)),\"\",VLOOKUP(A54,tesserati[],4,FALSE))","v":""},{"$f":"IF(ISERROR(VLOOKUP(A54,tesserati[],5,FALSE)),\"\",VLOOKUP(A54,tesserati[],5,FALSE))","v":""},{"$f":"IF(ISERROR(VLOOKUP(A54,tesserati[],7,FALSE)),\"\",VLOOKUP(A54,tesserati[],7,FALSE))","v":""},6]
[null,{"$f":"IF(ISERROR(VLOOKUP(A55,tesserati[],2,FALSE)),\"\",VLOOKUP(A55,tesserati[],2,FALSE))","v":""},{"$f":"IF(ISERROR(VLOOKUP(A55,tesserati[],3,FALSE)),\"\",VLOOKUP(A55,tesserati[],3,FALSE))","v":""},{"$f":"IF(ISERROR(VLOOKUP(A55,tesserati[],4,FALSE)),\"\",VLOOKUP(A55,tesserati[],4,FALSE))","v":""},{"$f":"IF(ISERROR(VLOOKUP(A55,tesserati[],5,FALSE)),\"\",VLOOKUP(A55,tesserati[],5,FALSE))","v":""},{"$f":"IF(ISERROR(VLOOKUP(A55,tesserati[],7,FALSE)),\"\",VLOOKUP(A55,tesserati[],7,FALSE))","v":""}]
[null,{"$f":"IF(ISERROR(VLOOKUP(A56,tesserati[],2,FALSE)),\"\",VLOOKUP(A56,tesserati[],2,FALSE))","v":""},{"$f":"IF(ISERROR(VLOOKUP(A56,tesserati[],3,FALSE)),\"\",VLOOKUP(A56,tesserati[],3,FALSE))","v":""},{"$f":"IF(ISERROR(VLOOKUP(A56,tesserati[],4,FALSE)),\"\",VLOOKUP(A56,tesserati[],4,FALSE))","v":""},{"$f":"IF(ISERROR(VLOOKUP(A56,tesserati[],5,FALSE)),\"\",VLOOKUP(A56,tesserati[],5,FALSE))","v":""},{"$f":"IF(ISERROR(VLOOKUP(A56,tesserati[],7,FALSE)),\"\",VLOOKUP(A56,tesserati[],7,FALSE))","v":""}]
[null,{"$f":"IF(ISERROR(VLOOKUP(A57,tesserati[],2,FALSE)),\"\",VLOOKUP(A57,tesserati[],2,FALSE))","v":""},{"$f":"IF(ISERROR(VLOOKUP(A57,tesserati[],3,FALSE)),\"\",VLOOKUP(A57,tesserati[],3,FALSE))","v":""},{"$f":"IF(ISERROR(VLOOKUP(A57,tesserati[],4,FALSE)),\"\",VLOOKUP(A57,tesserati[],4,FALSE))","v":""},{"$f":"IF(ISERROR(VLOOKUP(A57,tesserati[],5,FALSE)),\"\",VLOOKUP(A57,tesserati[],5,FALSE))","v":""},{"$f":"IF(ISERROR(VLOOKUP(A57,tesserati[],7,FALSE)),\"\",VLOOKUP(A57,tesserati[],7,FALSE))","v":""}]
[null,{"$f":"IF(ISERROR(VLOOKUP(A58,tesserati[],2,FALSE)),\"\",VLOOKUP(A58,tesserati[],2,FALSE))","v":""},{"$f":"IF(ISERROR(VLOOKUP(A58,tesserati[],3,FALSE)),\"\",VLOOKUP(A58,tesserati[],3,FALSE))","v":""},{"$f":"IF(ISERROR(VLOOKUP(A58,tesserati[],4,FALSE)),\"\",VLOOKUP(A58,tesserati[],4,FALSE))","v":""},{"$f":"IF(ISERROR(VLOOKUP(A58,tesserati[],5,FALSE)),\"\",VLOOKUP(A58,tesserati[],5,FALSE))","v":""},{"$f":"IF(ISERROR(VLOOKUP(A58,tesserati[],7,FALSE)),\"\",VLOOKUP(A58,tesserati[],7,FALSE))","v":""}]
[null,{"$f":"IF(ISERROR(VLOOKUP(A59,tesserati[],2,FALSE)),\"\",VLOOKUP(A59,tesserati[],2,FALSE))","v":""},{"$f":"IF(ISERROR(VLOOKUP(A59,tesserati[],3,FALSE)),\"\",VLOOKUP(A59,tesserati[],3,FALSE))","v":""},{"$f":"IF(ISERROR(VLOOKUP(A59,tesserati[],4,FALSE)),\"\",VLOOKUP(A59,tesserati[],4,FALSE))","v":""},{"$f":"IF(ISERROR(VLOOKUP(A59,tesserati[],5,FALSE)),\"\",VLOOKUP(A59,tesserati[],5,FALSE))","v":""},{"$f":"IF(ISERROR(VLOOKUP(A59,tesserati[],7,FALSE)),\"\",VLOOKUP(A59,tesserati[],7,FALSE))","v":""}]
[null,{"$f":"IF(ISERROR(VLOOKUP(A60,tesserati[],2,FALSE)),\"\",VLOOKUP(A60,tesserati[],2,FALSE))","v":""},{"$f":"IF(ISERROR(VLOOKUP(A60,tesserati[],3,FALSE)),\"\",VLOOKUP(A60,tesserati[],3,FALSE))","v":""},{"$f":"IF(ISERROR(VLOOKUP(A60,tesserati[],4,FALSE)),\"\",VLOOKUP(A60,tesserati[],4,FALSE))","v":""},{"$f":"IF(ISERROR(VLOOKUP(A60,tesserati[],5,FALSE)),\"\",VLOOKUP(A60,tesserati[],5,FALSE))","v":""},{"$f":"IF(ISERROR(VLOOKUP(A60,tesserati[],7,FALSE)),\"\",VLOOKUP(A60,tesserati[],7,FALSE))","v":""}]
[null,{"$f":"IF(ISERROR(VLOOKUP(A61,tesserati[],2,FALSE)),\"\",VLOOKUP(A61,tesserati[],2,FALSE))","v":""},{"$f":"IF(ISERROR(VLOOKUP(A61,tesserati[],3,FALSE)),\"\",VLOOKUP(A61,tesserati[],3,FALSE))","v":""},{"$f":"IF(ISERROR(VLOOKUP(A61,tesserati[],4,FALSE)),\"\",VLOOKUP(A61,tesserati[],4,FALSE))","v":""},{"$f":"IF(ISERROR(VLOOKUP(A61,tesserati[],5,FALSE)),\"\",VLOOKUP(A61,tesserati[],5,FALSE))","v":""},{"$f":"IF(ISERROR(VLOOKUP(A61,tesserati[],7,FALSE)),\"\",VLOOKUP(A61,tesserati[],7,FALSE))","v":""}]
[null,{"$f":"IF(ISERROR(VLOOKUP(A62,tesserati[],2,FALSE)),\"\",VLOOKUP(A62,tesserati[],2,FALSE))","v":""},{"$f":"IF(ISERROR(VLOOKUP(A62,tesserati[],3,FALSE)),\"\",VLOOKUP(A62,tesserati[],3,FALSE))","v":""},{"$f":"IF(ISERROR(VLOOKUP(A62,tesserati[],4,FALSE)),\"\",VLOOKUP(A62,tesserati[],4,FALSE))","v":""},{"$f":"IF(ISERROR(VLOOKUP(A62,tesserati[],5,FALSE)),\"\",VLOOKUP(A62,tesserati[],5,FALSE))","v":""},{"$f":"IF(ISERROR(VLOOKUP(A62,tesserati[],7,FALSE)),\"\",VLOOKUP(A62,tesserati[],7,FALSE))","v":""}]
[null,{"$f":"IF(ISERROR(VLOOKUP(A63,tesserati[],2,FALSE)),\"\",VLOOKUP(A63,tesserati[],2,FALSE))","v":""},{"$f":"IF(ISERROR(VLOOKUP(A63,tesserati[],3,FALSE)),\"\",VLOOKUP(A63,tesserati[],3,FALSE))","v":""},{"$f":"IF(ISERROR(VLOOKUP(A63,tesserati[],4,FALSE)),\"\",VLOOKUP(A63,tesserati[],4,FALSE))","v":""},{"$f":"IF(ISERROR(VLOOKUP(A63,tesserati[],5,FALSE)),\"\",VLOOKUP(A63,tesserati[],5,FALSE))","v":""},{"$f":"IF(ISERROR(VLOOKUP(A63,tesserati[],7,FALSE)),\"\",VLOOKUP(A63,tesserati[],7,FALSE))","v":""}]
[null,{"$f":"IF(ISERROR(VLOOKUP(A64,tesserati[],2,FALSE)),\"\",VLOOKUP(A64,tesserati[],2,FALSE))","v":""},{"$f":"IF(ISERROR(VLOOKUP(A64,tesserati[],3,FALSE)),\"\",VLOOKUP(A64,tesserati[],3,FALSE))","v":""},{"$f":"IF(ISERROR(VLOOKUP(A64,tesserati[],4,FALSE)),\"\",VLOOKUP(A64,tesserati[],4,FALSE))","v":""},{"$f":"IF(ISERROR(VLOOKUP(A64,tesserati[],5,FALSE)),\"\",VLOOKUP(A64,tesserati[],5,FALSE))","v":""},{"$f":"IF(ISERROR(VLOOKUP(A64,tesserati[],7,FALSE)),\"\",VLOOKUP(A64,tesserati[],7,FALSE))","v":""}]
[null,{"$f":"IF(ISERROR(VLOOKUP(A65,tesserati[],2,FALSE)),\"\",VLOOKUP(A65,tesserati[],2,FALSE))","v":""},{"$f":"IF(ISERROR(VLOOKUP(A65,tesserati[],3,FALSE)),\"\",VLOOKUP(A65,tesserati[],3,FALSE))","v":""},{"$f":"IF(ISERROR(VLOOKUP(A65,tesserati[],4,FALSE)),\"\",VLOOKUP(A65,tesserati[],4,FALSE))","v":""},{"$f":"IF(ISERROR(VLOOKUP(A65,tesserati[],5,FALSE)),\"\",VLOOKUP(A65,tesserati[],5,FALSE))","v":""},{"$f":"IF(ISERROR(VLOOKUP(A65,tesserati[],7,FALSE)),\"\",VLOOKUP(A65,tesserati[],7,FALSE))","v":""}]
[null,{"$f":"IF(ISERROR(VLOOKUP(A66,tesserati[],2,FALSE)),\"\",VLOOKUP(A66,tesserati[],2,FALSE))","v":""},{"$f":"IF(ISERROR(VLOOKUP(A66,tesserati[],3,FALSE)),\"\",VLOOKUP(A66,tesserati[],3,FALSE))","v":""},{"$f":"IF(ISERROR(VLOOKUP(A66,tesserati[],4,FALSE)),\"\",VLOOKUP(A66,tesserati[],4,FALSE))","v":""},{"$f":"IF(ISERROR(VLOOKUP(A66,tesserati[],5,FALSE)),\"\",VLOOKUP(A66,tesserati[],5,FALSE))","v":""},{"$f":"IF(ISERROR(VLOOKUP(A66,tesserati[],7,FALSE)),\"\",VLOOKUP(A66,tesserati[],7,FALSE))","v":""}]
[null,{"$f":"IF(ISERROR(VLOOKUP(A67,tesserati[],2,FALSE)),\"\",VLOOKUP(A67,tesserati[],2,FALSE))","v":""},{"$f":"IF(ISERROR(VLOOKUP(A67,tesserati[],3,FALSE)),\"\",VLOOKUP(A67,tesserati[],3,FALSE))","v":""},{"$f":"IF(ISERROR(VLOOKUP(A67,tesserati[],4,FALSE)),\"\",VLOOKUP(A67,tesserati[],4,FALSE))","v":""},{"$f":"IF(ISERROR(VLOOKUP(A67,tesserati[],5,FALSE)),\"\",VLOOKUP(A67,tesserati[],5,FALSE))","v":""},{"$f":"IF(ISERROR(VLOOKUP(A67,tesserati[],7,FALSE)),\"\",VLOOKUP(A67,tesserati[],7,FALSE))","v":""}]
[null,{"$f":"IF(ISERROR(VLOOKUP(A68,tesserati[],2,FALSE)),\"\",VLOOKUP(A68,tesserati[],2,FALSE))","v":""},{"$f":"IF(ISERROR(VLOOKUP(A68,tesserati[],3,FALSE)),\"\",VLOOKUP(A68,tesserati[],3,FALSE))","v":""},{"$f":"IF(ISERROR(VLOOKUP(A68,tesserati[],4,FALSE)),\"\",VLOOKUP(A68,tesserati[],4,FALSE))","v":""},{"$f":"IF(ISERROR(VLOOKUP(A68,tesserati[],5,FALSE)),\"\",VLOOKUP(A68,tesserati[],5,FALSE))","v":""},{"$f":"IF(ISERROR(VLOOKUP(A68,tesserati[],7,FALSE)),\"\",VLOOKUP(A68,tesserati[],7,FALSE))","v":""}]
[null,{"$f":"IF(ISERROR(VLOOKUP(A69,tesserati[],2,FALSE)),\"\",VLOOKUP(A69,tesserati[],2,FALSE))","v":""},{"$f":"IF(ISERROR(VLOOKUP(A69,tesserati[],3,FALSE)),\"\",VLOOKUP(A69,tesserati[],3,FALSE))","v":""},{"$f":"IF(ISERROR(VLOOKUP(A69,tesserati[],4,FALSE)),\"\",VLOOKUP(A69,tesserati[],4,FALSE))","v":""},{"$f":"IF(ISERROR(VLOOKUP(A69,tesserati[],5,FALSE)),\"\",VLOOKUP(A69,tesserati[],5,FALSE))","v":""},{"$f":"IF(ISERROR(VLOOKUP(A69,tesserati[],7,FALSE)),\"\",VLOOKUP(A69,tesserati[],7,FALSE))","v":""}]
[null,{"$f":"IF(ISERROR(VLOOKUP(A70,tesserati[],2,FALSE)),\"\",VLOOKUP(A70,tesserati[],2,FALSE))","v":""},{"$f":"IF(ISERROR(VLOOKUP(A70,tesserati[],3,FALSE)),\"\",VLOOKUP(A70,tesserati[],3,FALSE))","v":""},{"$f":"IF(ISERROR(VLOOKUP(A70,tesserati[],4,FALSE)),\"\",VLOOKUP(A70,tesserati[],4,FALSE))","v":""},{"$f":"IF(ISERROR(VLOOKUP(A70,tesserati[],5,FALSE)),\"\",VLOOKUP(A70,tesserati[],5,FALSE))","v":""},{"$f":"IF(ISERROR(VLOOKUP(A70,tesserati[],7,FALSE)),\"\",VLOOKUP(A70,tesserati[],7,FALSE))","v":""}]
[null,{"$f":"IF(ISERROR(VLOOKUP(A71,tesserati[],2,FALSE)),\"\",VLOOKUP(A71,tesserati[],2,FALSE))","v":""},{"$f":"IF(ISERROR(VLOOKUP(A71,tesserati[],3,FALSE)),\"\",VLOOKUP(A71,tesserati[],3,FALSE))","v":""},{"$f":"IF(ISERROR(VLOOKUP(A71,tesserati[],4,FALSE)),\"\",VLOOKUP(A71,tesserati[],4,FALSE))","v":""},{"$f":"IF(ISERROR(VLOOKUP(A71,tesserati[],5,FALSE)),\"\",VLOOKUP(A71,tesserati[],5,FALSE))","v":""},{"$f":"IF(ISERROR(VLOOKUP(A71,tesserati[],7,FALSE)),\"\",VLOOKUP(A71,tesserati[],7,FALSE))","v":""}]
[null,{"$f":"IF(ISERROR(VLOOKUP(A72,tesserati[],2,FALSE)),\"\",VLOOKUP(A72,tesserati[],2,FALSE))","v":""},{"$f":"IF(ISERROR(VLOOKUP(A72,tesserati[],3,FALSE)),\"\",VLOOKUP(A72,tesserati[],3,FALSE))","v":""},{"$f":"IF(ISERROR(VLOOKUP(A72,tesserati[],4,FALSE)),\"\",VLOOKUP(A72,tesserati[],4,FALSE))","v":""},{"$f":"IF(ISERROR(VLOOKUP(A72,tesserati[],5,FALSE)),\"\",VLOOKUP(A72,tesserati[],5,FALSE))","v":""},{"$f":"IF(ISERROR(VLOOKUP(A72,tesserati[],7,FALSE)),\"\",VLOOKUP(A72,tesserati[],7,FALSE))","v":""}]

{"sheet":"SVEDESE CADETTE","index":12,"n_rows":72,"n_cols":12,"rows_kept":72,"cut":false,"hidden":false,"merged":[[0,2,0,4],[0,5,0,7],[0,8,0,10],[0,11,1,11],[1,2,1,4],[1,5,1,7],[1,8,1,10],[2,11,4,11],[3,0,4,1],[3,2,4,2],[3,3,4,3],[3,5,4,7],[3,8,4,10],[2,0,2,1],[2,4,4,4],[2,5,2,7],[2,8,2,10],[5,9,6,9],[5,10,6,10],[5,11,6,11],[5,0,6,0],[5,1,6,2],[5,3,6,3],[5,4,6,4],[5,5,6,5],[7,0,7,11],[5,6,6,6],[16,6,19,6],[16,7,19,7],[16,8,19,8],[16,9,19,9],[12,6,15,6],[12,7,15,7],[12,8,15,8],[12,9,15,9],[8,6,11,6],[8,7,11,7],[8,8,11,8],[8,9,11,9],[5,7,6,7],[5,8,6,8],[20,6,23,6],[20,7,23,7],[20,8,23,8],[20,9,23,9],[24,6,27,6],[24,7,27,7],[24,8,27,8],[24,9,27,9],[28,6,31,6],[28,7,31,7],[28,8,31,8],[28,9,31,9],[33,6,36,6],[33,7,36,7],[33,8,36,8],[33,9,36,9],[32,0,32,11],[37,6,40,6],[37,7,40,7],[37,8,40,8],[37,9,40,9],[41,6,44,6],[41,7,44,7],[41,8,44,8],[41,9,44,9],[45,6,48,6],[45,7,48,7],[45,8,48,8],[45,9,48,9],[49,6,52,6],[49,7,52,7],[49,8,52,8],[49,9,52,9],[53,6,56,6],[53,7,56,7],[53,8,56,8],[53,9,56,9],[57,6,60,6],[57,7,60,7],[57,8,60,8],[57,9,60,9]]}
[null,null,"MANIFESTAZIONE",null,null,"LOCALITA'",null,null,"SOCIETA' ORGANIZZATRICE"]
[null,null,"6° prova provinciale",null,null,"Tezze sul Brenta",null,null,"CSI Tezze sul Brenta"]
["CATEGORIA",null,"ORA INIZIO","ORA FINE",null,"GARA",null,null,"DATA"]
["CADETTE",null,null,null,null,"SVEDESE",null,null,"2017-09-24"]
[]
["N. tessera","ATLETA\nCOGNOME E NOME",null,"SOCIETA'","NASCITA","CATEGORIA","Corsia","PETTORALE","Tempo","Piazzamento","PUNTI","CL."]
[]
["1 SERIE",{"$f":"IF(ISERROR(VLOOKUP(A8,tesserati[],2,FALSE)),\"\",VLOOKUP(A8,tesserati[],2,FALSE))","v":""},{"$f":"IF(ISERROR(VLOOKUP(A8,tesserati[],3,FALSE)),\"\",VLOOKUP(A8,tesserati[],3,FALSE))","v":""},{"$f":"IF(ISERROR(VLOOKUP(#REF!,tesserati[],5,FALSE)),\"\",VLOOKUP(#REF!,tesserati[],5,FALSE))","v":""},{"$f":"IF(ISERROR(VLOOKUP(A8,tesserati[],4,FALSE)),\"\",VLOOKUP(A8,tesserati[],4,FALSE))","v":""},{"$f":"IF(ISERROR(VLOOKUP(A8,tesserati[],7,FALSE)),\"\",VLOOKUP(A8,tesserati[],7,FALSE))","v":""}]
[3963,{"$f":"IF(ISERROR(VLOOKUP(A9,tesserati[],2,FALSE)),\"\",VLOOKUP(A9,tesserati[],2,FALSE))","v":"DJADOU"},{"$f":"IF(ISERROR(VLOOKUP(A9,tesserati[],3,FALSE)),\"\",VLOOKUP(A9,tesserati[],3,FALSE))","v":"AKPENE MARTIALE"},{"$f":"IF(ISERROR(VLOOKUP(A9,tesserati[],4,FALSE)),\"\",VLOOKUP(A9,tesserati[],4,FALSE))","v":"POLISPORTIVA DUEVILLE"},{"$f":"IF(ISERROR(VLOOKUP(A9,tesserati[],5,FALSE)),\"\",VLOOKUP(A9,tesserati[],5,FALSE))","v":2003},{"$f":"IF(ISERROR(VLOOKUP(A9,tesserati[],7,FALSE)),\"\",VLOOKUP(A9,tesserati[],7,FALSE))","v":"CF"},6,19,"2,28.7",1]
[3997,{"$f":"IF(ISERROR(VLOOKUP(A10,tesserati[],2,FALSE)),\"\",VLOOKUP(A10,tesserati[],2,FALSE))","v":"PIEROPAN"},{"$f":"IF(ISERROR(VLOOKUP(A10,tesserati[],3,FALSE)),\"\",VLOOKUP(A10,tesserati[],3,FALSE))","v":"GIULIA"},{"$f":"IF(ISERROR(VLOOKUP(A10,tesserati[],4,FALSE)),\"\",VLOOKUP(A10,tesserati[],4,FALSE))","v":"POLISPORTIVA DUEVILLE"},{"$f":"IF(ISERROR(VLOOKUP(A10,tesserati[],5,FALSE)),\"\",VLOOKUP(A10,tesserati[],5,FALSE))","v":2003},{"$f":"IF(ISERROR(VLOOKUP(A10,tesserati[],7,FALSE)),\"\",VLOOKUP(A10,tesserati[],7,FALSE))","v":"CF"}]
[3966,{"$f":"IF(ISERROR(VLOOKUP(A11,tesserati[],2,FALSE)),\"\",VLOOKUP(A11,tesserati[],2,FALSE))","v":"FACCIN"},{"$f":"IF(ISERROR(VLOOKUP(A11,tesserati[],3,FALSE)),\"\",VLOOKUP(A11,tesserati[],3,FALSE))","v":"EMILY"},{"$f":"IF(ISERROR(VLOOKUP(A11,tesserati[],4,FALSE)),\"\",VLOOKUP(A11,tesserati[],4,FALSE))","v":"POLISPORTIVA DUEVILLE"},{"$f":"IF(ISERROR(VLOOKUP(A11,tesserati[],5,FALSE)),\"\",VLOOKUP(A11,tesserati[],5,FALSE))","v":2004},{"$f":"IF(ISERROR(VLOOKUP(A11,tesserati[],7,FALSE)),\"\",VLOOKUP(A11,tesserati[],7,FALSE))","v":"RF"}]
[3959,{"$f":"IF(ISERROR(VLOOKUP(A12,tesserati[],2,FALSE)),\"\",VLOOKUP(A12,tesserati[],2,FALSE))","v":"DALLA POZZA"},{"$f":"IF(ISERROR(VLOOKUP(A12,tesserati[],3,FALSE)),\"\",VLOOKUP(A12,tesserati[],3,FALSE))","v":"FRANCESCA"},{"$f":"IF(ISERROR(VLOOKUP(A12,tesserati[],4,FALSE)),\"\",VLOOKUP(A12,tesserati[],4,FALSE))","v":"POLISPORTIVA DUEVILLE"},{"$f":"IF(ISERROR(VLOOKUP(A12,tesserati[],5,FALSE)),\"\",VLOOKUP(A12,tesserati[],5,FALSE))","v":2002},{"$f":"IF(ISERROR(VLOOKUP(A12,tesserati[],7,FALSE)),\"\",VLOOKUP(A12,tesserati[],7,FALSE))","v":"CF"}]
[4595,{"$f":"IF(ISERROR(VLOOKUP(A13,tesserati[],2,FALSE)),\"\",VLOOKUP(A13,tesserati[],2,FALSE))","v":"VALLORTIGARA"},{"$f":"IF(ISERROR(VLOOKUP(A13,tesserati[],3,FALSE)),\"\",VLOOKUP(A13,tesserati[],3,FALSE))","v":"ELENA"},{"$f":"IF(ISERROR(VLOOKUP(A13,tesserati[],4,FALSE)),\"\",VLOOKUP(A13,tesserati[],4,FALSE))","v":"CSI ATLETICA COLLI BERICI"},{"$f":"IF(ISERROR(VLOOKUP(A13,tesserati[],5,FALSE)),\"\",VLOOKUP(A13,tesserati[],5,FALSE))","v":2004},{"$f":"IF(ISERROR(VLOOKUP(A13,tesserati[],7,FALSE)),\"\",VLOOKUP(A13,tesserati[],7,FALSE))","v":"RF"},2,82,"2,36.8",2]
[7975,{"$f":"IF(ISERROR(VLOOKUP(A14,tesserati[],2,FALSE)),\"\",VLOOKUP(A14,tesserati[],2,FALSE))","v":"FIAGAH"},{"$f":"IF(ISERROR(VLOOKUP(A14,tesserati[],3,FALSE)),\"\",VLOOKUP(A14,tesserati[],3,FALSE))","v":"MARY"},{"$f":"IF(ISERROR(VLOOKUP(A14,tesserati[],4,FALSE)),\"\",VLOOKUP(A14,tesserati[],4,FALSE))","v":"CSI ATLETICA COLLI BERICI"},{"$f":"IF(ISERROR(VLOOKUP(A14,tesserati[],5,FALSE)),\"\",VLOOKUP(A14,tesserati[],5,FALSE))","v":2004},{"$f":"IF(ISERROR(VLOOKUP(A14,tesserati[],7,FALSE)),\"\",VLOOKUP(A14,tesserati[],7,FALSE))","v":"RF"}]
[4378,{"$f":"IF(ISERROR(VLOOKUP(A15,tesserati[],2,FALSE)),\"\",VLOOKUP(A15,tesserati[],2,FALSE))","v":"ASSAM"},{"$f":"IF(ISERROR(VLOOKUP(A15,tesserati[],3,FALSE)),\"\",VLOOKUP(A15,tesserati[],3,FALSE))","v":"FAIZA"},{"$f":"IF(ISERROR(VLOOKUP(A15,tesserati[],4,FALSE)),\"\",VLOOKUP(A15,tesserati[],4,FALSE))","v":"CSI ATLETICA COLLI BERICI"},{"$f":"IF(ISERROR(VLOOKUP(A15,tesserati[],5,FALSE)),\"\",VLOOKUP(A15,tesserati[],5,FALSE))","v":2003},{"$f":"IF(ISERROR(VLOOKUP(A15,tesserati[],7,FALSE)),\"\",VLOOKUP(A15,tesserati[],7,FALSE))","v":"CF"}]
[4379,{"$f":"IF(ISERROR(VLOOKUP(A16,tesserati[],2,FALSE)),\"\",VLOOKUP(A16,tesserati[],2,FALSE))","v":"ASSAM"},{"$f":"IF(ISERROR(VLOOKUP(A16,tesserati[],3,FALSE)),\"\",VLOOKUP(A16,tesserati[],3,FALSE))","v":"SALIHA"},{"$f":"IF(ISERROR(VLOOKUP(A16,tesserati[],4,FALSE)),\"\",VLOOKUP(A16,tesserati[],4,FALSE))","v":"CSI ATLETICA COLLI BERICI"},{"$f":"IF(ISERROR(VLOOKUP(A16,tesserati[],5,FALSE)),\"\",VLOOKUP(A16,tesserati[],5,FALSE))","v":2003},{"$f":"IF(ISERROR(VLOOKUP(A16,tesserati[],7,FALSE)),\"\",VLOOKUP(A16,tesserati[],7,FALSE))","v":"CF"}]
[5129,{"$f":"IF(ISERROR(VLOOKUP(A17,tesserati[],2,FALSE)),\"\",VLOOKUP(A17,tesserati[],2,FALSE))","v":"MENEGHETTI"},{"$f":"IF(ISERROR(VLOOKUP(A17,tesserati[],3,FALSE)),\"\",VLOOKUP(A17,tesserati[],3,FALSE))","v":"ALICE"},{"$f":"IF(ISERROR(VLOOKUP(A17,tesserati[],4,FALSE)),\"\",VLOOKUP(A17,tesserati[],4,FALSE))","v":"POLISPORTIVA SALF ALTOPADOVANA"},{"$f":"IF(ISERROR(VLOOKUP(A17,tesserati[],5,FALSE)),\"\",VLOOKUP(A17,tesserati[],5,FALSE))","v":2005},{"$f":"IF(ISERROR(VLOOKUP(A17,tesserati[],7,FALSE)),\"\",VLOOKUP(A17,tesserati[],7,FALSE))","v":"RF"},5,646,"2,49.2",3]
[4903,{"$f":"IF(ISERROR(VLOOKUP(A18,tesserati[],2,FALSE)),\"\",VLOOKUP(A18,tesserati[],2,FALSE))","v":"GNOATTO"},{"$f":"IF(ISERROR(VLOOKUP(A18,tesserati[],3,FALSE)),\"\",VLOOKUP(A18,tesserati[],3,FALSE))","v":"ALTEA"},{"$f":"IF(ISERROR(VLOOKUP(A18,tesserati[],4,FALSE)),\"\",VLOOKUP(A18,tesserati[],4,FALSE))","v":"POLISPORTIVA SALF ALTOPADOVANA"},{"$f":"IF(ISERROR(VLOOKUP(A18,tesserati[],5,FALSE)),\"\",VLOOKUP(A18,tesserati[],5,FALSE))","v":2004},{"$f":"IF(ISERROR(VLOOKUP(A18,tesserati[],7,FALSE)),\"\",VLOOKUP(A18,tesserati[],7,FALSE))","v":"RF"}]
[5119,{"$f":"IF(ISERROR(VLOOKUP(A19,tesserati[],2,FALSE)),\"\",VLOOKUP(A19,tesserati[],2,FALSE))","v":"MARANGONI"},{"$f":"IF(ISERROR(VLOOKUP(A19,tesserati[],3,FALSE)),\"\",VLOOKUP(A19,tesserati[],3,FALSE))","v":"ALICE"},{"$f":"IF(ISERROR(VLOOKUP(A19,tesserati[],4,FALSE)),\"\",VLOOKUP(A19,tesserati[],4,FALSE))","v":"POLISPORTIVA SALF ALTOPADOVANA"},{"$f":"IF(ISERROR(VLOOKUP(A19,tesserati[],5,FALSE)),\"\",VLOOKUP(A19,tesserati[],5,FALSE))","v":2003},{"$f":"IF(ISERROR(VLOOKUP(A19,tesserati[],7,FALSE)),\"\",VLOOKUP(A19,tesserati[],7,FALSE))","v":"CF"}]
[5169,{"$f":"IF(ISERROR(VLOOKUP(A20,tesserati[],2,FALSE)),\"\",VLOOKUP(A20,tesserati[],2,FALSE))","v":"NONNI"},{"$f":"IF(ISERROR(VLOOKUP(A20,tesserati[],3,FALSE)),\"\",VLOOKUP(A20,tesserati[],3,FALSE))","v":"HASANATOU"},{"$f":"IF(ISERROR(VLOOKUP(A20,tesserati[],4,FALSE)),\"\",VLOOKUP(A20,tesserati[],4,FALSE))","v":"POLISPORTIVA SALF ALTOPADOVANA"},{"$f":"IF(ISERROR(VLOOKUP(A20,tesserati[],5,FALSE)),\"\",VLOOKUP(A20,tesserati[],5,FALSE))","v":2005},{"$f":"IF(ISERROR(VLOOKUP(A20,tesserati[],7,FALSE)),\"\",VLOOKUP(A20,tesserati[],7,FALSE))","v":"RF"}]
[4335,{"$f":"IF(ISERROR(VLOOKUP(A21,tesserati[],2,FALSE)),\"\",VLOOKUP(A21,tesserati[],2,FALSE))","v":"JENDOUBI"},{"$f":"IF(ISERROR(VLOOKUP(A21,tesserati[],3,FALSE)),\"\",VLOOKUP(A21,tesserati[],3,FALSE))","v":"LINDA"},{"$f":"IF(ISERROR(VLOOKUP(A21,tesserati[],4,FALSE)),\"\",VLOOKUP(A21,tesserati[],4,FALSE))","v":"C.S.I. TEZZE SUL BRENTA"},{"$f":"IF(ISERROR(VLOOKUP(A21,tesserati[],5,FALSE)),\"\",VLOOKUP(A21,tesserati[],5,FALSE))","v":2005},{"$f":"IF(ISERROR(VLOOKUP(A21,tesserati[],7,FALSE)),\"\",VLOOKUP(A21,tesserati[],7,FALSE))","v":"RF"},3,99,"3,00.7",4]
[2470,{"$f":"IF(ISERROR(VLOOKUP(A22,tesserati[],2,FALSE)),\"\",VLOOKUP(A22,tesserati[],2,FALSE))","v":"SIMONETTO"},{"$f":"IF(ISERROR(VLOOKUP(A22,tesserati[],3,FALSE)),\"\",VLOOKUP(A22,tesserati[],3,FALSE))","v":"ANNA"},{"$f":"IF(ISERROR(VLOOKUP(A22,tesserati[],4,FALSE)),\"\",VLOOKUP(A22,tesserati[],4,FALSE))","v":"C.S.I. TEZZE SUL BRENTA"},{"$f":"IF(ISERROR(VLOOKUP(A22,tesserati[],5,FALSE)),\"\",VLOOKUP(A22,tesserati[],5,FALSE))","v":2005},{"$f":"IF(ISERROR(VLOOKUP(A22,tesserati[],7,FALSE)),\"\",VLOOKUP(A22,tesserati[],7,FALSE))","v":"RF"}]
[2482,{"$f":"IF(ISERROR(VLOOKUP(A23,tesserati[],2,FALSE)),\"\",VLOOKUP(A23,tesserati[],2,FALSE))","v":"LAGO"},{"$f":"IF(ISERROR(VLOOKUP(A23,tesserati[],3,FALSE)),\"\",VLOOKUP(A23,tesserati[],3,FALSE))","v":"ANGELICA"},{"$f":"IF(ISERROR(VLOOKUP(A23,tesserati[],4,FALSE)),\"\",VLOOKUP(A23,tesserati[],4,FALSE))","v":"C.S.I. TEZZE SUL BRENTA"},{"$f":"IF(ISERROR(VLOOKUP(A23,tesserati[],5,FALSE)),\"\",VLOOKUP(A23,tesserati[],5,FALSE))","v":2003},{"$f":"IF(ISERROR(VLOOKUP(A23,tesserati[],7,FALSE)),\"\",VLOOKUP(A23,tesserati[],7,FALSE))","v":"CF"}]
[2480,{"$f":"IF(ISERROR(VLOOKUP(A24,tesserati[],2,FALSE)),\"\",VLOOKUP(A24,tesserati[],2,FALSE))","v":"MARAGNO"},{"$f":"IF(ISERROR(VLOOKUP(A24,tesserati[],3,FALSE)),\"\",VLOOKUP(A24,tesserati[],3,FALSE))","v":"GIULIA"},{"$f":"IF(ISERROR(VLOOKUP(A24,tesserati[],4,FALSE)),\"\",VLOOKUP(A24,tesserati[],4,FALSE))","v":"C.S.I. TEZZE SUL BRENTA"},{"$f":"IF(ISERROR(VLOOKUP(A24,tesserati[],5,FALSE)),\"\",VLOOKUP(A24,tesserati[],5,FALSE))","v":2003},{"$f":"IF(ISERROR(VLOOKUP(A24,tesserati[],7,FALSE)),\"\",VLOOKUP(A24,tesserati[],7,FALSE))","v":"CF"}]
[6287,{"$f":"IF(ISERROR(VLOOKUP(A25,tesserati[],2,FALSE)),\"\",VLOOKUP(A25,tesserati[],2,FALSE))","v":"BANCE"},{"$f":"IF(ISERROR(VLOOKUP(A25,tesserati[],3,FALSE)),\"\",VLOOKUP(A25,tesserati[],3,FALSE))","v":"RABIATOU"},{"$f":"IF(ISERROR(VLOOKUP(A25,tesserati[],4,FALSE)),\"\",VLOOKUP(A25,tesserati[],4,FALSE))","v":"ATLETICA TRISSINO"},{"$f":"IF(ISERROR(VLOOKUP(A25,tesserati[],5,FALSE)),\"\",VLOOKUP(A25,tesserati[],5,FALSE))","v":2004},{"$f":"IF(ISERROR(VLOOKUP(A25,tesserati[],7,FALSE)),\"\",VLOOKUP(A25,tesserati[],7,FALSE))","v":"RF"},5,84,"3,06.2",5]
[4206,{"$f":"IF(ISERROR(VLOOKUP(A26,tesserati[],2,FALSE)),\"\",VLOOKUP(A26,tesserati[],2,FALSE))","v":"SEGATO"},{"$f":"IF(ISERROR(VLOOKUP(A26,tesserati[],3,FALSE)),\"\",VLOOKUP(A26,tesserati[],3,FALSE))","v":"EMY"},{"$f":"IF(ISERROR(VLOOKUP(A26,tesserati[],4,FALSE)),\"\",VLOOKUP(A26,tesserati[],4,FALSE))","v":"ATLETICA TRISSINO"},{"$f":"IF(ISERROR(VLOOKUP(A26,tesserati[],5,FALSE)),\"\",VLOOKUP(A26,tesserati[],5,FALSE))","v":2005},{"$f":"IF(ISERROR(VLOOKUP(A26,tesserati[],7,FALSE)),\"\",VLOOKUP(A26,tesserati[],7,FALSE))","v":"RF"}]
[4210,{"$f":"IF(ISERROR(VLOOKUP(A27,tesserati[],2,FALSE)),\"\",VLOOKUP(A27,tesserati[],2,FALSE))","v":"PASETTI"},{"$f":"IF(ISERROR(VLOOKUP(A27,tesserati[],3,FALSE)),\"\",VLOOKUP(A27,tesserati[],3,FALSE))","v":"ANGELA"},{"$f":"IF(ISERROR(VLOOKUP(A27,tesserati[],4,FALSE)),\"\",VLOOKUP(A27,tesserati[],4,FALSE))","v":"ATLETICA TRISSINO"},{"$f":"IF(ISERROR(VLOOKUP(A27,tesserati[],5,FALSE)),\"\",VLOOKUP(A27,tesserati[],5,FALSE))","v":2003},{"$f":"IF(ISERROR(VLOOKUP(A27,tesserati[],7,FALSE)),\"\",VLOOKUP(A27,tesserati[],7,FALSE))","v":"CF"}]
[4211,{"$f":"IF(ISERROR(VLOOKUP(A28,tesserati[],2,FALSE)),\"\",VLOOKUP(A28,tesserati[],2,FALSE))","v":"GENTILIN"},{"$f":"IF(ISERROR(VLOOKUP(A28,tesserati[],3,FALSE)),\"\",VLOOKUP(A28,tesserati[],3,FALSE))","v":"ALESSIA"},{"$f":"IF(ISERROR(VLOOKUP(A28,tesserati[],4,FALSE)),\"\",VLOOKUP(A28,tesserati[],4,FALSE))","v":"ATLETICA TRISSINO"},{"$f":"IF(ISERROR(VLOOKUP(A28,tesserati[],5,FALSE)),\"\",VLOOKUP(A28,tesserati[],5,FALSE))","v":2004},{"$f":"IF(ISERROR(VLOOKUP(A28,tesserati[],7,FALSE)),\"\",VLOOKUP(A28,tesserati[],7,FALSE))","v":"RF"}]
[null,{"$f":"IF(ISERROR(VLOOKUP(A29,tesserati[],2,FALSE)),\"\",VLOOKUP(A29,tesserati[],2,FALSE))","v":""},{"$f":"IF(ISERROR(VLOOKUP(A29,tesserati[],3,FALSE)),\"\",VLOOKUP(A29,tesserati[],3,FALSE))","v":""},{"$f":"IF(ISERROR(VLOOKUP(A29,tesserati[],4,FALSE)),\"\",VLOOKUP(A29,tesserati[],4,FALSE))","v":""},{"$f":"IF(ISERROR(VLOOKUP(A29,tesserati[],5,FALSE)),\"\",VLOOKUP(A29,tesserati[],5,FALSE))","v":""},{"$f":"IF(ISERROR(VLOOKUP(A29,tesserati[],7,FALSE)),\"\",VLOOKUP(A29,tesserati[],7,FALSE))","v":""}]
[null,{"$f":"IF(ISERROR(VLOOKUP(A30,tesserati[],2,FALSE)),\"\",VLOOKUP(A30,tesserati[],2,FALSE))","v":""},{"$f":"IF(ISERROR(VLOOKUP(A30,tesserati[],3,FALSE)),\"\",VLOOKUP(A30,tesserati[],3,FALSE))","v":""},{"$f":"IF(ISERROR(VLOOKUP(A30,tesserati[],4,FALSE)),\"\",VLOOKUP(A30,tesserati[],4,FALSE))","v":""},{"$f":"IF(ISERROR(VLOOKUP(A30,tesserati[],5,FALSE)),\"\",VLOOKUP(A30,tesserati[],5,FALSE))","v":""},{"$f":"IF(ISERROR(VLOOKUP(A30,tesserati[],7,FALSE)),\"\",VLOOKUP(A30,tesserati[],7,FALSE))","v":""}]
[null,{"$f":"IF(ISERROR(VLOOKUP(A31,tesserati[],2,FALSE)),\"\",VLOOKUP(A31,tesserati[],2,FALSE))","v":""},{"$f":"IF(ISERROR(VLOOKUP(A31,tesserati[],3,FALSE)),\"\",VLOOKUP(A31,tesserati[],3,FALSE))","v":""},{"$f":"IF(ISERROR(VLOOKUP(A31,tesserati[],4,FALSE)),\"\",VLOOKUP(A31,tesserati[],4,FALSE))","v":""},{"$f":"IF(ISERROR(VLOOKUP(A31,tesserati[],5,FALSE)),\"\",VLOOKUP(A31,tesserati[],5,FALSE))","v":""},{"$f":"IF(ISERROR(VLOOKUP(A31,tesserati[],7,FALSE)),\"\",VLOOKUP(A31,tesserati[],7,FALSE))","v":""}]
[null,{"$f":"IF(ISERROR(VLOOKUP(A32,tesserati[],2,FALSE)),\"\",VLOOKUP(A32,tesserati[],2,FALSE))","v":""},{"$f":"IF(ISERROR(VLOOKUP(A32,tesserati[],3,FALSE)),\"\",VLOOKUP(A32,tesserati[],3,FALSE))","v":""},{"$f":"IF(ISERROR(VLOOKUP(A32,tesserati[],4,FALSE)),\"\",VLOOKUP(A32,tesserati[],4,FALSE))","v":""},{"$f":"IF(ISERROR(VLOOKUP(A32,tesserati[],5,FALSE)),\"\",VLOOKUP(A32,tesserati[],5,FALSE))","v":""},{"$f":"IF(ISERROR(VLOOKUP(A32,tesserati[],7,FALSE)),\"\",VLOOKUP(A32,tesserati[],7,FALSE))","v":""}]
["2 SERIE"]
[null,{"$f":"IF(ISERROR(VLOOKUP(A34,tesserati[],2,FALSE)),\"\",VLOOKUP(A34,tesserati[],2,FALSE))","v":""},{"$f":"IF(ISERROR(VLOOKUP(A34,tesserati[],3,FALSE)),\"\",VLOOKUP(A34,tesserati[],3,FALSE))","v":""},{"$f":"IF(ISERROR(VLOOKUP(A34,tesserati[],4,FALSE)),\"\",VLOOKUP(A34,tesserati[],4,FALSE))","v":""},{"$f":"IF(ISERROR(VLOOKUP(A34,tesserati[],5,FALSE)),\"\",VLOOKUP(A34,tesserati[],5,FALSE))","v":""},{"$f":"IF(ISERROR(VLOOKUP(A34,tesserati[],7,FALSE)),\"\",VLOOKUP(A34,tesserati[],7,FALSE))","v":""},1]
[null,{"$f":"IF(ISERROR(VLOOKUP(A35,tesserati[],2,FALSE)),\"\",VLOOKUP(A35,tesserati[],2,FALSE))","v":""},{"$f":"IF(ISERROR(VLOOKUP(A35,tesserati[],3,FALSE)),\"\",VLOOKUP(A35,tesserati[],3,FALSE))","v":""},{"$f":"IF(ISERROR(VLOOKUP(A35,tesserati[],4,FALSE)),\"\",VLOOKUP(A35,tesserati[],4,FALSE))","v":""},{"$f":"IF(ISERROR(VLOOKUP(A35,tesserati[],5,FALSE)),\"\",VLOOKUP(A35,tesserati[],5,FALSE))","v":""},{"$f":"IF(ISERROR(VLOOKUP(A35,tesserati[],7,FALSE)),\"\",VLOOKUP(A35,tesserati[],7,FALSE))","v":""}]
[null,{"$f":"IF(ISERROR(VLOOKUP(A36,tesserati[],2,FALSE)),\"\",VLOOKUP(A36,tesserati[],2,FALSE))","v":""},{"$f":"IF(ISERROR(VLOOKUP(A36,tesserati[],3,FALSE)),\"\",VLOOKUP(A36,tesserati[],3,FALSE))","v":""},{"$f":"IF(ISERROR(VLOOKUP(A36,tesserati[],4,FALSE)),\"\",VLOOKUP(A36,tesserati[],4,FALSE))","v":""},{"$f":"IF(ISERROR(VLOOKUP(A36,tesserati[],5,FALSE)),\"\",VLOOKUP(A36,tesserati[],5,FALSE))","v":""},{"$f":"IF(ISERROR(VLOOKUP(A36,tesserati[],7,FALSE)),\"\",VLOOKUP(A36,tesserati[],7,FALSE))","v":""}]
[null,{"$f":"IF(ISERROR(VLOOKUP(A37,tesserati[],2,FALSE)),\"\",VLOOKUP(A37,tesserati[],2,FALSE))","v":""},{"$f":"IF(ISERROR(VLOOKUP(A37,tesserati[],3,FALSE)),\"\",VLOOKUP(A37,tesserati[],3,FALSE))","v":""},{"$f":"IF(ISERROR(VLOOKUP(A37,tesserati[],4,FALSE)),\"\",VLOOKUP(A37,tesserati[],4,FALSE))","v":""},{"$f":"IF(ISERROR(VLOOKUP(A37,tesserati[],5,FALSE)),\"\",VLOOKUP(A37,tesserati[],5,FALSE))","v":""},{"$f":"IF(ISERROR(VLOOKUP(A37,tesserati[],7,FALSE)),\"\",VLOOKUP(A37,tesserati[],7,FALSE))","v":""}]
[null,{"$f":"IF(ISERROR(VLOOKUP(A38,tesserati[],2,FALSE)),\"\",VLOOKUP(A38,tesserati[],2,FALSE))","v":""},{"$f":"IF(ISERROR(VLOOKUP(A38,tesserati[],3,FALSE)),\"\",VLOOKUP(A38,tesserati[],3,FALSE))","v":""},{"$f":"IF(ISERROR(VLOOKUP(A38,tesserati[],4,FALSE)),\"\",VLOOKUP(A38,tesserati[],4,FALSE))","v":""},{"$f":"IF(ISERROR(VLOOKUP(A38,tesserati[],5,FALSE)),\"\",VLOOKUP(A38,tesserati[],5,FALSE))","v":""},{"$f":"IF(ISERROR(VLOOKUP(A38,tesserati[],7,FALSE)),\"\",VLOOKUP(A38,tesserati[],7,FALSE))","v":""},2]
[null,{"$f":"IF(ISERROR(VLOOKUP(A39,tesserati[],2,FALSE)),\"\",VLOOKUP(A39,tesserati[],2,FALSE))","v":""},{"$f":"IF(ISERROR(VLOOKUP(A39,tesserati[],3,FALSE)),\"\",VLOOKUP(A39,tesserati[],3,FALSE))","v":""},{"$f":"IF(ISERROR(VLOOKUP(A39,tesserati[],4,FALSE)),\"\",VLOOKUP(A39,tesserati[],4,FALSE))","v":""},{"$f":"IF(ISERROR(VLOOKUP(A39,tesserati[],5,FALSE)),\"\",VLOOKUP(A39,tesserati[],5,FALSE))","v":""},{"$f":"IF(ISERROR(VLOOKUP(A39,tesserati[],7,FALSE)),\"\",VLOOKUP(A39,tesserati[],7,FALSE))","v":""}]
[null,{"$f":"IF(ISERROR(VLOOKUP(A40,tesserati[],2,FALSE)),\"\",VLOOKUP(A40,tesserati[],2,FALSE))","v":""},{"$f":"IF(ISERROR(VLOOKUP(A40,tesserati[],3,FALSE)),\"\",VLOOKUP(A40,tesserati[],3,FALSE))","v":""},{"$f":"IF(ISERROR(VLOOKUP(A40,tesserati[],4,FALSE)),\"\",VLOOKUP(A40,tesserati[],4,FALSE))","v":""},{"$f":"IF(ISERROR(VLOOKUP(A40,tesserati[],5,FALSE)),\"\",VLOOKUP(A40,tesserati[],5,FALSE))","v":""},{"$f":"IF(ISERROR(VLOOKUP(A40,tesserati[],7,FALSE)),\"\",VLOOKUP(A40,tesserati[],7,FALSE))","v":""}]
[null,{"$f":"IF(ISERROR(VLOOKUP(A41,tesserati[],2,FALSE)),\"\",VLOOKUP(A41,tesserati[],2,FALSE))","v":""},{"$f":"IF(ISERROR(VLOOKUP(A41,tesserati[],3,FALSE)),\"\",VLOOKUP(A41,tesserati[],3,FALSE))","v":""},{"$f":"IF(ISERROR(VLOOKUP(A41,tesserati[],4,FALSE)),\"\",VLOOKUP(A41,tesserati[],4,FALSE))","v":""},{"$f":"IF(ISERROR(VLOOKUP(A41,tesserati[],5,FALSE)),\"\",VLOOKUP(A41,tesserati[],5,FALSE))","v":""},{"$f":"IF(ISERROR(VLOOKUP(A41,tesserati[],7,FALSE)),\"\",VLOOKUP(A41,tesserati[],7,FALSE))","v":""}]
[null,{"$f":"IF(ISERROR(VLOOKUP(A42,tesserati[],2,FALSE)),\"\",VLOOKUP(A42,tesserati[],2,FALSE))","v":""},{"$f":"IF(ISERROR(VLOOKUP(A42,tesserati[],3,FALSE)),\"\",VLOOKUP(A42,tesserati[],3,FALSE))","v":""},{"$f":"IF(ISERROR(VLOOKUP(A42,tesserati[],4,FALSE)),\"\",VLOOKUP(A42,tesserati[],4,FALSE))","v":""},{"$f":"IF(ISERROR(VLOOKUP(A42,tesserati[],5,FALSE)),\"\",VLOOKUP(A42,tesserati[],5,FALSE))","v":""},{"$f":"IF(ISERROR(VLOOKUP(A42,tesserati[],7,FALSE)),\"\",VLOOKUP(A42,tesserati[],7,FALSE))","v":""},3]
[null,{"$f":"IF(ISERROR(VLOOKUP(A43,tesserati[],2,FALSE)),\"\",VLOOKUP(A43,tesserati[],2,FALSE))","v":""},{"$f":"IF(ISERROR(VLOOKUP(A43,tesserati[],3,FALSE)),\"\",VLOOKUP(A43,tesserati[],3,FALSE))","v":""},{"$f":"IF(ISERROR(VLOOKUP(A43,tesserati[],4,FALSE)),\"\",VLOOKUP(A43,tesserati[],4,FALSE))","v":""},{"$f":"IF(ISERROR(VLOOKUP(A43,tesserati[],5,FALSE)),\"\",VLOOKUP(A43,tesserati[],5,FALSE))","v":""},{"$f":"IF(ISERROR(VLOOKUP(A43,tesserati[],7,FALSE)),\"\",VLOOKUP(A43,tesserati[],7,FALSE))","v":""}]
[null,{"$f":"IF(ISERROR(VLOOKUP(A44,tesserati[],2,FALSE)),\"\",VLOOKUP(A44,tesserati[],2,FALSE))","v":""},{"$f":"IF(ISERROR(VLOOKUP(A44,tesserati[],3,FALSE)),\"\",VLOOKUP(A44,tesserati[],3,FALSE))","v":""},{"$f":"IF(ISERROR(VLOOKUP(A44,tesserati[],4,FALSE)),\"\",VLOOKUP(A44,tesserati[],4,FALSE))","v":""},{"$f":"IF(ISERROR(VLOOKUP(A44,tesserati[],5,FALSE)),\"\",VLOOKUP(A44,tesserati[],5,FALSE))","v":""},{"$f":"IF(ISERROR(VLOOKUP(A44,tesserati[],7,FALSE)),\"\",VLOOKUP(A44,tesserati[],7,FALSE))","v":""}]
[null,{"$f":"IF(ISERROR(VLOOKUP(A45,tesserati[],2,FALSE)),\"\",VLOOKUP(A45,tesserati[],2,FALSE))","v":""},{"$f":"IF(ISERROR(VLOOKUP(A45,tesserati[],3,FALSE)),\"\",VLOOKUP(A45,tesserati[],3,FALSE))","v":""},{"$f":"IF(ISERROR(VLOOKUP(A45,tesserati[],4,FALSE)),\"\",VLOOKUP(A45,tesserati[],4,FALSE))","v":""},{"$f":"IF(ISERROR(VLOOKUP(A45,tesserati[],5,FALSE)),\"\",VLOOKUP(A45,tesserati[],5,FALSE))","v":""},{"$f":"IF(ISERROR(VLOOKUP(A45,tesserati[],7,FALSE)),\"\",VLOOKUP(A45,tesserati[],7,FALSE))","v":""}]
[null,{"$f":"IF(ISERROR(VLOOKUP(A46,tesserati[],2,FALSE)),\"\",VLOOKUP(A46,tesserati[],2,FALSE))","v":""},{"$f":"IF(ISERROR(VLOOKUP(A46,tesserati[],3,FALSE)),\"\",VLOOKUP(A46,tesserati[],3,FALSE))","v":""},{"$f":"IF(ISERROR(VLOOKUP(A46,tesserati[],4,FALSE)),\"\",VLOOKUP(A46,tesserati[],4,FALSE))","v":""},{"$f":"IF(ISERROR(VLOOKUP(A46,tesserati[],5,FALSE)),\"\",VLOOKUP(A46,tesserati[],5,FALSE))","v":""},{"$f":"IF(ISERROR(VLOOKUP(A46,tesserati[],7,FALSE)),\"\",VLOOKUP(A46,tesserati[],7,FALSE))","v":""},4]
[null,{"$f":"IF(ISERROR(VLOOKUP(A47,tesserati[],2,FALSE)),\"\",VLOOKUP(A47,tesserati[],2,FALSE))","v":""},{"$f":"IF(ISERROR(VLOOKUP(A47,tesserati[],3,FALSE)),\"\",VLOOKUP(A47,tesserati[],3,FALSE))","v":""},{"$f":"IF(ISERROR(VLOOKUP(A47,tesserati[],4,FALSE)),\"\",VLOOKUP(A47,tesserati[],4,FALSE))","v":""},{"$f":"IF(ISERROR(VLOOKUP(A47,tesserati[],5,FALSE)),\"\",VLOOKUP(A47,tesserati[],5,FALSE))","v":""},{"$f":"IF(ISERROR(VLOOKUP(A47,tesserati[],7,FALSE)),\"\",VLOOKUP(A47,tesserati[],7,FALSE))","v":""}]
[null,{"$f":"IF(ISERROR(VLOOKUP(A48,tesserati[],2,FALSE)),\"\",VLOOKUP(A48,tesserati[],2,FALSE))","v":""},{"$f":"IF(ISERROR(VLOOKUP(A48,tesserati[],3,FALSE)),\"\",VLOOKUP(A48,tesserati[],3,FALSE))","v":""},{"$f":"IF(ISERROR(VLOOKUP(A48,tesserati[],4,FALSE)),\"\",VLOOKUP(A48,tesserati[],4,FALSE))","v":""},{"$f":"IF(ISERROR(VLOOKUP(A48,tesserati[],5,FALSE)),\"\",VLOOKUP(A48,tesserati[],5,FALSE))","v":""},{"$f":"IF(ISERROR(VLOOKUP(A48,tesserati[],7,FALSE)),\"\",VLOOKUP(A48,tesserati[],7,FALSE))","v":""}]
[null,{"$f":"IF(ISERROR(VLOOKUP(A49,tesserati[],2,FALSE)),\"\",VLOOKUP(A49,tesserati[],2,FALSE))","v":""},{"$f":"IF(ISERROR(VLOOKUP(A49,tesserati[],3,FALSE)),\"\",VLOOKUP(A49,tesserati[],3,FALSE))","v":""},{"$f":"IF(ISERROR(VLOOKUP(A49,tesserati[],4,FALSE)),\"\",VLOOKUP(A49,tesserati[],4,FALSE))","v":""},{"$f":"IF(ISERROR(VLOOKUP(A49,tesserati[],5,FALSE)),\"\",VLOOKUP(A49,tesserati[],5,FALSE))","v":""},{"$f":"IF(ISERROR(VLOOKUP(A49,tesserati[],7,FALSE)),\"\",VLOOKUP(A49,tesserati[],7,FALSE))","v":""}]
[null,{"$f":"IF(ISERROR(VLOOKUP(A50,tesserati[],2,FALSE)),\"\",VLOOKUP(A50,tesserati[],2,FALSE))","v":""},{"$f":"IF(ISERROR(VLOOKUP(A50,tesserati[],3,FALSE)),\"\",VLOOKUP(A50,tesserati[],3,FALSE))","v":""},{"$f":"IF(ISERROR(VLOOKUP(A50,tesserati[],4,FALSE)),\"\",VLOOKUP(A50,tesserati[],4,FALSE))","v":""},{"$f":"IF(ISERROR(VLOOKUP(A50,tesserati[],5,FALSE)),\"\",VLOOKUP(A50,tesserati[],5,FALSE))","v":""},{"$f":"IF(ISERROR(VLOOKUP(A50,tesserati[],7,FALSE)),\"\",VLOOKUP(A50,tesserati[],7,FALSE))","v":""},5]
[null,{"$f":"IF(ISERROR(VLOOKUP(A51,tesserati[],2,FALSE)),\"\",VLOOKUP(A51,tesserati[],2,FALSE))","v":""},{"$f":"IF(ISERROR(VLOOKUP(A51,tesserati[],3,FALSE)),\"\",VLOOKUP(A51,tesserati[],3,FALSE))","v":""},{"$f":"IF(ISERROR(VLOOKUP(A51,tesserati[],4,FALSE)),\"\",VLOOKUP(A51,tesserati[],4,FALSE))","v":""},{"$f":"IF(ISERROR(VLOOKUP(A51,tesserati[],5,FALSE)),\"\",VLOOKUP(A51,tesserati[],5,FALSE))","v":""},{"$f":"IF(ISERROR(VLOOKUP(A51,tesserati[],7,FALSE)),\"\",VLOOKUP(A51,tesserati[],7,FALSE))","v":""}]
[null,{"$f":"IF(ISERROR(VLOOKUP(A52,tesserati[],2,FALSE)),\"\",VLOOKUP(A52,tesserati[],2,FALSE))","v":""},{"$f":"IF(ISERROR(VLOOKUP(A52,tesserati[],3,FALSE)),\"\",VLOOKUP(A52,tesserati[],3,FALSE))","v":""},{"$f":"IF(ISERROR(VLOOKUP(A52,tesserati[],4,FALSE)),\"\",VLOOKUP(A52,tesserati[],4,FALSE))","v":""},{"$f":"IF(ISERROR(VLOOKUP(A52,tesserati[],5,FALSE)),\"\",VLOOKUP(A52,tesserati[],5,FALSE))","v":""},{"$f":"IF(ISERROR(VLOOKUP(A52,tesserati[],7,FALSE)),\"\",VLOOKUP(A52,tesserati[],7,FALSE))","v":""}]
[null,{"$f":"IF(ISERROR(VLOOKUP(A53,tesserati[],2,FALSE)),\"\",VLOOKUP(A53,tesserati[],2,FALSE))","v":""},{"$f":"IF(ISERROR(VLOOKUP(A53,tesserati[],3,FALSE)),\"\",VLOOKUP(A53,tesserati[],3,FALSE))","v":""},{"$f":"IF(ISERROR(VLOOKUP(A53,tesserati[],4,FALSE)),\"\",VLOOKUP(A53,tesserati[],4,FALSE))","v":""},{"$f":"IF(ISERROR(VLOOKUP(A53,tesserati[],5,FALSE)),\"\",VLOOKUP(A53,tesserati[],5,FALSE))","v":""},{"$f":"IF(ISERROR(VLOOKUP(A53,tesserati[],7,FALSE)),\"\",VLOOKUP(A53,tesserati[],7,FALSE))","v":""}]
[null,{"$f":"IF(ISERROR(VLOOKUP(A54,tesserati[],2,FALSE)),\"\",VLOOKUP(A54,tesserati[],2,FALSE))","v":""},{"$f":"IF(ISERROR(VLOOKUP(A54,tesserati[],3,FALSE)),\"\",VLOOKUP(A54,tesserati[],3,FALSE))","v":""},{"$f":"IF(ISERROR(VLOOKUP(A54,tesserati[],4,FALSE)),\"\",VLOOKUP(A54,tesserati[],4,FALSE))","v":""},{"$f":"IF(ISERROR(VLOOKUP(A54,tesserati[],5,FALSE)),\"\",VLOOKUP(A54,tesserati[],5,FALSE))","v":""},{"$f":"IF(ISERROR(VLOOKUP(A54,tesserati[],7,FALSE)),\"\",VLOOKUP(A54,tesserati[],7,FALSE))","v":""},6]
[null,{"$f":"IF(ISERROR(VLOOKUP(A55,tesserati[],2,FALSE)),\"\",VLOOKUP(A55,tesserati[],2,FALSE))","v":""},{"$f":"IF(ISERROR(VLOOKUP(A55,tesserati[],3,FALSE)),\"\",VLOOKUP(A55,tesserati[],3,FALSE))","v":""},{"$f":"IF(ISERROR(VLOOKUP(A55,tesserati[],4,FALSE)),\"\",VLOOKUP(A55,tesserati[],4,FALSE))","v":""},{"$f":"IF(ISERROR(VLOOKUP(A55,tesserati[],5,FALSE)),\"\",VLOOKUP(A55,tesserati[],5,FALSE))","v":""},{"$f":"IF(ISERROR(VLOOKUP(A55,tesserati[],7,FALSE)),\"\",VLOOKUP(A55,tesserati[],7,FALSE))","v":""}]
[null,{"$f":"IF(ISERROR(VLOOKUP(A56,tesserati[],2,FALSE)),\"\",VLOOKUP(A56,tesserati[],2,FALSE))","v":""},{"$f":"IF(ISERROR(VLOOKUP(A56,tesserati[],3,FALSE)),\"\",VLOOKUP(A56,tesserati[],3,FALSE))","v":""},{"$f":"IF(ISERROR(VLOOKUP(A56,tesserati[],4,FALSE)),\"\",VLOOKUP(A56,tesserati[],4,FALSE))","v":""},{"$f":"IF(ISERROR(VLOOKUP(A56,tesserati[],5,FALSE)),\"\",VLOOKUP(A56,tesserati[],5,FALSE))","v":""},{"$f":"IF(ISERROR(VLOOKUP(A56,tesserati[],7,FALSE)),\"\",VLOOKUP(A56,tesserati[],7,FALSE))","v":""}]
[null,{"$f":"IF(ISERROR(VLOOKUP(A57,tesserati[],2,FALSE)),\"\",VLOOKUP(A57,tesserati[],2,FALSE))","v":""},{"$f":"IF(ISERROR(VLOOKUP(A57,tesserati[],3,FALSE)),\"\",VLOOKUP(A57,tesserati[],3,FALSE))","v":""},{"$f":"IF(ISERROR(VLOOKUP(A57,tesserati[],4,FALSE)),\"\",VLOOKUP(A57,tesserati[],4,FALSE))","v":""},{"$f":"IF(ISERROR(VLOOKUP(A57,tesserati[],5,FALSE)),\"\",VLOOKUP(A57,tesserati[],5,FALSE))","v":""},{"$f":"IF(ISERROR(VLOOKUP(A57,tesserati[],7,FALSE)),\"\",VLOOKUP(A57,tesserati[],7,FALSE))","v":""}]
[null,{"$f":"IF(ISERROR(VLOOKUP(A58,tesserati[],2,FALSE)),\"\",VLOOKUP(A58,tesserati[],2,FALSE))","v":""},{"$f":"IF(ISERROR(VLOOKUP(A58,tesserati[],3,FALSE)),\"\",VLOOKUP(A58,tesserati[],3,FALSE))","v":""},{"$f":"IF(ISERROR(VLOOKUP(A58,tesserati[],4,FALSE)),\"\",VLOOKUP(A58,tesserati[],4,FALSE))","v":""},{"$f":"IF(ISERROR(VLOOKUP(A58,tesserati[],5,FALSE)),\"\",VLOOKUP(A58,tesserati[],5,FALSE))","v":""},{"$f":"IF(ISERROR(VLOOKUP(A58,tesserati[],7,FALSE)),\"\",VLOOKUP(A58,tesserati[],7,FALSE))","v":""}]
[null,{"$f":"IF(ISERROR(VLOOKUP(A59,tesserati[],2,FALSE)),\"\",VLOOKUP(A59,tesserati[],2,FALSE))","v":""},{"$f":"IF(ISERROR(VLOOKUP(A59,tesserati[],3,FALSE)),\"\",VLOOKUP(A59,tesserati[],3,FALSE))","v":""},{"$f":"IF(ISERROR(VLOOKUP(A59,tesserati[],4,FALSE)),\"\",VLOOKUP(A59,tesserati[],4,FALSE))","v":""},{"$f":"IF(ISERROR(VLOOKUP(A59,tesserati[],5,FALSE)),\"\",VLOOKUP(A59,tesserati[],5,FALSE))","v":""},{"$f":"IF(ISERROR(VLOOKUP(A59,tesserati[],7,FALSE)),\"\",VLOOKUP(A59,tesserati[],7,FALSE))","v":""}]
[null,{"$f":"IF(ISERROR(VLOOKUP(A60,tesserati[],2,FALSE)),\"\",VLOOKUP(A60,tesserati[],2,FALSE))","v":""},{"$f":"IF(ISERROR(VLOOKUP(A60,tesserati[],3,FALSE)),\"\",VLOOKUP(A60,tesserati[],3,FALSE))","v":""},{"$f":"IF(ISERROR(VLOOKUP(A60,tesserati[],4,FALSE)),\"\",VLOOKUP(A60,tesserati[],4,FALSE))","v":""},{"$f":"IF(ISERROR(VLOOKUP(A60,tesserati[],5,FALSE)),\"\",VLOOKUP(A60,tesserati[],5,FALSE))","v":""},{"$f":"IF(ISERROR(VLOOKUP(A60,tesserati[],7,FALSE)),\"\",VLOOKUP(A60,tesserati[],7,FALSE))","v":""}]
[null,{"$f":"IF(ISERROR(VLOOKUP(A61,tesserati[],2,FALSE)),\"\",VLOOKUP(A61,tesserati[],2,FALSE))","v":""},{"$f":"IF(ISERROR(VLOOKUP(A61,tesserati[],3,FALSE)),\"\",VLOOKUP(A61,tesserati[],3,FALSE))","v":""},{"$f":"IF(ISERROR(VLOOKUP(A61,tesserati[],4,FALSE)),\"\",VLOOKUP(A61,tesserati[],4,FALSE))","v":""},{"$f":"IF(ISERROR(VLOOKUP(A61,tesserati[],5,FALSE)),\"\",VLOOKUP(A61,tesserati[],5,FALSE))","v":""},{"$f":"IF(ISERROR(VLOOKUP(A61,tesserati[],7,FALSE)),\"\",VLOOKUP(A61,tesserati[],7,FALSE))","v":""}]
[null,{"$f":"IF(ISERROR(VLOOKUP(A62,tesserati[],2,FALSE)),\"\",VLOOKUP(A62,tesserati[],2,FALSE))","v":""},{"$f":"IF(ISERROR(VLOOKUP(A62,tesserati[],3,FALSE)),\"\",VLOOKUP(A62,tesserati[],3,FALSE))","v":""},{"$f":"IF(ISERROR(VLOOKUP(A62,tesserati[],4,FALSE)),\"\",VLOOKUP(A62,tesserati[],4,FALSE))","v":""},{"$f":"IF(ISERROR(VLOOKUP(A62,tesserati[],5,FALSE)),\"\",VLOOKUP(A62,tesserati[],5,FALSE))","v":""},{"$f":"IF(ISERROR(VLOOKUP(A62,tesserati[],7,FALSE)),\"\",VLOOKUP(A62,tesserati[],7,FALSE))","v":""}]
[null,{"$f":"IF(ISERROR(VLOOKUP(A63,tesserati[],2,FALSE)),\"\",VLOOKUP(A63,tesserati[],2,FALSE))","v":""},{"$f":"IF(ISERROR(VLOOKUP(A63,tesserati[],3,FALSE)),\"\",VLOOKUP(A63,tesserati[],3,FALSE))","v":""},{"$f":"IF(ISERROR(VLOOKUP(A63,tesserati[],4,FALSE)),\"\",VLOOKUP(A63,tesserati[],4,FALSE))","v":""},{"$f":"IF(ISERROR(VLOOKUP(A63,tesserati[],5,FALSE)),\"\",VLOOKUP(A63,tesserati[],5,FALSE))","v":""},{"$f":"IF(ISERROR(VLOOKUP(A63,tesserati[],7,FALSE)),\"\",VLOOKUP(A63,tesserati[],7,FALSE))","v":""}]
[null,{"$f":"IF(ISERROR(VLOOKUP(A64,tesserati[],2,FALSE)),\"\",VLOOKUP(A64,tesserati[],2,FALSE))","v":""},{"$f":"IF(ISERROR(VLOOKUP(A64,tesserati[],3,FALSE)),\"\",VLOOKUP(A64,tesserati[],3,FALSE))","v":""},{"$f":"IF(ISERROR(VLOOKUP(A64,tesserati[],4,FALSE)),\"\",VLOOKUP(A64,tesserati[],4,FALSE))","v":""},{"$f":"IF(ISERROR(VLOOKUP(A64,tesserati[],5,FALSE)),\"\",VLOOKUP(A64,tesserati[],5,FALSE))","v":""},{"$f":"IF(ISERROR(VLOOKUP(A64,tesserati[],7,FALSE)),\"\",VLOOKUP(A64,tesserati[],7,FALSE))","v":""}]
[null,{"$f":"IF(ISERROR(VLOOKUP(A65,tesserati[],2,FALSE)),\"\",VLOOKUP(A65,tesserati[],2,FALSE))","v":""},{"$f":"IF(ISERROR(VLOOKUP(A65,tesserati[],3,FALSE)),\"\",VLOOKUP(A65,tesserati[],3,FALSE))","v":""},{"$f":"IF(ISERROR(VLOOKUP(A65,tesserati[],4,FALSE)),\"\",VLOOKUP(A65,tesserati[],4,FALSE))","v":""},{"$f":"IF(ISERROR(VLOOKUP(A65,tesserati[],5,FALSE)),\"\",VLOOKUP(A65,tesserati[],5,FALSE))","v":""},{"$f":"IF(ISERROR(VLOOKUP(A65,tesserati[],7,FALSE)),\"\",VLOOKUP(A65,tesserati[],7,FALSE))","v":""}]
[null,{"$f":"IF(ISERROR(VLOOKUP(A66,tesserati[],2,FALSE)),\"\",VLOOKUP(A66,tesserati[],2,FALSE))","v":""},{"$f":"IF(ISERROR(VLOOKUP(A66,tesserati[],3,FALSE)),\"\",VLOOKUP(A66,tesserati[],3,FALSE))","v":""},{"$f":"IF(ISERROR(VLOOKUP(A66,tesserati[],4,FALSE)),\"\",VLOOKUP(A66,tesserati[],4,FALSE))","v":""},{"$f":"IF(ISERROR(VLOOKUP(A66,tesserati[],5,FALSE)),\"\",VLOOKUP(A66,tesserati[],5,FALSE))","v":""},{"$f":"IF(ISERROR(VLOOKUP(A66,tesserati[],7,FALSE)),\"\",VLOOKUP(A66,tesserati[],7,FALSE))","v":""}]
[null,{"$f":"IF(ISERROR(VLOOKUP(A67,tesserati[],2,FALSE)),\"\",VLOOKUP(A67,tesserati[],2,FALSE))","v":""},{"$f":"IF(ISERROR(VLOOKUP(A67,tesserati[],3,FALSE)),\"\",VLOOKUP(A67,tesserati[],3,FALSE))","v":""},{"$f":"IF(ISERROR(VLOOKUP(A67,tesserati[],4,FALSE)),\"\",VLOOKUP(A67,tesserati[],4,FALSE))","v":""},{"$f":"IF(ISERROR(VLOOKUP(A67,tesserati[],5,FALSE)),\"\",VLOOKUP(A67,tesserati[],5,FALSE))","v":""},{"$f":"IF(ISERROR(VLOOKUP(A67,tesserati[],7,FALSE)),\"\",VLOOKUP(A67,tesserati[],7,FALSE))","v":""}]
[null,{"$f":"IF(ISERROR(VLOOKUP(A68,tesserati[],2,FALSE)),\"\",VLOOKUP(A68,tesserati[],2,FALSE))","v":""},{"$f":"IF(ISERROR(VLOOKUP(A68,tesserati[],3,FALSE)),\"\",VLOOKUP(A68,tesserati[],3,FALSE))","v":""},{"$f":"IF(ISERROR(VLOOKUP(A68,tesserati[],4,FALSE)),\"\",VLOOKUP(A68,tesserati[],4,FALSE))","v":""},{"$f":"IF(ISERROR(VLOOKUP(A68,tesserati[],5,FALSE)),\"\",VLOOKUP(A68,tesserati[],5,FALSE))","v":""},{"$f":"IF(ISERROR(VLOOKUP(A68,tesserati[],7,FALSE)),\"\",VLOOKUP(A68,tesserati[],7,FALSE))","v":""}]
[null,{"$f":"IF(ISERROR(VLOOKUP(A69,tesserati[],2,FALSE)),\"\",VLOOKUP(A69,tesserati[],2,FALSE))","v":""},{"$f":"IF(ISERROR(VLOOKUP(A69,tesserati[],3,FALSE)),\"\",VLOOKUP(A69,tesserati[],3,FALSE))","v":""},{"$f":"IF(ISERROR(VLOOKUP(A69,tesserati[],4,FALSE)),\"\",VLOOKUP(A69,tesserati[],4,FALSE))","v":""},{"$f":"IF(ISERROR(VLOOKUP(A69,tesserati[],5,FALSE)),\"\",VLOOKUP(A69,tesserati[],5,FALSE))","v":""},{"$f":"IF(ISERROR(VLOOKUP(A69,tesserati[],7,FALSE)),\"\",VLOOKUP(A69,tesserati[],7,FALSE))","v":""}]
[null,{"$f":"IF(ISERROR(VLOOKUP(A70,tesserati[],2,FALSE)),\"\",VLOOKUP(A70,tesserati[],2,FALSE))","v":""},{"$f":"IF(ISERROR(VLOOKUP(A70,tesserati[],3,FALSE)),\"\",VLOOKUP(A70,tesserati[],3,FALSE))","v":""},{"$f":"IF(ISERROR(VLOOKUP(A70,tesserati[],4,FALSE)),\"\",VLOOKUP(A70,tesserati[],4,FALSE))","v":""},{"$f":"IF(ISERROR(VLOOKUP(A70,tesserati[],5,FALSE)),\"\",VLOOKUP(A70,tesserati[],5,FALSE))","v":""},{"$f":"IF(ISERROR(VLOOKUP(A70,tesserati[],7,FALSE)),\"\",VLOOKUP(A70,tesserati[],7,FALSE))","v":""}]
[null,{"$f":"IF(ISERROR(VLOOKUP(A71,tesserati[],2,FALSE)),\"\",VLOOKUP(A71,tesserati[],2,FALSE))","v":""},{"$f":"IF(ISERROR(VLOOKUP(A71,tesserati[],3,FALSE)),\"\",VLOOKUP(A71,tesserati[],3,FALSE))","v":""},{"$f":"IF(ISERROR(VLOOKUP(A71,tesserati[],4,FALSE)),\"\",VLOOKUP(A71,tesserati[],4,FALSE))","v":""},{"$f":"IF(ISERROR(VLOOKUP(A71,tesserati[],5,FALSE)),\"\",VLOOKUP(A71,tesserati[],5,FALSE))","v":""},{"$f":"IF(ISERROR(VLOOKUP(A71,tesserati[],7,FALSE)),\"\",VLOOKUP(A71,tesserati[],7,FALSE))","v":""}]
[null,{"$f":"IF(ISERROR(VLOOKUP(A72,tesserati[],2,FALSE)),\"\",VLOOKUP(A72,tesserati[],2,FALSE))","v":""},{"$f":"IF(ISERROR(VLOOKUP(A72,tesserati[],3,FALSE)),\"\",VLOOKUP(A72,tesserati[],3,FALSE))","v":""},{"$f":"IF(ISERROR(VLOOKUP(A72,tesserati[],4,FALSE)),\"\",VLOOKUP(A72,tesserati[],4,FALSE))","v":""},{"$f":"IF(ISERROR(VLOOKUP(A72,tesserati[],5,FALSE)),\"\",VLOOKUP(A72,tesserati[],5,FALSE))","v":""},{"$f":"IF(ISERROR(VLOOKUP(A72,tesserati[],7,FALSE)),\"\",VLOOKUP(A72,tesserati[],7,FALSE))","v":""}]

{"sheet":"SVEDESE RAGAZZI","index":13,"n_rows":72,"n_cols":12,"rows_kept":72,"cut":false,"hidden":false,"merged":[[0,2,0,4],[0,5,0,7],[0,8,0,10],[0,11,1,11],[1,2,1,4],[1,5,1,7],[1,8,1,10],[2,11,4,11],[3,0,4,1],[3,2,4,2],[3,3,4,3],[3,5,4,7],[3,8,4,10],[2,0,2,1],[2,4,4,4],[2,5,2,7],[2,8,2,10],[5,9,6,9],[5,10,6,10],[5,11,6,11],[5,0,6,0],[5,1,6,2],[5,3,6,3],[5,4,6,4],[5,5,6,5],[7,0,7,11],[5,6,6,6],[16,6,19,6],[16,7,19,7],[16,8,19,8],[16,9,19,9],[12,6,15,6],[12,7,15,7],[12,8,15,8],[12,9,15,9],[8,6,11,6],[8,7,11,7],[8,8,11,8],[8,9,11,9],[5,7,6,7],[5,8,6,8],[20,6,23,6],[20,7,23,7],[20,8,23,8],[20,9,23,9],[24,6,27,6],[24,7,27,7],[24,8,27,8],[24,9,27,9],[28,6,31,6],[28,7,31,7],[28,8,31,8],[28,9,31,9],[33,6,36,6],[33,7,36,7],[33,8,36,8],[33,9,36,9],[32,0,32,11],[37,6,40,6],[37,7,40,7],[37,8,40,8],[37,9,40,9],[41,6,44,6],[41,7,44,7],[41,8,44,8],[41,9,44,9],[45,6,48,6],[45,7,48,7],[45,8,48,8],[45,9,48,9],[49,6,52,6],[49,7,52,7],[49,8,52,8],[49,9,52,9],[53,6,56,6],[53,7,56,7],[53,8,56,8],[53,9,56,9],[57,6,60,6],[57,7,60,7],[57,8,60,8],[57,9,60,9]]}
[null,null,"MANIFESTAZIONE",null,null,"LOCALITA'",null,null,"SOCIETA' ORGANIZZATRICE"]
[null,null,"6° prova provinciale",null,null,"Tezze sul Brenta",null,null,"CSI Tezze sul Brenta"]
["CATEGORIA",null,"ORA INIZIO","ORA FINE",null,"GARA",null,null,"DATA"]
["RAGAZZI",null,null,null,null,"SVEDESE",null,null,"2017-09-24"]
[]
["N. tessera","ATLETA\nCOGNOME E NOME",null,"SOCIETA'","NASCITA","CATEGORIA","Corsia","PETTORALE","Tempo","Piazzamento","PUNTI","CL."]
[]
["1 SERIE",{"$f":"IF(ISERROR(VLOOKUP(A8,tesserati[],2,FALSE)),\"\",VLOOKUP(A8,tesserati[],2,FALSE))","v":""},{"$f":"IF(ISERROR(VLOOKUP(A8,tesserati[],3,FALSE)),\"\",VLOOKUP(A8,tesserati[],3,FALSE))","v":""},{"$f":"IF(ISERROR(VLOOKUP(#REF!,tesserati[],5,FALSE)),\"\",VLOOKUP(#REF!,tesserati[],5,FALSE))","v":""},{"$f":"IF(ISERROR(VLOOKUP(A8,tesserati[],4,FALSE)),\"\",VLOOKUP(A8,tesserati[],4,FALSE))","v":""},{"$f":"IF(ISERROR(VLOOKUP(A8,tesserati[],7,FALSE)),\"\",VLOOKUP(A8,tesserati[],7,FALSE))","v":""}]
[3835,{"$f":"IF(ISERROR(VLOOKUP(A9,tesserati[],2,FALSE)),\"\",VLOOKUP(A9,tesserati[],2,FALSE))","v":"GIRARDELLO"},{"$f":"IF(ISERROR(VLOOKUP(A9,tesserati[],3,FALSE)),\"\",VLOOKUP(A9,tesserati[],3,FALSE))","v":"NICOLA"},{"$f":"IF(ISERROR(VLOOKUP(A9,tesserati[],4,FALSE)),\"\",VLOOKUP(A9,tesserati[],4,FALSE))","v":"ATLETICA VALCHIAMPO"},{"$f":"IF(ISERROR(VLOOKUP(A9,tesserati[],5,FALSE)),\"\",VLOOKUP(A9,tesserati[],5,FALSE))","v":2005},{"$f":"IF(ISERROR(VLOOKUP(A9,tesserati[],7,FALSE)),\"\",VLOOKUP(A9,tesserati[],7,FALSE))","v":"RM"},3,108,"2,40.0",1]
[3842,{"$f":"IF(ISERROR(VLOOKUP(A10,tesserati[],2,FALSE)),\"\",VLOOKUP(A10,tesserati[],2,FALSE))","v":"MECENERO"},{"$f":"IF(ISERROR(VLOOKUP(A10,tesserati[],3,FALSE)),\"\",VLOOKUP(A10,tesserati[],3,FALSE))","v":"ELIA"},{"$f":"IF(ISERROR(VLOOKUP(A10,tesserati[],4,FALSE)),\"\",VLOOKUP(A10,tesserati[],4,FALSE))","v":"ATLETICA VALCHIAMPO"},{"$f":"IF(ISERROR(VLOOKUP(A10,tesserati[],5,FALSE)),\"\",VLOOKUP(A10,tesserati[],5,FALSE))","v":2004},{"$f":"IF(ISERROR(VLOOKUP(A10,tesserati[],7,FALSE)),\"\",VLOOKUP(A10,tesserati[],7,FALSE))","v":"RM"}]
[3854,{"$f":"IF(ISERROR(VLOOKUP(A11,tesserati[],2,FALSE)),\"\",VLOOKUP(A11,tesserati[],2,FALSE))","v":"PEREGO"},{"$f":"IF(ISERROR(VLOOKUP(A11,tesserati[],3,FALSE)),\"\",VLOOKUP(A11,tesserati[],3,FALSE))","v":"CRISTIAN"},{"$f":"IF(ISERROR(VLOOKUP(A11,tesserati[],4,FALSE)),\"\",VLOOKUP(A11,tesserati[],4,FALSE))","v":"ATLETICA VALCHIAMPO"},{"$f":"IF(ISERROR(VLOOKUP(A11,tesserati[],5,FALSE)),\"\",VLOOKUP(A11,tesserati[],5,FALSE))","v":2004},{"$f":"IF(ISERROR(VLOOKUP(A11,tesserati[],7,FALSE)),\"\",VLOOKUP(A11,tesserati[],7,FALSE))","v":"RM"}]
[3846,{"$f":"IF(ISERROR(VLOOKUP(A12,tesserati[],2,FALSE)),\"\",VLOOKUP(A12,tesserati[],2,FALSE))","v":"MISTRORIGO"},{"$f":"IF(ISERROR(VLOOKUP(A12,tesserati[],3,FALSE)),\"\",VLOOKUP(A12,tesserati[],3,FALSE))","v":"ALBERTO"},{"$f":"IF(ISERROR(VLOOKUP(A12,tesserati[],4,FALSE)),\"\",VLOOKUP(A12,tesserati[],4,FALSE))","v":"ATLETICA VALCHIAMPO"},{"$f":"IF(ISERROR(VLOOKUP(A12,tesserati[],5,FALSE)),\"\",VLOOKUP(A12,tesserati[],5,FALSE))","v":2004},{"$f":"IF(ISERROR(VLOOKUP(A12,tesserati[],7,FALSE)),\"\",VLOOKUP(A12,tesserati[],7,FALSE))","v":"RM"}]
[null,{"$f":"IF(ISERROR(VLOOKUP(A13,tesserati[],2,FALSE)),\"\",VLOOKUP(A13,tesserati[],2,FALSE))","v":""},{"$f":"IF(ISERROR(VLOOKUP(A13,tesserati[],3,FALSE)),\"\",VLOOKUP(A13,tesserati[],3,FALSE))","v":""},{"$f":"IF(ISERROR(VLOOKUP(A13,tesserati[],4,FALSE)),\"\",VLOOKUP(A13,tesserati[],4,FALSE))","v":""},{"$f":"IF(ISERROR(VLOOKUP(A13,tesserati[],5,FALSE)),\"\",VLOOKUP(A13,tesserati[],5,FALSE))","v":""},{"$f":"IF(ISERROR(VLOOKUP(A13,tesserati[],7,FALSE)),\"\",VLOOKUP(A13,tesserati[],7,FALSE))","v":""}]
[null,{"$f":"IF(ISERROR(VLOOKUP(A14,tesserati[],2,FALSE)),\"\",VLOOKUP(A14,tesserati[],2,FALSE))","v":""},{"$f":"IF(ISERROR(VLOOKUP(A14,tesserati[],3,FALSE)),\"\",VLOOKUP(A14,tesserati[],3,FALSE))","v":""},{"$f":"IF(ISERROR(VLOOKUP(A14,tesserati[],4,FALSE)),\"\",VLOOKUP(A14,tesserati[],4,FALSE))","v":""},{"$f":"IF(ISERROR(VLOOKUP(A14,tesserati[],5,FALSE)),\"\",VLOOKUP(A14,tesserati[],5,FALSE))","v":""},{"$f":"IF(ISERROR(VLOOKUP(A14,tesserati[],7,FALSE)),\"\",VLOOKUP(A14,tesserati[],7,FALSE))","v":""}]
[null,{"$f":"IF(ISERROR(VLOOKUP(A15,tesserati[],2,FALSE)),\"\",VLOOKUP(A15,tesserati[],2,FALSE))","v":""},{"$f":"IF(ISERROR(VLOOKUP(A15,tesserati[],3,FALSE)),\"\",VLOOKUP(A15,tesserati[],3,FALSE))","v":""},{"$f":"IF(ISERROR(VLOOKUP(A15,tesserati[],4,FALSE)),\"\",VLOOKUP(A15,tesserati[],4,FALSE))","v":""},{"$f":"IF(ISERROR(VLOOKUP(A15,tesserati[],5,FALSE)),\"\",VLOOKUP(A15,tesserati[],5,FALSE))","v":""},{"$f":"IF(ISERROR(VLOOKUP(A15,tesserati[],7,FALSE)),\"\",VLOOKUP(A15,tesserati[],7,FALSE))","v":""}]
[null,{"$f":"IF(ISERROR(VLOOKUP(A16,tesserati[],2,FALSE)),\"\",VLOOKUP(A16,tesserati[],2,FALSE))","v":""},{"$f":"IF(ISERROR(VLOOKUP(A16,tesserati[],3,FALSE)),\"\",VLOOKUP(A16,tesserati[],3,FALSE))","v":""},{"$f":"IF(ISERROR(VLOOKUP(A16,tesserati[],4,FALSE)),\"\",VLOOKUP(A16,tesserati[],4,FALSE))","v":""},{"$f":"IF(ISERROR(VLOOKUP(A16,tesserati[],5,FALSE)),\"\",VLOOKUP(A16,tesserati[],5,FALSE))","v":""},{"$f":"IF(ISERROR(VLOOKUP(A16,tesserati[],7,FALSE)),\"\",VLOOKUP(A16,tesserati[],7,FALSE))","v":""}]
[null,{"$f":"IF(ISERROR(VLOOKUP(A17,tesserati[],2,FALSE)),\"\",VLOOKUP(A17,tesserati[],2,FALSE))","v":""},{"$f":"IF(ISERROR(VLOOKUP(A17,tesserati[],3,FALSE)),\"\",VLOOKUP(A17,tesserati[],3,FALSE))","v":""},{"$f":"IF(ISERROR(VLOOKUP(A17,tesserati[],4,FALSE)),\"\",VLOOKUP(A17,tesserati[],4,FALSE))","v":""},{"$f":"IF(ISERROR(VLOOKUP(A17,tesserati[],5,FALSE)),\"\",VLOOKUP(A17,tesserati[],5,FALSE))","v":""},{"$f":"IF(ISERROR(VLOOKUP(A17,tesserati[],7,FALSE)),\"\",VLOOKUP(A17,tesserati[],7,FALSE))","v":""}]
[null,{"$f":"IF(ISERROR(VLOOKUP(A18,tesserati[],2,FALSE)),\"\",VLOOKUP(A18,tesserati[],2,FALSE))","v":""},{"$f":"IF(ISERROR(VLOOKUP(A18,tesserati[],3,FALSE)),\"\",VLOOKUP(A18,tesserati[],3,FALSE))","v":""},{"$f":"IF(ISERROR(VLOOKUP(A18,tesserati[],4,FALSE)),\"\",VLOOKUP(A18,tesserati[],4,FALSE))","v":""},{"$f":"IF(ISERROR(VLOOKUP(A18,tesserati[],5,FALSE)),\"\",VLOOKUP(A18,tesserati[],5,FALSE))","v":""},{"$f":"IF(ISERROR(VLOOKUP(A18,tesserati[],7,FALSE)),\"\",VLOOKUP(A18,tesserati[],7,FALSE))","v":""}]
[null,{"$f":"IF(ISERROR(VLOOKUP(A19,tesserati[],2,FALSE)),\"\",VLOOKUP(A19,tesserati[],2,FALSE))","v":""},{"$f":"IF(ISERROR(VLOOKUP(A19,tesserati[],3,FALSE)),\"\",VLOOKUP(A19,tesserati[],3,FALSE))","v":""},{"$f":"IF(ISERROR(VLOOKUP(A19,tesserati[],4,FALSE)),\"\",VLOOKUP(A19,tesserati[],4,FALSE))","v":""},{"$f":"IF(ISERROR(VLOOKUP(A19,tesserati[],5,FALSE)),\"\",VLOOKUP(A19,tesserati[],5,FALSE))","v":""},{"$f":"IF(ISERROR(VLOOKUP(A19,tesserati[],7,FALSE)),\"\",VLOOKUP(A19,tesserati[],7,FALSE))","v":""}]
[null,{"$f":"IF(ISERROR(VLOOKUP(A20,tesserati[],2,FALSE)),\"\",VLOOKUP(A20,tesserati[],2,FALSE))","v":""},{"$f":"IF(ISERROR(VLOOKUP(A20,tesserati[],3,FALSE)),\"\",VLOOKUP(A20,tesserati[],3,FALSE))","v":""},{"$f":"IF(ISERROR(VLOOKUP(A20,tesserati[],4,FALSE)),\"\",VLOOKUP(A20,tesserati[],4,FALSE))","v":""},{"$f":"IF(ISERROR(VLOOKUP(A20,tesserati[],5,FALSE)),\"\",VLOOKUP(A20,tesserati[],5,FALSE))","v":""},{"$f":"IF(ISERROR(VLOOKUP(A20,tesserati[],7,FALSE)),\"\",VLOOKUP(A20,tesserati[],7,FALSE))","v":""}]
[null,{"$f":"IF(ISERROR(VLOOKUP(A21,tesserati[],2,FALSE)),\"\",VLOOKUP(A21,tesserati[],2,FALSE))","v":""},{"$f":"IF(ISERROR(VLOOKUP(A21,tesserati[],3,FALSE)),\"\",VLOOKUP(A21,tesserati[],3,FALSE))","v":""},{"$f":"IF(ISERROR(VLOOKUP(A21,tesserati[],4,FALSE)),\"\",VLOOKUP(A21,tesserati[],4,FALSE))","v":""},{"$f":"IF(ISERROR(VLOOKUP(A21,tesserati[],5,FALSE)),\"\",VLOOKUP(A21,tesserati[],5,FALSE))","v":""},{"$f":"IF(ISERROR(VLOOKUP(A21,tesserati[],7,FALSE)),\"\",VLOOKUP(A21,tesserati[],7,FALSE))","v":""},4]
[null,{"$f":"IF(ISERROR(VLOOKUP(A22,tesserati[],2,FALSE)),\"\",VLOOKUP(A22,tesserati[],2,FALSE))","v":""},{"$f":"IF(ISERROR(VLOOKUP(A22,tesserati[],3,FALSE)),\"\",VLOOKUP(A22,tesserati[],3,FALSE))","v":""},{"$f":"IF(ISERROR(VLOOKUP(A22,tesserati[],4,FALSE)),\"\",VLOOKUP(A22,tesserati[],4,FALSE))","v":""},{"$f":"IF(ISERROR(VLOOKUP(A22,tesserati[],5,FALSE)),\"\",VLOOKUP(A22,tesserati[],5,FALSE))","v":""},{"$f":"IF(ISERROR(VLOOKUP(A22,tesserati[],7,FALSE)),\"\",VLOOKUP(A22,tesserati[],7,FALSE))","v":""}]
[null,{"$f":"IF(ISERROR(VLOOKUP(A23,tesserati[],2,FALSE)),\"\",VLOOKUP(A23,tesserati[],2,FALSE))","v":""},{"$f":"IF(ISERROR(VLOOKUP(A23,tesserati[],3,FALSE)),\"\",VLOOKUP(A23,tesserati[],3,FALSE))","v":""},{"$f":"IF(ISERROR(VLOOKUP(A23,tesserati[],4,FALSE)),\"\",VLOOKUP(A23,tesserati[],4,FALSE))","v":""},{"$f":"IF(ISERROR(VLOOKUP(A23,tesserati[],5,FALSE)),\"\",VLOOKUP(A23,tesserati[],5,FALSE))","v":""},{"$f":"IF(ISERROR(VLOOKUP(A23,tesserati[],7,FALSE)),\"\",VLOOKUP(A23,tesserati[],7,FALSE))","v":""}]
[null,{"$f":"IF(ISERROR(VLOOKUP(A24,tesserati[],2,FALSE)),\"\",VLOOKUP(A24,tesserati[],2,FALSE))","v":""},{"$f":"IF(ISERROR(VLOOKUP(A24,tesserati[],3,FALSE)),\"\",VLOOKUP(A24,tesserati[],3,FALSE))","v":""},{"$f":"IF(ISERROR(VLOOKUP(A24,tesserati[],4,FALSE)),\"\",VLOOKUP(A24,tesserati[],4,FALSE))","v":""},{"$f":"IF(ISERROR(VLOOKUP(A24,tesserati[],5,FALSE)),\"\",VLOOKUP(A24,tesserati[],5,FALSE))","v":""},{"$f":"IF(ISERROR(VLOOKUP(A24,tesserati[],7,FALSE)),\"\",VLOOKUP(A24,tesserati[],7,FALSE))","v":""}]
[null,{"$f":"IF(ISERROR(VLOOKUP(A25,tesserati[],2,FALSE)),\"\",VLOOKUP(A25,tesserati[],2,FALSE))","v":""},{"$f":"IF(ISERROR(VLOOKUP(A25,tesserati[],3,FALSE)),\"\",VLOOKUP(A25,tesserati[],3,FALSE))","v":""},{"$f":"IF(ISERROR(VLOOKUP(A25,tesserati[],4,FALSE)),\"\",VLOOKUP(A25,tesserati[],4,FALSE))","v":""},{"$f":"IF(ISERROR(VLOOKUP(A25,tesserati[],5,FALSE)),\"\",VLOOKUP(A25,tesserati[],5,FALSE))","v":""},{"$f":"IF(ISERROR(VLOOKUP(A25,tesserati[],7,FALSE)),\"\",VLOOKUP(A25,tesserati[],7,FALSE))","v":""},5]
[null,{"$f":"IF(ISERROR(VLOOKUP(A26,tesserati[],2,FALSE)),\"\",VLOOKUP(A26,tesserati[],2,FALSE))","v":""},{"$f":"IF(ISERROR(VLOOKUP(A26,tesserati[],3,FALSE)),\"\",VLOOKUP(A26,tesserati[],3,FALSE))","v":""},{"$f":"IF(ISERROR(VLOOKUP(A26,tesserati[],4,FALSE)),\"\",VLOOKUP(A26,tesserati[],4,FALSE))","v":""},{"$f":"IF(ISERROR(VLOOKUP(A26,tesserati[],5,FALSE)),\"\",VLOOKUP(A26,tesserati[],5,FALSE))","v":""},{"$f":"IF(ISERROR(VLOOKUP(A26,tesserati[],7,FALSE)),\"\",VLOOKUP(A26,tesserati[],7,FALSE))","v":""}]
[null,{"$f":"IF(ISERROR(VLOOKUP(A27,tesserati[],2,FALSE)),\"\",VLOOKUP(A27,tesserati[],2,FALSE))","v":""},{"$f":"IF(ISERROR(VLOOKUP(A27,tesserati[],3,FALSE)),\"\",VLOOKUP(A27,tesserati[],3,FALSE))","v":""},{"$f":"IF(ISERROR(VLOOKUP(A27,tesserati[],4,FALSE)),\"\",VLOOKUP(A27,tesserati[],4,FALSE))","v":""},{"$f":"IF(ISERROR(VLOOKUP(A27,tesserati[],5,FALSE)),\"\",VLOOKUP(A27,tesserati[],5,FALSE))","v":""},{"$f":"IF(ISERROR(VLOOKUP(A27,tesserati[],7,FALSE)),\"\",VLOOKUP(A27,tesserati[],7,FALSE))","v":""}]
[null,{"$f":"IF(ISERROR(VLOOKUP(A28,tesserati[],2,FALSE)),\"\",VLOOKUP(A28,tesserati[],2,FALSE))","v":""},{"$f":"IF(ISERROR(VLOOKUP(A28,tesserati[],3,FALSE)),\"\",VLOOKUP(A28,tesserati[],3,FALSE))","v":""},{"$f":"IF(ISERROR(VLOOKUP(A28,tesserati[],4,FALSE)),\"\",VLOOKUP(A28,tesserati[],4,FALSE))","v":""},{"$f":"IF(ISERROR(VLOOKUP(A28,tesserati[],5,FALSE)),\"\",VLOOKUP(A28,tesserati[],5,FALSE))","v":""},{"$f":"IF(ISERROR(VLOOKUP(A28,tesserati[],7,FALSE)),\"\",VLOOKUP(A28,tesserati[],7,FALSE))","v":""}]
[null,{"$f":"IF(ISERROR(VLOOKUP(A29,tesserati[],2,FALSE)),\"\",VLOOKUP(A29,tesserati[],2,FALSE))","v":""},{"$f":"IF(ISERROR(VLOOKUP(A29,tesserati[],3,FALSE)),\"\",VLOOKUP(A29,tesserati[],3,FALSE))","v":""},{"$f":"IF(ISERROR(VLOOKUP(A29,tesserati[],4,FALSE)),\"\",VLOOKUP(A29,tesserati[],4,FALSE))","v":""},{"$f":"IF(ISERROR(VLOOKUP(A29,tesserati[],5,FALSE)),\"\",VLOOKUP(A29,tesserati[],5,FALSE))","v":""},{"$f":"IF(ISERROR(VLOOKUP(A29,tesserati[],7,FALSE)),\"\",VLOOKUP(A29,tesserati[],7,FALSE))","v":""},6]
[null,{"$f":"IF(ISERROR(VLOOKUP(A30,tesserati[],2,FALSE)),\"\",VLOOKUP(A30,tesserati[],2,FALSE))","v":""},{"$f":"IF(ISERROR(VLOOKUP(A30,tesserati[],3,FALSE)),\"\",VLOOKUP(A30,tesserati[],3,FALSE))","v":""},{"$f":"IF(ISERROR(VLOOKUP(A30,tesserati[],4,FALSE)),\"\",VLOOKUP(A30,tesserati[],4,FALSE))","v":""},{"$f":"IF(ISERROR(VLOOKUP(A30,tesserati[],5,FALSE)),\"\",VLOOKUP(A30,tesserati[],5,FALSE))","v":""},{"$f":"IF(ISERROR(VLOOKUP(A30,tesserati[],7,FALSE)),\"\",VLOOKUP(A30,tesserati[],7,FALSE))","v":""}]
[null,{"$f":"IF(ISERROR(VLOOKUP(A31,tesserati[],2,FALSE)),\"\",VLOOKUP(A31,tesserati[],2,FALSE))","v":""},{"$f":"IF(ISERROR(VLOOKUP(A31,tesserati[],3,FALSE)),\"\",VLOOKUP(A31,tesserati[],3,FALSE))","v":""},{"$f":"IF(ISERROR(VLOOKUP(A31,tesserati[],4,FALSE)),\"\",VLOOKUP(A31,tesserati[],4,FALSE))","v":""},{"$f":"IF(ISERROR(VLOOKUP(A31,tesserati[],5,FALSE)),\"\",VLOOKUP(A31,tesserati[],5,FALSE))","v":""},{"$f":"IF(ISERROR(VLOOKUP(A31,tesserati[],7,FALSE)),\"\",VLOOKUP(A31,tesserati[],7,FALSE))","v":""}]
[null,{"$f":"IF(ISERROR(VLOOKUP(A32,tesserati[],2,FALSE)),\"\",VLOOKUP(A32,tesserati[],2,FALSE))","v":""},{"$f":"IF(ISERROR(VLOOKUP(A32,tesserati[],3,FALSE)),\"\",VLOOKUP(A32,tesserati[],3,FALSE))","v":""},{"$f":"IF(ISERROR(VLOOKUP(A32,tesserati[],4,FALSE)),\"\",VLOOKUP(A32,tesserati[],4,FALSE))","v":""},{"$f":"IF(ISERROR(VLOOKUP(A32,tesserati[],5,FALSE)),\"\",VLOOKUP(A32,tesserati[],5,FALSE))","v":""},{"$f":"IF(ISERROR(VLOOKUP(A32,tesserati[],7,FALSE)),\"\",VLOOKUP(A32,tesserati[],7,FALSE))","v":""}]
["2 SERIE"]
[null,{"$f":"IF(ISERROR(VLOOKUP(A34,tesserati[],2,FALSE)),\"\",VLOOKUP(A34,tesserati[],2,FALSE))","v":""},{"$f":"IF(ISERROR(VLOOKUP(A34,tesserati[],3,FALSE)),\"\",VLOOKUP(A34,tesserati[],3,FALSE))","v":""},{"$f":"IF(ISERROR(VLOOKUP(A34,tesserati[],4,FALSE)),\"\",VLOOKUP(A34,tesserati[],4,FALSE))","v":""},{"$f":"IF(ISERROR(VLOOKUP(A34,tesserati[],5,FALSE)),\"\",VLOOKUP(A34,tesserati[],5,FALSE))","v":""},{"$f":"IF(ISERROR(VLOOKUP(A34,tesserati[],7,FALSE)),\"\",VLOOKUP(A34,tesserati[],7,FALSE))","v":""},1]
[null,{"$f":"IF(ISERROR(VLOOKUP(A35,tesserati[],2,FALSE)),\"\",VLOOKUP(A35,tesserati[],2,FALSE))","v":""},{"$f":"IF(ISERROR(VLOOKUP(A35,tesserati[],3,FALSE)),\"\",VLOOKUP(A35,tesserati[],3,FALSE))","v":""},{"$f":"IF(ISERROR(VLOOKUP(A35,tesserati[],4,FALSE)),\"\",VLOOKUP(A35,tesserati[],4,FALSE))","v":""},{"$f":"IF(ISERROR(VLOOKUP(A35,tesserati[],5,FALSE)),\"\",VLOOKUP(A35,tesserati[],5,FALSE))","v":""},{"$f":"IF(ISERROR(VLOOKUP(A35,tesserati[],7,FALSE)),\"\",VLOOKUP(A35,tesserati[],7,FALSE))","v":""}]
[null,{"$f":"IF(ISERROR(VLOOKUP(A36,tesserati[],2,FALSE)),\"\",VLOOKUP(A36,tesserati[],2,FALSE))","v":""},{"$f":"IF(ISERROR(VLOOKUP(A36,tesserati[],3,FALSE)),\"\",VLOOKUP(A36,tesserati[],3,FALSE))","v":""},{"$f":"IF(ISERROR(VLOOKUP(A36,tesserati[],4,FALSE)),\"\",VLOOKUP(A36,tesserati[],4,FALSE))","v":""},{"$f":"IF(ISERROR(VLOOKUP(A36,tesserati[],5,FALSE)),\"\",VLOOKUP(A36,tesserati[],5,FALSE))","v":""},{"$f":"IF(ISERROR(VLOOKUP(A36,tesserati[],7,FALSE)),\"\",VLOOKUP(A36,tesserati[],7,FALSE))","v":""}]
[null,{"$f":"IF(ISERROR(VLOOKUP(A37,tesserati[],2,FALSE)),\"\",VLOOKUP(A37,tesserati[],2,FALSE))","v":""},{"$f":"IF(ISERROR(VLOOKUP(A37,tesserati[],3,FALSE)),\"\",VLOOKUP(A37,tesserati[],3,FALSE))","v":""},{"$f":"IF(ISERROR(VLOOKUP(A37,tesserati[],4,FALSE)),\"\",VLOOKUP(A37,tesserati[],4,FALSE))","v":""},{"$f":"IF(ISERROR(VLOOKUP(A37,tesserati[],5,FALSE)),\"\",VLOOKUP(A37,tesserati[],5,FALSE))","v":""},{"$f":"IF(ISERROR(VLOOKUP(A37,tesserati[],7,FALSE)),\"\",VLOOKUP(A37,tesserati[],7,FALSE))","v":""}]
[null,{"$f":"IF(ISERROR(VLOOKUP(A38,tesserati[],2,FALSE)),\"\",VLOOKUP(A38,tesserati[],2,FALSE))","v":""},{"$f":"IF(ISERROR(VLOOKUP(A38,tesserati[],3,FALSE)),\"\",VLOOKUP(A38,tesserati[],3,FALSE))","v":""},{"$f":"IF(ISERROR(VLOOKUP(A38,tesserati[],4,FALSE)),\"\",VLOOKUP(A38,tesserati[],4,FALSE))","v":""},{"$f":"IF(ISERROR(VLOOKUP(A38,tesserati[],5,FALSE)),\"\",VLOOKUP(A38,tesserati[],5,FALSE))","v":""},{"$f":"IF(ISERROR(VLOOKUP(A38,tesserati[],7,FALSE)),\"\",VLOOKUP(A38,tesserati[],7,FALSE))","v":""},2]
[null,{"$f":"IF(ISERROR(VLOOKUP(A39,tesserati[],2,FALSE)),\"\",VLOOKUP(A39,tesserati[],2,FALSE))","v":""},{"$f":"IF(ISERROR(VLOOKUP(A39,tesserati[],3,FALSE)),\"\",VLOOKUP(A39,tesserati[],3,FALSE))","v":""},{"$f":"IF(ISERROR(VLOOKUP(A39,tesserati[],4,FALSE)),\"\",VLOOKUP(A39,tesserati[],4,FALSE))","v":""},{"$f":"IF(ISERROR(VLOOKUP(A39,tesserati[],5,FALSE)),\"\",VLOOKUP(A39,tesserati[],5,FALSE))","v":""},{"$f":"IF(ISERROR(VLOOKUP(A39,tesserati[],7,FALSE)),\"\",VLOOKUP(A39,tesserati[],7,FALSE))","v":""}]
[null,{"$f":"IF(ISERROR(VLOOKUP(A40,tesserati[],2,FALSE)),\"\",VLOOKUP(A40,tesserati[],2,FALSE))","v":""},{"$f":"IF(ISERROR(VLOOKUP(A40,tesserati[],3,FALSE)),\"\",VLOOKUP(A40,tesserati[],3,FALSE))","v":""},{"$f":"IF(ISERROR(VLOOKUP(A40,tesserati[],4,FALSE)),\"\",VLOOKUP(A40,tesserati[],4,FALSE))","v":""},{"$f":"IF(ISERROR(VLOOKUP(A40,tesserati[],5,FALSE)),\"\",VLOOKUP(A40,tesserati[],5,FALSE))","v":""},{"$f":"IF(ISERROR(VLOOKUP(A40,tesserati[],7,FALSE)),\"\",VLOOKUP(A40,tesserati[],7,FALSE))","v":""}]
[null,{"$f":"IF(ISERROR(VLOOKUP(A41,tesserati[],2,FALSE)),\"\",VLOOKUP(A41,tesserati[],2,FALSE))","v":""},{"$f":"IF(ISERROR(VLOOKUP(A41,tesserati[],3,FALSE)),\"\",VLOOKUP(A41,tesserati[],3,FALSE))","v":""},{"$f":"IF(ISERROR(VLOOKUP(A41,tesserati[],4,FALSE)),\"\",VLOOKUP(A41,tesserati[],4,FALSE))","v":""},{"$f":"IF(ISERROR(VLOOKUP(A41,tesserati[],5,FALSE)),\"\",VLOOKUP(A41,tesserati[],5,FALSE))","v":""},{"$f":"IF(ISERROR(VLOOKUP(A41,tesserati[],7,FALSE)),\"\",VLOOKUP(A41,tesserati[],7,FALSE))","v":""}]
[null,{"$f":"IF(ISERROR(VLOOKUP(A42,tesserati[],2,FALSE)),\"\",VLOOKUP(A42,tesserati[],2,FALSE))","v":""},{"$f":"IF(ISERROR(VLOOKUP(A42,tesserati[],3,FALSE)),\"\",VLOOKUP(A42,tesserati[],3,FALSE))","v":""},{"$f":"IF(ISERROR(VLOOKUP(A42,tesserati[],4,FALSE)),\"\",VLOOKUP(A42,tesserati[],4,FALSE))","v":""},{"$f":"IF(ISERROR(VLOOKUP(A42,tesserati[],5,FALSE)),\"\",VLOOKUP(A42,tesserati[],5,FALSE))","v":""},{"$f":"IF(ISERROR(VLOOKUP(A42,tesserati[],7,FALSE)),\"\",VLOOKUP(A42,tesserati[],7,FALSE))","v":""},3]
[null,{"$f":"IF(ISERROR(VLOOKUP(A43,tesserati[],2,FALSE)),\"\",VLOOKUP(A43,tesserati[],2,FALSE))","v":""},{"$f":"IF(ISERROR(VLOOKUP(A43,tesserati[],3,FALSE)),\"\",VLOOKUP(A43,tesserati[],3,FALSE))","v":""},{"$f":"IF(ISERROR(VLOOKUP(A43,tesserati[],4,FALSE)),\"\",VLOOKUP(A43,tesserati[],4,FALSE))","v":""},{"$f":"IF(ISERROR(VLOOKUP(A43,tesserati[],5,FALSE)),\"\",VLOOKUP(A43,tesserati[],5,FALSE))","v":""},{"$f":"IF(ISERROR(VLOOKUP(A43,tesserati[],7,FALSE)),\"\",VLOOKUP(A43,tesserati[],7,FALSE))","v":""}]
[null,{"$f":"IF(ISERROR(VLOOKUP(A44,tesserati[],2,FALSE)),\"\",VLOOKUP(A44,tesserati[],2,FALSE))","v":""},{"$f":"IF(ISERROR(VLOOKUP(A44,tesserati[],3,FALSE)),\"\",VLOOKUP(A44,tesserati[],3,FALSE))","v":""},{"$f":"IF(ISERROR(VLOOKUP(A44,tesserati[],4,FALSE)),\"\",VLOOKUP(A44,tesserati[],4,FALSE))","v":""},{"$f":"IF(ISERROR(VLOOKUP(A44,tesserati[],5,FALSE)),\"\",VLOOKUP(A44,tesserati[],5,FALSE))","v":""},{"$f":"IF(ISERROR(VLOOKUP(A44,tesserati[],7,FALSE)),\"\",VLOOKUP(A44,tesserati[],7,FALSE))","v":""}]
[null,{"$f":"IF(ISERROR(VLOOKUP(A45,tesserati[],2,FALSE)),\"\",VLOOKUP(A45,tesserati[],2,FALSE))","v":""},{"$f":"IF(ISERROR(VLOOKUP(A45,tesserati[],3,FALSE)),\"\",VLOOKUP(A45,tesserati[],3,FALSE))","v":""},{"$f":"IF(ISERROR(VLOOKUP(A45,tesserati[],4,FALSE)),\"\",VLOOKUP(A45,tesserati[],4,FALSE))","v":""},{"$f":"IF(ISERROR(VLOOKUP(A45,tesserati[],5,FALSE)),\"\",VLOOKUP(A45,tesserati[],5,FALSE))","v":""},{"$f":"IF(ISERROR(VLOOKUP(A45,tesserati[],7,FALSE)),\"\",VLOOKUP(A45,tesserati[],7,FALSE))","v":""}]
[null,{"$f":"IF(ISERROR(VLOOKUP(A46,tesserati[],2,FALSE)),\"\",VLOOKUP(A46,tesserati[],2,FALSE))","v":""},{"$f":"IF(ISERROR(VLOOKUP(A46,tesserati[],3,FALSE)),\"\",VLOOKUP(A46,tesserati[],3,FALSE))","v":""},{"$f":"IF(ISERROR(VLOOKUP(A46,tesserati[],4,FALSE)),\"\",VLOOKUP(A46,tesserati[],4,FALSE))","v":""},{"$f":"IF(ISERROR(VLOOKUP(A46,tesserati[],5,FALSE)),\"\",VLOOKUP(A46,tesserati[],5,FALSE))","v":""},{"$f":"IF(ISERROR(VLOOKUP(A46,tesserati[],7,FALSE)),\"\",VLOOKUP(A46,tesserati[],7,FALSE))","v":""},4]
[null,{"$f":"IF(ISERROR(VLOOKUP(A47,tesserati[],2,FALSE)),\"\",VLOOKUP(A47,tesserati[],2,FALSE))","v":""},{"$f":"IF(ISERROR(VLOOKUP(A47,tesserati[],3,FALSE)),\"\",VLOOKUP(A47,tesserati[],3,FALSE))","v":""},{"$f":"IF(ISERROR(VLOOKUP(A47,tesserati[],4,FALSE)),\"\",VLOOKUP(A47,tesserati[],4,FALSE))","v":""},{"$f":"IF(ISERROR(VLOOKUP(A47,tesserati[],5,FALSE)),\"\",VLOOKUP(A47,tesserati[],5,FALSE))","v":""},{"$f":"IF(ISERROR(VLOOKUP(A47,tesserati[],7,FALSE)),\"\",VLOOKUP(A47,tesserati[],7,FALSE))","v":""}]
[null,{"$f":"IF(ISERROR(VLOOKUP(A48,tesserati[],2,FALSE)),\"\",VLOOKUP(A48,tesserati[],2,FALSE))","v":""},{"$f":"IF(ISERROR(VLOOKUP(A48,tesserati[],3,FALSE)),\"\",VLOOKUP(A48,tesserati[],3,FALSE))","v":""},{"$f":"IF(ISERROR(VLOOKUP(A48,tesserati[],4,FALSE)),\"\",VLOOKUP(A48,tesserati[],4,FALSE))","v":""},{"$f":"IF(ISERROR(VLOOKUP(A48,tesserati[],5,FALSE)),\"\",VLOOKUP(A48,tesserati[],5,FALSE))","v":""},{"$f":"IF(ISERROR(VLOOKUP(A48,tesserati[],7,FALSE)),\"\",VLOOKUP(A48,tesserati[],7,FALSE))","v":""}]
[null,{"$f":"IF(ISERROR(VLOOKUP(A49,tesserati[],2,FALSE)),\"\",VLOOKUP(A49,tesserati[],2,FALSE))","v":""},{"$f":"IF(ISERROR(VLOOKUP(A49,tesserati[],3,FALSE)),\"\",VLOOKUP(A49,tesserati[],3,FALSE))","v":""},{"$f":"IF(ISERROR(VLOOKUP(A49,tesserati[],4,FALSE)),\"\",VLOOKUP(A49,tesserati[],4,FALSE))","v":""},{"$f":"IF(ISERROR(VLOOKUP(A49,tesserati[],5,FALSE)),\"\",VLOOKUP(A49,tesserati[],5,FALSE))","v":""},{"$f":"IF(ISERROR(VLOOKUP(A49,tesserati[],7,FALSE)),\"\",VLOOKUP(A49,tesserati[],7,FALSE))","v":""}]
[null,{"$f":"IF(ISERROR(VLOOKUP(A50,tesserati[],2,FALSE)),\"\",VLOOKUP(A50,tesserati[],2,FALSE))","v":""},{"$f":"IF(ISERROR(VLOOKUP(A50,tesserati[],3,FALSE)),\"\",VLOOKUP(A50,tesserati[],3,FALSE))","v":""},{"$f":"IF(ISERROR(VLOOKUP(A50,tesserati[],4,FALSE)),\"\",VLOOKUP(A50,tesserati[],4,FALSE))","v":""},{"$f":"IF(ISERROR(VLOOKUP(A50,tesserati[],5,FALSE)),\"\",VLOOKUP(A50,tesserati[],5,FALSE))","v":""},{"$f":"IF(ISERROR(VLOOKUP(A50,tesserati[],7,FALSE)),\"\",VLOOKUP(A50,tesserati[],7,FALSE))","v":""},5]
[null,{"$f":"IF(ISERROR(VLOOKUP(A51,tesserati[],2,FALSE)),\"\",VLOOKUP(A51,tesserati[],2,FALSE))","v":""},{"$f":"IF(ISERROR(VLOOKUP(A51,tesserati[],3,FALSE)),\"\",VLOOKUP(A51,tesserati[],3,FALSE))","v":""},{"$f":"IF(ISERROR(VLOOKUP(A51,tesserati[],4,FALSE)),\"\",VLOOKUP(A51,tesserati[],4,FALSE))","v":""},{"$f":"IF(ISERROR(VLOOKUP(A51,tesserati[],5,FALSE)),\"\",VLOOKUP(A51,tesserati[],5,FALSE))","v":""},{"$f":"IF(ISERROR(VLOOKUP(A51,tesserati[],7,FALSE)),\"\",VLOOKUP(A51,tesserati[],7,FALSE))","v":""}]
[null,{"$f":"IF(ISERROR(VLOOKUP(A52,tesserati[],2,FALSE)),\"\",VLOOKUP(A52,tesserati[],2,FALSE))","v":""},{"$f":"IF(ISERROR(VLOOKUP(A52,tesserati[],3,FALSE)),\"\",VLOOKUP(A52,tesserati[],3,FALSE))","v":""},{"$f":"IF(ISERROR(VLOOKUP(A52,tesserati[],4,FALSE)),\"\",VLOOKUP(A52,tesserati[],4,FALSE))","v":""},{"$f":"IF(ISERROR(VLOOKUP(A52,tesserati[],5,FALSE)),\"\",VLOOKUP(A52,tesserati[],5,FALSE))","v":""},{"$f":"IF(ISERROR(VLOOKUP(A52,tesserati[],7,FALSE)),\"\",VLOOKUP(A52,tesserati[],7,FALSE))","v":""}]
[null,{"$f":"IF(ISERROR(VLOOKUP(A53,tesserati[],2,FALSE)),\"\",VLOOKUP(A53,tesserati[],2,FALSE))","v":""},{"$f":"IF(ISERROR(VLOOKUP(A53,tesserati[],3,FALSE)),\"\",VLOOKUP(A53,tesserati[],3,FALSE))","v":""},{"$f":"IF(ISERROR(VLOOKUP(A53,tesserati[],4,FALSE)),\"\",VLOOKUP(A53,tesserati[],4,FALSE))","v":""},{"$f":"IF(ISERROR(VLOOKUP(A53,tesserati[],5,FALSE)),\"\",VLOOKUP(A53,tesserati[],5,FALSE))","v":""},{"$f":"IF(ISERROR(VLOOKUP(A53,tesserati[],7,FALSE)),\"\",VLOOKUP(A53,tesserati[],7,FALSE))","v":""}]
[null,{"$f":"IF(ISERROR(VLOOKUP(A54,tesserati[],2,FALSE)),\"\",VLOOKUP(A54,tesserati[],2,FALSE))","v":""},{"$f":"IF(ISERROR(VLOOKUP(A54,tesserati[],3,FALSE)),\"\",VLOOKUP(A54,tesserati[],3,FALSE))","v":""},{"$f":"IF(ISERROR(VLOOKUP(A54,tesserati[],4,FALSE)),\"\",VLOOKUP(A54,tesserati[],4,FALSE))","v":""},{"$f":"IF(ISERROR(VLOOKUP(A54,tesserati[],5,FALSE)),\"\",VLOOKUP(A54,tesserati[],5,FALSE))","v":""},{"$f":"IF(ISERROR(VLOOKUP(A54,tesserati[],7,FALSE)),\"\",VLOOKUP(A54,tesserati[],7,FALSE))","v":""},6]
[null,{"$f":"IF(ISERROR(VLOOKUP(A55,tesserati[],2,FALSE)),\"\",VLOOKUP(A55,tesserati[],2,FALSE))","v":""},{"$f":"IF(ISERROR(VLOOKUP(A55,tesserati[],3,FALSE)),\"\",VLOOKUP(A55,tesserati[],3,FALSE))","v":""},{"$f":"IF(ISERROR(VLOOKUP(A55,tesserati[],4,FALSE)),\"\",VLOOKUP(A55,tesserati[],4,FALSE))","v":""},{"$f":"IF(ISERROR(VLOOKUP(A55,tesserati[],5,FALSE)),\"\",VLOOKUP(A55,tesserati[],5,FALSE))","v":""},{"$f":"IF(ISERROR(VLOOKUP(A55,tesserati[],7,FALSE)),\"\",VLOOKUP(A55,tesserati[],7,FALSE))","v":""}]
[null,{"$f":"IF(ISERROR(VLOOKUP(A56,tesserati[],2,FALSE)),\"\",VLOOKUP(A56,tesserati[],2,FALSE))","v":""},{"$f":"IF(ISERROR(VLOOKUP(A56,tesserati[],3,FALSE)),\"\",VLOOKUP(A56,tesserati[],3,FALSE))","v":""},{"$f":"IF(ISERROR(VLOOKUP(A56,tesserati[],4,FALSE)),\"\",VLOOKUP(A56,tesserati[],4,FALSE))","v":""},{"$f":"IF(ISERROR(VLOOKUP(A56,tesserati[],5,FALSE)),\"\",VLOOKUP(A56,tesserati[],5,FALSE))","v":""},{"$f":"IF(ISERROR(VLOOKUP(A56,tesserati[],7,FALSE)),\"\",VLOOKUP(A56,tesserati[],7,FALSE))","v":""}]
[null,{"$f":"IF(ISERROR(VLOOKUP(A57,tesserati[],2,FALSE)),\"\",VLOOKUP(A57,tesserati[],2,FALSE))","v":""},{"$f":"IF(ISERROR(VLOOKUP(A57,tesserati[],3,FALSE)),\"\",VLOOKUP(A57,tesserati[],3,FALSE))","v":""},{"$f":"IF(ISERROR(VLOOKUP(A57,tesserati[],4,FALSE)),\"\",VLOOKUP(A57,tesserati[],4,FALSE))","v":""},{"$f":"IF(ISERROR(VLOOKUP(A57,tesserati[],5,FALSE)),\"\",VLOOKUP(A57,tesserati[],5,FALSE))","v":""},{"$f":"IF(ISERROR(VLOOKUP(A57,tesserati[],7,FALSE)),\"\",VLOOKUP(A57,tesserati[],7,FALSE))","v":""}]
[null,{"$f":"IF(ISERROR(VLOOKUP(A58,tesserati[],2,FALSE)),\"\",VLOOKUP(A58,tesserati[],2,FALSE))","v":""},{"$f":"IF(ISERROR(VLOOKUP(A58,tesserati[],3,FALSE)),\"\",VLOOKUP(A58,tesserati[],3,FALSE))","v":""},{"$f":"IF(ISERROR(VLOOKUP(A58,tesserati[],4,FALSE)),\"\",VLOOKUP(A58,tesserati[],4,FALSE))","v":""},{"$f":"IF(ISERROR(VLOOKUP(A58,tesserati[],5,FALSE)),\"\",VLOOKUP(A58,tesserati[],5,FALSE))","v":""},{"$f":"IF(ISERROR(VLOOKUP(A58,tesserati[],7,FALSE)),\"\",VLOOKUP(A58,tesserati[],7,FALSE))","v":""}]
[null,{"$f":"IF(ISERROR(VLOOKUP(A59,tesserati[],2,FALSE)),\"\",VLOOKUP(A59,tesserati[],2,FALSE))","v":""},{"$f":"IF(ISERROR(VLOOKUP(A59,tesserati[],3,FALSE)),\"\",VLOOKUP(A59,tesserati[],3,FALSE))","v":""},{"$f":"IF(ISERROR(VLOOKUP(A59,tesserati[],4,FALSE)),\"\",VLOOKUP(A59,tesserati[],4,FALSE))","v":""},{"$f":"IF(ISERROR(VLOOKUP(A59,tesserati[],5,FALSE)),\"\",VLOOKUP(A59,tesserati[],5,FALSE))","v":""},{"$f":"IF(ISERROR(VLOOKUP(A59,tesserati[],7,FALSE)),\"\",VLOOKUP(A59,tesserati[],7,FALSE))","v":""}]
[null,{"$f":"IF(ISERROR(VLOOKUP(A60,tesserati[],2,FALSE)),\"\",VLOOKUP(A60,tesserati[],2,FALSE))","v":""},{"$f":"IF(ISERROR(VLOOKUP(A60,tesserati[],3,FALSE)),\"\",VLOOKUP(A60,tesserati[],3,FALSE))","v":""},{"$f":"IF(ISERROR(VLOOKUP(A60,tesserati[],4,FALSE)),\"\",VLOOKUP(A60,tesserati[],4,FALSE))","v":""},{"$f":"IF(ISERROR(VLOOKUP(A60,tesserati[],5,FALSE)),\"\",VLOOKUP(A60,tesserati[],5,FALSE))","v":""},{"$f":"IF(ISERROR(VLOOKUP(A60,tesserati[],7,FALSE)),\"\",VLOOKUP(A60,tesserati[],7,FALSE))","v":""}]
[null,{"$f":"IF(ISERROR(VLOOKUP(A61,tesserati[],2,FALSE)),\"\",VLOOKUP(A61,tesserati[],2,FALSE))","v":""},{"$f":"IF(ISERROR(VLOOKUP(A61,tesserati[],3,FALSE)),\"\",VLOOKUP(A61,tesserati[],3,FALSE))","v":""},{"$f":"IF(ISERROR(VLOOKUP(A61,tesserati[],4,FALSE)),\"\",VLOOKUP(A61,tesserati[],4,FALSE))","v":""},{"$f":"IF(ISERROR(VLOOKUP(A61,tesserati[],5,FALSE)),\"\",VLOOKUP(A61,tesserati[],5,FALSE))","v":""},{"$f":"IF(ISERROR(VLOOKUP(A61,tesserati[],7,FALSE)),\"\",VLOOKUP(A61,tesserati[],7,FALSE))","v":""}]
[null,{"$f":"IF(ISERROR(VLOOKUP(A62,tesserati[],2,FALSE)),\"\",VLOOKUP(A62,tesserati[],2,FALSE))","v":""},{"$f":"IF(ISERROR(VLOOKUP(A62,tesserati[],3,FALSE)),\"\",VLOOKUP(A62,tesserati[],3,FALSE))","v":""},{"$f":"IF(ISERROR(VLOOKUP(A62,tesserati[],4,FALSE)),\"\",VLOOKUP(A62,tesserati[],4,FALSE))","v":""},{"$f":"IF(ISERROR(VLOOKUP(A62,tesserati[],5,FALSE)),\"\",VLOOKUP(A62,tesserati[],5,FALSE))","v":""},{"$f":"IF(ISERROR(VLOOKUP(A62,tesserati[],7,FALSE)),\"\",VLOOKUP(A62,tesserati[],7,FALSE))","v":""}]
[null,{"$f":"IF(ISERROR(VLOOKUP(A63,tesserati[],2,FALSE)),\"\",VLOOKUP(A63,tesserati[],2,FALSE))","v":""},{"$f":"IF(ISERROR(VLOOKUP(A63,tesserati[],3,FALSE)),\"\",VLOOKUP(A63,tesserati[],3,FALSE))","v":""},{"$f":"IF(ISERROR(VLOOKUP(A63,tesserati[],4,FALSE)),\"\",VLOOKUP(A63,tesserati[],4,FALSE))","v":""},{"$f":"IF(ISERROR(VLOOKUP(A63,tesserati[],5,FALSE)),\"\",VLOOKUP(A63,tesserati[],5,FALSE))","v":""},{"$f":"IF(ISERROR(VLOOKUP(A63,tesserati[],7,FALSE)),\"\",VLOOKUP(A63,tesserati[],7,FALSE))","v":""}]
[null,{"$f":"IF(ISERROR(VLOOKUP(A64,tesserati[],2,FALSE)),\"\",VLOOKUP(A64,tesserati[],2,FALSE))","v":""},{"$f":"IF(ISERROR(VLOOKUP(A64,tesserati[],3,FALSE)),\"\",VLOOKUP(A64,tesserati[],3,FALSE))","v":""},{"$f":"IF(ISERROR(VLOOKUP(A64,tesserati[],4,FALSE)),\"\",VLOOKUP(A64,tesserati[],4,FALSE))","v":""},{"$f":"IF(ISERROR(VLOOKUP(A64,tesserati[],5,FALSE)),\"\",VLOOKUP(A64,tesserati[],5,FALSE))","v":""},{"$f":"IF(ISERROR(VLOOKUP(A64,tesserati[],7,FALSE)),\"\",VLOOKUP(A64,tesserati[],7,FALSE))","v":""}]
[null,{"$f":"IF(ISERROR(VLOOKUP(A65,tesserati[],2,FALSE)),\"\",VLOOKUP(A65,tesserati[],2,FALSE))","v":""},{"$f":"IF(ISERROR(VLOOKUP(A65,tesserati[],3,FALSE)),\"\",VLOOKUP(A65,tesserati[],3,FALSE))","v":""},{"$f":"IF(ISERROR(VLOOKUP(A65,tesserati[],4,FALSE)),\"\",VLOOKUP(A65,tesserati[],4,FALSE))","v":""},{"$f":"IF(ISERROR(VLOOKUP(A65,tesserati[],5,FALSE)),\"\",VLOOKUP(A65,tesserati[],5,FALSE))","v":""},{"$f":"IF(ISERROR(VLOOKUP(A65,tesserati[],7,FALSE)),\"\",VLOOKUP(A65,tesserati[],7,FALSE))","v":""}]
[null,{"$f":"IF(ISERROR(VLOOKUP(A66,tesserati[],2,FALSE)),\"\",VLOOKUP(A66,tesserati[],2,FALSE))","v":""},{"$f":"IF(ISERROR(VLOOKUP(A66,tesserati[],3,FALSE)),\"\",VLOOKUP(A66,tesserati[],3,FALSE))","v":""},{"$f":"IF(ISERROR(VLOOKUP(A66,tesserati[],4,FALSE)),\"\",VLOOKUP(A66,tesserati[],4,FALSE))","v":""},{"$f":"IF(ISERROR(VLOOKUP(A66,tesserati[],5,FALSE)),\"\",VLOOKUP(A66,tesserati[],5,FALSE))","v":""},{"$f":"IF(ISERROR(VLOOKUP(A66,tesserati[],7,FALSE)),\"\",VLOOKUP(A66,tesserati[],7,FALSE))","v":""}]
[null,{"$f":"IF(ISERROR(VLOOKUP(A67,tesserati[],2,FALSE)),\"\",VLOOKUP(A67,tesserati[],2,FALSE))","v":""},{"$f":"IF(ISERROR(VLOOKUP(A67,tesserati[],3,FALSE)),\"\",VLOOKUP(A67,tesserati[],3,FALSE))","v":""},{"$f":"IF(ISERROR(VLOOKUP(A67,tesserati[],4,FALSE)),\"\",VLOOKUP(A67,tesserati[],4,FALSE))","v":""},{"$f":"IF(ISERROR(VLOOKUP(A67,tesserati[],5,FALSE)),\"\",VLOOKUP(A67,tesserati[],5,FALSE))","v":""},{"$f":"IF(ISERROR(VLOOKUP(A67,tesserati[],7,FALSE)),\"\",VLOOKUP(A67,tesserati[],7,FALSE))","v":""}]
[null,{"$f":"IF(ISERROR(VLOOKUP(A68,tesserati[],2,FALSE)),\"\",VLOOKUP(A68,tesserati[],2,FALSE))","v":""},{"$f":"IF(ISERROR(VLOOKUP(A68,tesserati[],3,FALSE)),\"\",VLOOKUP(A68,tesserati[],3,FALSE))","v":""},{"$f":"IF(ISERROR(VLOOKUP(A68,tesserati[],4,FALSE)),\"\",VLOOKUP(A68,tesserati[],4,FALSE))","v":""},{"$f":"IF(ISERROR(VLOOKUP(A68,tesserati[],5,FALSE)),\"\",VLOOKUP(A68,tesserati[],5,FALSE))","v":""},{"$f":"IF(ISERROR(VLOOKUP(A68,tesserati[],7,FALSE)),\"\",VLOOKUP(A68,tesserati[],7,FALSE))","v":""}]
[null,{"$f":"IF(ISERROR(VLOOKUP(A69,tesserati[],2,FALSE)),\"\",VLOOKUP(A69,tesserati[],2,FALSE))","v":""},{"$f":"IF(ISERROR(VLOOKUP(A69,tesserati[],3,FALSE)),\"\",VLOOKUP(A69,tesserati[],3,FALSE))","v":""},{"$f":"IF(ISERROR(VLOOKUP(A69,tesserati[],4,FALSE)),\"\",VLOOKUP(A69,tesserati[],4,FALSE))","v":""},{"$f":"IF(ISERROR(VLOOKUP(A69,tesserati[],5,FALSE)),\"\",VLOOKUP(A69,tesserati[],5,FALSE))","v":""},{"$f":"IF(ISERROR(VLOOKUP(A69,tesserati[],7,FALSE)),\"\",VLOOKUP(A69,tesserati[],7,FALSE))","v":""}]
[null,{"$f":"IF(ISERROR(VLOOKUP(A70,tesserati[],2,FALSE)),\"\",VLOOKUP(A70,tesserati[],2,FALSE))","v":""},{"$f":"IF(ISERROR(VLOOKUP(A70,tesserati[],3,FALSE)),\"\",VLOOKUP(A70,tesserati[],3,FALSE))","v":""},{"$f":"IF(ISERROR(VLOOKUP(A70,tesserati[],4,FALSE)),\"\",VLOOKUP(A70,tesserati[],4,FALSE))","v":""},{"$f":"IF(ISERROR(VLOOKUP(A70,tesserati[],5,FALSE)),\"\",VLOOKUP(A70,tesserati[],5,FALSE))","v":""},{"$f":"IF(ISERROR(VLOOKUP(A70,tesserati[],7,FALSE)),\"\",VLOOKUP(A70,tesserati[],7,FALSE))","v":""}]
[null,{"$f":"IF(ISERROR(VLOOKUP(A71,tesserati[],2,FALSE)),\"\",VLOOKUP(A71,tesserati[],2,FALSE))","v":""},{"$f":"IF(ISERROR(VLOOKUP(A71,tesserati[],3,FALSE)),\"\",VLOOKUP(A71,tesserati[],3,FALSE))","v":""},{"$f":"IF(ISERROR(VLOOKUP(A71,tesserati[],4,FALSE)),\"\",VLOOKUP(A71,tesserati[],4,FALSE))","v":""},{"$f":"IF(ISERROR(VLOOKUP(A71,tesserati[],5,FALSE)),\"\",VLOOKUP(A71,tesserati[],5,FALSE))","v":""},{"$f":"IF(ISERROR(VLOOKUP(A71,tesserati[],7,FALSE)),\"\",VLOOKUP(A71,tesserati[],7,FALSE))","v":""}]
[null,{"$f":"IF(ISERROR(VLOOKUP(A72,tesserati[],2,FALSE)),\"\",VLOOKUP(A72,tesserati[],2,FALSE))","v":""},{"$f":"IF(ISERROR(VLOOKUP(A72,tesserati[],3,FALSE)),\"\",VLOOKUP(A72,tesserati[],3,FALSE))","v":""},{"$f":"IF(ISERROR(VLOOKUP(A72,tesserati[],4,FALSE)),\"\",VLOOKUP(A72,tesserati[],4,FALSE))","v":""},{"$f":"IF(ISERROR(VLOOKUP(A72,tesserati[],5,FALSE)),\"\",VLOOKUP(A72,tesserati[],5,FALSE))","v":""},{"$f":"IF(ISERROR(VLOOKUP(A72,tesserati[],7,FALSE)),\"\",VLOOKUP(A72,tesserati[],7,FALSE))","v":""}]

{"sheet":"SVEDESE RAGAZZE","index":14,"n_rows":72,"n_cols":12,"rows_kept":72,"cut":false,"hidden":false,"merged":[[0,2,0,4],[0,5,0,7],[0,8,0,10],[0,11,1,11],[1,2,1,4],[1,5,1,7],[1,8,1,10],[2,11,4,11],[3,0,4,1],[3,2,4,2],[3,3,4,3],[3,5,4,7],[3,8,4,10],[2,0,2,1],[2,4,4,4],[2,5,2,7],[2,8,2,10],[5,9,6,9],[5,10,6,10],[5,11,6,11],[5,0,6,0],[5,1,6,2],[5,3,6,3],[5,4,6,4],[5,5,6,5],[7,0,7,11],[5,6,6,6],[16,6,19,6],[16,7,19,7],[16,8,19,8],[16,9,19,9],[12,6,15,6],[12,7,15,7],[12,8,15,8],[12,9,15,9],[8,6,11,6],[8,7,11,7],[8,8,11,8],[8,9,11,9],[5,7,6,7],[5,8,6,8],[20,6,23,6],[20,7,23,7],[20,8,23,8],[20,9,23,9],[24,6,27,6],[24,7,27,7],[24,8,27,8],[24,9,27,9],[28,6,31,6],[28,7,31,7],[28,8,31,8],[28,9,31,9],[33,6,36,6],[33,7,36,7],[33,8,36,8],[33,9,36,9],[32,0,32,11],[37,6,40,6],[37,7,40,7],[37,8,40,8],[37,9,40,9],[41,6,44,6],[41,7,44,7],[41,8,44,8],[41,9,44,9],[45,6,48,6],[45,7,48,7],[45,8,48,8],[45,9,48,9],[49,6,52,6],[49,7,52,7],[49,8,52,8],[49,9,52,9],[53,6,56,6],[53,7,56,7],[53,8,56,8],[53,9,56,9],[57,6,60,6],[57,7,60,7],[57,8,60,8],[57,9,60,9]]}
[null,null,"MANIFESTAZIONE",null,null,"LOCALITA'",null,null,"SOCIETA' ORGANIZZATRICE"]
[null,null,"6° prova provinciale",null,null,"Tezze sul Brenta",null,null,"CSI Tezze sul Brenta"]
["CATEGORIA",null,"ORA INIZIO","ORA FINE",null,"GARA",null,null,"DATA"]
["RAGAZZE",null,null,null,null,"SVEDESE",null,null,"2017-09-24"]
[]
["N. tessera","ATLETA\nCOGNOME E NOME",null,"SOCIETA'","NASCITA","CATEGORIA","Corsia","PETTORALE","Tempo","Piazzamento","PUNTI","CL."]
[]
["1 SERIE",{"$f":"IF(ISERROR(VLOOKUP(A8,tesserati[],2,FALSE)),\"\",VLOOKUP(A8,tesserati[],2,FALSE))","v":""},{"$f":"IF(ISERROR(VLOOKUP(A8,tesserati[],3,FALSE)),\"\",VLOOKUP(A8,tesserati[],3,FALSE))","v":""},{"$f":"IF(ISERROR(VLOOKUP(#REF!,tesserati[],5,FALSE)),\"\",VLOOKUP(#REF!,tesserati[],5,FALSE))","v":""},{"$f":"IF(ISERROR(VLOOKUP(A8,tesserati[],4,FALSE)),\"\",VLOOKUP(A8,tesserati[],4,FALSE))","v":""},{"$f":"IF(ISERROR(VLOOKUP(A8,tesserati[],7,FALSE)),\"\",VLOOKUP(A8,tesserati[],7,FALSE))","v":""}]
[2721,{"$f":"IF(ISERROR(VLOOKUP(A9,tesserati[],2,FALSE)),\"\",VLOOKUP(A9,tesserati[],2,FALSE))","v":"TESTOLIN"},{"$f":"IF(ISERROR(VLOOKUP(A9,tesserati[],3,FALSE)),\"\",VLOOKUP(A9,tesserati[],3,FALSE))","v":"ANGELA"},{"$f":"IF(ISERROR(VLOOKUP(A9,tesserati[],4,FALSE)),\"\",VLOOKUP(A9,tesserati[],4,FALSE))","v":"POL. DIL. MONTECCHIO PRECALCINO"},{"$f":"IF(ISERROR(VLOOKUP(A9,tesserati[],5,FALSE)),\"\",VLOOKUP(A9,tesserati[],5,FALSE))","v":2004},{"$f":"IF(ISERROR(VLOOKUP(A9,tesserati[],7,FALSE)),\"\",VLOOKUP(A9,tesserati[],7,FALSE))","v":"RF"},1,313,"2,52.9",1]
[2704,{"$f":"IF(ISERROR(VLOOKUP(A10,tesserati[],2,FALSE)),\"\",VLOOKUP(A10,tesserati[],2,FALSE))","v":"CHEMELLO"},{"$f":"IF(ISERROR(VLOOKUP(A10,tesserati[],3,FALSE)),\"\",VLOOKUP(A10,tesserati[],3,FALSE))","v":"SILVIA"},{"$f":"IF(ISERROR(VLOOKUP(A10,tesserati[],4,FALSE)),\"\",VLOOKUP(A10,tesserati[],4,FALSE))","v":"POL. DIL. MONTECCHIO PRECALCINO"},{"$f":"IF(ISERROR(VLOOKUP(A10,tesserati[],5,FALSE)),\"\",VLOOKUP(A10,tesserati[],5,FALSE))","v":2004},{"$f":"IF(ISERROR(VLOOKUP(A10,tesserati[],7,FALSE)),\"\",VLOOKUP(A10,tesserati[],7,FALSE))","v":"RF"}]
[2728,{"$f":"IF(ISERROR(VLOOKUP(A11,tesserati[],2,FALSE)),\"\",VLOOKUP(A11,tesserati[],2,FALSE))","v":"GALLEAZZO"},{"$f":"IF(ISERROR(VLOOKUP(A11,tesserati[],3,FALSE)),\"\",VLOOKUP(A11,tesserati[],3,FALSE))","v":"MATILDE"},{"$f":"IF(ISERROR(VLOOKUP(A11,tesserati[],4,FALSE)),\"\",VLOOKUP(A11,tesserati[],4,FALSE))","v":"POL. DIL. MONTECCHIO PRECALCINO"},{"$f":"IF(ISERROR(VLOOKUP(A11,tesserati[],5,FALSE)),\"\",VLOOKUP(A11,tesserati[],5,FALSE))","v":2004},{"$f":"IF(ISERROR(VLOOKUP(A11,tesserati[],7,FALSE)),\"\",VLOOKUP(A11,tesserati[],7,FALSE))","v":"RF"}]
[2696,{"$f":"IF(ISERROR(VLOOKUP(A12,tesserati[],2,FALSE)),\"\",VLOOKUP(A12,tesserati[],2,FALSE))","v":"MACULAN"},{"$f":"IF(ISERROR(VLOOKUP(A12,tesserati[],3,FALSE)),\"\",VLOOKUP(A12,tesserati[],3,FALSE))","v":"NOEMI"},{"$f":"IF(ISERROR(VLOOKUP(A12,tesserati[],4,FALSE)),\"\",VLOOKUP(A12,tesserati[],4,FALSE))","v":"POL. DIL. MONTECCHIO PRECALCINO"},{"$f":"IF(ISERROR(VLOOKUP(A12,tesserati[],5,FALSE)),\"\",VLOOKUP(A12,tesserati[],5,FALSE))","v":2004},{"$f":"IF(ISERROR(VLOOKUP(A12,tesserati[],7,FALSE)),\"\",VLOOKUP(A12,tesserati[],7,FALSE))","v":"RF"}]
[null,{"$f":"IF(ISERROR(VLOOKUP(A13,tesserati[],2,FALSE)),\"\",VLOOKUP(A13,tesserati[],2,FALSE))","v":""},{"$f":"IF(ISERROR(VLOOKUP(A13,tesserati[],3,FALSE)),\"\",VLOOKUP(A13,tesserati[],3,FALSE))","v":""},{"$f":"IF(ISERROR(VLOOKUP(A13,tesserati[],4,FALSE)),\"\",VLOOKUP(A13,tesserati[],4,FALSE))","v":""},{"$f":"IF(ISERROR(VLOOKUP(A13,tesserati[],5,FALSE)),\"\",VLOOKUP(A13,tesserati[],5,FALSE))","v":""},{"$f":"IF(ISERROR(VLOOKUP(A13,tesserati[],7,FALSE)),\"\",VLOOKUP(A13,tesserati[],7,FALSE))","v":""},2]
[null,{"$f":"IF(ISERROR(VLOOKUP(A14,tesserati[],2,FALSE)),\"\",VLOOKUP(A14,tesserati[],2,FALSE))","v":""},{"$f":"IF(ISERROR(VLOOKUP(A14,tesserati[],3,FALSE)),\"\",VLOOKUP(A14,tesserati[],3,FALSE))","v":""},{"$f":"IF(ISERROR(VLOOKUP(A14,tesserati[],4,FALSE)),\"\",VLOOKUP(A14,tesserati[],4,FALSE))","v":""},{"$f":"IF(ISERROR(VLOOKUP(A14,tesserati[],5,FALSE)),\"\",VLOOKUP(A14,tesserati[],5,FALSE))","v":""},{"$f":"IF(ISERROR(VLOOKUP(A14,tesserati[],7,FALSE)),\"\",VLOOKUP(A14,tesserati[],7,FALSE))","v":""}]
[null,{"$f":"IF(ISERROR(VLOOKUP(A15,tesserati[],2,FALSE)),\"\",VLOOKUP(A15,tesserati[],2,FALSE))","v":""},{"$f":"IF(ISERROR(VLOOKUP(A15,tesserati[],3,FALSE)),\"\",VLOOKUP(A15,tesserati[],3,FALSE))","v":""},{"$f":"IF(ISERROR(VLOOKUP(A15,tesserati[],4,FALSE)),\"\",VLOOKUP(A15,tesserati[],4,FALSE))","v":""},{"$f":"IF(ISERROR(VLOOKUP(A15,tesserati[],5,FALSE)),\"\",VLOOKUP(A15,tesserati[],5,FALSE))","v":""},{"$f":"IF(ISERROR(VLOOKUP(A15,tesserati[],7,FALSE)),\"\",VLOOKUP(A15,tesserati[],7,FALSE))","v":""}]
[null,{"$f":"IF(ISERROR(VLOOKUP(A16,tesserati[],2,FALSE)),\"\",VLOOKUP(A16,tesserati[],2,FALSE))","v":""},{"$f":"IF(ISERROR(VLOOKUP(A16,tesserati[],3,FALSE)),\"\",VLOOKUP(A16,tesserati[],3,FALSE))","v":""},{"$f":"IF(ISERROR(VLOOKUP(A16,tesserati[],4,FALSE)),\"\",VLOOKUP(A16,tesserati[],4,FALSE))","v":""},{"$f":"IF(ISERROR(VLOOKUP(A16,tesserati[],5,FALSE)),\"\",VLOOKUP(A16,tesserati[],5,FALSE))","v":""},{"$f":"IF(ISERROR(VLOOKUP(A16,tesserati[],7,FALSE)),\"\",VLOOKUP(A16,tesserati[],7,FALSE))","v":""}]
[null,{"$f":"IF(ISERROR(VLOOKUP(A17,tesserati[],2,FALSE)),\"\",VLOOKUP(A17,tesserati[],2,FALSE))","v":""},{"$f":"IF(ISERROR(VLOOKUP(A17,tesserati[],3,FALSE)),\"\",VLOOKUP(A17,tesserati[],3,FALSE))","v":""},{"$f":"IF(ISERROR(VLOOKUP(A17,tesserati[],4,FALSE)),\"\",VLOOKUP(A17,tesserati[],4,FALSE))","v":""},{"$f":"IF(ISERROR(VLOOKUP(A17,tesserati[],5,FALSE)),\"\",VLOOKUP(A17,tesserati[],5,FALSE))","v":""},{"$f":"IF(ISERROR(VLOOKUP(A17,tesserati[],7,FALSE)),\"\",VLOOKUP(A17,tesserati[],7,FALSE))","v":""},3]
[null,{"$f":"IF(ISERROR(VLOOKUP(A18,tesserati[],2,FALSE)),\"\",VLOOKUP(A18,tesserati[],2,FALSE))","v":""},{"$f":"IF(ISERROR(VLOOKUP(A18,tesserati[],3,FALSE)),\"\",VLOOKUP(A18,tesserati[],3,FALSE))","v":""},{"$f":"IF(ISERROR(VLOOKUP(A18,tesserati[],4,FALSE)),\"\",VLOOKUP(A18,tesserati[],4,FALSE))","v":""},{"$f":"IF(ISERROR(VLOOKUP(A18,tesserati[],5,FALSE)),\"\",VLOOKUP(A18,tesserati[],5,FALSE))","v":""},{"$f":"IF(ISERROR(VLOOKUP(A18,tesserati[],7,FALSE)),\"\",VLOOKUP(A18,tesserati[],7,FALSE))","v":""}]
[null,{"$f":"IF(ISERROR(VLOOKUP(A19,tesserati[],2,FALSE)),\"\",VLOOKUP(A19,tesserati[],2,FALSE))","v":""},{"$f":"IF(ISERROR(VLOOKUP(A19,tesserati[],3,FALSE)),\"\",VLOOKUP(A19,tesserati[],3,FALSE))","v":""},{"$f":"IF(ISERROR(VLOOKUP(A19,tesserati[],4,FALSE)),\"\",VLOOKUP(A19,tesserati[],4,FALSE))","v":""},{"$f":"IF(ISERROR(VLOOKUP(A19,tesserati[],5,FALSE)),\"\",VLOOKUP(A19,tesserati[],5,FALSE))","v":""},{"$f":"IF(ISERROR(VLOOKUP(A19,tesserati[],7,FALSE)),\"\",VLOOKUP(A19,tesserati[],7,FALSE))","v":""}]
[null,{"$f":"IF(ISERROR(VLOOKUP(A20,tesserati[],2,FALSE)),\"\",VLOOKUP(A20,tesserati[],2,FALSE))","v":""},{"$f":"IF(ISERROR(VLOOKUP(A20,tesserati[],3,FALSE)),\"\",VLOOKUP(A20,tesserati[],3,FALSE))","v":""},{"$f":"IF(ISERROR(VLOOKUP(A20,tesserati[],4,FALSE)),\"\",VLOOKUP(A20,tesserati[],4,FALSE))","v":""},{"$f":"IF(ISERROR(VLOOKUP(A20,tesserati[],5,FALSE)),\"\",VLOOKUP(A20,tesserati[],5,FALSE))","v":""},{"$f":"IF(ISERROR(VLOOKUP(A20,tesserati[],7,FALSE)),\"\",VLOOKUP(A20,tesserati[],7,FALSE))","v":""}]
[null,{"$f":"IF(ISERROR(VLOOKUP(A21,tesserati[],2,FALSE)),\"\",VLOOKUP(A21,tesserati[],2,FALSE))","v":""},{"$f":"IF(ISERROR(VLOOKUP(A21,tesserati[],3,FALSE)),\"\",VLOOKUP(A21,tesserati[],3,FALSE))","v":""},{"$f":"IF(ISERROR(VLOOKUP(A21,tesserati[],4,FALSE)),\"\",VLOOKUP(A21,tesserati[],4,FALSE))","v":""},{"$f":"IF(ISERROR(VLOOKUP(A21,tesserati[],5,FALSE)),\"\",VLOOKUP(A21,tesserati[],5,FALSE))","v":""},{"$f":"IF(ISERROR(VLOOKUP(A21,tesserati[],7,FALSE)),\"\",VLOOKUP(A21,tesserati[],7,FALSE))","v":""},4]
[null,{"$f":"IF(ISERROR(VLOOKUP(A22,tesserati[],2,FALSE)),\"\",VLOOKUP(A22,tesserati[],2,FALSE))","v":""},{"$f":"IF(ISERROR(VLOOKUP(A22,tesserati[],3,FALSE)),\"\",VLOOKUP(A22,tesserati[],3,FALSE))","v":""},{"$f":"IF(ISERROR(VLOOKUP(A22,tesserati[],4,FALSE)),\"\",VLOOKUP(A22,tesserati[],4,FALSE))","v":""},{"$f":"IF(ISERROR(VLOOKUP(A22,tesserati[],5,FALSE)),\"\",VLOOKUP(A22,tesserati[],5,FALSE))","v":""},{"$f":"IF(ISERROR(VLOOKUP(A22,tesserati[],7,FALSE)),\"\",VLOOKUP(A22,tesserati[],7,FALSE))","v":""}]
[null,{"$f":"IF(ISERROR(VLOOKUP(A23,tesserati[],2,FALSE)),\"\",VLOOKUP(A23,tesserati[],2,FALSE))","v":""},{"$f":"IF(ISERROR(VLOOKUP(A23,tesserati[],3,FALSE)),\"\",VLOOKUP(A23,tesserati[],3,FALSE))","v":""},{"$f":"IF(ISERROR(VLOOKUP(A23,tesserati[],4,FALSE)),\"\",VLOOKUP(A23,tesserati[],4,FALSE))","v":""},{"$f":"IF(ISERROR(VLOOKUP(A23,tesserati[],5,FALSE)),\"\",VLOOKUP(A23,tesserati[],5,FALSE))","v":""},{"$f":"IF(ISERROR(VLOOKUP(A23,tesserati[],7,FALSE)),\"\",VLOOKUP(A23,tesserati[],7,FALSE))","v":""}]
[null,{"$f":"IF(ISERROR(VLOOKUP(A24,tesserati[],2,FALSE)),\"\",VLOOKUP(A24,tesserati[],2,FALSE))","v":""},{"$f":"IF(ISERROR(VLOOKUP(A24,tesserati[],3,FALSE)),\"\",VLOOKUP(A24,tesserati[],3,FALSE))","v":""},{"$f":"IF(ISERROR(VLOOKUP(A24,tesserati[],4,FALSE)),\"\",VLOOKUP(A24,tesserati[],4,FALSE))","v":""},{"$f":"IF(ISERROR(VLOOKUP(A24,tesserati[],5,FALSE)),\"\",VLOOKUP(A24,tesserati[],5,FALSE))","v":""},{"$f":"IF(ISERROR(VLOOKUP(A24,tesserati[],7,FALSE)),\"\",VLOOKUP(A24,tesserati[],7,FALSE))","v":""}]
[null,{"$f":"IF(ISERROR(VLOOKUP(A25,tesserati[],2,FALSE)),\"\",VLOOKUP(A25,tesserati[],2,FALSE))","v":""},{"$f":"IF(ISERROR(VLOOKUP(A25,tesserati[],3,FALSE)),\"\",VLOOKUP(A25,tesserati[],3,FALSE))","v":""},{"$f":"IF(ISERROR(VLOOKUP(A25,tesserati[],4,FALSE)),\"\",VLOOKUP(A25,tesserati[],4,FALSE))","v":""},{"$f":"IF(ISERROR(VLOOKUP(A25,tesserati[],5,FALSE)),\"\",VLOOKUP(A25,tesserati[],5,FALSE))","v":""},{"$f":"IF(ISERROR(VLOOKUP(A25,tesserati[],7,FALSE)),\"\",VLOOKUP(A25,tesserati[],7,FALSE))","v":""},5]
[null,{"$f":"IF(ISERROR(VLOOKUP(A26,tesserati[],2,FALSE)),\"\",VLOOKUP(A26,tesserati[],2,FALSE))","v":""},{"$f":"IF(ISERROR(VLOOKUP(A26,tesserati[],3,FALSE)),\"\",VLOOKUP(A26,tesserati[],3,FALSE))","v":""},{"$f":"IF(ISERROR(VLOOKUP(A26,tesserati[],4,FALSE)),\"\",VLOOKUP(A26,tesserati[],4,FALSE))","v":""},{"$f":"IF(ISERROR(VLOOKUP(A26,tesserati[],5,FALSE)),\"\",VLOOKUP(A26,tesserati[],5,FALSE))","v":""},{"$f":"IF(ISERROR(VLOOKUP(A26,tesserati[],7,FALSE)),\"\",VLOOKUP(A26,tesserati[],7,FALSE))","v":""}]
[null,{"$f":"IF(ISERROR(VLOOKUP(A27,tesserati[],2,FALSE)),\"\",VLOOKUP(A27,tesserati[],2,FALSE))","v":""},{"$f":"IF(ISERROR(VLOOKUP(A27,tesserati[],3,FALSE)),\"\",VLOOKUP(A27,tesserati[],3,FALSE))","v":""},{"$f":"IF(ISERROR(VLOOKUP(A27,tesserati[],4,FALSE)),\"\",VLOOKUP(A27,tesserati[],4,FALSE))","v":""},{"$f":"IF(ISERROR(VLOOKUP(A27,tesserati[],5,FALSE)),\"\",VLOOKUP(A27,tesserati[],5,FALSE))","v":""},{"$f":"IF(ISERROR(VLOOKUP(A27,tesserati[],7,FALSE)),\"\",VLOOKUP(A27,tesserati[],7,FALSE))","v":""}]
[null,{"$f":"IF(ISERROR(VLOOKUP(A28,tesserati[],2,FALSE)),\"\",VLOOKUP(A28,tesserati[],2,FALSE))","v":""},{"$f":"IF(ISERROR(VLOOKUP(A28,tesserati[],3,FALSE)),\"\",VLOOKUP(A28,tesserati[],3,FALSE))","v":""},{"$f":"IF(ISERROR(VLOOKUP(A28,tesserati[],4,FALSE)),\"\",VLOOKUP(A28,tesserati[],4,FALSE))","v":""},{"$f":"IF(ISERROR(VLOOKUP(A28,tesserati[],5,FALSE)),\"\",VLOOKUP(A28,tesserati[],5,FALSE))","v":""},{"$f":"IF(ISERROR(VLOOKUP(A28,tesserati[],7,FALSE)),\"\",VLOOKUP(A28,tesserati[],7,FALSE))","v":""}]
[null,{"$f":"IF(ISERROR(VLOOKUP(A29,tesserati[],2,FALSE)),\"\",VLOOKUP(A29,tesserati[],2,FALSE))","v":""},{"$f":"IF(ISERROR(VLOOKUP(A29,tesserati[],3,FALSE)),\"\",VLOOKUP(A29,tesserati[],3,FALSE))","v":""},{"$f":"IF(ISERROR(VLOOKUP(A29,tesserati[],4,FALSE)),\"\",VLOOKUP(A29,tesserati[],4,FALSE))","v":""},{"$f":"IF(ISERROR(VLOOKUP(A29,tesserati[],5,FALSE)),\"\",VLOOKUP(A29,tesserati[],5,FALSE))","v":""},{"$f":"IF(ISERROR(VLOOKUP(A29,tesserati[],7,FALSE)),\"\",VLOOKUP(A29,tesserati[],7,FALSE))","v":""},6]
[null,{"$f":"IF(ISERROR(VLOOKUP(A30,tesserati[],2,FALSE)),\"\",VLOOKUP(A30,tesserati[],2,FALSE))","v":""},{"$f":"IF(ISERROR(VLOOKUP(A30,tesserati[],3,FALSE)),\"\",VLOOKUP(A30,tesserati[],3,FALSE))","v":""},{"$f":"IF(ISERROR(VLOOKUP(A30,tesserati[],4,FALSE)),\"\",VLOOKUP(A30,tesserati[],4,FALSE))","v":""},{"$f":"IF(ISERROR(VLOOKUP(A30,tesserati[],5,FALSE)),\"\",VLOOKUP(A30,tesserati[],5,FALSE))","v":""},{"$f":"IF(ISERROR(VLOOKUP(A30,tesserati[],7,FALSE)),\"\",VLOOKUP(A30,tesserati[],7,FALSE))","v":""}]
[null,{"$f":"IF(ISERROR(VLOOKUP(A31,tesserati[],2,FALSE)),\"\",VLOOKUP(A31,tesserati[],2,FALSE))","v":""},{"$f":"IF(ISERROR(VLOOKUP(A31,tesserati[],3,FALSE)),\"\",VLOOKUP(A31,tesserati[],3,FALSE))","v":""},{"$f":"IF(ISERROR(VLOOKUP(A31,tesserati[],4,FALSE)),\"\",VLOOKUP(A31,tesserati[],4,FALSE))","v":""},{"$f":"IF(ISERROR(VLOOKUP(A31,tesserati[],5,FALSE)),\"\",VLOOKUP(A31,tesserati[],5,FALSE))","v":""},{"$f":"IF(ISERROR(VLOOKUP(A31,tesserati[],7,FALSE)),\"\",VLOOKUP(A31,tesserati[],7,FALSE))","v":""}]
[null,{"$f":"IF(ISERROR(VLOOKUP(A32,tesserati[],2,FALSE)),\"\",VLOOKUP(A32,tesserati[],2,FALSE))","v":""},{"$f":"IF(ISERROR(VLOOKUP(A32,tesserati[],3,FALSE)),\"\",VLOOKUP(A32,tesserati[],3,FALSE))","v":""},{"$f":"IF(ISERROR(VLOOKUP(A32,tesserati[],4,FALSE)),\"\",VLOOKUP(A32,tesserati[],4,FALSE))","v":""},{"$f":"IF(ISERROR(VLOOKUP(A32,tesserati[],5,FALSE)),\"\",VLOOKUP(A32,tesserati[],5,FALSE))","v":""},{"$f":"IF(ISERROR(VLOOKUP(A32,tesserati[],7,FALSE)),\"\",VLOOKUP(A32,tesserati[],7,FALSE))","v":""}]
["2 SERIE"]
[null,{"$f":"IF(ISERROR(VLOOKUP(A34,tesserati[],2,FALSE)),\"\",VLOOKUP(A34,tesserati[],2,FALSE))","v":""},{"$f":"IF(ISERROR(VLOOKUP(A34,tesserati[],3,FALSE)),\"\",VLOOKUP(A34,tesserati[],3,FALSE))","v":""},{"$f":"IF(ISERROR(VLOOKUP(A34,tesserati[],4,FALSE)),\"\",VLOOKUP(A34,tesserati[],4,FALSE))","v":""},{"$f":"IF(ISERROR(VLOOKUP(A34,tesserati[],5,FALSE)),\"\",VLOOKUP(A34,tesserati[],5,FALSE))","v":""},{"$f":"IF(ISERROR(VLOOKUP(A34,tesserati[],7,FALSE)),\"\",VLOOKUP(A34,tesserati[],7,FALSE))","v":""},1]
[null,{"$f":"IF(ISERROR(VLOOKUP(A35,tesserati[],2,FALSE)),\"\",VLOOKUP(A35,tesserati[],2,FALSE))","v":""},{"$f":"IF(ISERROR(VLOOKUP(A35,tesserati[],3,FALSE)),\"\",VLOOKUP(A35,tesserati[],3,FALSE))","v":""},{"$f":"IF(ISERROR(VLOOKUP(A35,tesserati[],4,FALSE)),\"\",VLOOKUP(A35,tesserati[],4,FALSE))","v":""},{"$f":"IF(ISERROR(VLOOKUP(A35,tesserati[],5,FALSE)),\"\",VLOOKUP(A35,tesserati[],5,FALSE))","v":""},{"$f":"IF(ISERROR(VLOOKUP(A35,tesserati[],7,FALSE)),\"\",VLOOKUP(A35,tesserati[],7,FALSE))","v":""}]
[null,{"$f":"IF(ISERROR(VLOOKUP(A36,tesserati[],2,FALSE)),\"\",VLOOKUP(A36,tesserati[],2,FALSE))","v":""},{"$f":"IF(ISERROR(VLOOKUP(A36,tesserati[],3,FALSE)),\"\",VLOOKUP(A36,tesserati[],3,FALSE))","v":""},{"$f":"IF(ISERROR(VLOOKUP(A36,tesserati[],4,FALSE)),\"\",VLOOKUP(A36,tesserati[],4,FALSE))","v":""},{"$f":"IF(ISERROR(VLOOKUP(A36,tesserati[],5,FALSE)),\"\",VLOOKUP(A36,tesserati[],5,FALSE))","v":""},{"$f":"IF(ISERROR(VLOOKUP(A36,tesserati[],7,FALSE)),\"\",VLOOKUP(A36,tesserati[],7,FALSE))","v":""}]
[null,{"$f":"IF(ISERROR(VLOOKUP(A37,tesserati[],2,FALSE)),\"\",VLOOKUP(A37,tesserati[],2,FALSE))","v":""},{"$f":"IF(ISERROR(VLOOKUP(A37,tesserati[],3,FALSE)),\"\",VLOOKUP(A37,tesserati[],3,FALSE))","v":""},{"$f":"IF(ISERROR(VLOOKUP(A37,tesserati[],4,FALSE)),\"\",VLOOKUP(A37,tesserati[],4,FALSE))","v":""},{"$f":"IF(ISERROR(VLOOKUP(A37,tesserati[],5,FALSE)),\"\",VLOOKUP(A37,tesserati[],5,FALSE))","v":""},{"$f":"IF(ISERROR(VLOOKUP(A37,tesserati[],7,FALSE)),\"\",VLOOKUP(A37,tesserati[],7,FALSE))","v":""}]
[null,{"$f":"IF(ISERROR(VLOOKUP(A38,tesserati[],2,FALSE)),\"\",VLOOKUP(A38,tesserati[],2,FALSE))","v":""},{"$f":"IF(ISERROR(VLOOKUP(A38,tesserati[],3,FALSE)),\"\",VLOOKUP(A38,tesserati[],3,FALSE))","v":""},{"$f":"IF(ISERROR(VLOOKUP(A38,tesserati[],4,FALSE)),\"\",VLOOKUP(A38,tesserati[],4,FALSE))","v":""},{"$f":"IF(ISERROR(VLOOKUP(A38,tesserati[],5,FALSE)),\"\",VLOOKUP(A38,tesserati[],5,FALSE))","v":""},{"$f":"IF(ISERROR(VLOOKUP(A38,tesserati[],7,FALSE)),\"\",VLOOKUP(A38,tesserati[],7,FALSE))","v":""},2]
[null,{"$f":"IF(ISERROR(VLOOKUP(A39,tesserati[],2,FALSE)),\"\",VLOOKUP(A39,tesserati[],2,FALSE))","v":""},{"$f":"IF(ISERROR(VLOOKUP(A39,tesserati[],3,FALSE)),\"\",VLOOKUP(A39,tesserati[],3,FALSE))","v":""},{"$f":"IF(ISERROR(VLOOKUP(A39,tesserati[],4,FALSE)),\"\",VLOOKUP(A39,tesserati[],4,FALSE))","v":""},{"$f":"IF(ISERROR(VLOOKUP(A39,tesserati[],5,FALSE)),\"\",VLOOKUP(A39,tesserati[],5,FALSE))","v":""},{"$f":"IF(ISERROR(VLOOKUP(A39,tesserati[],7,FALSE)),\"\",VLOOKUP(A39,tesserati[],7,FALSE))","v":""}]
[null,{"$f":"IF(ISERROR(VLOOKUP(A40,tesserati[],2,FALSE)),\"\",VLOOKUP(A40,tesserati[],2,FALSE))","v":""},{"$f":"IF(ISERROR(VLOOKUP(A40,tesserati[],3,FALSE)),\"\",VLOOKUP(A40,tesserati[],3,FALSE))","v":""},{"$f":"IF(ISERROR(VLOOKUP(A40,tesserati[],4,FALSE)),\"\",VLOOKUP(A40,tesserati[],4,FALSE))","v":""},{"$f":"IF(ISERROR(VLOOKUP(A40,tesserati[],5,FALSE)),\"\",VLOOKUP(A40,tesserati[],5,FALSE))","v":""},{"$f":"IF(ISERROR(VLOOKUP(A40,tesserati[],7,FALSE)),\"\",VLOOKUP(A40,tesserati[],7,FALSE))","v":""}]
[null,{"$f":"IF(ISERROR(VLOOKUP(A41,tesserati[],2,FALSE)),\"\",VLOOKUP(A41,tesserati[],2,FALSE))","v":""},{"$f":"IF(ISERROR(VLOOKUP(A41,tesserati[],3,FALSE)),\"\",VLOOKUP(A41,tesserati[],3,FALSE))","v":""},{"$f":"IF(ISERROR(VLOOKUP(A41,tesserati[],4,FALSE)),\"\",VLOOKUP(A41,tesserati[],4,FALSE))","v":""},{"$f":"IF(ISERROR(VLOOKUP(A41,tesserati[],5,FALSE)),\"\",VLOOKUP(A41,tesserati[],5,FALSE))","v":""},{"$f":"IF(ISERROR(VLOOKUP(A41,tesserati[],7,FALSE)),\"\",VLOOKUP(A41,tesserati[],7,FALSE))","v":""}]
[null,{"$f":"IF(ISERROR(VLOOKUP(A42,tesserati[],2,FALSE)),\"\",VLOOKUP(A42,tesserati[],2,FALSE))","v":""},{"$f":"IF(ISERROR(VLOOKUP(A42,tesserati[],3,FALSE)),\"\",VLOOKUP(A42,tesserati[],3,FALSE))","v":""},{"$f":"IF(ISERROR(VLOOKUP(A42,tesserati[],4,FALSE)),\"\",VLOOKUP(A42,tesserati[],4,FALSE))","v":""},{"$f":"IF(ISERROR(VLOOKUP(A42,tesserati[],5,FALSE)),\"\",VLOOKUP(A42,tesserati[],5,FALSE))","v":""},{"$f":"IF(ISERROR(VLOOKUP(A42,tesserati[],7,FALSE)),\"\",VLOOKUP(A42,tesserati[],7,FALSE))","v":""},3]
[null,{"$f":"IF(ISERROR(VLOOKUP(A43,tesserati[],2,FALSE)),\"\",VLOOKUP(A43,tesserati[],2,FALSE))","v":""},{"$f":"IF(ISERROR(VLOOKUP(A43,tesserati[],3,FALSE)),\"\",VLOOKUP(A43,tesserati[],3,FALSE))","v":""},{"$f":"IF(ISERROR(VLOOKUP(A43,tesserati[],4,FALSE)),\"\",VLOOKUP(A43,tesserati[],4,FALSE))","v":""},{"$f":"IF(ISERROR(VLOOKUP(A43,tesserati[],5,FALSE)),\"\",VLOOKUP(A43,tesserati[],5,FALSE))","v":""},{"$f":"IF(ISERROR(VLOOKUP(A43,tesserati[],7,FALSE)),\"\",VLOOKUP(A43,tesserati[],7,FALSE))","v":""}]
[null,{"$f":"IF(ISERROR(VLOOKUP(A44,tesserati[],2,FALSE)),\"\",VLOOKUP(A44,tesserati[],2,FALSE))","v":""},{"$f":"IF(ISERROR(VLOOKUP(A44,tesserati[],3,FALSE)),\"\",VLOOKUP(A44,tesserati[],3,FALSE))","v":""},{"$f":"IF(ISERROR(VLOOKUP(A44,tesserati[],4,FALSE)),\"\",VLOOKUP(A44,tesserati[],4,FALSE))","v":""},{"$f":"IF(ISERROR(VLOOKUP(A44,tesserati[],5,FALSE)),\"\",VLOOKUP(A44,tesserati[],5,FALSE))","v":""},{"$f":"IF(ISERROR(VLOOKUP(A44,tesserati[],7,FALSE)),\"\",VLOOKUP(A44,tesserati[],7,FALSE))","v":""}]
[null,{"$f":"IF(ISERROR(VLOOKUP(A45,tesserati[],2,FALSE)),\"\",VLOOKUP(A45,tesserati[],2,FALSE))","v":""},{"$f":"IF(ISERROR(VLOOKUP(A45,tesserati[],3,FALSE)),\"\",VLOOKUP(A45,tesserati[],3,FALSE))","v":""},{"$f":"IF(ISERROR(VLOOKUP(A45,tesserati[],4,FALSE)),\"\",VLOOKUP(A45,tesserati[],4,FALSE))","v":""},{"$f":"IF(ISERROR(VLOOKUP(A45,tesserati[],5,FALSE)),\"\",VLOOKUP(A45,tesserati[],5,FALSE))","v":""},{"$f":"IF(ISERROR(VLOOKUP(A45,tesserati[],7,FALSE)),\"\",VLOOKUP(A45,tesserati[],7,FALSE))","v":""}]
[null,{"$f":"IF(ISERROR(VLOOKUP(A46,tesserati[],2,FALSE)),\"\",VLOOKUP(A46,tesserati[],2,FALSE))","v":""},{"$f":"IF(ISERROR(VLOOKUP(A46,tesserati[],3,FALSE)),\"\",VLOOKUP(A46,tesserati[],3,FALSE))","v":""},{"$f":"IF(ISERROR(VLOOKUP(A46,tesserati[],4,FALSE)),\"\",VLOOKUP(A46,tesserati[],4,FALSE))","v":""},{"$f":"IF(ISERROR(VLOOKUP(A46,tesserati[],5,FALSE)),\"\",VLOOKUP(A46,tesserati[],5,FALSE))","v":""},{"$f":"IF(ISERROR(VLOOKUP(A46,tesserati[],7,FALSE)),\"\",VLOOKUP(A46,tesserati[],7,FALSE))","v":""},4]
[null,{"$f":"IF(ISERROR(VLOOKUP(A47,tesserati[],2,FALSE)),\"\",VLOOKUP(A47,tesserati[],2,FALSE))","v":""},{"$f":"IF(ISERROR(VLOOKUP(A47,tesserati[],3,FALSE)),\"\",VLOOKUP(A47,tesserati[],3,FALSE))","v":""},{"$f":"IF(ISERROR(VLOOKUP(A47,tesserati[],4,FALSE)),\"\",VLOOKUP(A47,tesserati[],4,FALSE))","v":""},{"$f":"IF(ISERROR(VLOOKUP(A47,tesserati[],5,FALSE)),\"\",VLOOKUP(A47,tesserati[],5,FALSE))","v":""},{"$f":"IF(ISERROR(VLOOKUP(A47,tesserati[],7,FALSE)),\"\",VLOOKUP(A47,tesserati[],7,FALSE))","v":""}]
[null,{"$f":"IF(ISERROR(VLOOKUP(A48,tesserati[],2,FALSE)),\"\",VLOOKUP(A48,tesserati[],2,FALSE))","v":""},{"$f":"IF(ISERROR(VLOOKUP(A48,tesserati[],3,FALSE)),\"\",VLOOKUP(A48,tesserati[],3,FALSE))","v":""},{"$f":"IF(ISERROR(VLOOKUP(A48,tesserati[],4,FALSE)),\"\",VLOOKUP(A48,tesserati[],4,FALSE))","v":""},{"$f":"IF(ISERROR(VLOOKUP(A48,tesserati[],5,FALSE)),\"\",VLOOKUP(A48,tesserati[],5,FALSE))","v":""},{"$f":"IF(ISERROR(VLOOKUP(A48,tesserati[],7,FALSE)),\"\",VLOOKUP(A48,tesserati[],7,FALSE))","v":""}]
[null,{"$f":"IF(ISERROR(VLOOKUP(A49,tesserati[],2,FALSE)),\"\",VLOOKUP(A49,tesserati[],2,FALSE))","v":""},{"$f":"IF(ISERROR(VLOOKUP(A49,tesserati[],3,FALSE)),\"\",VLOOKUP(A49,tesserati[],3,FALSE))","v":""},{"$f":"IF(ISERROR(VLOOKUP(A49,tesserati[],4,FALSE)),\"\",VLOOKUP(A49,tesserati[],4,FALSE))","v":""},{"$f":"IF(ISERROR(VLOOKUP(A49,tesserati[],5,FALSE)),\"\",VLOOKUP(A49,tesserati[],5,FALSE))","v":""},{"$f":"IF(ISERROR(VLOOKUP(A49,tesserati[],7,FALSE)),\"\",VLOOKUP(A49,tesserati[],7,FALSE))","v":""}]
[null,{"$f":"IF(ISERROR(VLOOKUP(A50,tesserati[],2,FALSE)),\"\",VLOOKUP(A50,tesserati[],2,FALSE))","v":""},{"$f":"IF(ISERROR(VLOOKUP(A50,tesserati[],3,FALSE)),\"\",VLOOKUP(A50,tesserati[],3,FALSE))","v":""},{"$f":"IF(ISERROR(VLOOKUP(A50,tesserati[],4,FALSE)),\"\",VLOOKUP(A50,tesserati[],4,FALSE))","v":""},{"$f":"IF(ISERROR(VLOOKUP(A50,tesserati[],5,FALSE)),\"\",VLOOKUP(A50,tesserati[],5,FALSE))","v":""},{"$f":"IF(ISERROR(VLOOKUP(A50,tesserati[],7,FALSE)),\"\",VLOOKUP(A50,tesserati[],7,FALSE))","v":""},5]
[null,{"$f":"IF(ISERROR(VLOOKUP(A51,tesserati[],2,FALSE)),\"\",VLOOKUP(A51,tesserati[],2,FALSE))","v":""},{"$f":"IF(ISERROR(VLOOKUP(A51,tesserati[],3,FALSE)),\"\",VLOOKUP(A51,tesserati[],3,FALSE))","v":""},{"$f":"IF(ISERROR(VLOOKUP(A51,tesserati[],4,FALSE)),\"\",VLOOKUP(A51,tesserati[],4,FALSE))","v":""},{"$f":"IF(ISERROR(VLOOKUP(A51,tesserati[],5,FALSE)),\"\",VLOOKUP(A51,tesserati[],5,FALSE))","v":""},{"$f":"IF(ISERROR(VLOOKUP(A51,tesserati[],7,FALSE)),\"\",VLOOKUP(A51,tesserati[],7,FALSE))","v":""}]
[null,{"$f":"IF(ISERROR(VLOOKUP(A52,tesserati[],2,FALSE)),\"\",VLOOKUP(A52,tesserati[],2,FALSE))","v":""},{"$f":"IF(ISERROR(VLOOKUP(A52,tesserati[],3,FALSE)),\"\",VLOOKUP(A52,tesserati[],3,FALSE))","v":""},{"$f":"IF(ISERROR(VLOOKUP(A52,tesserati[],4,FALSE)),\"\",VLOOKUP(A52,tesserati[],4,FALSE))","v":""},{"$f":"IF(ISERROR(VLOOKUP(A52,tesserati[],5,FALSE)),\"\",VLOOKUP(A52,tesserati[],5,FALSE))","v":""},{"$f":"IF(ISERROR(VLOOKUP(A52,tesserati[],7,FALSE)),\"\",VLOOKUP(A52,tesserati[],7,FALSE))","v":""}]
[null,{"$f":"IF(ISERROR(VLOOKUP(A53,tesserati[],2,FALSE)),\"\",VLOOKUP(A53,tesserati[],2,FALSE))","v":""},{"$f":"IF(ISERROR(VLOOKUP(A53,tesserati[],3,FALSE)),\"\",VLOOKUP(A53,tesserati[],3,FALSE))","v":""},{"$f":"IF(ISERROR(VLOOKUP(A53,tesserati[],4,FALSE)),\"\",VLOOKUP(A53,tesserati[],4,FALSE))","v":""},{"$f":"IF(ISERROR(VLOOKUP(A53,tesserati[],5,FALSE)),\"\",VLOOKUP(A53,tesserati[],5,FALSE))","v":""},{"$f":"IF(ISERROR(VLOOKUP(A53,tesserati[],7,FALSE)),\"\",VLOOKUP(A53,tesserati[],7,FALSE))","v":""}]
[null,{"$f":"IF(ISERROR(VLOOKUP(A54,tesserati[],2,FALSE)),\"\",VLOOKUP(A54,tesserati[],2,FALSE))","v":""},{"$f":"IF(ISERROR(VLOOKUP(A54,tesserati[],3,FALSE)),\"\",VLOOKUP(A54,tesserati[],3,FALSE))","v":""},{"$f":"IF(ISERROR(VLOOKUP(A54,tesserati[],4,FALSE)),\"\",VLOOKUP(A54,tesserati[],4,FALSE))","v":""},{"$f":"IF(ISERROR(VLOOKUP(A54,tesserati[],5,FALSE)),\"\",VLOOKUP(A54,tesserati[],5,FALSE))","v":""},{"$f":"IF(ISERROR(VLOOKUP(A54,tesserati[],7,FALSE)),\"\",VLOOKUP(A54,tesserati[],7,FALSE))","v":""},6]
[null,{"$f":"IF(ISERROR(VLOOKUP(A55,tesserati[],2,FALSE)),\"\",VLOOKUP(A55,tesserati[],2,FALSE))","v":""},{"$f":"IF(ISERROR(VLOOKUP(A55,tesserati[],3,FALSE)),\"\",VLOOKUP(A55,tesserati[],3,FALSE))","v":""},{"$f":"IF(ISERROR(VLOOKUP(A55,tesserati[],4,FALSE)),\"\",VLOOKUP(A55,tesserati[],4,FALSE))","v":""},{"$f":"IF(ISERROR(VLOOKUP(A55,tesserati[],5,FALSE)),\"\",VLOOKUP(A55,tesserati[],5,FALSE))","v":""},{"$f":"IF(ISERROR(VLOOKUP(A55,tesserati[],7,FALSE)),\"\",VLOOKUP(A55,tesserati[],7,FALSE))","v":""}]
[null,{"$f":"IF(ISERROR(VLOOKUP(A56,tesserati[],2,FALSE)),\"\",VLOOKUP(A56,tesserati[],2,FALSE))","v":""},{"$f":"IF(ISERROR(VLOOKUP(A56,tesserati[],3,FALSE)),\"\",VLOOKUP(A56,tesserati[],3,FALSE))","v":""},{"$f":"IF(ISERROR(VLOOKUP(A56,tesserati[],4,FALSE)),\"\",VLOOKUP(A56,tesserati[],4,FALSE))","v":""},{"$f":"IF(ISERROR(VLOOKUP(A56,tesserati[],5,FALSE)),\"\",VLOOKUP(A56,tesserati[],5,FALSE))","v":""},{"$f":"IF(ISERROR(VLOOKUP(A56,tesserati[],7,FALSE)),\"\",VLOOKUP(A56,tesserati[],7,FALSE))","v":""}]
[null,{"$f":"IF(ISERROR(VLOOKUP(A57,tesserati[],2,FALSE)),\"\",VLOOKUP(A57,tesserati[],2,FALSE))","v":""},{"$f":"IF(ISERROR(VLOOKUP(A57,tesserati[],3,FALSE)),\"\",VLOOKUP(A57,tesserati[],3,FALSE))","v":""},{"$f":"IF(ISERROR(VLOOKUP(A57,tesserati[],4,FALSE)),\"\",VLOOKUP(A57,tesserati[],4,FALSE))","v":""},{"$f":"IF(ISERROR(VLOOKUP(A57,tesserati[],5,FALSE)),\"\",VLOOKUP(A57,tesserati[],5,FALSE))","v":""},{"$f":"IF(ISERROR(VLOOKUP(A57,tesserati[],7,FALSE)),\"\",VLOOKUP(A57,tesserati[],7,FALSE))","v":""}]
[null,{"$f":"IF(ISERROR(VLOOKUP(A58,tesserati[],2,FALSE)),\"\",VLOOKUP(A58,tesserati[],2,FALSE))","v":""},{"$f":"IF(ISERROR(VLOOKUP(A58,tesserati[],3,FALSE)),\"\",VLOOKUP(A58,tesserati[],3,FALSE))","v":""},{"$f":"IF(ISERROR(VLOOKUP(A58,tesserati[],4,FALSE)),\"\",VLOOKUP(A58,tesserati[],4,FALSE))","v":""},{"$f":"IF(ISERROR(VLOOKUP(A58,tesserati[],5,FALSE)),\"\",VLOOKUP(A58,tesserati[],5,FALSE))","v":""},{"$f":"IF(ISERROR(VLOOKUP(A58,tesserati[],7,FALSE)),\"\",VLOOKUP(A58,tesserati[],7,FALSE))","v":""}]
[null,{"$f":"IF(ISERROR(VLOOKUP(A59,tesserati[],2,FALSE)),\"\",VLOOKUP(A59,tesserati[],2,FALSE))","v":""},{"$f":"IF(ISERROR(VLOOKUP(A59,tesserati[],3,FALSE)),\"\",VLOOKUP(A59,tesserati[],3,FALSE))","v":""},{"$f":"IF(ISERROR(VLOOKUP(A59,tesserati[],4,FALSE)),\"\",VLOOKUP(A59,tesserati[],4,FALSE))","v":""},{"$f":"IF(ISERROR(VLOOKUP(A59,tesserati[],5,FALSE)),\"\",VLOOKUP(A59,tesserati[],5,FALSE))","v":""},{"$f":"IF(ISERROR(VLOOKUP(A59,tesserati[],7,FALSE)),\"\",VLOOKUP(A59,tesserati[],7,FALSE))","v":""}]
[null,{"$f":"IF(ISERROR(VLOOKUP(A60,tesserati[],2,FALSE)),\"\",VLOOKUP(A60,tesserati[],2,FALSE))","v":""},{"$f":"IF(ISERROR(VLOOKUP(A60,tesserati[],3,FALSE)),\"\",VLOOKUP(A60,tesserati[],3,FALSE))","v":""},{"$f":"IF(ISERROR(VLOOKUP(A60,tesserati[],4,FALSE)),\"\",VLOOKUP(A60,tesserati[],4,FALSE))","v":""},{"$f":"IF(ISERROR(VLOOKUP(A60,tesserati[],5,FALSE)),\"\",VLOOKUP(A60,tesserati[],5,FALSE))","v":""},{"$f":"IF(ISERROR(VLOOKUP(A60,tesserati[],7,FALSE)),\"\",VLOOKUP(A60,tesserati[],7,FALSE))","v":""}]
[null,{"$f":"IF(ISERROR(VLOOKUP(A61,tesserati[],2,FALSE)),\"\",VLOOKUP(A61,tesserati[],2,FALSE))","v":""},{"$f":"IF(ISERROR(VLOOKUP(A61,tesserati[],3,FALSE)),\"\",VLOOKUP(A61,tesserati[],3,FALSE))","v":""},{"$f":"IF(ISERROR(VLOOKUP(A61,tesserati[],4,FALSE)),\"\",VLOOKUP(A61,tesserati[],4,FALSE))","v":""},{"$f":"IF(ISERROR(VLOOKUP(A61,tesserati[],5,FALSE)),\"\",VLOOKUP(A61,tesserati[],5,FALSE))","v":""},{"$f":"IF(ISERROR(VLOOKUP(A61,tesserati[],7,FALSE)),\"\",VLOOKUP(A61,tesserati[],7,FALSE))","v":""}]
[null,{"$f":"IF(ISERROR(VLOOKUP(A62,tesserati[],2,FALSE)),\"\",VLOOKUP(A62,tesserati[],2,FALSE))","v":""},{"$f":"IF(ISERROR(VLOOKUP(A62,tesserati[],3,FALSE)),\"\",VLOOKUP(A62,tesserati[],3,FALSE))","v":""},{"$f":"IF(ISERROR(VLOOKUP(A62,tesserati[],4,FALSE)),\"\",VLOOKUP(A62,tesserati[],4,FALSE))","v":""},{"$f":"IF(ISERROR(VLOOKUP(A62,tesserati[],5,FALSE)),\"\",VLOOKUP(A62,tesserati[],5,FALSE))","v":""},{"$f":"IF(ISERROR(VLOOKUP(A62,tesserati[],7,FALSE)),\"\",VLOOKUP(A62,tesserati[],7,FALSE))","v":""}]
[null,{"$f":"IF(ISERROR(VLOOKUP(A63,tesserati[],2,FALSE)),\"\",VLOOKUP(A63,tesserati[],2,FALSE))","v":""},{"$f":"IF(ISERROR(VLOOKUP(A63,tesserati[],3,FALSE)),\"\",VLOOKUP(A63,tesserati[],3,FALSE))","v":""},{"$f":"IF(ISERROR(VLOOKUP(A63,tesserati[],4,FALSE)),\"\",VLOOKUP(A63,tesserati[],4,FALSE))","v":""},{"$f":"IF(ISERROR(VLOOKUP(A63,tesserati[],5,FALSE)),\"\",VLOOKUP(A63,tesserati[],5,FALSE))","v":""},{"$f":"IF(ISERROR(VLOOKUP(A63,tesserati[],7,FALSE)),\"\",VLOOKUP(A63,tesserati[],7,FALSE))","v":""}]
[null,{"$f":"IF(ISERROR(VLOOKUP(A64,tesserati[],2,FALSE)),\"\",VLOOKUP(A64,tesserati[],2,FALSE))","v":""},{"$f":"IF(ISERROR(VLOOKUP(A64,tesserati[],3,FALSE)),\"\",VLOOKUP(A64,tesserati[],3,FALSE))","v":""},{"$f":"IF(ISERROR(VLOOKUP(A64,tesserati[],4,FALSE)),\"\",VLOOKUP(A64,tesserati[],4,FALSE))","v":""},{"$f":"IF(ISERROR(VLOOKUP(A64,tesserati[],5,FALSE)),\"\",VLOOKUP(A64,tesserati[],5,FALSE))","v":""},{"$f":"IF(ISERROR(VLOOKUP(A64,tesserati[],7,FALSE)),\"\",VLOOKUP(A64,tesserati[],7,FALSE))","v":""}]
[null,{"$f":"IF(ISERROR(VLOOKUP(A65,tesserati[],2,FALSE)),\"\",VLOOKUP(A65,tesserati[],2,FALSE))","v":""},{"$f":"IF(ISERROR(VLOOKUP(A65,tesserati[],3,FALSE)),\"\",VLOOKUP(A65,tesserati[],3,FALSE))","v":""},{"$f":"IF(ISERROR(VLOOKUP(A65,tesserati[],4,FALSE)),\"\",VLOOKUP(A65,tesserati[],4,FALSE))","v":""},{"$f":"IF(ISERROR(VLOOKUP(A65,tesserati[],5,FALSE)),\"\",VLOOKUP(A65,tesserati[],5,FALSE))","v":""},{"$f":"IF(ISERROR(VLOOKUP(A65,tesserati[],7,FALSE)),\"\",VLOOKUP(A65,tesserati[],7,FALSE))","v":""}]
[null,{"$f":"IF(ISERROR(VLOOKUP(A66,tesserati[],2,FALSE)),\"\",VLOOKUP(A66,tesserati[],2,FALSE))","v":""},{"$f":"IF(ISERROR(VLOOKUP(A66,tesserati[],3,FALSE)),\"\",VLOOKUP(A66,tesserati[],3,FALSE))","v":""},{"$f":"IF(ISERROR(VLOOKUP(A66,tesserati[],4,FALSE)),\"\",VLOOKUP(A66,tesserati[],4,FALSE))","v":""},{"$f":"IF(ISERROR(VLOOKUP(A66,tesserati[],5,FALSE)),\"\",VLOOKUP(A66,tesserati[],5,FALSE))","v":""},{"$f":"IF(ISERROR(VLOOKUP(A66,tesserati[],7,FALSE)),\"\",VLOOKUP(A66,tesserati[],7,FALSE))","v":""}]
[null,{"$f":"IF(ISERROR(VLOOKUP(A67,tesserati[],2,FALSE)),\"\",VLOOKUP(A67,tesserati[],2,FALSE))","v":""},{"$f":"IF(ISERROR(VLOOKUP(A67,tesserati[],3,FALSE)),\"\",VLOOKUP(A67,tesserati[],3,FALSE))","v":""},{"$f":"IF(ISERROR(VLOOKUP(A67,tesserati[],4,FALSE)),\"\",VLOOKUP(A67,tesserati[],4,FALSE))","v":""},{"$f":"IF(ISERROR(VLOOKUP(A67,tesserati[],5,FALSE)),\"\",VLOOKUP(A67,tesserati[],5,FALSE))","v":""},{"$f":"IF(ISERROR(VLOOKUP(A67,tesserati[],7,FALSE)),\"\",VLOOKUP(A67,tesserati[],7,FALSE))","v":""}]
[null,{"$f":"IF(ISERROR(VLOOKUP(A68,tesserati[],2,FALSE)),\"\",VLOOKUP(A68,tesserati[],2,FALSE))","v":""},{"$f":"IF(ISERROR(VLOOKUP(A68,tesserati[],3,FALSE)),\"\",VLOOKUP(A68,tesserati[],3,FALSE))","v":""},{"$f":"IF(ISERROR(VLOOKUP(A68,tesserati[],4,FALSE)),\"\",VLOOKUP(A68,tesserati[],4,FALSE))","v":""},{"$f":"IF(ISERROR(VLOOKUP(A68,tesserati[],5,FALSE)),\"\",VLOOKUP(A68,tesserati[],5,FALSE))","v":""},{"$f":"IF(ISERROR(VLOOKUP(A68,tesserati[],7,FALSE)),\"\",VLOOKUP(A68,tesserati[],7,FALSE))","v":""}]
[null,{"$f":"IF(ISERROR(VLOOKUP(A69,tesserati[],2,FALSE)),\"\",VLOOKUP(A69,tesserati[],2,FALSE))","v":""},{"$f":"IF(ISERROR(VLOOKUP(A69,tesserati[],3,FALSE)),\"\",VLOOKUP(A69,tesserati[],3,FALSE))","v":""},{"$f":"IF(ISERROR(VLOOKUP(A69,tesserati[],4,FALSE)),\"\",VLOOKUP(A69,tesserati[],4,FALSE))","v":""},{"$f":"IF(ISERROR(VLOOKUP(A69,tesserati[],5,FALSE)),\"\",VLOOKUP(A69,tesserati[],5,FALSE))","v":""},{"$f":"IF(ISERROR(VLOOKUP(A69,tesserati[],7,FALSE)),\"\",VLOOKUP(A69,tesserati[],7,FALSE))","v":""}]
[null,{"$f":"IF(ISERROR(VLOOKUP(A70,tesserati[],2,FALSE)),\"\",VLOOKUP(A70,tesserati[],2,FALSE))","v":""},{"$f":"IF(ISERROR(VLOOKUP(A70,tesserati[],3,FALSE)),\"\",VLOOKUP(A70,tesserati[],3,FALSE))","v":""},{"$f":"IF(ISERROR(VLOOKUP(A70,tesserati[],4,FALSE)),\"\",VLOOKUP(A70,tesserati[],4,FALSE))","v":""},{"$f":"IF(ISERROR(VLOOKUP(A70,tesserati[],5,FALSE)),\"\",VLOOKUP(A70,tesserati[],5,FALSE))","v":""},{"$f":"IF(ISERROR(VLOOKUP(A70,tesserati[],7,FALSE)),\"\",VLOOKUP(A70,tesserati[],7,FALSE))","v":""}]
[null,{"$f":"IF(ISERROR(VLOOKUP(A71,tesserati[],2,FALSE)),\"\",VLOOKUP(A71,tesserati[],2,FALSE))","v":""},{"$f":"IF(ISERROR(VLOOKUP(A71,tesserati[],3,FALSE)),\"\",VLOOKUP(A71,tesserati[],3,FALSE))","v":""},{"$f":"IF(ISERROR(VLOOKUP(A71,tesserati[],4,FALSE)),\"\",VLOOKUP(A71,tesserati[],4,FALSE))","v":""},{"$f":"IF(ISERROR(VLOOKUP(A71,tesserati[],5,FALSE)),\"\",VLOOKUP(A71,tesserati[],5,FALSE))","v":""},{"$f":"IF(ISERROR(VLOOKUP(A71,tesserati[],7,FALSE)),\"\",VLOOKUP(A71,tesserati[],7,FALSE))","v":""}]
[null,{"$f":"IF(ISERROR(VLOOKUP(A72,tesserati[],2,FALSE)),\"\",VLOOKUP(A72,tesserati[],2,FALSE))","v":""},{"$f":"IF(ISERROR(VLOOKUP(A72,tesserati[],3,FALSE)),\"\",VLOOKUP(A72,tesserati[],3,FALSE))","v":""},{"$f":"IF(ISERROR(VLOOKUP(A72,tesserati[],4,FALSE)),\"\",VLOOKUP(A72,tesserati[],4,FALSE))","v":""},{"$f":"IF(ISERROR(VLOOKUP(A72,tesserati[],5,FALSE)),\"\",VLOOKUP(A72,tesserati[],5,FALSE))","v":""},{"$f":"IF(ISERROR(VLOOKUP(A72,tesserati[],7,FALSE)),\"\",VLOOKUP(A72,tesserati[],7,FALSE))","v":""}]

{"sheet":"4X200 ES","index":15,"n_rows":72,"n_cols":12,"rows_kept":72,"cut":false,"hidden":false,"merged":[[0,2,0,4],[0,5,0,7],[0,8,0,10],[0,11,1,11],[1,2,1,4],[1,5,1,7],[1,8,1,10],[2,11,4,11],[3,0,4,1],[3,2,4,2],[3,3,4,3],[3,5,4,7],[3,8,4,10],[2,0,2,1],[2,4,4,4],[2,5,2,7],[2,8,2,10],[5,9,6,9],[5,10,6,10],[5,11,6,11],[5,0,6,0],[5,1,6,2],[5,3,6,3],[5,4,6,4],[5,5,6,5],[7,0,7,11],[5,6,6,6],[16,6,19,6],[16,7,19,7],[16,8,19,8],[16,9,19,9],[12,6,15,6],[12,7,15,7],[12,8,15,8],[12,9,15,9],[8,6,11,6],[8,7,11,7],[8,8,11,8],[8,9,11,9],[5,7,6,7],[5,8,6,8],[20,6,23,6],[20,7,23,7],[20,8,23,8],[20,9,23,9],[24,6,27,6],[24,7,27,7],[24,8,27,8],[24,9,27,9],[28,6,31,6],[28,7,31,7],[28,8,31,8],[28,9,31,9],[33,6,36,6],[33,7,36,7],[33,8,36,8],[33,9,36,9],[32,0,32,11],[37,6,40,6],[37,7,40,7],[37,8,40,8],[37,9,40,9],[41,6,44,6],[41,7,44,7],[41,8,44,8],[41,9,44,9],[45,6,48,6],[45,7,48,7],[45,8,48,8],[45,9,48,9],[49,6,52,6],[49,7,52,7],[49,8,52,8],[49,9,52,9],[53,6,56,6],[53,7,56,7],[53,8,56,8],[53,9,56,9],[57,6,60,6],[57,7,60,7],[57,8,60,8],[57,9,60,9]]}
[null,null,"MANIFESTAZIONE",null,null,"LOCALITA'",null,null,"SOCIETA' ORGANIZZATRICE"]
[null,null,"6° prova provinciale",null,null,"Tezze sul Brenta",null,null,"CSI Tezze sul Brenta"]
["CATEGORIA",null,"ORA INIZIO","ORA FINE",null,"GARA",null,null,"DATA"]
["ESORDIENTI",null,null,null,null,"4 X 200",null,null,"2017-09-24"]
[]
["N. tessera","ATLETA\nCOGNOME E NOME",null,"SOCIETA'","NASCITA","CATEGORIA","Corsia","PETTORALE","Tempo","Piazzamento","PUNTI","CL."]
[]
["1 SERIE",{"$f":"IF(ISERROR(VLOOKUP(A8,tesserati[],2,FALSE)),\"\",VLOOKUP(A8,tesserati[],2,FALSE))","v":""},{"$f":"IF(ISERROR(VLOOKUP(A8,tesserati[],3,FALSE)),\"\",VLOOKUP(A8,tesserati[],3,FALSE))","v":""},{"$f":"IF(ISERROR(VLOOKUP(#REF!,tesserati[],5,FALSE)),\"\",VLOOKUP(#REF!,tesserati[],5,FALSE))","v":""},{"$f":"IF(ISERROR(VLOOKUP(A8,tesserati[],4,FALSE)),\"\",VLOOKUP(A8,tesserati[],4,FALSE))","v":""},{"$f":"IF(ISERROR(VLOOKUP(A8,tesserati[],7,FALSE)),\"\",VLOOKUP(A8,tesserati[],7,FALSE))","v":""}]
[4393,{"$f":"IF(ISERROR(VLOOKUP(A9,tesserati[],2,FALSE)),\"\",VLOOKUP(A9,tesserati[],2,FALSE))","v":"MATTIAZZI"},{"$f":"IF(ISERROR(VLOOKUP(A9,tesserati[],3,FALSE)),\"\",VLOOKUP(A9,tesserati[],3,FALSE))","v":"MARTINO"},{"$f":"IF(ISERROR(VLOOKUP(A9,tesserati[],4,FALSE)),\"\",VLOOKUP(A9,tesserati[],4,FALSE))","v":"CSI ATLETICA COLLI BERICI"},{"$f":"IF(ISERROR(VLOOKUP(A9,tesserati[],5,FALSE)),\"\",VLOOKUP(A9,tesserati[],5,FALSE))","v":2006},{"$f":"IF(ISERROR(VLOOKUP(A9,tesserati[],7,FALSE)),\"\",VLOOKUP(A9,tesserati[],7,FALSE))","v":"EM"},5,25,"2,13.7",1]
[4398,{"$f":"IF(ISERROR(VLOOKUP(A10,tesserati[],2,FALSE)),\"\",VLOOKUP(A10,tesserati[],2,FALSE))","v":"SILO"},{"$f":"IF(ISERROR(VLOOKUP(A10,tesserati[],3,FALSE)),\"\",VLOOKUP(A10,tesserati[],3,FALSE))","v":"GIADA"},{"$f":"IF(ISERROR(VLOOKUP(A10,tesserati[],4,FALSE)),\"\",VLOOKUP(A10,tesserati[],4,FALSE))","v":"CSI ATLETICA COLLI BERICI"},{"$f":"IF(ISERROR(VLOOKUP(A10,tesserati[],5,FALSE)),\"\",VLOOKUP(A10,tesserati[],5,FALSE))","v":2007},{"$f":"IF(ISERROR(VLOOKUP(A10,tesserati[],7,FALSE)),\"\",VLOOKUP(A10,tesserati[],7,FALSE))","v":"EF"}]
[4402,{"$f":"IF(ISERROR(VLOOKUP(A11,tesserati[],2,FALSE)),\"\",VLOOKUP(A11,tesserati[],2,FALSE))","v":"TOGNETTI"},{"$f":"IF(ISERROR(VLOOKUP(A11,tesserati[],3,FALSE)),\"\",VLOOKUP(A11,tesserati[],3,FALSE))","v":"CRISTIANO"},{"$f":"IF(ISERROR(VLOOKUP(A11,tesserati[],4,FALSE)),\"\",VLOOKUP(A11,tesserati[],4,FALSE))","v":"CSI ATLETICA COLLI BERICI"},{"$f":"IF(ISERROR(VLOOKUP(A11,tesserati[],5,FALSE)),\"\",VLOOKUP(A11,tesserati[],5,FALSE))","v":2006},{"$f":"IF(ISERROR(VLOOKUP(A11,tesserati[],7,FALSE)),\"\",VLOOKUP(A11,tesserati[],7,FALSE))","v":"EM"}]
[4405,{"$f":"IF(ISERROR(VLOOKUP(A12,tesserati[],2,FALSE)),\"\",VLOOKUP(A12,tesserati[],2,FALSE))","v":"VALLORTIGARA"},{"$f":"IF(ISERROR(VLOOKUP(A12,tesserati[],3,FALSE)),\"\",VLOOKUP(A12,tesserati[],3,FALSE))","v":"SIMONE"},{"$f":"IF(ISERROR(VLOOKUP(A12,tesserati[],4,FALSE)),\"\",VLOOKUP(A12,tesserati[],4,FALSE))","v":"CSI ATLETICA COLLI BERICI"},{"$f":"IF(ISERROR(VLOOKUP(A12,tesserati[],5,FALSE)),\"\",VLOOKUP(A12,tesserati[],5,FALSE))","v":2007},{"$f":"IF(ISERROR(VLOOKUP(A12,tesserati[],7,FALSE)),\"\",VLOOKUP(A12,tesserati[],7,FALSE))","v":"EM"}]
[2963,{"$f":"IF(ISERROR(VLOOKUP(A13,tesserati[],2,FALSE)),\"\",VLOOKUP(A13,tesserati[],2,FALSE))","v":"DE CAO"},{"$f":"IF(ISERROR(VLOOKUP(A13,tesserati[],3,FALSE)),\"\",VLOOKUP(A13,tesserati[],3,FALSE))","v":"DILETTA"},{"$f":"IF(ISERROR(VLOOKUP(A13,tesserati[],4,FALSE)),\"\",VLOOKUP(A13,tesserati[],4,FALSE))","v":"ATLETICA UNION CREAZZO"},{"$f":"IF(ISERROR(VLOOKUP(A13,tesserati[],5,FALSE)),\"\",VLOOKUP(A13,tesserati[],5,FALSE))","v":2006},{"$f":"IF(ISERROR(VLOOKUP(A13,tesserati[],7,FALSE)),\"\",VLOOKUP(A13,tesserati[],7,FALSE))","v":"EF"},1,35,"2,16.9",2]
[2944,{"$f":"IF(ISERROR(VLOOKUP(A14,tesserati[],2,FALSE)),\"\",VLOOKUP(A14,tesserati[],2,FALSE))","v":"ALBA"},{"$f":"IF(ISERROR(VLOOKUP(A14,tesserati[],3,FALSE)),\"\",VLOOKUP(A14,tesserati[],3,FALSE))","v":"SARA"},{"$f":"IF(ISERROR(VLOOKUP(A14,tesserati[],4,FALSE)),\"\",VLOOKUP(A14,tesserati[],4,FALSE))","v":"ATLETICA UNION CREAZZO"},{"$f":"IF(ISERROR(VLOOKUP(A14,tesserati[],5,FALSE)),\"\",VLOOKUP(A14,tesserati[],5,FALSE))","v":2006},{"$f":"IF(ISERROR(VLOOKUP(A14,tesserati[],7,FALSE)),\"\",VLOOKUP(A14,tesserati[],7,FALSE))","v":"EF"}]
[2929,{"$f":"IF(ISERROR(VLOOKUP(A15,tesserati[],2,FALSE)),\"\",VLOOKUP(A15,tesserati[],2,FALSE))","v":"MASSIGNAN"},{"$f":"IF(ISERROR(VLOOKUP(A15,tesserati[],3,FALSE)),\"\",VLOOKUP(A15,tesserati[],3,FALSE))","v":"CAMILLA"},{"$f":"IF(ISERROR(VLOOKUP(A15,tesserati[],4,FALSE)),\"\",VLOOKUP(A15,tesserati[],4,FALSE))","v":"ATLETICA UNION CREAZZO"},{"$f":"IF(ISERROR(VLOOKUP(A15,tesserati[],5,FALSE)),\"\",VLOOKUP(A15,tesserati[],5,FALSE))","v":2006},{"$f":"IF(ISERROR(VLOOKUP(A15,tesserati[],7,FALSE)),\"\",VLOOKUP(A15,tesserati[],7,FALSE))","v":"EF"}]
[3459,{"$f":"IF(ISERROR(VLOOKUP(A16,tesserati[],2,FALSE)),\"\",VLOOKUP(A16,tesserati[],2,FALSE))","v":"CAPITANIO"},{"$f":"IF(ISERROR(VLOOKUP(A16,tesserati[],3,FALSE)),\"\",VLOOKUP(A16,tesserati[],3,FALSE))","v":"NICOLE"},{"$f":"IF(ISERROR(VLOOKUP(A16,tesserati[],4,FALSE)),\"\",VLOOKUP(A16,tesserati[],4,FALSE))","v":"ATLETICA UNION CREAZZO"},{"$f":"IF(ISERROR(VLOOKUP(A16,tesserati[],5,FALSE)),\"\",VLOOKUP(A16,tesserati[],5,FALSE))","v":2006},{"$f":"IF(ISERROR(VLOOKUP(A16,tesserati[],7,FALSE)),\"\",VLOOKUP(A16,tesserati[],7,FALSE))","v":"EF"}]
[4018,{"$f":"IF(ISERROR(VLOOKUP(A17,tesserati[],2,FALSE)),\"\",VLOOKUP(A17,tesserati[],2,FALSE))","v":"VELLER"},{"$f":"IF(ISERROR(VLOOKUP(A17,tesserati[],3,FALSE)),\"\",VLOOKUP(A17,tesserati[],3,FALSE))","v":"MARIA"},{"$f":"IF(ISERROR(VLOOKUP(A17,tesserati[],4,FALSE)),\"\",VLOOKUP(A17,tesserati[],4,FALSE))","v":"POLISPORTIVA DUEVILLE"},{"$f":"IF(ISERROR(VLOOKUP(A17,tesserati[],5,FALSE)),\"\",VLOOKUP(A17,tesserati[],5,FALSE))","v":2006},{"$f":"IF(ISERROR(VLOOKUP(A17,tesserati[],7,FALSE)),\"\",VLOOKUP(A17,tesserati[],7,FALSE))","v":"EF"},2,682,"2,17.8",3]
[4043,{"$f":"IF(ISERROR(VLOOKUP(A18,tesserati[],2,FALSE)),\"\",VLOOKUP(A18,tesserati[],2,FALSE))","v":"ZOLIN"},{"$f":"IF(ISERROR(VLOOKUP(A18,tesserati[],3,FALSE)),\"\",VLOOKUP(A18,tesserati[],3,FALSE))","v":"AURORA"},{"$f":"IF(ISERROR(VLOOKUP(A18,tesserati[],4,FALSE)),\"\",VLOOKUP(A18,tesserati[],4,FALSE))","v":"POLISPORTIVA DUEVILLE"},{"$f":"IF(ISERROR(VLOOKUP(A18,tesserati[],5,FALSE)),\"\",VLOOKUP(A18,tesserati[],5,FALSE))","v":2007},{"$f":"IF(ISERROR(VLOOKUP(A18,tesserati[],7,FALSE)),\"\",VLOOKUP(A18,tesserati[],7,FALSE))","v":"EF"}]
[4047,{"$f":"IF(ISERROR(VLOOKUP(A19,tesserati[],2,FALSE)),\"\",VLOOKUP(A19,tesserati[],2,FALSE))","v":"COPIELLO"},{"$f":"IF(ISERROR(VLOOKUP(A19,tesserati[],3,FALSE)),\"\",VLOOKUP(A19,tesserati[],3,FALSE))","v":"SOFIA"},{"$f":"IF(ISERROR(VLOOKUP(A19,tesserati[],4,FALSE)),\"\",VLOOKUP(A19,tesserati[],4,FALSE))","v":"POLISPORTIVA DUEVILLE"},{"$f":"IF(ISERROR(VLOOKUP(A19,tesserati[],5,FALSE)),\"\",VLOOKUP(A19,tesserati[],5,FALSE))","v":2007},{"$f":"IF(ISERROR(VLOOKUP(A19,tesserati[],7,FALSE)),\"\",VLOOKUP(A19,tesserati[],7,FALSE))","v":"EF"}]
[3987,{"$f":"IF(ISERROR(VLOOKUP(A20,tesserati[],2,FALSE)),\"\",VLOOKUP(A20,tesserati[],2,FALSE))","v":"MIGLIORINI"},{"$f":"IF(ISERROR(VLOOKUP(A20,tesserati[],3,FALSE)),\"\",VLOOKUP(A20,tesserati[],3,FALSE))","v":"SUSY"},{"$f":"IF(ISERROR(VLOOKUP(A20,tesserati[],4,FALSE)),\"\",VLOOKUP(A20,tesserati[],4,FALSE))","v":"POLISPORTIVA DUEVILLE"},{"$f":"IF(ISERROR(VLOOKUP(A20,tesserati[],5,FALSE)),\"\",VLOOKUP(A20,tesserati[],5,FALSE))","v":2006},{"$f":"IF(ISERROR(VLOOKUP(A20,tesserati[],7,FALSE)),\"\",VLOOKUP(A20,tesserati[],7,FALSE))","v":"EF"}]
[3044,{"$f":"IF(ISERROR(VLOOKUP(A21,tesserati[],2,FALSE)),\"\",VLOOKUP(A21,tesserati[],2,FALSE))","v":"TREVISAN"},{"$f":"IF(ISERROR(VLOOKUP(A21,tesserati[],3,FALSE)),\"\",VLOOKUP(A21,tesserati[],3,FALSE))","v":"CRISTIAN"},{"$f":"IF(ISERROR(VLOOKUP(A21,tesserati[],4,FALSE)),\"\",VLOOKUP(A21,tesserati[],4,FALSE))","v":"ATLETICA UNION CREAZZO"},{"$f":"IF(ISERROR(VLOOKUP(A21,tesserati[],5,FALSE)),\"\",VLOOKUP(A21,tesserati[],5,FALSE))","v":2007},{"$f":"IF(ISERROR(VLOOKUP(A21,tesserati[],7,FALSE)),\"\",VLOOKUP(A21,tesserati[],7,FALSE))","v":"EM"},4,23,"2,25.4",4]
[8897,{"$f":"IF(ISERROR(VLOOKUP(A22,tesserati[],2,FALSE)),\"\",VLOOKUP(A22,tesserati[],2,FALSE))","v":"FERRARIN"},{"$f":"IF(ISERROR(VLOOKUP(A22,tesserati[],3,FALSE)),\"\",VLOOKUP(A22,tesserati[],3,FALSE))","v":"ALBERTO"},{"$f":"IF(ISERROR(VLOOKUP(A22,tesserati[],4,FALSE)),\"\",VLOOKUP(A22,tesserati[],4,FALSE))","v":"ATLETICA UNION CREAZZO"},{"$f":"IF(ISERROR(VLOOKUP(A22,tesserati[],5,FALSE)),\"\",VLOOKUP(A22,tesserati[],5,FALSE))","v":2007},{"$f":"IF(ISERROR(VLOOKUP(A22,tesserati[],7,FALSE)),\"\",VLOOKUP(A22,tesserati[],7,FALSE))","v":"EM"}]
[2928,{"$f":"IF(ISERROR(VLOOKUP(A23,tesserati[],2,FALSE)),\"\",VLOOKUP(A23,tesserati[],2,FALSE))","v":"FAEDO"},{"$f":"IF(ISERROR(VLOOKUP(A23,tesserati[],3,FALSE)),\"\",VLOOKUP(A23,tesserati[],3,FALSE))","v":"SARA"},{"$f":"IF(ISERROR(VLOOKUP(A23,tesserati[],4,FALSE)),\"\",VLOOKUP(A23,tesserati[],4,FALSE))","v":"ATLETICA UNION CREAZZO"},{"$f":"IF(ISERROR(VLOOKUP(A23,tesserati[],5,FALSE)),\"\",VLOOKUP(A23,tesserati[],5,FALSE))","v":2007},{"$f":"IF(ISERROR(VLOOKUP(A23,tesserati[],7,FALSE)),\"\",VLOOKUP(A23,tesserati[],7,FALSE))","v":"EF"}]
[3051,{"$f":"IF(ISERROR(VLOOKUP(A24,tesserati[],2,FALSE)),\"\",VLOOKUP(A24,tesserati[],2,FALSE))","v":"DE CAO"},{"$f":"IF(ISERROR(VLOOKUP(A24,tesserati[],3,FALSE)),\"\",VLOOKUP(A24,tesserati[],3,FALSE))","v":"FRANCESCO"},{"$f":"IF(ISERROR(VLOOKUP(A24,tesserati[],4,FALSE)),\"\",VLOOKUP(A24,tesserati[],4,FALSE))","v":"ATLETICA UNION CREAZZO"},{"$f":"IF(ISERROR(VLOOKUP(A24,tesserati[],5,FALSE)),\"\",VLOOKUP(A24,tesserati[],5,FALSE))","v":2006},{"$f":"IF(ISERROR(VLOOKUP(A24,tesserati[],7,FALSE)),\"\",VLOOKUP(A24,tesserati[],7,FALSE))","v":"EM"}]
[2732,{"$f":"IF(ISERROR(VLOOKUP(A25,tesserati[],2,FALSE)),\"\",VLOOKUP(A25,tesserati[],2,FALSE))","v":"SCHNEIDER"},{"$f":"IF(ISERROR(VLOOKUP(A25,tesserati[],3,FALSE)),\"\",VLOOKUP(A25,tesserati[],3,FALSE))","v":"LUCA"},{"$f":"IF(ISERROR(VLOOKUP(A25,tesserati[],4,FALSE)),\"\",VLOOKUP(A25,tesserati[],4,FALSE))","v":"POL. DIL. MONTECCHIO PRECALCINO"},{"$f":"IF(ISERROR(VLOOKUP(A25,tesserati[],5,FALSE)),\"\",VLOOKUP(A25,tesserati[],5,FALSE))","v":2006},{"$f":"IF(ISERROR(VLOOKUP(A25,tesserati[],7,FALSE)),\"\",VLOOKUP(A25,tesserati[],7,FALSE))","v":"EM"},3,686,"2,26.4",5]
[2738,{"$f":"IF(ISERROR(VLOOKUP(A26,tesserati[],2,FALSE)),\"\",VLOOKUP(A26,tesserati[],2,FALSE))","v":"DAL ZOTTO"},{"$f":"IF(ISERROR(VLOOKUP(A26,tesserati[],3,FALSE)),\"\",VLOOKUP(A26,tesserati[],3,FALSE))","v":"PIETRO"},{"$f":"IF(ISERROR(VLOOKUP(A26,tesserati[],4,FALSE)),\"\",VLOOKUP(A26,tesserati[],4,FALSE))","v":"POL. DIL. MONTECCHIO PRECALCINO"},{"$f":"IF(ISERROR(VLOOKUP(A26,tesserati[],5,FALSE)),\"\",VLOOKUP(A26,tesserati[],5,FALSE))","v":2006},{"$f":"IF(ISERROR(VLOOKUP(A26,tesserati[],7,FALSE)),\"\",VLOOKUP(A26,tesserati[],7,FALSE))","v":"EM"}]
[3242,{"$f":"IF(ISERROR(VLOOKUP(A27,tesserati[],2,FALSE)),\"\",VLOOKUP(A27,tesserati[],2,FALSE))","v":"EL HACHIMI"},{"$f":"IF(ISERROR(VLOOKUP(A27,tesserati[],3,FALSE)),\"\",VLOOKUP(A27,tesserati[],3,FALSE))","v":"AIMAN"},{"$f":"IF(ISERROR(VLOOKUP(A27,tesserati[],4,FALSE)),\"\",VLOOKUP(A27,tesserati[],4,FALSE))","v":"POL. DIL. MONTECCHIO PRECALCINO"},{"$f":"IF(ISERROR(VLOOKUP(A27,tesserati[],5,FALSE)),\"\",VLOOKUP(A27,tesserati[],5,FALSE))","v":2007},{"$f":"IF(ISERROR(VLOOKUP(A27,tesserati[],7,FALSE)),\"\",VLOOKUP(A27,tesserati[],7,FALSE))","v":"EM"}]
[2692,{"$f":"IF(ISERROR(VLOOKUP(A28,tesserati[],2,FALSE)),\"\",VLOOKUP(A28,tesserati[],2,FALSE))","v":"CAPPELLOTTO"},{"$f":"IF(ISERROR(VLOOKUP(A28,tesserati[],3,FALSE)),\"\",VLOOKUP(A28,tesserati[],3,FALSE))","v":"FILIPPO"},{"$f":"IF(ISERROR(VLOOKUP(A28,tesserati[],4,FALSE)),\"\",VLOOKUP(A28,tesserati[],4,FALSE))","v":"POL. DIL. MONTECCHIO PRECALCINO"},{"$f":"IF(ISERROR(VLOOKUP(A28,tesserati[],5,FALSE)),\"\",VLOOKUP(A28,tesserati[],5,FALSE))","v":2006},{"$f":"IF(ISERROR(VLOOKUP(A28,tesserati[],7,FALSE)),\"\",VLOOKUP(A28,tesserati[],7,FALSE))","v":"EM"}]
[2705,{"$f":"IF(ISERROR(VLOOKUP(A29,tesserati[],2,FALSE)),\"\",VLOOKUP(A29,tesserati[],2,FALSE))","v":"COSTALUNGA"},{"$f":"IF(ISERROR(VLOOKUP(A29,tesserati[],3,FALSE)),\"\",VLOOKUP(A29,tesserati[],3,FALSE))","v":"KENSY"},{"$f":"IF(ISERROR(VLOOKUP(A29,tesserati[],4,FALSE)),\"\",VLOOKUP(A29,tesserati[],4,FALSE))","v":"POL. DIL. MONTECCHIO PRECALCINO"},{"$f":"IF(ISERROR(VLOOKUP(A29,tesserati[],5,FALSE)),\"\",VLOOKUP(A29,tesserati[],5,FALSE))","v":2007},{"$f":"IF(ISERROR(VLOOKUP(A29,tesserati[],7,FALSE)),\"\",VLOOKUP(A29,tesserati[],7,FALSE))","v":"EF"},6,384,"2,37.8",6]
[2703,{"$f":"IF(ISERROR(VLOOKUP(A30,tesserati[],2,FALSE)),\"\",VLOOKUP(A30,tesserati[],2,FALSE))","v":"CHEMELLO"},{"$f":"IF(ISERROR(VLOOKUP(A30,tesserati[],3,FALSE)),\"\",VLOOKUP(A30,tesserati[],3,FALSE))","v":"CHIARA"},{"$f":"IF(ISERROR(VLOOKUP(A30,tesserati[],4,FALSE)),\"\",VLOOKUP(A30,tesserati[],4,FALSE))","v":"POL. DIL. MONTECCHIO PRECALCINO"},{"$f":"IF(ISERROR(VLOOKUP(A30,tesserati[],5,FALSE)),\"\",VLOOKUP(A30,tesserati[],5,FALSE))","v":2006},{"$f":"IF(ISERROR(VLOOKUP(A30,tesserati[],7,FALSE)),\"\",VLOOKUP(A30,tesserati[],7,FALSE))","v":"EF"}]
[2733,{"$f":"IF(ISERROR(VLOOKUP(A31,tesserati[],2,FALSE)),\"\",VLOOKUP(A31,tesserati[],2,FALSE))","v":"MAINO"},{"$f":"IF(ISERROR(VLOOKUP(A31,tesserati[],3,FALSE)),\"\",VLOOKUP(A31,tesserati[],3,FALSE))","v":"CHIARA"},{"$f":"IF(ISERROR(VLOOKUP(A31,tesserati[],4,FALSE)),\"\",VLOOKUP(A31,tesserati[],4,FALSE))","v":"POL. DIL. MONTECCHIO PRECALCINO"},{"$f":"IF(ISERROR(VLOOKUP(A31,tesserati[],5,FALSE)),\"\",VLOOKUP(A31,tesserati[],5,FALSE))","v":2006},{"$f":"IF(ISERROR(VLOOKUP(A31,tesserati[],7,FALSE)),\"\",VLOOKUP(A31,tesserati[],7,FALSE))","v":"EF"}]
[2722,{"$f":"IF(ISERROR(VLOOKUP(A32,tesserati[],2,FALSE)),\"\",VLOOKUP(A32,tesserati[],2,FALSE))","v":"ELLERO"},{"$f":"IF(ISERROR(VLOOKUP(A32,tesserati[],3,FALSE)),\"\",VLOOKUP(A32,tesserati[],3,FALSE))","v":"ALICE"},{"$f":"IF(ISERROR(VLOOKUP(A32,tesserati[],4,FALSE)),\"\",VLOOKUP(A32,tesserati[],4,FALSE))","v":"POL. DIL. MONTECCHIO PRECALCINO"},{"$f":"IF(ISERROR(VLOOKUP(A32,tesserati[],5,FALSE)),\"\",VLOOKUP(A32,tesserati[],5,FALSE))","v":2006},{"$f":"IF(ISERROR(VLOOKUP(A32,tesserati[],7,FALSE)),\"\",VLOOKUP(A32,tesserati[],7,FALSE))","v":"EF"}]
["2 SERIE"]
[null,{"$f":"IF(ISERROR(VLOOKUP(A34,tesserati[],2,FALSE)),\"\",VLOOKUP(A34,tesserati[],2,FALSE))","v":""},{"$f":"IF(ISERROR(VLOOKUP(A34,tesserati[],3,FALSE)),\"\",VLOOKUP(A34,tesserati[],3,FALSE))","v":""},{"$f":"IF(ISERROR(VLOOKUP(A34,tesserati[],4,FALSE)),\"\",VLOOKUP(A34,tesserati[],4,FALSE))","v":""},{"$f":"IF(ISERROR(VLOOKUP(A34,tesserati[],5,FALSE)),\"\",VLOOKUP(A34,tesserati[],5,FALSE))","v":""},{"$f":"IF(ISERROR(VLOOKUP(A34,tesserati[],7,FALSE)),\"\",VLOOKUP(A34,tesserati[],7,FALSE))","v":""},1]
[null,{"$f":"IF(ISERROR(VLOOKUP(A35,tesserati[],2,FALSE)),\"\",VLOOKUP(A35,tesserati[],2,FALSE))","v":""},{"$f":"IF(ISERROR(VLOOKUP(A35,tesserati[],3,FALSE)),\"\",VLOOKUP(A35,tesserati[],3,FALSE))","v":""},{"$f":"IF(ISERROR(VLOOKUP(A35,tesserati[],4,FALSE)),\"\",VLOOKUP(A35,tesserati[],4,FALSE))","v":""},{"$f":"IF(ISERROR(VLOOKUP(A35,tesserati[],5,FALSE)),\"\",VLOOKUP(A35,tesserati[],5,FALSE))","v":""},{"$f":"IF(ISERROR(VLOOKUP(A35,tesserati[],7,FALSE)),\"\",VLOOKUP(A35,tesserati[],7,FALSE))","v":""}]
[null,{"$f":"IF(ISERROR(VLOOKUP(A36,tesserati[],2,FALSE)),\"\",VLOOKUP(A36,tesserati[],2,FALSE))","v":""},{"$f":"IF(ISERROR(VLOOKUP(A36,tesserati[],3,FALSE)),\"\",VLOOKUP(A36,tesserati[],3,FALSE))","v":""},{"$f":"IF(ISERROR(VLOOKUP(A36,tesserati[],4,FALSE)),\"\",VLOOKUP(A36,tesserati[],4,FALSE))","v":""},{"$f":"IF(ISERROR(VLOOKUP(A36,tesserati[],5,FALSE)),\"\",VLOOKUP(A36,tesserati[],5,FALSE))","v":""},{"$f":"IF(ISERROR(VLOOKUP(A36,tesserati[],7,FALSE)),\"\",VLOOKUP(A36,tesserati[],7,FALSE))","v":""}]
[null,{"$f":"IF(ISERROR(VLOOKUP(A37,tesserati[],2,FALSE)),\"\",VLOOKUP(A37,tesserati[],2,FALSE))","v":""},{"$f":"IF(ISERROR(VLOOKUP(A37,tesserati[],3,FALSE)),\"\",VLOOKUP(A37,tesserati[],3,FALSE))","v":""},{"$f":"IF(ISERROR(VLOOKUP(A37,tesserati[],4,FALSE)),\"\",VLOOKUP(A37,tesserati[],4,FALSE))","v":""},{"$f":"IF(ISERROR(VLOOKUP(A37,tesserati[],5,FALSE)),\"\",VLOOKUP(A37,tesserati[],5,FALSE))","v":""},{"$f":"IF(ISERROR(VLOOKUP(A37,tesserati[],7,FALSE)),\"\",VLOOKUP(A37,tesserati[],7,FALSE))","v":""}]
[null,{"$f":"IF(ISERROR(VLOOKUP(A38,tesserati[],2,FALSE)),\"\",VLOOKUP(A38,tesserati[],2,FALSE))","v":""},{"$f":"IF(ISERROR(VLOOKUP(A38,tesserati[],3,FALSE)),\"\",VLOOKUP(A38,tesserati[],3,FALSE))","v":""},{"$f":"IF(ISERROR(VLOOKUP(A38,tesserati[],4,FALSE)),\"\",VLOOKUP(A38,tesserati[],4,FALSE))","v":""},{"$f":"IF(ISERROR(VLOOKUP(A38,tesserati[],5,FALSE)),\"\",VLOOKUP(A38,tesserati[],5,FALSE))","v":""},{"$f":"IF(ISERROR(VLOOKUP(A38,tesserati[],7,FALSE)),\"\",VLOOKUP(A38,tesserati[],7,FALSE))","v":""},2]
[null,{"$f":"IF(ISERROR(VLOOKUP(A39,tesserati[],2,FALSE)),\"\",VLOOKUP(A39,tesserati[],2,FALSE))","v":""},{"$f":"IF(ISERROR(VLOOKUP(A39,tesserati[],3,FALSE)),\"\",VLOOKUP(A39,tesserati[],3,FALSE))","v":""},{"$f":"IF(ISERROR(VLOOKUP(A39,tesserati[],4,FALSE)),\"\",VLOOKUP(A39,tesserati[],4,FALSE))","v":""},{"$f":"IF(ISERROR(VLOOKUP(A39,tesserati[],5,FALSE)),\"\",VLOOKUP(A39,tesserati[],5,FALSE))","v":""},{"$f":"IF(ISERROR(VLOOKUP(A39,tesserati[],7,FALSE)),\"\",VLOOKUP(A39,tesserati[],7,FALSE))","v":""}]
[null,{"$f":"IF(ISERROR(VLOOKUP(A40,tesserati[],2,FALSE)),\"\",VLOOKUP(A40,tesserati[],2,FALSE))","v":""},{"$f":"IF(ISERROR(VLOOKUP(A40,tesserati[],3,FALSE)),\"\",VLOOKUP(A40,tesserati[],3,FALSE))","v":""},{"$f":"IF(ISERROR(VLOOKUP(A40,tesserati[],4,FALSE)),\"\",VLOOKUP(A40,tesserati[],4,FALSE))","v":""},{"$f":"IF(ISERROR(VLOOKUP(A40,tesserati[],5,FALSE)),\"\",VLOOKUP(A40,tesserati[],5,FALSE))","v":""},{"$f":"IF(ISERROR(VLOOKUP(A40,tesserati[],7,FALSE)),\"\",VLOOKUP(A40,tesserati[],7,FALSE))","v":""}]
[null,{"$f":"IF(ISERROR(VLOOKUP(A41,tesserati[],2,FALSE)),\"\",VLOOKUP(A41,tesserati[],2,FALSE))","v":""},{"$f":"IF(ISERROR(VLOOKUP(A41,tesserati[],3,FALSE)),\"\",VLOOKUP(A41,tesserati[],3,FALSE))","v":""},{"$f":"IF(ISERROR(VLOOKUP(A41,tesserati[],4,FALSE)),\"\",VLOOKUP(A41,tesserati[],4,FALSE))","v":""},{"$f":"IF(ISERROR(VLOOKUP(A41,tesserati[],5,FALSE)),\"\",VLOOKUP(A41,tesserati[],5,FALSE))","v":""},{"$f":"IF(ISERROR(VLOOKUP(A41,tesserati[],7,FALSE)),\"\",VLOOKUP(A41,tesserati[],7,FALSE))","v":""}]
[null,{"$f":"IF(ISERROR(VLOOKUP(A42,tesserati[],2,FALSE)),\"\",VLOOKUP(A42,tesserati[],2,FALSE))","v":""},{"$f":"IF(ISERROR(VLOOKUP(A42,tesserati[],3,FALSE)),\"\",VLOOKUP(A42,tesserati[],3,FALSE))","v":""},{"$f":"IF(ISERROR(VLOOKUP(A42,tesserati[],4,FALSE)),\"\",VLOOKUP(A42,tesserati[],4,FALSE))","v":""},{"$f":"IF(ISERROR(VLOOKUP(A42,tesserati[],5,FALSE)),\"\",VLOOKUP(A42,tesserati[],5,FALSE))","v":""},{"$f":"IF(ISERROR(VLOOKUP(A42,tesserati[],7,FALSE)),\"\",VLOOKUP(A42,tesserati[],7,FALSE))","v":""},3]
[null,{"$f":"IF(ISERROR(VLOOKUP(A43,tesserati[],2,FALSE)),\"\",VLOOKUP(A43,tesserati[],2,FALSE))","v":""},{"$f":"IF(ISERROR(VLOOKUP(A43,tesserati[],3,FALSE)),\"\",VLOOKUP(A43,tesserati[],3,FALSE))","v":""},{"$f":"IF(ISERROR(VLOOKUP(A43,tesserati[],4,FALSE)),\"\",VLOOKUP(A43,tesserati[],4,FALSE))","v":""},{"$f":"IF(ISERROR(VLOOKUP(A43,tesserati[],5,FALSE)),\"\",VLOOKUP(A43,tesserati[],5,FALSE))","v":""},{"$f":"IF(ISERROR(VLOOKUP(A43,tesserati[],7,FALSE)),\"\",VLOOKUP(A43,tesserati[],7,FALSE))","v":""}]
[null,{"$f":"IF(ISERROR(VLOOKUP(A44,tesserati[],2,FALSE)),\"\",VLOOKUP(A44,tesserati[],2,FALSE))","v":""},{"$f":"IF(ISERROR(VLOOKUP(A44,tesserati[],3,FALSE)),\"\",VLOOKUP(A44,tesserati[],3,FALSE))","v":""},{"$f":"IF(ISERROR(VLOOKUP(A44,tesserati[],4,FALSE)),\"\",VLOOKUP(A44,tesserati[],4,FALSE))","v":""},{"$f":"IF(ISERROR(VLOOKUP(A44,tesserati[],5,FALSE)),\"\",VLOOKUP(A44,tesserati[],5,FALSE))","v":""},{"$f":"IF(ISERROR(VLOOKUP(A44,tesserati[],7,FALSE)),\"\",VLOOKUP(A44,tesserati[],7,FALSE))","v":""}]
[null,{"$f":"IF(ISERROR(VLOOKUP(A45,tesserati[],2,FALSE)),\"\",VLOOKUP(A45,tesserati[],2,FALSE))","v":""},{"$f":"IF(ISERROR(VLOOKUP(A45,tesserati[],3,FALSE)),\"\",VLOOKUP(A45,tesserati[],3,FALSE))","v":""},{"$f":"IF(ISERROR(VLOOKUP(A45,tesserati[],4,FALSE)),\"\",VLOOKUP(A45,tesserati[],4,FALSE))","v":""},{"$f":"IF(ISERROR(VLOOKUP(A45,tesserati[],5,FALSE)),\"\",VLOOKUP(A45,tesserati[],5,FALSE))","v":""},{"$f":"IF(ISERROR(VLOOKUP(A45,tesserati[],7,FALSE)),\"\",VLOOKUP(A45,tesserati[],7,FALSE))","v":""}]
[null,{"$f":"IF(ISERROR(VLOOKUP(A46,tesserati[],2,FALSE)),\"\",VLOOKUP(A46,tesserati[],2,FALSE))","v":""},{"$f":"IF(ISERROR(VLOOKUP(A46,tesserati[],3,FALSE)),\"\",VLOOKUP(A46,tesserati[],3,FALSE))","v":""},{"$f":"IF(ISERROR(VLOOKUP(A46,tesserati[],4,FALSE)),\"\",VLOOKUP(A46,tesserati[],4,FALSE))","v":""},{"$f":"IF(ISERROR(VLOOKUP(A46,tesserati[],5,FALSE)),\"\",VLOOKUP(A46,tesserati[],5,FALSE))","v":""},{"$f":"IF(ISERROR(VLOOKUP(A46,tesserati[],7,FALSE)),\"\",VLOOKUP(A46,tesserati[],7,FALSE))","v":""},4]
[null,{"$f":"IF(ISERROR(VLOOKUP(A47,tesserati[],2,FALSE)),\"\",VLOOKUP(A47,tesserati[],2,FALSE))","v":""},{"$f":"IF(ISERROR(VLOOKUP(A47,tesserati[],3,FALSE)),\"\",VLOOKUP(A47,tesserati[],3,FALSE))","v":""},{"$f":"IF(ISERROR(VLOOKUP(A47,tesserati[],4,FALSE)),\"\",VLOOKUP(A47,tesserati[],4,FALSE))","v":""},{"$f":"IF(ISERROR(VLOOKUP(A47,tesserati[],5,FALSE)),\"\",VLOOKUP(A47,tesserati[],5,FALSE))","v":""},{"$f":"IF(ISERROR(VLOOKUP(A47,tesserati[],7,FALSE)),\"\",VLOOKUP(A47,tesserati[],7,FALSE))","v":""}]
[null,{"$f":"IF(ISERROR(VLOOKUP(A48,tesserati[],2,FALSE)),\"\",VLOOKUP(A48,tesserati[],2,FALSE))","v":""},{"$f":"IF(ISERROR(VLOOKUP(A48,tesserati[],3,FALSE)),\"\",VLOOKUP(A48,tesserati[],3,FALSE))","v":""},{"$f":"IF(ISERROR(VLOOKUP(A48,tesserati[],4,FALSE)),\"\",VLOOKUP(A48,tesserati[],4,FALSE))","v":""},{"$f":"IF(ISERROR(VLOOKUP(A48,tesserati[],5,FALSE)),\"\",VLOOKUP(A48,tesserati[],5,FALSE))","v":""},{"$f":"IF(ISERROR(VLOOKUP(A48,tesserati[],7,FALSE)),\"\",VLOOKUP(A48,tesserati[],7,FALSE))","v":""}]
[null,{"$f":"IF(ISERROR(VLOOKUP(A49,tesserati[],2,FALSE)),\"\",VLOOKUP(A49,tesserati[],2,FALSE))","v":""},{"$f":"IF(ISERROR(VLOOKUP(A49,tesserati[],3,FALSE)),\"\",VLOOKUP(A49,tesserati[],3,FALSE))","v":""},{"$f":"IF(ISERROR(VLOOKUP(A49,tesserati[],4,FALSE)),\"\",VLOOKUP(A49,tesserati[],4,FALSE))","v":""},{"$f":"IF(ISERROR(VLOOKUP(A49,tesserati[],5,FALSE)),\"\",VLOOKUP(A49,tesserati[],5,FALSE))","v":""},{"$f":"IF(ISERROR(VLOOKUP(A49,tesserati[],7,FALSE)),\"\",VLOOKUP(A49,tesserati[],7,FALSE))","v":""}]
[null,{"$f":"IF(ISERROR(VLOOKUP(A50,tesserati[],2,FALSE)),\"\",VLOOKUP(A50,tesserati[],2,FALSE))","v":""},{"$f":"IF(ISERROR(VLOOKUP(A50,tesserati[],3,FALSE)),\"\",VLOOKUP(A50,tesserati[],3,FALSE))","v":""},{"$f":"IF(ISERROR(VLOOKUP(A50,tesserati[],4,FALSE)),\"\",VLOOKUP(A50,tesserati[],4,FALSE))","v":""},{"$f":"IF(ISERROR(VLOOKUP(A50,tesserati[],5,FALSE)),\"\",VLOOKUP(A50,tesserati[],5,FALSE))","v":""},{"$f":"IF(ISERROR(VLOOKUP(A50,tesserati[],7,FALSE)),\"\",VLOOKUP(A50,tesserati[],7,FALSE))","v":""},5]
[null,{"$f":"IF(ISERROR(VLOOKUP(A51,tesserati[],2,FALSE)),\"\",VLOOKUP(A51,tesserati[],2,FALSE))","v":""},{"$f":"IF(ISERROR(VLOOKUP(A51,tesserati[],3,FALSE)),\"\",VLOOKUP(A51,tesserati[],3,FALSE))","v":""},{"$f":"IF(ISERROR(VLOOKUP(A51,tesserati[],4,FALSE)),\"\",VLOOKUP(A51,tesserati[],4,FALSE))","v":""},{"$f":"IF(ISERROR(VLOOKUP(A51,tesserati[],5,FALSE)),\"\",VLOOKUP(A51,tesserati[],5,FALSE))","v":""},{"$f":"IF(ISERROR(VLOOKUP(A51,tesserati[],7,FALSE)),\"\",VLOOKUP(A51,tesserati[],7,FALSE))","v":""}]
[null,{"$f":"IF(ISERROR(VLOOKUP(A52,tesserati[],2,FALSE)),\"\",VLOOKUP(A52,tesserati[],2,FALSE))","v":""},{"$f":"IF(ISERROR(VLOOKUP(A52,tesserati[],3,FALSE)),\"\",VLOOKUP(A52,tesserati[],3,FALSE))","v":""},{"$f":"IF(ISERROR(VLOOKUP(A52,tesserati[],4,FALSE)),\"\",VLOOKUP(A52,tesserati[],4,FALSE))","v":""},{"$f":"IF(ISERROR(VLOOKUP(A52,tesserati[],5,FALSE)),\"\",VLOOKUP(A52,tesserati[],5,FALSE))","v":""},{"$f":"IF(ISERROR(VLOOKUP(A52,tesserati[],7,FALSE)),\"\",VLOOKUP(A52,tesserati[],7,FALSE))","v":""}]
[null,{"$f":"IF(ISERROR(VLOOKUP(A53,tesserati[],2,FALSE)),\"\",VLOOKUP(A53,tesserati[],2,FALSE))","v":""},{"$f":"IF(ISERROR(VLOOKUP(A53,tesserati[],3,FALSE)),\"\",VLOOKUP(A53,tesserati[],3,FALSE))","v":""},{"$f":"IF(ISERROR(VLOOKUP(A53,tesserati[],4,FALSE)),\"\",VLOOKUP(A53,tesserati[],4,FALSE))","v":""},{"$f":"IF(ISERROR(VLOOKUP(A53,tesserati[],5,FALSE)),\"\",VLOOKUP(A53,tesserati[],5,FALSE))","v":""},{"$f":"IF(ISERROR(VLOOKUP(A53,tesserati[],7,FALSE)),\"\",VLOOKUP(A53,tesserati[],7,FALSE))","v":""}]
[null,{"$f":"IF(ISERROR(VLOOKUP(A54,tesserati[],2,FALSE)),\"\",VLOOKUP(A54,tesserati[],2,FALSE))","v":""},{"$f":"IF(ISERROR(VLOOKUP(A54,tesserati[],3,FALSE)),\"\",VLOOKUP(A54,tesserati[],3,FALSE))","v":""},{"$f":"IF(ISERROR(VLOOKUP(A54,tesserati[],4,FALSE)),\"\",VLOOKUP(A54,tesserati[],4,FALSE))","v":""},{"$f":"IF(ISERROR(VLOOKUP(A54,tesserati[],5,FALSE)),\"\",VLOOKUP(A54,tesserati[],5,FALSE))","v":""},{"$f":"IF(ISERROR(VLOOKUP(A54,tesserati[],7,FALSE)),\"\",VLOOKUP(A54,tesserati[],7,FALSE))","v":""},6]
[null,{"$f":"IF(ISERROR(VLOOKUP(A55,tesserati[],2,FALSE)),\"\",VLOOKUP(A55,tesserati[],2,FALSE))","v":""},{"$f":"IF(ISERROR(VLOOKUP(A55,tesserati[],3,FALSE)),\"\",VLOOKUP(A55,tesserati[],3,FALSE))","v":""},{"$f":"IF(ISERROR(VLOOKUP(A55,tesserati[],4,FALSE)),\"\",VLOOKUP(A55,tesserati[],4,FALSE))","v":""},{"$f":"IF(ISERROR(VLOOKUP(A55,tesserati[],5,FALSE)),\"\",VLOOKUP(A55,tesserati[],5,FALSE))","v":""},{"$f":"IF(ISERROR(VLOOKUP(A55,tesserati[],7,FALSE)),\"\",VLOOKUP(A55,tesserati[],7,FALSE))","v":""}]
[null,{"$f":"IF(ISERROR(VLOOKUP(A56,tesserati[],2,FALSE)),\"\",VLOOKUP(A56,tesserati[],2,FALSE))","v":""},{"$f":"IF(ISERROR(VLOOKUP(A56,tesserati[],3,FALSE)),\"\",VLOOKUP(A56,tesserati[],3,FALSE))","v":""},{"$f":"IF(ISERROR(VLOOKUP(A56,tesserati[],4,FALSE)),\"\",VLOOKUP(A56,tesserati[],4,FALSE))","v":""},{"$f":"IF(ISERROR(VLOOKUP(A56,tesserati[],5,FALSE)),\"\",VLOOKUP(A56,tesserati[],5,FALSE))","v":""},{"$f":"IF(ISERROR(VLOOKUP(A56,tesserati[],7,FALSE)),\"\",VLOOKUP(A56,tesserati[],7,FALSE))","v":""}]
[null,{"$f":"IF(ISERROR(VLOOKUP(A57,tesserati[],2,FALSE)),\"\",VLOOKUP(A57,tesserati[],2,FALSE))","v":""},{"$f":"IF(ISERROR(VLOOKUP(A57,tesserati[],3,FALSE)),\"\",VLOOKUP(A57,tesserati[],3,FALSE))","v":""},{"$f":"IF(ISERROR(VLOOKUP(A57,tesserati[],4,FALSE)),\"\",VLOOKUP(A57,tesserati[],4,FALSE))","v":""},{"$f":"IF(ISERROR(VLOOKUP(A57,tesserati[],5,FALSE)),\"\",VLOOKUP(A57,tesserati[],5,FALSE))","v":""},{"$f":"IF(ISERROR(VLOOKUP(A57,tesserati[],7,FALSE)),\"\",VLOOKUP(A57,tesserati[],7,FALSE))","v":""}]
[null,{"$f":"IF(ISERROR(VLOOKUP(A58,tesserati[],2,FALSE)),\"\",VLOOKUP(A58,tesserati[],2,FALSE))","v":""},{"$f":"IF(ISERROR(VLOOKUP(A58,tesserati[],3,FALSE)),\"\",VLOOKUP(A58,tesserati[],3,FALSE))","v":""},{"$f":"IF(ISERROR(VLOOKUP(A58,tesserati[],4,FALSE)),\"\",VLOOKUP(A58,tesserati[],4,FALSE))","v":""},{"$f":"IF(ISERROR(VLOOKUP(A58,tesserati[],5,FALSE)),\"\",VLOOKUP(A58,tesserati[],5,FALSE))","v":""},{"$f":"IF(ISERROR(VLOOKUP(A58,tesserati[],7,FALSE)),\"\",VLOOKUP(A58,tesserati[],7,FALSE))","v":""}]
[null,{"$f":"IF(ISERROR(VLOOKUP(A59,tesserati[],2,FALSE)),\"\",VLOOKUP(A59,tesserati[],2,FALSE))","v":""},{"$f":"IF(ISERROR(VLOOKUP(A59,tesserati[],3,FALSE)),\"\",VLOOKUP(A59,tesserati[],3,FALSE))","v":""},{"$f":"IF(ISERROR(VLOOKUP(A59,tesserati[],4,FALSE)),\"\",VLOOKUP(A59,tesserati[],4,FALSE))","v":""},{"$f":"IF(ISERROR(VLOOKUP(A59,tesserati[],5,FALSE)),\"\",VLOOKUP(A59,tesserati[],5,FALSE))","v":""},{"$f":"IF(ISERROR(VLOOKUP(A59,tesserati[],7,FALSE)),\"\",VLOOKUP(A59,tesserati[],7,FALSE))","v":""}]
[null,{"$f":"IF(ISERROR(VLOOKUP(A60,tesserati[],2,FALSE)),\"\",VLOOKUP(A60,tesserati[],2,FALSE))","v":""},{"$f":"IF(ISERROR(VLOOKUP(A60,tesserati[],3,FALSE)),\"\",VLOOKUP(A60,tesserati[],3,FALSE))","v":""},{"$f":"IF(ISERROR(VLOOKUP(A60,tesserati[],4,FALSE)),\"\",VLOOKUP(A60,tesserati[],4,FALSE))","v":""},{"$f":"IF(ISERROR(VLOOKUP(A60,tesserati[],5,FALSE)),\"\",VLOOKUP(A60,tesserati[],5,FALSE))","v":""},{"$f":"IF(ISERROR(VLOOKUP(A60,tesserati[],7,FALSE)),\"\",VLOOKUP(A60,tesserati[],7,FALSE))","v":""}]
[null,{"$f":"IF(ISERROR(VLOOKUP(A61,tesserati[],2,FALSE)),\"\",VLOOKUP(A61,tesserati[],2,FALSE))","v":""},{"$f":"IF(ISERROR(VLOOKUP(A61,tesserati[],3,FALSE)),\"\",VLOOKUP(A61,tesserati[],3,FALSE))","v":""},{"$f":"IF(ISERROR(VLOOKUP(A61,tesserati[],4,FALSE)),\"\",VLOOKUP(A61,tesserati[],4,FALSE))","v":""},{"$f":"IF(ISERROR(VLOOKUP(A61,tesserati[],5,FALSE)),\"\",VLOOKUP(A61,tesserati[],5,FALSE))","v":""},{"$f":"IF(ISERROR(VLOOKUP(A61,tesserati[],7,FALSE)),\"\",VLOOKUP(A61,tesserati[],7,FALSE))","v":""}]
[null,{"$f":"IF(ISERROR(VLOOKUP(A62,tesserati[],2,FALSE)),\"\",VLOOKUP(A62,tesserati[],2,FALSE))","v":""},{"$f":"IF(ISERROR(VLOOKUP(A62,tesserati[],3,FALSE)),\"\",VLOOKUP(A62,tesserati[],3,FALSE))","v":""},{"$f":"IF(ISERROR(VLOOKUP(A62,tesserati[],4,FALSE)),\"\",VLOOKUP(A62,tesserati[],4,FALSE))","v":""},{"$f":"IF(ISERROR(VLOOKUP(A62,tesserati[],5,FALSE)),\"\",VLOOKUP(A62,tesserati[],5,FALSE))","v":""},{"$f":"IF(ISERROR(VLOOKUP(A62,tesserati[],7,FALSE)),\"\",VLOOKUP(A62,tesserati[],7,FALSE))","v":""}]
[null,{"$f":"IF(ISERROR(VLOOKUP(A63,tesserati[],2,FALSE)),\"\",VLOOKUP(A63,tesserati[],2,FALSE))","v":""},{"$f":"IF(ISERROR(VLOOKUP(A63,tesserati[],3,FALSE)),\"\",VLOOKUP(A63,tesserati[],3,FALSE))","v":""},{"$f":"IF(ISERROR(VLOOKUP(A63,tesserati[],4,FALSE)),\"\",VLOOKUP(A63,tesserati[],4,FALSE))","v":""},{"$f":"IF(ISERROR(VLOOKUP(A63,tesserati[],5,FALSE)),\"\",VLOOKUP(A63,tesserati[],5,FALSE))","v":""},{"$f":"IF(ISERROR(VLOOKUP(A63,tesserati[],7,FALSE)),\"\",VLOOKUP(A63,tesserati[],7,FALSE))","v":""}]
[null,{"$f":"IF(ISERROR(VLOOKUP(A64,tesserati[],2,FALSE)),\"\",VLOOKUP(A64,tesserati[],2,FALSE))","v":""},{"$f":"IF(ISERROR(VLOOKUP(A64,tesserati[],3,FALSE)),\"\",VLOOKUP(A64,tesserati[],3,FALSE))","v":""},{"$f":"IF(ISERROR(VLOOKUP(A64,tesserati[],4,FALSE)),\"\",VLOOKUP(A64,tesserati[],4,FALSE))","v":""},{"$f":"IF(ISERROR(VLOOKUP(A64,tesserati[],5,FALSE)),\"\",VLOOKUP(A64,tesserati[],5,FALSE))","v":""},{"$f":"IF(ISERROR(VLOOKUP(A64,tesserati[],7,FALSE)),\"\",VLOOKUP(A64,tesserati[],7,FALSE))","v":""}]
[null,{"$f":"IF(ISERROR(VLOOKUP(A65,tesserati[],2,FALSE)),\"\",VLOOKUP(A65,tesserati[],2,FALSE))","v":""},{"$f":"IF(ISERROR(VLOOKUP(A65,tesserati[],3,FALSE)),\"\",VLOOKUP(A65,tesserati[],3,FALSE))","v":""},{"$f":"IF(ISERROR(VLOOKUP(A65,tesserati[],4,FALSE)),\"\",VLOOKUP(A65,tesserati[],4,FALSE))","v":""},{"$f":"IF(ISERROR(VLOOKUP(A65,tesserati[],5,FALSE)),\"\",VLOOKUP(A65,tesserati[],5,FALSE))","v":""},{"$f":"IF(ISERROR(VLOOKUP(A65,tesserati[],7,FALSE)),\"\",VLOOKUP(A65,tesserati[],7,FALSE))","v":""}]
[null,{"$f":"IF(ISERROR(VLOOKUP(A66,tesserati[],2,FALSE)),\"\",VLOOKUP(A66,tesserati[],2,FALSE))","v":""},{"$f":"IF(ISERROR(VLOOKUP(A66,tesserati[],3,FALSE)),\"\",VLOOKUP(A66,tesserati[],3,FALSE))","v":""},{"$f":"IF(ISERROR(VLOOKUP(A66,tesserati[],4,FALSE)),\"\",VLOOKUP(A66,tesserati[],4,FALSE))","v":""},{"$f":"IF(ISERROR(VLOOKUP(A66,tesserati[],5,FALSE)),\"\",VLOOKUP(A66,tesserati[],5,FALSE))","v":""},{"$f":"IF(ISERROR(VLOOKUP(A66,tesserati[],7,FALSE)),\"\",VLOOKUP(A66,tesserati[],7,FALSE))","v":""}]
[null,{"$f":"IF(ISERROR(VLOOKUP(A67,tesserati[],2,FALSE)),\"\",VLOOKUP(A67,tesserati[],2,FALSE))","v":""},{"$f":"IF(ISERROR(VLOOKUP(A67,tesserati[],3,FALSE)),\"\",VLOOKUP(A67,tesserati[],3,FALSE))","v":""},{"$f":"IF(ISERROR(VLOOKUP(A67,tesserati[],4,FALSE)),\"\",VLOOKUP(A67,tesserati[],4,FALSE))","v":""},{"$f":"IF(ISERROR(VLOOKUP(A67,tesserati[],5,FALSE)),\"\",VLOOKUP(A67,tesserati[],5,FALSE))","v":""},{"$f":"IF(ISERROR(VLOOKUP(A67,tesserati[],7,FALSE)),\"\",VLOOKUP(A67,tesserati[],7,FALSE))","v":""}]
[null,{"$f":"IF(ISERROR(VLOOKUP(A68,tesserati[],2,FALSE)),\"\",VLOOKUP(A68,tesserati[],2,FALSE))","v":""},{"$f":"IF(ISERROR(VLOOKUP(A68,tesserati[],3,FALSE)),\"\",VLOOKUP(A68,tesserati[],3,FALSE))","v":""},{"$f":"IF(ISERROR(VLOOKUP(A68,tesserati[],4,FALSE)),\"\",VLOOKUP(A68,tesserati[],4,FALSE))","v":""},{"$f":"IF(ISERROR(VLOOKUP(A68,tesserati[],5,FALSE)),\"\",VLOOKUP(A68,tesserati[],5,FALSE))","v":""},{"$f":"IF(ISERROR(VLOOKUP(A68,tesserati[],7,FALSE)),\"\",VLOOKUP(A68,tesserati[],7,FALSE))","v":""}]
[null,{"$f":"IF(ISERROR(VLOOKUP(A69,tesserati[],2,FALSE)),\"\",VLOOKUP(A69,tesserati[],2,FALSE))","v":""},{"$f":"IF(ISERROR(VLOOKUP(A69,tesserati[],3,FALSE)),\"\",VLOOKUP(A69,tesserati[],3,FALSE))","v":""},{"$f":"IF(ISERROR(VLOOKUP(A69,tesserati[],4,FALSE)),\"\",VLOOKUP(A69,tesserati[],4,FALSE))","v":""},{"$f":"IF(ISERROR(VLOOKUP(A69,tesserati[],5,FALSE)),\"\",VLOOKUP(A69,tesserati[],5,FALSE))","v":""},{"$f":"IF(ISERROR(VLOOKUP(A69,tesserati[],7,FALSE)),\"\",VLOOKUP(A69,tesserati[],7,FALSE))","v":""}]
[null,{"$f":"IF(ISERROR(VLOOKUP(A70,tesserati[],2,FALSE)),\"\",VLOOKUP(A70,tesserati[],2,FALSE))","v":""},{"$f":"IF(ISERROR(VLOOKUP(A70,tesserati[],3,FALSE)),\"\",VLOOKUP(A70,tesserati[],3,FALSE))","v":""},{"$f":"IF(ISERROR(VLOOKUP(A70,tesserati[],4,FALSE)),\"\",VLOOKUP(A70,tesserati[],4,FALSE))","v":""},{"$f":"IF(ISERROR(VLOOKUP(A70,tesserati[],5,FALSE)),\"\",VLOOKUP(A70,tesserati[],5,FALSE))","v":""},{"$f":"IF(ISERROR(VLOOKUP(A70,tesserati[],7,FALSE)),\"\",VLOOKUP(A70,tesserati[],7,FALSE))","v":""}]
[null,{"$f":"IF(ISERROR(VLOOKUP(A71,tesserati[],2,FALSE)),\"\",VLOOKUP(A71,tesserati[],2,FALSE))","v":""},{"$f":"IF(ISERROR(VLOOKUP(A71,tesserati[],3,FALSE)),\"\",VLOOKUP(A71,tesserati[],3,FALSE))","v":""},{"$f":"IF(ISERROR(VLOOKUP(A71,tesserati[],4,FALSE)),\"\",VLOOKUP(A71,tesserati[],4,FALSE))","v":""},{"$f":"IF(ISERROR(VLOOKUP(A71,tesserati[],5,FALSE)),\"\",VLOOKUP(A71,tesserati[],5,FALSE))","v":""},{"$f":"IF(ISERROR(VLOOKUP(A71,tesserati[],7,FALSE)),\"\",VLOOKUP(A71,tesserati[],7,FALSE))","v":""}]
[null,{"$f":"IF(ISERROR(VLOOKUP(A72,tesserati[],2,FALSE)),\"\",VLOOKUP(A72,tesserati[],2,FALSE))","v":""},{"$f":"IF(ISERROR(VLOOKUP(A72,tesserati[],3,FALSE)),\"\",VLOOKUP(A72,tesserati[],3,FALSE))","v":""},{"$f":"IF(ISERROR(VLOOKUP(A72,tesserati[],4,FALSE)),\"\",VLOOKUP(A72,tesserati[],4,FALSE))","v":""},{"$f":"IF(ISERROR(VLOOKUP(A72,tesserati[],5,FALSE)),\"\",VLOOKUP(A72,tesserati[],5,FALSE))","v":""},{"$f":"IF(ISERROR(VLOOKUP(A72,tesserati[],7,FALSE)),\"\",VLOOKUP(A72,tesserati[],7,FALSE))","v":""}]

{"sheet":"tesserati","index":16,"n_rows":2120,"n_cols":7,"rows_kept":2120,"cut":false,"hidden":false,"merged":[]}
["tessera","cognome","nome","nascita","società","sesso","categoria"]
[917,"BASSO","LUIGI","C.S.I. TEZZE SUL BRENTA",1951,"M","VM"]
[918,"BORDIGNON","ANTONIO","C.S.I. TEZZE SUL BRENTA",1955,"M","VM"]
[919,"CABRELLON","MAURO","C.S.I. TEZZE SUL BRENTA",1986,"M","SM"]
[921,"LAGO","ALBERTO","C.S.I. TEZZE SUL BRENTA",1979,"M","AAM"]
[922,"LAGO","BASILIO","C.S.I. TEZZE SUL BRENTA",1968,"M","ABM"]
[924,"PELLANDA","GERARDO","C.S.I. TEZZE SUL BRENTA",1956,"M","VM"]
[925,"PIEROBON","MICHELE","C.S.I. TEZZE SUL BRENTA",1979,"M","AAM"]
[926,"TOLLIO","SUSANNA","C.S.I. TEZZE SUL BRENTA",1970,"F","ABF"]
[1003,"CERANTOLA","MARTA","C.S.I. TEZZE SUL BRENTA",2002,"F","CF"]
[1004,"GUSELLA","SARA","C.S.I. TEZZE SUL BRENTA",2003,"F","CF"]
[1014,"VANGELISTA","SILVIA","C.S.I. TEZZE SUL BRENTA",2002,"F","CF"]
[1950,"CASAROTTO","MARCO","ATLETICA UNION CREAZZO",1994,"M","SM"]
[1951,"COSTA","MAURO","ATLETICA UNION CREAZZO",1968,"M","ABM"]
[1952,"DONADELLO","DAVIDE","ATLETICA UNION CREAZZO",1994,"M","SM"]
[1953,"FAVRETTO","GIOVANNI","ATLETICA UNION CREAZZO",1993,"M","SM"]
[1954,"FINETTO","ALFONSO","ATLETICA UNION CREAZZO",1968,"M","ABM"]
[1955,"MARAN","ALESSANDRO","ATLETICA UNION CREAZZO",1992,"M","SM"]
[1956,"MARAN","ELISABETTA","ATLETICA UNION CREAZZO",1992,"F","SF"]
[1957,"MARCHETTO","GIULIO","ATLETICA UNION CREAZZO",1995,"M","SM"]
[1958,"MAZZI","ALEX","ATLETICA UNION CREAZZO",1977,"M","AAM"]
[1959,"MELISON","DIEGO","ATLETICA UNION CREAZZO",1979,"M","AAM"]
[1960,"MICHELETTO","FABRIZIO","ATLETICA UNION CREAZZO",1972,"M","ABM"]
[1961,"NEFFAT","MARCO","ATLETICA UNION CREAZZO",1969,"M","ABM"]
[1962,"POLATO","MARTA","ATLETICA UNION CREAZZO",1982,"F","AAF"]
[1963,"ROSSETTO","ANDREA","ATLETICA UNION CREAZZO",1977,"M","AAM"]
[1964,"SARTORI","ENRICO","ATLETICA UNION CREAZZO",1971,"M","ABM"]
[1965,"SARTORI","MASSIMO","ATLETICA UNION CREAZZO",1964,"M","ABM"]
[1966,"TOMMASIN","VITTORIO","ATLETICA UNION CREAZZO",1967,"M","ABM"]
[2460,"BATTISTELLA","ARIANNA","C.S.I. TEZZE SUL BRENTA",2002,"F","CF"]
[2461,"BATTISTELLA","ANDREA","C.S.I. TEZZE SUL BRENTA",2001,"M","AM"]
[2462,"CAREGNATO","GIULIA","C.S.I. TEZZE SUL BRENTA",2001,"F","AF"]
[2463,"CAREGNATO","PAOLO","C.S.I. TEZZE SUL BRENTA",2003,"M","CM"]
[2464,"LOVECCHIO","PIO FEDERICO","C.S.I. TEZZE SUL BRENTA",2003,"M","CM"]
[2465,"MISSAGGIA","SOFIA","C.S.I. TEZZE SUL BRENTA",2003,"F","CF"]
[2466,"NEGRELLO","MATILDE","C.S.I. TEZZE SUL BRENTA",2003,"F","CF"]
[2467,"PIOTTO","NICHOLAS","C.S.I. TEZZE SUL BRENTA",2003,"M","CM"]
[2468,"REFFO","VALENTINA","C.S.I. TEZZE SUL BRENTA",2003,"F","CF"]
[2469,"RIGONI","TOMMASO","C.S.I. TEZZE SUL BRENTA",2006,"M","EM"]
[2470,"SIMONETTO","ANNA","C.S.I. TEZZE SUL BRENTA",2005,"F","RF"]
[2471,"VALLOTTO","GLORIA","C.S.I. TEZZE SUL BRENTA",1998,"F","JF"]
[2472,"VALLOTTO","RICCARDO","C.S.I. TEZZE SUL BRENTA",2004,"M","RM"]
[2473,"VIERO","VIRGINIA","C.S.I. TEZZE SUL BRENTA",2006,"F","EF"]
[2474,"ZANETTI","COSTANZA","C.S.I. TEZZE SUL BRENTA",2003,"F","CF"]
[2475,"ZANOTTO","NOEMI","C.S.I. TEZZE SUL BRENTA",2003,"F","CF"]
[2476,"CERVELLIN","STEFANO","C.S.I. TEZZE SUL BRENTA",2007,"M","EM"]
[2477,"RIGO","GIORGIA","C.S.I. TEZZE SUL BRENTA",2004,"F","RF"]
[2478,"BAGGIO","ALESSANDRO","C.S.I. TEZZE SUL BRENTA",2007,"M","EM"]
[2479,"BAGGIO","ANDREA","C.S.I. TEZZE SUL BRENTA",2000,"M","AM"]
[2480,"MARAGNO","GIULIA","C.S.I. TEZZE SUL BRENTA",2003,"F","CF"]
[2481,"BRESOLIN","DAVIDE","C.S.I. TEZZE SUL BRENTA",2001,"M","AM"]
[2482,"LAGO","ANGELICA","C.S.I. TEZZE SUL BRENTA",2003,"F","CF"]
[2483,"CAMPAGNOLO","GABRIELE","C.S.I. TEZZE SUL BRENTA",2007,"M","EM"]
[2484,"SIMONETTO","GIORGIA","C.S.I. TEZZE SUL BRENTA",2008,"F","ATL"]
[2485,"ZHOU","WEN","C.S.I. TEZZE SUL BRENTA",2002,"F","CF"]
[2491,"ALEARDI","MARTINA","ATLETICA ARZIGNANO",1991,"F","SF"]
[2492,"BELLONI","CHRISTIAN","ATLETICA ARZIGNANO",1972,"M","ABM"]
[2494,"DE GRANDIS","ANDREA","ATLETICA ARZIGNANO",1971,"M","ABM"]
[2495,"MIMMO","MICHELE","ATLETICA ARZIGNANO",1973,"M","AAM"]
[2496,"RAPUANO","GABRIELE","ATLETICA ARZIGNANO",1974,"M","AAM"]
[2497,"ZOCCA","DIEGO","ATLETICA ARZIGNANO",1961,"M","VM"]
[2498,"MINOUGOU","CHEICK H. TIDJANE","ATLETICA ARZIGNANO",1993,"M","SM"]
[2541,"BERTINAZZO","ANDREA","RISORGIVE",1968,"M","ABM"]
[2542,"BEZZERRI","LUCIANO","RISORGIVE",1956,"M","VM"]
[2684,"CAROLLO","ANTONIO","POL. DIL. MONTECCHIO PRECALCINO",1962,"M","VM"]
[2685,"COLTRO","EROS GIULIANO","POL. DIL. MONTECCHIO PRECALCINO",1956,"M","VM"]
[2686,"DAL FERRO","RENATA","POL. DIL. MONTECCHIO PRECALCINO",1965,"F","ABF"]
[2687,"PESAVENTO","SERGIO","POL. DIL. MONTECCHIO PRECALCINO",1958,"M","VM"]
[2688,"ROSSI","IVANO","POL. DIL. MONTECCHIO PRECALCINO",1960,"M","VM"]
[2689,"TESCARI","ERNESTO","POL. DIL. MONTECCHIO PRECALCINO",1960,"M","VM"]
[2690,"VEZZARO","DENIS","POL. DIL. MONTECCHIO PRECALCINO",1964,"M","ABM"]
[2691,"CALORE","GIOVANNI","POL. DIL. MONTECCHIO PRECALCINO",2008,"M","ATL"]
[2692,"CAPPELLOTTO","FILIPPO","POL. DIL. MONTECCHIO PRECALCINO",2006,"M","EM"]
[2693,"CAPPELLOTTO","FRANCESCO","POL. DIL. MONTECCHIO PRECALCINO",2003,"M","CM"]
[2694,"FRIZZARIN","FABIO","POL. DIL. MONTECCHIO PRECALCINO",2000,"M","AM"]
[2695,"GUERRERO","FRANCO HECTOR","POL. DIL. MONTECCHIO PRECALCINO",2003,"M","CM"]
[2696,"MACULAN","NOEMI","POL. DIL. MONTECCHIO PRECALCINO",2004,"F","RF"]
[2697,"MARTINI","CAMILLA","POL. DIL. MONTECCHIO PRECALCINO",2012,"F","ATL"]
[2698,"MARTINI","FEDERICO","POL. DIL. MONTECCHIO PRECALCINO",2010,"M","ATL"]
[2699,"MORO","FILIPPO","POL. DIL. MONTECCHIO PRECALCINO",1996,"M","SM"]
[2700,"MORO","TOMMASO","POL. DIL. MONTECCHIO PRECALCINO",2003,"M","CM"]
[2702,"BRAZZALE","MARIA","POL. DIL. MONTECCHIO PRECALCINO",2003,"F","CF"]
[2703,"CHEMELLO","CHIARA","POL. DIL. MONTECCHIO PRECALCINO",2006,"F","EF"]
[2704,"CHEMELLO","SILVIA","POL. DIL. MONTECCHIO PRECALCINO",2004,"F","RF"]
[2705,"COSTALUNGA","KENSY","POL. DIL. MONTECCHIO PRECALCINO",2007,"F","EF"]
[2706,"DAL FERRO","NICOLA","POL. DIL. MONTECCHIO PRECALCINO",2001,"M","AM"]
[2707,"FABRIS","ALBERTO","POL. DIL. MONTECCHIO PRECALCINO",2001,"M","AM"]
[2708,"GUGLIELMI","ELISA","POL. DIL. MONTECCHIO PRECALCINO",1991,"F","SF"]
[2709,"LAVARDA","MARIA","POL. DIL. MONTECCHIO PRECALCINO",1959,"F","VF"]
[2710,"MARAGNO","MAURIZIO","POL. DIL. MONTECCHIO PRECALCINO",1955,"M","VM"]
[2711,"MUSTAFA","KEVIN","POL. DIL. MONTECCHIO PRECALCINO",2005,"M","RM"]
[2712,"CAROLLO CANALE","FIORENZO","POL. DIL. MONTECCHIO PRECALCINO",1964,"M","ABM"]
[2713,"CECCHETTO","ADRIANO","POL. DIL. MONTECCHIO PRECALCINO",1956,"M","VM"]
[2714,"PARISE","FRANCESCO","POL. DIL. MONTECCHIO PRECALCINO",2008,"M","ATL"]
[2715,"PERNISI","PIETRO","POL. DIL. MONTECCHIO PRECALCINO",2006,"M","EM"]
[2716,"PESAVENTO","LIA","POL. DIL. MONTECCHIO PRECALCINO",1989,"F","SF"]
[2717,"PESAVENTO","LUCA","POL. DIL. MONTECCHIO PRECALCINO",2006,"M","EM"]
[2718,"PIVOTTO","RUBEN","POL. DIL. MONTECCHIO PRECALCINO",2002,"M","CM"]
[2719,"TAVELLA","GIORGIA","POL. DIL. MONTECCHIO PRECALCINO",2001,"F","AF"]
[2720,"TERZO","MATTIA","POL. DIL. MONTECCHIO PRECALCINO",2004,"M","RM"]
[2721,"TESTOLIN","ANGELA","POL. DIL. MONTECCHIO PRECALCINO",2004,"F","RF"]
[2722,"ELLERO","ALICE","POL. DIL. MONTECCHIO PRECALCINO",2006,"F","EF"]
[2723,"GONZATO","GIUSEPPE","POL. DIL. MONTECCHIO PRECALCINO",2010,"M","ATL"]
[2724,"GONZATO","MARTINO","POL. DIL. MONTECCHIO PRECALCINO",2011,"M","ATL"]
[2725,"AGARAJ","MATTIAS","POL. DIL. MONTECCHIO PRECALCINO",2006,"M","EM"]
[2726,"CELEGATO","MARCO","POL. DIL. MONTECCHIO PRECALCINO",2006,"M","EM"]
[2727,"DALLA LIBERA","ANTONIO","POL. DIL. MONTECCHIO PRECALCINO",2010,"M","ATL"]
[2728,"GALLEAZZO","MATILDE","POL. DIL. MONTECCHIO PRECALCINO",2004,"F","RF"]
[2729,"MUNARI","ANNA","POL. DIL. MONTECCHIO PRECALCINO",1963,"F","ABF"]
[2730,"PAVAN","DALILA","POL. DIL. MONTECCHIO PRECALCINO",2006,"F","EF"]
[2731,"POGIETTA","GIONNY","POL. DIL. MONTECCHIO PRECALCINO",2008,"M","ATL"]
[2732,"SCHNEIDER","LUCA","POL. DIL. MONTECCHIO PRECALCINO",2006,"M","EM"]
[2733,"MAINO","CHIARA","POL. DIL. MONTECCHIO PRECALCINO",2006,"F","EF"]
[2734,"BALLARDIN","KATIA","POL. DIL. MONTECCHIO PRECALCINO",2002,"F","CF"]
[2735,"PESAVENTO","GIOVANNI SANTE","POL. DIL. MONTECCHIO PRECALCINO",1993,"M","SM"]
[2736,"SEMILIA","SANTO","POL. DIL. MONTECCHIO PRECALCINO",1956,"M","VM"]
[2737,"BONGIOLO","RENATO","POL. DIL. MONTECCHIO PRECALCINO",1960,"M","VM"]
[2738,"DAL ZOTTO","PIETRO","POL. DIL. MONTECCHIO PRECALCINO",2006,"M","EM"]
[2739,"PINO","ALESSANDRO","ATLETICA ARZIGNANO",1993,"M","SM"]
[2740,"GAVASSO","SEBASTIANO","ATLETICA ARZIGNANO",1997,"M","SM"]
[2741,"DALLA GASSA","GIORGIA","ATLETICA ARZIGNANO",1976,"F","AAF"]
[2742,"CEDRI","ANNACHIARA","ATLETICA ARZIGNANO",2007,"F","EF"]
[2743,"DANIELI","ELISA","ATLETICA ARZIGNANO",2007,"F","EF"]
[2744,"GIORDANI","PATRIZIA","ATLETICA ARZIGNANO",2003,"F","CF"]
[2745,"SERRA","NICOLE DENISE","ATLETICA ARZIGNANO",2006,"F","EF"]
[2746,"TADIELLO","DIEGO","ATLETICA ARZIGNANO",2002,"M","CM"]
[2747,"VERZA","GIOVANNI","ATLETICA ARZIGNANO",2005,"M","RM"]
[2748,"MIMMO","GIOVANNI","ATLETICA ARZIGNANO",2008,"M","ATL"]
[2749,"RAPUANO","NICOLA","ATLETICA ARZIGNANO",2007,"M","EM"]
[2750,"ZATTERA","ANGELICA","ATLETICA ARZIGNANO",1995,"F","SF"]
[2751,"CAZZOLA","DANIELE","ATLETICA ARZIGNANO",2006,"M","EM"]
[2752,"ALBIERO","VITTORIO","ATLETICA ARZIGNANO",2001,"M","AM"]
[2753,"BALDISSEROTTO","LORENZO","ATLETICA ARZIGNANO",2007,"M","EM"]
[2754,"BALSEMIN","ENRICO","ATLETICA ARZIGNANO",2002,"M","CM"]
[2755,"BASTIANELLO","ALESSANDRO","ATLETICA ARZIGNANO",2004,"M","RM"]
[2756,"BAUCE","FILIPPO","ATLETICA ARZIGNANO",1973,"M","AAM"]
[2757,"BELTRAME","EDOARDO","ATLETICA ARZIGNANO",2003,"M","CM"]
[2758,"BEVILACQUA","ANGELA","ATLETICA ARZIGNANO",2006,"F","EF"]
[2759,"BIANCHETTI","KATRIN","ATLETICA ARZIGNANO",1999,"F","JF"]
[2760,"BORON","SILVIA","ATLETICA ARZIGNANO",1977,"F","AAF"]
[2761,"BOSCHETTI","GIULIANO","ATLETICA ARZIGNANO",1994,"M","SM"]
[2762,"BRUNELLO","ENRICO","ATLETICA ARZIGNANO",2001,"M","AM"]
[2763,"BRUNELLO","SARA","ATLETICA ARZIGNANO",2002,"F","CF"]
[2764,"BRUTTOMESSO","ANDREA","ATLETICA ARZIGNANO",1973,"M","AAM"]
[2765,"CARLOTTO","SERENA","ATLETICA ARZIGNANO",1977,"F","AAF"]
[2766,"CATTAZZO","CLAUDIO","ATLETICA ARZIGNANO",1984,"M","SM"]
[2767,"CENSI","ANNA","ATLETICA ARZIGNANO",2000,"F","AF"]
[2768,"CREMONESE","ALICE","ATLETICA ARZIGNANO",2002,"F","CF"]
[2769,"CULPO","FABIO","ATLETICA ARZIGNANO",1980,"M","AAM"]
[2770,"D'AGOSTINI","ALICE","ATLETICA ARZIGNANO",1995,"F","SF"]
[2771,"D'AGOSTINI","ADELINO","ATLETICA ARZIGNANO",1964,"M","ABM"]
[2772,"DAL CENGIO","DIEGO","ATLETICA ARZIGNANO",1977,"M","AAM"]
[2773,"DAL GRANDE","ETTORE","ATLETICA ARZIGNANO",2003,"M","CM"]
[2774,"DAL GRANDE","LISA","ATLETICA ARZIGNANO",1994,"F","SF"]
[2775,"DAL MOLIN","MARTA","ATLETICA ARZIGNANO",2003,"F","CF"]
[2776,"DAL ZOVO","DAVIDE","ATLETICA ARZIGNANO",1997,"M","SM"]
[2777,"DANDA","FRANCA","ATLETICA ARZIGNANO",1958,"F","VF"]
[2778,"DANDA","ROSSANA","ATLETICA ARZIGNANO",1977,"F","AAF"]
[2779,"DANIELI","SILVIA","ATLETICA ARZIGNANO",2003,"F","CF"]
[2780,"DANIELI","ELENA","ATLETICA ARZIGNANO",2006,"F","EF"]
[2781,"EZEOBI","MARYROSE GINIKACHUKWU","ATLETICA ARZIGNANO",2001,"F","AF"]
[2782,"FACCIN","MIRCO","ATLETICA ARZIGNANO",1964,"M","ABM"]
[2783,"FAEDO","MILENA","ATLETICA ARZIGNANO",1970,"F","ABF"]
[2784,"FARINA","CINZIA","ATLETICA ARZIGNANO",1973,"F","AAF"]
[2785,"FARINON","ANNALISA","ATLETICA ARZIGNANO",2004,"F","RF"]
[2786,"FERRARI","OTTAVIA","ATLETICA ARZIGNANO",1980,"F","AAF"]
[2787,"FERRI","MASSIMO","ATLETICA ARZIGNANO",1970,"M","ABM"]
[2788,"FONGARO","GIULIA","ATLETICA ARZIGNANO",2004,"F","RF"]
[2789,"FONGARO","GIANLUCA","ATLETICA ARZIGNANO",1975,"M","AAM"]
[2790,"FORTUNA","ANDREA","ATLETICA ARZIGNANO",1993,"M","SM"]
[2791,"FRACASSO","OLINTO","ATLETICA ARZIGNANO",1961,"M","VM"]
[2792,"FRACASSO","ROBERTO","ATLETICA ARZIGNANO",1973,"M","AAM"]
[2793,"GECCHELE","KEVIN","ATLETICA ARZIGNANO",2004,"M","RM"]
[2794,"GECCHELE","RAY","ATLETICA ARZIGNANO",2007,"M","EM"]
[2795,"GHIOTTO","ROSSELLA","ATLETICA ARZIGNANO",2002,"F","CF"]
[2796,"GIACOMAZZI","MATTIA","ATLETICA ARZIGNANO",2003,"M","CM"]
[2797,"GROPPO","GIUSEPPE","ATLETICA ARZIGNANO",1970,"M","ABM"]
[2798,"KUZMIC","JADRAN","ATLETICA ARZIGNANO",1973,"M","AAM"]
[2799,"LA VALLE","LEONARDO","ATLETICA ARZIGNANO",2001,"M","AM"]
[2800,"LA VALLE","VALENTINA","ATLETICA ARZIGNANO",2002,"F","CF"]
[2801,"MAGNABOSCO","SARA","ATLETICA ARZIGNANO",2002,"F","CF"]
[2802,"MAGNABOSCO","VITTORIO TAMITRAT","ATLETICA ARZIGNANO",2003,"M","CM"]
[2803,"MAGNAGUAGNO","GIORGIA","ATLETICA ARZIGNANO",2003,"F","CF"]
[2804,"MARZOTTO","MARCELLO","ATLETICA ARZIGNANO",1972,"M","ABM"]
[2805,"MARZOTTO","OSCAR","ATLETICA ARZIGNANO",1979,"M","AAM"]
[2806,"MARZOTTO","FABIO","ATLETICA ARZIGNANO",1969,"M","ABM"]
[2807,"MASIERO","IVANO","ATLETICA ARZIGNANO",1964,"M","ABM"]
[2808,"MASSIGNANI","ALBERTA","ATLETICA ARZIGNANO",2001,"F","AF"]
[2809,"MASTROTTO","NICOLA","ATLETICA ARZIGNANO",1986,"M","SM"]
[2810,"MENEGUZZO","GIULIO","ATLETICA ARZIGNANO",2004,"M","RM"]
[2811,"MENEGUZZO","DAMIANO","ATLETICA ARZIGNANO",2005,"M","RM"]
[2812,"MODUGNO","FRANCESCA","ATLETICA ARZIGNANO",2002,"F","CF"]
[2813,"NALESSO","MAURIZIO","ATLETICA ARZIGNANO",1971,"M","ABM"]
[2822,"BEDIN","VASCO","RISORGIVE",2005,"M","RM"]
[2823,"BELLOTTO","MASSIMO","RISORGIVE",2006,"M","EM"]
[2824,"BONAGURO","GIOELE","RISORGIVE",2004,"M","RM"]
[2825,"CAPPELLARI","GIACOMO","RISORGIVE",1995,"M","SM"]
[2826,"CATTELAN","MANUEL","RISORGIVE",1999,"M","JM"]
[2827,"CATTELAN","SOFIA","RISORGIVE",2004,"F","RF"]
[2828,"CECCHETTO","ENRICO","RISORGIVE",1996,"M","SM"]
[2829,"DAL BROLO","MARTINA","RISORGIVE",2000,"F","AF"]
[2830,"DOSSO","COSIMO","RISORGIVE",2006,"M","EM"]
[2831,"FELTRIN","CLARISSA","RISORGIVE",2004,"F","RF"]
[2832,"GENERO","CHIARA","RISORGIVE",2005,"F","RF"]
[2833,"JOVANOVIC","LUKA","RISORGIVE",2006,"M","EM"]
[2834,"MACCA'","STEFANO","RISORGIVE",2006,"M","EM"]
[2835,"MONTESANO","MONICA","RISORGIVE",2004,"F","RF"]
[2836,"MOZZO","MARTINA","RISORGIVE",1999,"F","JF"]
[2837,"PAROLIN","MIRTA","RISORGIVE",2003,"F","CF"]
[2838,"PASQUALETTO","AGNESE","RISORGIVE",2005,"F","RF"]
[2839,"PISANELLO","LORENZO","RISORGIVE",1994,"M","SM"]
[2840,"SCALCO","NIKITA","RISORGIVE",2002,"M","CM"]
[2841,"SPANEVELLO","SEBASTIANO","RISORGIVE",1996,"M","SM"]
[2842,"SPANEVELLO","ANDREA SERENA","RISORGIVE",1993,"F","SF"]
[2843,"STIVAN","ELENA","RISORGIVE",2004,"F","RF"]
[2844,"TEDESCO","DAVIDE","RISORGIVE",2003,"M","CM"]
[2845,"VASSALLO","FEDERICO","RISORGIVE",1993,"M","SM"]
[2846,"VASSALLO","MATTEO","RISORGIVE",1996,"M","SM"]
[2847,"ZAUSA","FRANCESCO","RISORGIVE",2006,"M","EM"]
[2848,"ZOCCHE","SEAN","RISORGIVE",2004,"M","RM"]
[2849,"CAODURO","LUCREZIA","RISORGIVE",2006,"F","EF"]
[2850,"FRIGO","MARGHERITA","RISORGIVE",2007,"F","EF"]
[2851,"CAPALBO","MARCO","RISORGIVE",2007,"M","EM"]
[2852,"RIZZI","ALESSANDRA","RISORGIVE",2001,"F","AF"]
[2853,"CLERI","NICCOLO'","RISORGIVE",2004,"M","RM"]
[2854,"FERRARI","FRANCESCA","RISORGIVE",2004,"F","RF"]
[2855,"BIASI","SAMUELE ANGELO","RISORGIVE",2007,"M","EM"]
[2856,"ROSSI","ELENA MARIA FRANCESCA","RISORGIVE",2007,"F","EF"]
[2857,"ALBA","MICHELA","RISORGIVE",2007,"F","EF"]
[2858,"PRIMON","GIULIA","RISORGIVE",2007,"F","EF"]
[2859,"FRASSON","SIRI","RISORGIVE",2007,"F","EF"]
[2860,"ROSSETTO","MICHELLE","RISORGIVE",2005,"F","RF"]
[2861,"BOUGRINE","LAURA","RISORGIVE",2007,"F","EF"]
[2862,"MACCA'","SARA","RISORGIVE",2007,"F","EF"]
[2863,"MIOLA","ANNA MARIA","RISORGIVE",2007,"F","EF"]
[2864,"HALILOVIC","GIORGIO","RISORGIVE",2007,"M","EM"]
[2923,"CELLI","VITTORIA","ATLETICA UNION CREAZZO",2005,"F","RF"]
[2924,"GAIANIGO","GIOIA","ATLETICA UNION CREAZZO",2008,"F","ATL"]
[2925,"PRUDENZI","ELISA","ATLETICA UNION CREAZZO",2005,"F","RF"]
[2926,"GARDIN","NOEMI","ATLETICA UNION CREAZZO",2005,"F","RF"]
[2927,"BORGA","ELISA","ATLETICA UNION CREAZZO",2005,"F","RF"]
[2928,"FAEDO","SARA","ATLETICA UNION CREAZZO",2007,"F","EF"]
[2929,"MASSIGNAN","CAMILLA","ATLETICA UNION CREAZZO",2006,"F","EF"]
[2930,"BOSCHETTI","MATTIA","ATLETICA UNION CREAZZO",2002,"M","CM"]
[2931,"PIVA","LAURA","ATLETICA UNION CREAZZO",1980,"F","AAF"]
[2932,"PALADINO","VITTORIA","ATLETICA UNION CREAZZO",2003,"F","CF"]
[2933,"BRANDELLERO","FABIO","ATLETICA UNION CREAZZO",1983,"M","SM"]
[2934,"MAZZELLA DI BOSCO","CIRO","ATLETICA UNION CREAZZO",2001,"M","AM"]
[2935,"SCOTUZZI","LEONARDO","ATLETICA UNION CREAZZO",2003,"M","CM"]
[2937,"DAMBRUOSO","BENEDETTA","ATLETICA UNION CREAZZO",2008,"F","ATL"]
[2938,"ROSSETTINI","COSTANZA LIDIA","ATLETICA UNION CREAZZO",2006,"F","EF"]
[2939,"ROSSETTINI","ALESSANDRO","ATLETICA UNION CREAZZO",2008,"M","ATL"]
[2940,"TRAVERSA","EMMA","ATLETICA UNION CREAZZO",2008,"F","ATL"]
[2941,"GARBIN","CHIARA","ATLETICA UNION CREAZZO",2008,"F","ATL"]
[2942,"ABDELLA","SARAH","ATLETICA UNION CREAZZO",2005,"F","RF"]
[2943,"ABECI","GIULIO","ATLETICA UNION CREAZZO",2002,"M","CM"]
[2944,"ALBA","SARA","ATLETICA UNION CREAZZO",2006,"F","EF"]
[2945,"ALBA","GIOVANNI","ATLETICA UNION CREAZZO",1976,"M","AAM"]
[2946,"ALBARELLO","ALBERTO","ATLETICA UNION CREAZZO",1965,"M","ABM"]
[2947,"ARPEGARO","ELIA","ATLETICA UNION CREAZZO",2004,"M","RM"]
[2948,"ARPEGARO","ANDREA","ATLETICA UNION CREAZZO",2006,"M","EM"]
[2949,"BACCARIN","FIORE","ATLETICA UNION CREAZZO",2007,"F","EF"]
[2950,"BENEDETTI","MICHELA","ATLETICA UNION CREAZZO",1973,"F","AAF"]
[2951,"BEVILACQUA","DINA","ATLETICA UNION CREAZZO",1965,"F","ABF"]
[2952,"CAMPAGNOLO","ANDREA","ATLETICA UNION CREAZZO",2004,"M","RM"]
[2953,"CAMPAGNOLO","LUCA","ATLETICA UNION CREAZZO",2001,"M","AM"]
[2954,"CANEVAROLO","PIETRO","ATLETICA UNION CREAZZO",1997,"M","SM"]
[2955,"CAPITANIO","CARLO","ATLETICA UNION CREAZZO",1985,"M","SM"]
[2956,"CAPOZZI","LAVINIA","ATLETICA UNION CREAZZO",1996,"F","SF"]
[2957,"CAPOZZI","SERGIO","ATLETICA UNION CREAZZO",1961,"M","VM"]
[2958,"CATTANI","LEILA","ATLETICA UNION CREAZZO",2001,"F","AF"]
[2959,"CATTANI","MASSIMILIANO","ATLETICA UNION CREAZZO",1970,"M","ABM"]
[2960,"CECCHINATO","MARIA","ATLETICA UNION CREAZZO",1972,"F","ABF"]
[2961,"DAL FOSSA'","FEDERICO","ATLETICA UNION CREAZZO",1999,"M","JM"]
[2962,"DAL TOSO","VERONICA","ATLETICA UNION CREAZZO",2007,"F","EF"]
[2963,"DE CAO","DILETTA","ATLETICA UNION CREAZZO",2006,"F","EF"]
[2964,"DE PERON","REBECCA","ATLETICA UNION CREAZZO",2004,"F","RF"]
[2965,"DELL'AVERSANA","SARA","ATLETICA UNION CREAZZO",2001,"F","AF"]
[2966,"DI IORIO","ANDREA","ATLETICA UNION CREAZZO",1998,"M","JM"]
[2967,"FABRIS","DAVIDE","ATLETICA UNION CREAZZO",1975,"M","AAM"]
[2968,"FACCINI","ELISA","ATLETICA UNION CREAZZO",2003,"F","CF"]
[2969,"FAGAN","GIOVANNI","ATLETICA UNION CREAZZO",2006,"M","EM"]
[2970,"FERRARIN","LUCA","ATLETICA UNION CREAZZO",2006,"M","EM"]
[2971,"FERRARIN","ELENA","ATLETICA UNION CREAZZO",2004,"F","RF"]
[2972,"FRANCESCHETTO","GIACOMO","ATLETICA UNION CREAZZO",1999,"M","JM"]
[2973,"GARBIN","ELENA","ATLETICA UNION CREAZZO",2006,"F","EF"]
[2974,"GASPARI","NADIA","ATLETICA UNION CREAZZO",1970,"F","ABF"]
[2975,"GIACHIN","ALESSANDRO","ATLETICA UNION CREAZZO",2008,"M","ATL"]
[2976,"LEGUMI","EMILIA","ATLETICA UNION CREAZZO",2007,"F","EF"]
[2977,"LIVIO","SOFIA","ATLETICA UNION CREAZZO",2008,"F","ATL"]
[2978,"MANCA","ALESSANDRO","ATLETICA UNION CREAZZO",2005,"M","RM"]
[2979,"MARAN","EDOARDO","ATLETICA UNION CREAZZO",2003,"M","CM"]
[2980,"MARANI","BEATRICE","ATLETICA UNION CREAZZO",1998,"F","JF"]
[2981,"MARCHESE","ELISABETTA","ATLETICA UNION CREAZZO",2008,"F","ATL"]
[2982,"MARTINI","NOEMI","ATLETICA UNION CREAZZO",2000,"F","AF"]
[2983,"MASSIGNAN","SIMONE","ATLETICA UNION CREAZZO",2008,"M","ATL"]
[2984,"MAZZELLA DI BOSCO","REBECCA","ATLETICA UNION CREAZZO",2007,"F","EF"]
[2985,"MORO","LUCA","ATLETICA UNION CREAZZO",2004,"M","RM"]
[2986,"NEFFAT","MATTEO","ATLETICA UNION CREAZZO",2004,"M","RM"]
[2987,"NEFFAT","DAVIDE","ATLETICA UNION CREAZZO",2000,"M","AM"]
[2988,"NERI","CHRISTOPHER","ATLETICA UNION CREAZZO",2000,"M","AM"]
[2989,"NICOLETTI","GAIA","ATLETICA UNION CREAZZO",2004,"F","RF"]
[2990,"PARLATO","LETIZIA","ATLETICA UNION CREAZZO",2002,"F","CF"]
[2991,"PIGATTO","MARIAROSA","ATLETICA UNION CREAZZO",1968,"F","ABF"]
[2992,"PRETTO","PIETRO","ATLETICA UNION CREAZZO",2003,"M","CM"]
[2993,"RETTORE","PIETRO","ATLETICA UNION CREAZZO",2003,"M","CM"]
[2994,"SARTORI","MIRCO","ATLETICA UNION CREAZZO",1996,"M","SM"]
[2995,"SARTORI","MICHELE","ATLETICA UNION CREAZZO",2001,"M","AM"]
[2996,"SARTORI","LAURA","ATLETICA UNION CREAZZO",2004,"F","RF"]
[2997,"SEGATO","GIOVANNI","ATLETICA UNION CREAZZO",1997,"M","SM"]
[2998,"SEGATO","SEVERINO","ATLETICA UNION CREAZZO",1966,"M","ABM"]
[2999,"TODESCO","SAMUELE","ATLETICA UNION CREAZZO",2008,"M","ATL"]
[3000,"TOMMASIN","FILIPPO","ATLETICA UNION CREAZZO",1996,"M","SM"]
[3001,"TRENTIN","DAVIDE","ATLETICA UNION CREAZZO",2002,"M","CM"]
[3002,"VERZA","ALBERTO","ATLETICA UNION CREAZZO",2003,"M","CM"]
[3003,"VITALE","SAMUELE","ATLETICA UNION CREAZZO",2004,"M","RM"]
[3004,"ZAMUNARO","NICOLA","ATLETICA UNION CREAZZO",1997,"M","SM"]
[3005,"ZAMUNARO","VITO","ATLETICA UNION CREAZZO",1966,"M","ABM"]
[3006,"ZANETTIN","EDDY","ATLETICA UNION CREAZZO",1973,"M","AAM"]
[3007,"ZANIN","MARCO","ATLETICA UNION CREAZZO",1969,"M","ABM"]
[3008,"ZURLO","NOEMI","ATLETICA UNION CREAZZO",2001,"F","AF"]
[3009,"ZURLO","ASIA","ATLETICA UNION CREAZZO",2007,"F","EF"]
[3010,"PERINTI","SILVIA","ATLETICA UNION CREAZZO",1977,"F","AAF"]
[3011,"BOTTEGA","EDOARDO","ATLETICA UNION CREAZZO",2004,"M","RM"]
[3012,"BRANDELLERO","GIOSUÔ","ATLETICA UNION CREAZZO",2003,"M","CM"]
[3013,"CERRETTI","SERGIO","ATLETICA UNION CREAZZO",1971,"M","ABM"]
[3015,"COSARO","NICOLA","ATLETICA UNION CREAZZO",1987,"M","SM"]
[3016,"FRANCIS","ANITA","ATLETICA UNION CREAZZO",2002,"F","CF"]
[3017,"LONGARETTI","MATTIA","ATLETICA UNION CREAZZO",2003,"M","CM"]
[3018,"OLIVIERO","ANDREA","ATLETICA UNION CREAZZO",1973,"M","AAM"]
[3019,"PALMA","FRANCESCO","ATLETICA UNION CREAZZO",1961,"M","VM"]
[3020,"PALMA","LUCREZIA","ATLETICA UNION CREAZZO",1999,"F","JF"]
[3021,"PELOSO","FEDERICA MARIA","ATLETICA UNION CREAZZO",2004,"F","RF"]
[3022,"PELOSO","ANDREA","ATLETICA UNION CREAZZO",1973,"M","AAM"]
[3024,"VENCATO","LARA","ATLETICA UNION CREAZZO",1971,"F","ABF"]
[3025,"ZERBINATI","SARA","ATLETICA UNION CREAZZO",1978,"F","AAF"]
[3026,"DONADELLO","CHIARA","ATLETICA UNION CREAZZO",1996,"F","SF"]
[3027,"SANTORINI","ELENA","ATLETICA UNION CREAZZO",2004,"F","RF"]
[3028,"AGU","CHINEDU","ATLETICA UNION CREAZZO",2001,"M","AM"]
[3029,"BUCCHERI","ANNA","ATLETICA UNION CREAZZO",2003,"F","CF"]
[3030,"CABEZZONI","LAURA","ATLETICA UNION CREAZZO",1971,"F","ABF"]
[3031,"CARLESSO","FRANCESCA","ATLETICA UNION CREAZZO",2006,"F","EF"]
[3032,"CASTELLO","BEATRICE","ATLETICA UNION CREAZZO",2003,"F","CF"]
[3033,"DICKENSON","ERICA RAE","ATLETICA UNION CREAZZO",2008,"F","ATL"]
[3034,"DONADELLO","MATTEO","ATLETICA UNION CREAZZO",2000,"M","AM"]
[3035,"FIORENTIN","ASIA","ATLETICA UNION CREAZZO",2005,"F","RF"]
[3036,"MARCHETTO","GIOVANNI","ATLETICA UNION CREAZZO",2007,"M","EM"]
[3037,"PAGANIN","MARCO","ATLETICA UNION CREAZZO",2010,"M","ATL"]
[3038,"PALA","GINEVRA","ATLETICA UNION CREAZZO",2008,"F","ATL"]
[3039,"POLATO","ELENA","ATLETICA UNION CREAZZO",1974,"F","AAF"]
[3040,"POVOLO","NOEMI","ATLETICA UNION CREAZZO",2003,"F","CF"]
[3041,"RINALDI","ELISABETTA","ATLETICA UNION CREAZZO",2008,"F","ATL"]
[3042,"RINALDI","GIULIA","ATLETICA UNION CREAZZO",2003,"F","CF"]
[3043,"ROZZI","FEDERICO","ATLETICA UNION CREAZZO",2003,"M","CM"]
[3044,"TREVISAN","CRISTIAN","ATLETICA UNION CREAZZO",2007,"M","EM"]
[3045,"ZAMUNARO","ANDREA","ATLETICA UNION CREAZZO",2000,"M","AM"]
[3046,"ZONTA","AURORA","ATLETICA UNION CREAZZO",2008,"F","ATL"]
[3047,"CARLESSO","MATTEO","ATLETICA UNION CREAZZO",2004,"M","RM"]
[3048,"PRETTO","CELESTE NIKE","ATLETICA UNION CREAZZO",2008,"F","ATL"]
[3049,"CELSAN","CRISTINA","ATLETICA UNION CREAZZO",1968,"F","ABF"]
[3050,"GARBIN","SARA","ATLETICA UNION CREAZZO",1997,"F","SF"]
[3051,"DE CAO","FRANCESCO","ATLETICA UNION CREAZZO",2006,"M","EM"]
[3052,"PASINI","FRANCESCA","ATLETICA UNION CREAZZO",2004,"F","RF"]
[3053,"VENDRAMIN","ALICE","RISORGIVE",2003,"F","CF"]
[3121,"LOVATO","LEONARDO","ATLETICA UNION CREAZZO",2004,"M","RM"]
[3122,"GRIGNOLO","ALESSIA","ATLETICA UNION CREAZZO",2000,"F","AF"]
[3123,"URBANI","CATERINA","ATLETICA UNION CREAZZO",2000,"F","AF"]
[3124,"FERRARIN","ALESSANDRO","ATLETICA UNION CREAZZO",1978,"M","AAM"]
[3125,"MAGRO","JESSICA","ATLETICA ARZIGNANO",1995,"F","SF"]
[3126,"NSEBI","NICOLE","ATLETICA ARZIGNANO",2003,"F","CF"]
[3127,"PANAJA","SALVATORE","ATLETICA ARZIGNANO",1971,"M","ABM"]
[3128,"PASCALI","ANNA","ATLETICA ARZIGNANO",1974,"F","AAF"]
[3129,"PASQUALE","MARCO","ATLETICA ARZIGNANO",2003,"M","CM"]
[3130,"PELLIZZARI","FRANCESCA","ATLETICA ARZIGNANO",1980,"F","AAF"]
[3131,"PIERINI","GIOVANNI","ATLETICA ARZIGNANO",1962,"M","VM"]
[3132,"PIEROPAN","MICHELA","ATLETICA ARZIGNANO",2001,"F","AF"]
[3133,"PLATINI","ALESSANDRO","ATLETICA ARZIGNANO",1969,"M","ABM"]
[3134,"PRETO MARTINI","ANGELICA","ATLETICA ARZIGNANO",2004,"F","RF"]
[3135,"PRETO MARTINI","FRANCESCA","ATLETICA ARZIGNANO",2007,"F","EF"]
[3136,"QUARTEY KOFFI","SHADRACK","ATLETICA ARZIGNANO",1993,"M","SM"]
[3137,"REGINATO","VALENTINA","ATLETICA ARZIGNANO",1994,"F","SF"]
[3138,"RENIERO","VITTORIA","ATLETICA ARZIGNANO",2006,"F","EF"]
[3139,"REPELE","GIOIA","ATLETICA ARZIGNANO",2003,"F","CF"]
[3140,"RIZZO","ROSARIA","ATLETICA ARZIGNANO",1970,"F","ABF"]
[3141,"ROSSETTINI","GUIDO","ATLETICA ARZIGNANO",1970,"M","ABM"]
[3142,"SANTAGIULIANA","GIULIA","ATLETICA ARZIGNANO",1998,"F","JF"]
[3143,"SAVEGNAGO","LETIZIA","ATLETICA ARZIGNANO",2004,"F","RF"]
[3144,"SAVOIANI","LUCREZIA","ATLETICA ARZIGNANO",2003,"F","CF"]
[3145,"SAVOIANI","EDOARDO","ATLETICA ARZIGNANO",2005,"M","RM"]
[3146,"SIGNORATO","MARTA","ATLETICA ARZIGNANO",2002,"F","CF"]
[3147,"TADIELLO","LUCA","ATLETICA ARZIGNANO",1998,"M","JM"]
[3148,"TAGLIENTE","LEONARDO","ATLETICA ARZIGNANO",2002,"M","CM"]
[3149,"TIBALDO","LUISA","ATLETICA ARZIGNANO",1966,"F","ABF"]
[3150,"TODOSIJEVIC","MILA","ATLETICA ARZIGNANO",1975,"F","AAF"]
[3151,"TOLIO","MATTIA","ATLETICA ARZIGNANO",2004,"M","RM"]
[3152,"TOMMASI","FEDERICA","ATLETICA ARZIGNANO",1984,"F","SF"]
[3153,"TOSOLINI","LAURA","ATLETICA ARZIGNANO",1963,"F","ABF"]
[3154,"TOZZO","DAVIDE","ATLETICA ARZIGNANO",2005,"M","RM"]
[3155,"TOZZO","ENRICO","ATLETICA ARZIGNANO",2003,"M","CM"]
[3156,"TREVISAN","FRANCESCO","ATLETICA ARZIGNANO",2002,"M","CM"]
[3157,"VALLARSA","GIAMPAOLO","ATLETICA ARZIGNANO",1969,"M","ABM"]
[3158,"VALLARSA","VIOLA","ATLETICA ARZIGNANO",2002,"F","CF"]
[3159,"VERZA","BARBARA","ATLETICA ARZIGNANO",1971,"F","ABF"]
[3160,"VIGOLO","GAETANO ANGELO","ATLETICA ARZIGNANO",1971,"M","ABM"]
[3161,"ZAMPIVA","FRANCESCA","ATLETICA ARZIGNANO",1972,"F","ABF"]
[3162,"ZANNI","DAVIDE","ATLETICA ARZIGNANO",1969,"M","ABM"]
[3163,"ZOIA","SIMONE","ATLETICA ARZIGNANO",1974,"M","AAM"]
[3164,"ZORZANELLO","CARLA","ATLETICA ARZIGNANO",1962,"F","VF"]
[3212,"GHEDIN","SABINA","AMICI DELL'ATLETICA VICENZA",1966,"F","ABF"]
[3213,"GIROTTO","GIUSEPPE","AMICI DELL'ATLETICA VICENZA",1962,"M","VM"]
[3215,"NERI","ENRICO","AMICI DELL'ATLETICA VICENZA",1973,"M","AAM"]
[3217,"RIGODANZO","PAOLO","AMICI DELL'ATLETICA VICENZA",1960,"M","VM"]
[3237,"BRUNELLO","CESARE","ATLETICA ARZIGNANO",2006,"M","EM"]
[3238,"BAUCE","MATTEO","ATLETICA ARZIGNANO",1999,"M","JM"]
[3239,"BAUCE","ARIANNA","ATLETICA ARZIGNANO",2003,"F","CF"]
[3240,"DAL GRANDE","MICHELE","ATLETICA ARZIGNANO",1994,"M","SM"]
[3241,"COMBERLATO","NATALINA","POL. DIL. MONTECCHIO PRECALCINO",1961,"F","VF"]
[3242,"EL HACHIMI","AIMAN","POL. DIL. MONTECCHIO PRECALCINO",2007,"M","EM"]
[3243,"MAISTRELLO","ROBERTO","POL. DIL. MONTECCHIO PRECALCINO",1961,"M","VM"]
[3244,"MUNARI","DOMENICO","POL. DIL. MONTECCHIO PRECALCINO",1966,"M","ABM"]
[3245,"TESCARI","FABIO","POL. DIL. MONTECCHIO PRECALCINO",1992,"M","SM"]
[3246,"ZUCCHI","GIOELE","POL. DIL. MONTECCHIO PRECALCINO",2002,"M","CM"]
[3247,"ABIBA","AMAL","POL. DIL. MONTECCHIO PRECALCINO",2001,"F","AF"]
[3248,"KASTANI","TAHA","POL. DIL. MONTECCHIO PRECALCINO",2009,"M","ATL"]
[3249,"BILLO","VALERIA","G.S. LEONICENA",1985,"F","SF"]
[3250,"CREMONESE","DANIELA","G.S. LEONICENA",1962,"F","VF"]
[3251,"ERTANI","LAURA","G.S. LEONICENA",1968,"F","ABF"]
[3252,"FIORASO","ROBERTO","G.S. LEONICENA",1949,"M","VM"]
[3255,"MASETTO","GIOVANNI","G.S. LEONICENA",1944,"M","VM"]
[3256,"MIZZON","ALESSANDRO","G.S. LEONICENA",1991,"M","SM"]
[3257,"POZZAN","SILVANO","G.S. LEONICENA",1959,"M","VM"]
[3259,"ZUSTOVI","RICCARDO","G.S. LEONICENA",1996,"M","SM"]
[3260,"BAROZZI","FRANCESCO","G.S. LEONICENA",2004,"M","RM"]
[3261,"BAROZZI","GLORIA","G.S. LEONICENA",2002,"F","CF"]
[3262,"BENETTI","SOFIA","G.S. LEONICENA",2006,"F","EF"]
[3263,"BERTINI","EMI","G.S. LEONICENA",2003,"F","CF"]
[3264,"CAMARA","KADIATOU","G.S. LEONICENA",2006,"F","EF"]
[3265,"CECCHETTO","GIOVANNI","G.S. LEONICENA",1995,"M","SM"]
[3266,"CONTRO","FILIPPO LEOPOLDO","G.S. LEONICENA",2004,"M","RM"]
[3267,"CUOGHI","EDOARDO","G.S. LEONICENA",2004,"M","RM"]
[3268,"DAL BEN","DAMIANO","G.S. LEONICENA",2004,"M","RM"]
[3269,"DALLA BONA","ALESSANDRO","G.S. LEONICENA",1975,"M","AAM"]
[3270,"DALLA BONA","SAMUELE","G.S. LEONICENA",2005,"M","RM"]
[3271,"DALLA BONA","SARA","G.S. LEONICENA",2006,"F","EF"]
[3272,"FOLETTO","LEDA","G.S. LEONICENA",2005,"F","RF"]
[3273,"MAGARAGGIA","FRANCESCO","G.S. LEONICENA",2002,"M","CM"]
[3274,"MARCOLIN","MESKEREM","G.S. LEONICENA",2000,"F","AF"]
[3275,"MILANI","SOFIA","G.S. LEONICENA",2006,"F","EF"]
[3276,"NICOLATO","ANDREA","G.S. LEONICENA",2004,"M","RM"]
[3277,"PISTILLO","MARIA ALEJANDRA","G.S. LEONICENA",1996,"F","SF"]
[3278,"RAMANZIN","LUDOVICA","G.S. LEONICENA",1999,"F","JF"]
[3279,"SACKO","JENEBA","G.S. LEONICENA",2006,"F","EF"]
[3280,"SARTORI","GIORGIO","G.S. LEONICENA",2002,"M","CM"]
[3281,"SARTORI","JACOPO","G.S. LEONICENA",2006,"M","EM"]
[3282,"SCAVAZZA","CHIARA","G.S. LEONICENA",2004,"F","RF"]
[3283,"SINGH","ISHPREET","G.S. LEONICENA",2004,"M","RM"]
[3284,"ZUGLIANI","ANDREA","G.S. LEONICENA",1970,"M","ABM"]
[3285,"ZUGLIANI","EMMA","G.S. LEONICENA",2004,"F","RF"]
[3286,"ZUGLIANI","ROBERTO","G.S. LEONICENA",1969,"M","ABM"]
[3287,"SANDRI","RICCARDO","G.S. LEONICENA",2004,"M","RM"]
[3288,"BATTOCCHIA","ASIA ESPERANZA","G.S. LEONICENA",2007,"F","EF"]
[3289,"BONANTINI","RICCARDO","G.S. LEONICENA",2004,"M","RM"]
[3290,"CASTEGNARO","LUCA","G.S. LEONICENA",2006,"M","EM"]
[3291,"D'ALESSANDRO","BENEDETTA","G.S. LEONICENA",2005,"F","RF"]
[3292,"FATTORELLO","NICHOLAS","G.S. LEONICENA",2006,"M","EM"]
[3293,"FIORIO","CHIARA","G.S. LEONICENA",2000,"F","AF"]
[3294,"FLORIANI","LEONARDO","G.S. LEONICENA",2004,"M","RM"]
[3295,"GARON","ANGELA","G.S. LEONICENA",2000,"F","AF"]
[3296,"GUSELLA","NOEMI","G.S. LEONICENA",2004,"F","RF"]
[3297,"MASTROTTO","DIEGO","G.S. LEONICENA",2005,"M","RM"]
[3298,"MAZZUCATO","MARCO","G.S. LEONICENA",2004,"M","RM"]
[3299,"OUATTARA","RAMATOU","G.S. LEONICENA",2003,"F","CF"]
[3300,"PICCOLI","FILIPPO","G.S. LEONICENA",2005,"M","RM"]
[3301,"TEBALDI","LUDOVICA","G.S. LEONICENA",2007,"F","EF"]
[3302,"ZONATO","ISAIA","G.S. LEONICENA",2007,"M","EM"]
[3332,"BARBIERI","MANUEL","POLISPORTIVA DUEVILLE",1979,"M","AAM"]
[3333,"BELOTTI","MASSIMO","POLISPORTIVA DUEVILLE",1965,"M","ABM"]
[3334,"FACCIN","GIANNI","POLISPORTIVA DUEVILLE",1964,"M","ABM"]
[3335,"FONTANA","FERDINANDO","POLISPORTIVA DUEVILLE",1959,"M","VM"]
[3336,"GONELLA","CLAUDIA","POLISPORTIVA DUEVILLE",1966,"F","ABF"]
[3337,"TALLI","MIRCO","POLISPORTIVA DUEVILLE",1966,"M","ABM"]
[3338,"TESSARO","GIULIO","POLISPORTIVA DUEVILLE",1993,"M","SM"]
[3339,"ZORZO","DAVIDE","POLISPORTIVA DUEVILLE",1970,"M","ABM"]
[3396,"MUTTERLE","PAOLO","ATLETICA CALDOGNO '93",1981,"M","AAM"]
[3397,"BITTARELLO","MICHELE","ATLETICA CALDOGNO '93",1993,"M","SM"]
[3398,"FRANCO","MICHELE","ATLETICA CALDOGNO '93",1980,"M","AAM"]
[3399,"BERTIN","MORENO","ATLETICA CALDOGNO '93",1960,"M","VM"]
[3400,"BIGARELLA","MARIANO","ATLETICA CALDOGNO '93",1981,"M","AAM"]
[3401,"DAL MONICO","MARCO","ATLETICA CALDOGNO '93",1986,"M","SM"]
[3402,"BORTOLON","LUCIANO","ATLETICA CALDOGNO '93",1975,"M","AAM"]
[3403,"GAMBA","ANDREA FORTUNATO ISIDORO","ATLETICA CALDOGNO '93",1988,"M","SM"]
[3415,"RAMPAZZO","LUCA","ATLETICA UNION CREAZZO",1995,"M","SM"]
[3416,"TERRIN","MARIA NADIA","ATLETICA UNION CREAZZO",1961,"F","VF"]
[3417,"TREVISIOL","RICCARDO","ATLETICA UNION CREAZZO",2000,"M","AM"]
[3418,"PERETTI","ANNA","ATLETICA UNION CREAZZO",1986,"F","SF"]
[3419,"TOTH","RICCARDO","ATLETICA UNION CREAZZO",1999,"M","JM"]
[3420,"CELSAN","DENISE","ATLETICA UNION CREAZZO",2001,"F","AF"]
[3421,"FABRIS","MONICA","ATLETICA UNION CREAZZO",1963,"F","ABF"]
[3422,"MARCHESE","MARGHERITA","ATLETICA UNION CREAZZO",2010,"F","ATL"]
[3423,"OLIVIERO","NOEMI","ATLETICA UNION CREAZZO",2010,"F","ATL"]
[3424,"OLIVIERO","ADELE","ATLETICA UNION CREAZZO",2009,"F","ATL"]
[3425,"ZAMPIVA","ISABELLA","ATLETICA UNION CREAZZO",2003,"F","CF"]
[3426,"GHEZZO","REBECCA","ATLETICA UNION CREAZZO",2003,"F","CF"]
[3427,"MARCHIORO","LEONARDO","RISORGIVE",2003,"M","CM"]
[3428,"STELLA","ZOE","RISORGIVE",2005,"F","RF"]
[3429,"MOTTERLE","DAVIDE","RISORGIVE",2005,"M","RM"]
[3454,"AMADORI","RICCARDO","G.S. VICENZA EST",1954,"M","VM"]
[3455,"CERIN","LUIGI","G.S. VICENZA EST",1966,"M","ABM"]
[3456,"MASTELLA","ENRICO","G.S. VICENZA EST",1957,"M","VM"]
[3458,"ZOCCANTE","LORENZO","G.S. VICENZA EST",1954,"M","VM"]
[3459,"CAPITANIO","NICOLE","ATLETICA UNION CREAZZO",2006,"F","EF"]
[3460,"CAPITANIO","ANNIE","ATLETICA UNION CREAZZO",2003,"F","CF"]
[3461,"ZANON","LUCA","ATLETICA UNION CREAZZO",1969,"M","ABM"]
[3462,"ZERBINATI","MICHELA","ATLETICA UNION CREAZZO",1973,"F","AAF"]
[3463,"MAGRIN","ELEONORA","ATLETICA UNION CREAZZO",1997,"F","SF"]
[3464,"MEGGIOLAN","AURORA","ATLETICA UNION CREAZZO",2002,"F","CF"]
[3465,"RANIERO","MARCO","ATLETICA UNION CREAZZO",1984,"M","SM"]
[3466,"DONADELLO","VITTORIA","ATLETICA UNION CREAZZO",2003,"F","CF"]
[3467,"CRACCO","FRANCESCA","ATLETICA UNION CREAZZO",2000,"F","AF"]
[3468,"BORON","NICOLã","ATLETICA UNION CREAZZO",2003,"M","CM"]
[3469,"CERON","SILVIA","ATLETICA UNION CREAZZO",1998,"F","JF"]
[3472,"MADDALENA","RENATO","POL. DIL. MONTECCHIO PRECALCINO",1966,"M","ABM"]
[3473,"ZENARI","GIUSEPPE","POL. DIL. MONTECCHIO PRECALCINO",1958,"M","VM"]
[3477,"BERTOLDO","MICHELE","U.S. SUMMANO",2001,"M","AM"]
[3478,"BRAZZALE","ENRICO","U.S. SUMMANO",1995,"M","SM"]
[3479,"BRUNELLO","MONICA","U.S. SUMMANO",1969,"F","ABF"]
[3480,"BUSIN","RICCARDO","U.S. SUMMANO",1970,"M","ABM"]
[3481,"CARLASSARE","TERESA","U.S. SUMMANO",2001,"F","AF"]
[3482,"CARTA","ALICE","U.S. SUMMANO",2002,"F","CF"]
[3483,"POLETTI","TERESA","U.S. SUMMANO",2004,"F","RF"]
[3484,"POLETTI","ANNA","U.S. SUMMANO",1999,"F","JF"]
[3485,"POLETTI","ANDREA","U.S. SUMMANO",1967,"M","ABM"]
[3486,"RONZANI","SOFIA","U.S. SUMMANO",2003,"F","CF"]
[3487,"ROSSI","ELISABETTA","U.S. SUMMANO",1988,"F","SF"]
[3488,"ZIRONDA","ANDREA","U.S. SUMMANO",1984,"M","SM"]
[3489,"BERNARDI","MATTEO","U.S. SUMMANO",2006,"M","EM"]
[3491,"LIEVORE","GIADA","U.S. SUMMANO",1997,"F","SF"]
[3492,"NARDI","ISHITA","U.S. SUMMANO",2003,"F","CF"]
[3493,"REMOR","SILVIA","U.S. SUMMANO",2003,"F","CF"]
[3494,"SANDONA'","LUCA","U.S. SUMMANO",1987,"M","SM"]
[3495,"ANTONIAZZI","STEFANO","A.A. ATLETICA MALO",1970,"M","ABM"]
[3496,"BORTOLOTTO","PAOLO","A.A. ATLETICA MALO",1966,"M","ABM"]
[3497,"CAMPESE","ANNA","A.A. ATLETICA MALO",1962,"F","VF"]
[3498,"CASTAGNA","ALFONSO","A.A. ATLETICA MALO",1962,"M","VM"]
[3499,"CAZZOLA","GILIO","A.A. ATLETICA MALO",1946,"M","VM"]
[3500,"CENZATO","ROBERTO","A.A. ATLETICA MALO",1970,"M","ABM"]
[3501,"CERVO","ROBERTO","A.A. ATLETICA MALO",1968,"M","ABM"]
[3502,"DAL SANTO","ALBERTO","A.A. ATLETICA MALO",1969,"M","ABM"]
[3503,"FILIPPI FARMAR","ANTONIO","A.A. ATLETICA MALO",1943,"M","VM"]
[3504,"FORTUNA","DAMIANO","A.A. ATLETICA MALO",1970,"M","ABM"]
[3505,"GOLO","PAOLO","A.A. ATLETICA MALO",1967,"M","ABM"]
[3506,"ROMAGNA","FLAVIA VITTORIA","A.A. ATLETICA MALO",1967,"F","ABF"]
[3507,"RONCAGLIA","SABRINA","A.A. ATLETICA MALO",1974,"F","AAF"]
[3508,"SCOLARO","DARIO","A.A. ATLETICA MALO",1965,"M","ABM"]
[3509,"TERZO","ALESSIA","A.A. ATLETICA MALO",1974,"F","AAF"]
[3510,"ZANOVELLO","CLAUDIO","A.A. ATLETICA MALO",1966,"M","ABM"]
[3511,"ANZOLIN","ARMANDO","A.A. ATLETICA MALO",1964,"M","ABM"]
[3512,"BALASSO","FEDERICO","A.A. ATLETICA MALO",1977,"M","AAM"]
[3513,"BERLATO","FILIPPO","A.A. ATLETICA MALO",1984,"M","SM"]
[3514,"BERTO","MARCO","A.A. ATLETICA MALO",1973,"M","AAM"]
[3515,"BERTOLDO","FABIO","A.A. ATLETICA MALO",1976,"M","AAM"]
[3516,"BERTOLDO","MAURO","A.A. ATLETICA MALO",1980,"M","AAM"]
[3517,"BONATO","CLAUDIO","A.A. ATLETICA MALO",1964,"M","ABM"]
[3518,"BORTOLOTTO","STEFANO","A.A. ATLETICA MALO",1965,"M","ABM"]
[3519,"CARBONARA","GIANNI","A.A. ATLETICA MALO",1970,"M","ABM"]
[3520,"CATTELAN","FRANCO","A.A. ATLETICA MALO",1959,"M","VM"]
[3521,"CATTELAN","MATTEO","A.A. ATLETICA MALO",1984,"M","SM"]
[3522,"CAZZOLA","ENRICO","A.A. ATLETICA MALO",1949,"M","VM"]
[3523,"CAZZOLA","SIMONE","A.A. ATLETICA MALO",1972,"M","ABM"]
[3524,"CORINI","DAVIDE","A.A. ATLETICA MALO",2000,"M","AM"]
[3525,"DAGLI ORTI","MGRAZIA","A.A. ATLETICA MALO",1970,"F","ABF"]
[3526,"DAL PERO","ANDREA","A.A. ATLETICA MALO",1983,"M","SM"]
[3527,"DAL SANTO","MARIA CRISTINA","A.A. ATLETICA MALO",1955,"F","VF"]
[3528,"DALLE MOLLE","GIOVANNI","A.A. ATLETICA MALO",1963,"M","ABM"]
[3529,"DE MARCHI","MARIO","A.A. ATLETICA MALO",1955,"M","VM"]
[3530,"DE TOMASI","SARA CATERINA","A.A. ATLETICA MALO",1981,"F","AAF"]
[3531,"DE TONI","LUCA","A.A. ATLETICA MALO",1976,"M","AAM"]
[3532,"ELVIERI","MIRCO","A.A. ATLETICA MALO",1967,"M","ABM"]
[3533,"FIORETTO","ANTONELLA","A.A. ATLETICA MALO",1974,"F","AAF"]
[3534,"FOCHESATO","MARCO","A.A. ATLETICA MALO",1967,"M","ABM"]
[3535,"FOCHESATO","SONIA","A.A. ATLETICA MALO",1958,"F","VF"]
[3536,"FONTANA","DAVIDE","A.A. ATLETICA MALO",1990,"F","SF"]
[3537,"GIROTTO","MANUEL","A.A. ATLETICA MALO",1972,"M","ABM"]
[3538,"GRIGOLETTO","EMANUELE","A.A. ATLETICA MALO",1963,"M","ABM"]
[3539,"LEZZI","ANDREA","A.A. ATLETICA MALO",1977,"M","AAM"]
[3540,"LORENZIN","MASSIMO","A.A. ATLETICA MALO",1971,"M","ABM"]
[3541,"MANEA","SIMONE","A.A. ATLETICA MALO",1970,"M","ABM"]
[3542,"MARANGONI","ANDREA","A.A. ATLETICA MALO",1983,"M","SM"]
[3543,"MENEGUZZO","CARLO","A.A. ATLETICA MALO",1975,"M","AAM"]
[3544,"MORANDIN","GIUSEPPE","A.A. ATLETICA MALO",1949,"M","VM"]
[3545,"PEGORARO","ROBERTO","A.A. ATLETICA MALO",1980,"M","AAM"]
[3546,"PETTINA'","MANUEL","A.A. ATLETICA MALO",1997,"M","SM"]
[3547,"PIETRIBIASI","GABRIELE","A.A. ATLETICA MALO",1970,"M","ABM"]
[3548,"PIETROBELLI","MIRCO","A.A. ATLETICA MALO",1962,"M","VM"]
[3549,"PIVA","IDA MARIA","A.A. ATLETICA MALO",1952,"F","VF"]
[3550,"PORRA","DANIELE","A.A. ATLETICA MALO",1994,"M","SM"]
[3551,"PORRA","FABIO","A.A. ATLETICA MALO",1963,"M","ABM"]
[3552,"POZZACCHIO","LUCA","A.A. ATLETICA MALO",1974,"M","AAM"]
[3553,"POZZER","GIOVANNI LUIGI","A.A. ATLETICA MALO",1961,"M","VM"]
[3554,"RANDON","ELIO CATERINO","A.A. ATLETICA MALO",1951,"M","VM"]
[3555,"REGAZZINI","MICHELE","A.A. ATLETICA MALO",1991,"M","SM"]
[3556,"RIGONI","MARIANNA","A.A. ATLETICA MALO",1980,"F","AAF"]
[3557,"RIGONI","SILVANO","A.A. ATLETICA MALO",1954,"M","VM"]
[3558,"ROMAN","STEFANO","A.A. ATLETICA MALO",1961,"M","VM"]
[3559,"SANDRI","MICHELE","A.A. ATLETICA MALO",1966,"M","ABM"]
[3560,"SARTORE","FLAVIO","A.A. ATLETICA MALO",1972,"M","ABM"]
[3561,"SEGALLA","BORTOLO LUIGI","A.A. ATLETICA MALO",1962,"M","VM"]
[3562,"SINGH","GURPREET","A.A. ATLETICA MALO",2000,"M","AM"]
[3563,"SINGH","VISHAVJEET","A.A. ATLETICA MALO",2001,"M","AM"]
[3564,"THIENE","NICOLA","A.A. ATLETICA MALO",1977,"M","AAM"]
[3565,"TONIATO","NEREO","A.A. ATLETICA MALO",1964,"M","ABM"]
[3566,"TRIBBIA","FRANCO","A.A. ATLETICA MALO",1963,"M","ABM"]
[3567,"ZOPPELLO","MONICA","A.A. ATLETICA MALO",1976,"F","AAF"]
[3568,"ZORDAN","DIEGO","A.A. ATLETICA MALO",1972,"M","ABM"]
[3569,"ZUCCATO","DIEGO","A.A. ATLETICA MALO",1979,"M","AAM"]
[3570,"ZUCCATO","ROBERTA","A.A. ATLETICA MALO",1977,"F","AAF"]
[3571,"BERLATO","CAMILLA","A.A. ATLETICA MALO",2003,"F","CF"]
[3572,"CROSARA","IVAN","A.A. ATLETICA MALO",1978,"M","AAM"]
[3573,"DAL ZOTTO","CHIARA","A.A. ATLETICA MALO",1973,"F","AAF"]
[3574,"DAOUDA","KOUGALE","A.A. ATLETICA MALO",1994,"M","SM"]
[3575,"POSCOLIERO","GIO BATTA","A.A. ATLETICA MALO",1974,"M","AAM"]
[3576,"TERZO","MORENO","A.A. ATLETICA MALO",1960,"M","VM"]
[3577,"ZAUPA","DIEGO","A.A. ATLETICA MALO",1983,"M","SM"]
[3583,"BETTINI","ALESSANDRO","VALLI DEL PASUBIO",2000,"M","AM"]
[3584,"CAROLLO","NICOLA","VALLI DEL PASUBIO",2000,"M","AM"]
[3585,"CENCHERLE","GIULIA","VALLI DEL PASUBIO",1999,"F","JF"]
[3586,"FONTANA","URBANO","VALLI DEL PASUBIO",1959,"M","VM"]
[3587,"GUERRA","ALEX","VALLI DEL PASUBIO",2004,"M","RM"]
[3588,"GUERRA","MASSIMO","VALLI DEL PASUBIO",1998,"M","JM"]
[3589,"PIAZZA","JACOPO","VALLI DEL PASUBIO",1999,"M","JM"]
[3590,"PIAZZA","MAURA","VALLI DEL PASUBIO",2001,"F","AF"]
[3591,"PISARI","VLAD","VALLI DEL PASUBIO",1998,"M","JM"]
[3592,"PIZZOLATO","CHIARA","VALLI DEL PASUBIO",2002,"F","CF"]
[3593,"POZZER","MICHELE","VALLI DEL PASUBIO",2001,"M","AM"]
[3594,"RODIGHIERO","ANNA","VALLI DEL PASUBIO",2002,"F","CF"]
[3595,"SARTORE","AGNESE","VALLI DEL PASUBIO",2000,"F","AF"]
[3596,"SELLA","CHIARA","VALLI DEL PASUBIO",1999,"F","JF"]
[3597,"SIMIONATO","GIANGAETANO","VALLI DEL PASUBIO",1998,"M","JM"]
[3598,"SPEZZAPRIA","ANNA","VALLI DEL PASUBIO",2002,"F","CF"]
[3599,"TAGLIAPIETRA","LUCIA","VALLI DEL PASUBIO",1963,"F","ABF"]
[3600,"VILLANOVA","LORENZO","VALLI DEL PASUBIO",2000,"M","AM"]
[3601,"ZANOTTO","ANNA","VALLI DEL PASUBIO",1998,"F","JF"]
[3602,"ZIGLIOTTO","NICOLE","VALLI DEL PASUBIO",2003,"F","CF"]
[3603,"SACCARDO","CATERINA MARIA","VALLI DEL PASUBIO",1988,"F","SF"]
[3604,"MARCHESINI","SAMUELE","VALLI DEL PASUBIO",2000,"M","AM"]
[3605,"MATTIELLO","DAVIDE","VALLI DEL PASUBIO",2003,"M","CM"]
[3606,"PANOZZO","NICOLA","VALLI DEL PASUBIO",2003,"M","CM"]
[3607,"SARTORE","DAVIDE","VALLI DEL PASUBIO",2002,"M","CM"]
[3608,"TRETTI","GIUSEPPE","VALLI DEL PASUBIO",2002,"M","CM"]
[3609,"SOMMAGGIO","ELIA","U.S. SUMMANO",2001,"M","AM"]
[3610,"BARP","CLAUDIA","U.S. SUMMANO",2002,"F","CF"]
[3611,"FERRARI","FILIBERTO","U.S. SUMMANO",2001,"M","AM"]
[3612,"GALLATO","ASIA","U.S. SUMMANO",2001,"F","AF"]
[3613,"GASPAROTTO","GIULIO","U.S. SUMMANO",2002,"M","CM"]
[3614,"GIAMMETTA","GIORGIA","U.S. SUMMANO",2003,"F","CF"]
[3615,"VERONA","ELENA","U.S. SUMMANO",2002,"F","CF"]
[3616,"ZANELLA","MICHELE","U.S. SUMMANO",2003,"M","CM"]
[3617,"DAL LAGO","OLFEO","GRUPPO SPORTIVO ALPINI VICENZA",1964,"M","ABM"]
[3618,"DANZO","LUCIANO","GRUPPO SPORTIVO ALPINI VICENZA",1957,"M","VM"]
[3619,"PHILIPPS","GIULIA","GRUPPO SPORTIVO ALPINI VICENZA",2004,"F","RF"]
[3620,"PILLAN","BENEDETTA","GRUPPO SPORTIVO ALPINI VICENZA",2004,"F","RF"]
[3621,"PILLAN","ELENA","GRUPPO SPORTIVO ALPINI VICENZA",2002,"F","CF"]
[3622,"PILLAN","SIRO","GRUPPO SPORTIVO ALPINI VICENZA",1968,"M","ABM"]
[3623,"POLETTO","ROBERTO","GRUPPO SPORTIVO ALPINI VICENZA",1972,"M","ABM"]
[3624,"SERAFIN","AURORA","GRUPPO SPORTIVO ALPINI VICENZA",2004,"F","RF"]
[3626,"ZERBINATI","LINDA","GRUPPO SPORTIVO ALPINI VICENZA",2005,"F","RF"]
[3627,"PERTEGATO","GIULIANA","GRUPPO SPORTIVO ALPINI VICENZA",1968,"F","ABF"]
[3628,"SAVIO","FRANCESCO","GRUPPO SPORTIVO ALPINI VICENZA",1983,"M","SM"]
[3629,"TONIOLO","GIOVANNI","GRUPPO SPORTIVO ALPINI VICENZA",1977,"M","AAM"]
[3630,"ZAMBERLAN","CORRADO","GRUPPO SPORTIVO ALPINI VICENZA",1967,"M","ABM"]
[3634,"BAU'","MARTINA","C.S.I. TEZZE SUL BRENTA",2003,"F","CF"]
[3635,"CERANTOLA","DANIELE","C.S.I. TEZZE SUL BRENTA",1999,"M","JM"]
[3636,"CERANTOLA","DAVIDE","C.S.I. TEZZE SUL BRENTA",2003,"M","CM"]
[3637,"DE FAVERI","LEONARDO","C.S.I. TEZZE SUL BRENTA",2003,"M","CM"]
[3638,"GASTALDON","GIADA","C.S.I. TEZZE SUL BRENTA",2003,"F","CF"]
[3639,"LAGO","DAVIDE","C.S.I. TEZZE SUL BRENTA",2003,"M","CM"]
[3640,"LIVIERO","FRANCESCO","C.S.I. TEZZE SUL BRENTA",2004,"M","RM"]
[3641,"PELLANDA","MARGHERITA","C.S.I. TEZZE SUL BRENTA",2004,"F","RF"]
[3642,"RAMON","ANDREA","C.S.I. TEZZE SUL BRENTA",1997,"M","SM"]
[3643,"VISENTIN","ANDREA","C.S.I. TEZZE SUL BRENTA",2004,"M","RM"]
[3644,"TRENTO","LUCA ISAIA","C.S.I. TEZZE SUL BRENTA",2007,"M","EM"]
[3645,"CARNIELLO","GIOVANNI","C.S.I. TEZZE SUL BRENTA",2004,"M","RM"]
[3646,"TEGORELLI","FAUSTO","C.S.I. TEZZE SUL BRENTA",1965,"M","ABM"]
[3647,"ATZORI","LAURA","C.S.I. TEZZE SUL BRENTA",2002,"F","CF"]
[3648,"PELLANDA","LETIZIA","C.S.I. TEZZE SUL BRENTA",2007,"F","EF"]
[3649,"ZHOU","ZHENYANG","C.S.I. TEZZE SUL BRENTA",2001,"M","AM"]
[3669,"MUNERATO","FABIOLA","U.S. SUMMANO",1967,"F","ABF"]
[3670,"MURARO","LISA","U.S. SUMMANO",1984,"F","SF"]
[3682,"DI DOMENICO","MIRCO","U.S. SUMMANO",2008,"M","ATL"]
[3683,"OLIVA","VITTORIA","U.S. SUMMANO",2007,"F","EF"]
[3684,"CANALE","GIACOMO","U.S. SUMMANO",2007,"M","EM"]
[3686,"DAL ZOTTO","LUCREZIA","U.S. SUMMANO",2007,"F","EF"]
[3687,"STELLA","GIANMARCO","U.S. SUMMANO",2008,"M","ATL"]
[3689,"SACCARDO","LODOVICO","U.S. SUMMANO",2007,"M","EM"]
[3708,"RAMPON","DAVIDE","VALLI DEL PASUBIO",2003,"M","CM"]
[3709,"SARTORE","PIETRO","VALLI DEL PASUBIO",1999,"M","JM"]
[3710,"SPOLADORE","SARA","VALLI DEL PASUBIO",1979,"F","AAF"]
[3711,"FUCA'","SALVATORE","RISORGIVE",1975,"M","AAM"]
[3712,"SPOLADORE","ANDREA","RISORGIVE",1984,"M","SM"]
[3713,"ROSSI","ANDREA","RISORGIVE",1984,"M","SM"]
[3714,"NICOLI","EDOARDO","RISORGIVE",2003,"M","CM"]
[3715,"BALDINI","MARCO","SPAZI VERDI",1960,"M","VM"]
[3716,"BIGARELLA","ROBERTO","SPAZI VERDI",1957,"M","VM"]
[3717,"TASSETTO","MIRCO","SPAZI VERDI",1977,"M","AAM"]
[3718,"AGOSTINI","SOFIA","SPAZI VERDI",2007,"F","EF"]
[3720,"BALDISSERI","ASIA","SPAZI VERDI",2005,"F","RF"]
[3722,"BALDISSERI","MORENO","SPAZI VERDI",1971,"M","ABM"]
[3723,"BALLARDIN","FILIPPO","SPAZI VERDI",2007,"M","EM"]
[3724,"BALASSO","ROSANGELA","SPAZI VERDI",1978,"F","AAF"]
[3725,"BELLOTTI","SONIA","SPAZI VERDI",1976,"F","AAF"]
[3726,"BERTACCO","GIULIA","SPAZI VERDI",2007,"F","EF"]
[3728,"BIGARELLA","FRANCESCO","SPAZI VERDI",2007,"M","EM"]
[3729,"BIGARELLA","MAURIZIO","SPAZI VERDI",1953,"M","VM"]
[3730,"BIGARELLA","SIMONE","SPAZI VERDI",2008,"M","ATL"]
[3731,"BON","TOMMASO","SPAZI VERDI",2010,"M","ATL"]
[3732,"CAREZZOLA","MARIKA","SPAZI VERDI",1980,"F","AAF"]
[3733,"CAVEDON","MARCO","SPAZI VERDI",2009,"M","ATL"]
[3734,"CERA","CESARE","SPAZI VERDI",2009,"M","ATL"]
[3735,"CIBIN","PIETRO","SPAZI VERDI",2009,"M","ATL"]
[3738,"DE MARZO","ALESSANDRO","SPAZI VERDI",2009,"M","ATL"]
[3739,"DE MARZO","NICOLO' VITTORIO","SPAZI VERDI",2006,"M","EM"]
[3741,"DE ROSSI","SOFIA","SPAZI VERDI",2009,"F","ATL"]
[3743,"GALVANIN","LORENZO","SPAZI VERDI",2007,"M","EM"]
[3744,"GALVANIN","PIETRO","SPAZI VERDI",2009,"M","ATL"]
[3745,"GARDELLIN","ELEONORA","SPAZI VERDI",2008,"F","ATL"]
[3746,"GIACHIN","RICCARDO","SPAZI VERDI",2006,"M","EM"]
[3747,"GUADAGNIN","GILBERTO","SPAZI VERDI",2008,"M","ATL"]
[3748,"GUERRA","DAVIDE","SPAZI VERDI",2009,"M","ATL"]
[3751,"MAGRIN","MICHELA MARIA","SPAZI VERDI",2004,"F","RF"]
[3752,"MAINO","ANDREA","SPAZI VERDI",2005,"M","RM"]
[3753,"MARZARO","CHIARA","SPAZI VERDI",2008,"F","ATL"]
[3754,"MARZARO","NICOLA","SPAZI VERDI",2005,"M","RM"]
[3755,"MILAN","ALICE","SPAZI VERDI",2007,"F","EF"]
[3758,"NOVELLO","MATTEO","SPAZI VERDI",2009,"M","ATL"]
[3759,"NOVELLO","MATTIA","SPAZI VERDI",2008,"M","ATL"]
[3760,"NUHIU MILAN","MELISSA","SPAZI VERDI",2009,"F","ATL"]
[3763,"PEDON","IRENE","SPAZI VERDI",2009,"F","ATL"]
[3764,"PENTO","ENRICO","SPAZI VERDI",1966,"M","ABM"]
[3765,"PENTO","SILVIA","SPAZI VERDI",1994,"F","SF"]
[3766,"PERDONCIN","VIVIANA","SPAZI VERDI",1976,"F","AAF"]
[3767,"PIANEZZOLA","MARCO","SPAZI VERDI",2006,"M","EM"]
[3769,"SANTINI","DIEGO","SPAZI VERDI",1964,"M","ABM"]
[3770,"SARRE","ABDOULAYE","SPAZI VERDI",2004,"M","RM"]
[3771,"SCHIRO","ALBANO","SPAZI VERDI",1970,"M","ABM"]
[3772,"SONZOGNI","ALESSANDRO","SPAZI VERDI",2004,"M","RM"]
[3774,"TIRELLI","MANUEL","SPAZI VERDI",2007,"M","EM"]
[3777,"TURCO","SONIA","SPAZI VERDI",1973,"F","AAF"]
[3778,"TURCO","STEFANO","SPAZI VERDI",2007,"M","EM"]
[3779,"VARIO","ANDREA","SPAZI VERDI",2009,"M","ATL"]
[3781,"ZAUPA","SAMUELE","SPAZI VERDI",2004,"M","RM"]
[3783,"ZORZETTO","OSCAR","SPAZI VERDI",2007,"M","EM"]
[3784,"ZORZETTO","PAOLO","SPAZI VERDI",2008,"M","ATL"]
[3786,"CENTOMO","ALESSIO","ATLETICA VALCHIAMPO",1987,"M","SM"]
[3787,"CRACCO","MASSIMILIANO","ATLETICA VALCHIAMPO",1984,"M","SM"]
[3788,"MACILOTTI","LUCA","ATLETICA VALCHIAMPO",1981,"M","AAM"]
[3789,"MASINA","PAOLO","ATLETICA VALCHIAMPO",1984,"M","SM"]
[3791,"SAUGO","ENRICO","ATLETICA VALCHIAMPO",1990,"M","SM"]
[3792,"ZANCONATO","MARIO","ATLETICA VALCHIAMPO",1954,"M","VM"]
[3793,"ZANCONATO","NEREO","ATLETICA VALCHIAMPO",1961,"M","VM"]
[3794,"ZORDAN","ANDREA","ATLETICA VALCHIAMPO",1983,"M","SM"]
[3795,"APOLLONI","ANNA","ATLETICA VALCHIAMPO",1998,"F","JF"]
[3796,"APOLLONI","DARIO","ATLETICA VALCHIAMPO",1966,"M","ABM"]
[3797,"BAUCE","SOFIA","ATLETICA VALCHIAMPO",2009,"F","ATL"]
[3798,"BELFIORE","CARLOTTA","ATLETICA VALCHIAMPO",2006,"F","EF"]
[3799,"BELFIORE","GIULIANO","ATLETICA VALCHIAMPO",1986,"M","SM"]
[3800,"BELLUZZO","FAUSTO","ATLETICA VALCHIAMPO",1976,"M","AAM"]
[3801,"BERTI","LUIGI","ATLETICA VALCHIAMPO",1960,"M","VM"]
[3802,"BRAGGION","SOFIA","ATLETICA VALCHIAMPO",2005,"F","RF"]
[3803,"BRENTAN","NICOLO'","ATLETICA VALCHIAMPO",2007,"M","EM"]
[3804,"BROGLIATO","ALESSANDRO","ATLETICA VALCHIAMPO",1994,"M","SM"]
[3805,"BUSSARELLO","DIEGO","ATLETICA VALCHIAMPO",2006,"M","EM"]
[3806,"CAMPONOGARA","ALISSA","ATLETICA VALCHIAMPO",2000,"F","AF"]
[3807,"CAMPONOGARA","IVO","ATLETICA VALCHIAMPO",1996,"M","SM"]
[3808,"CAMPONOGARA","MARCO","ATLETICA VALCHIAMPO",1999,"M","JM"]
[3809,"CARRARINI","CRISTIANO","ATLETICA VALCHIAMPO",1972,"M","ABM"]
[3810,"CARRARINI","MAURO","ATLETICA VALCHIAMPO",1980,"M","AAM"]
[3811,"CASTAGNA","MONICA","ATLETICA VALCHIAMPO",2003,"F","CF"]
[3812,"CAVAIONI","ETTORE","ATLETICA VALCHIAMPO",2002,"M","CM"]
[3813,"CELSAN","ALESSANDRO","ATLETICA VALCHIAMPO",1999,"M","JM"]
[3814,"CEOLATO","ALESSANDRO GIUSEPPE","ATLETICA VALCHIAMPO",2000,"M","AM"]
[3815,"CERATO","MARTA","ATLETICA VALCHIAMPO",2004,"F","RF"]
[3816,"CERATO","NICOLA","ATLETICA VALCHIAMPO",1968,"M","ABM"]
[3817,"CISCO","BRUNO","ATLETICA VALCHIAMPO",2005,"M","RM"]
[3818,"COCCO","GIANDOMENICO","ATLETICA VALCHIAMPO",1968,"M","ABM"]
[3819,"CRACCO","MARGHERITA","ATLETICA VALCHIAMPO",1988,"F","SF"]
[3820,"DAL CAPPELLO","FEDERICO","ATLETICA VALCHIAMPO",2007,"M","EM"]
[3821,"DAL MOLIN","RICCARDO","ATLETICA VALCHIAMPO",2008,"M","ATL"]
[3822,"DALLA VALLE","LAURA","ATLETICA VALCHIAMPO",1971,"F","ABF"]
[3823,"FILIPPI","MARCO","ATLETICA VALCHIAMPO",1989,"M","SM"]
[3824,"FIN","DAVID","ATLETICA VALCHIAMPO",2004,"M","RM"]
[3825,"FIN","MATTIA","ATLETICA VALCHIAMPO",2005,"M","RM"]
[3826,"FIN","NORAH","ATLETICA VALCHIAMPO",2007,"F","EF"]
[3827,"FONGARO","GIULIA","ATLETICA VALCHIAMPO",2004,"F","RF"]
[3829,"FRACASSO","TOMMASO","ATLETICA VALCHIAMPO",2005,"M","RM"]
[3830,"FRACCA","LORIS","ATLETICA VALCHIAMPO",1975,"M","AAM"]
[3831,"GALIOTTO","GIOVANNI","ATLETICA VALCHIAMPO",2004,"M","RM"]
[3832,"GALIOTTO","LUCIA","ATLETICA VALCHIAMPO",1998,"F","JF"]
[3833,"GALIOTTO","TOMMASO","ATLETICA VALCHIAMPO",2003,"M","CM"]
[3834,"GIAMBELLINI","DAVIDE","ATLETICA VALCHIAMPO",2002,"M","CM"]
[3835,"GIRARDELLO","NICOLA","ATLETICA VALCHIAMPO",2005,"M","RM"]
[3836,"GIRARDELLO","RICCARDO","ATLETICA VALCHIAMPO",1970,"M","ABM"]
[3837,"LANGARO","MELISSA","ATLETICA VALCHIAMPO",2009,"F","ATL"]
[3839,"MARCANTE","CHRISTIAN","ATLETICA VALCHIAMPO",1974,"M","AAM"]
[3840,"MARCHESAN","ALESSIA","ATLETICA VALCHIAMPO",2000,"F","AF"]
[3841,"MAZZOCCHI","GIORGIO","ATLETICA VALCHIAMPO",1981,"M","AAM"]
[3842,"MECENERO","ELIA","ATLETICA VALCHIAMPO",2004,"M","RM"]
[3843,"MECENERO","MAURO","ATLETICA VALCHIAMPO",1968,"M","ABM"]
[3844,"MENEGUZZO CERIOTTI","LUISA FERNANDA","ATLETICA VALCHIAMPO",2002,"F","CF"]
[3845,"MENEGUZZO CERIOTTI","YEISON ESTIVEN","ATLETICA VALCHIAMPO",2003,"M","CM"]
[3846,"MISTRORIGO","ALBERTO","ATLETICA VALCHIAMPO",2004,"M","RM"]
[3847,"NEGRIN","ALBERTO","ATLETICA VALCHIAMPO",2009,"M","ATL"]
[3848,"NEGRIN","ENRICO","ATLETICA VALCHIAMPO",2006,"M","EM"]
[3849,"NEGRINI","MARCO","ATLETICA VALCHIAMPO",1999,"M","JM"]
[3850,"NEGRO MARCEGAGLIA","ASIA","ATLETICA VALCHIAMPO",2009,"F","ATL"]
[3851,"NTIAMOAH","SARAH","ATLETICA VALCHIAMPO",2000,"F","AF"]
[3852,"PANA","ANDREA","ATLETICA VALCHIAMPO",1979,"M","AAM"]
[3853,"PELTRIN","SAMUELE","ATLETICA VALCHIAMPO",2003,"M","CM"]
[3854,"PEREGO","CRISTIAN","ATLETICA VALCHIAMPO",2004,"M","RM"]
[3855,"PIEROPAN","DARIO","ATLETICA VALCHIAMPO",1964,"M","ABM"]
[3856,"PIZZOLATO","GIOVANNI","ATLETICA VALCHIAMPO",1999,"M","JM"]
[3857,"POVERO","FABIANA","ATLETICA VALCHIAMPO",1979,"F","AAF"]
[3858,"PRESA","DAMIANO","ATLETICA VALCHIAMPO",1995,"M","SM"]
[3859,"PRESA","ELISA","ATLETICA VALCHIAMPO",1997,"F","SF"]
[3860,"PRESA","FEDERICO","ATLETICA VALCHIAMPO",1998,"M","JM"]
[3861,"RANCAN","MICHELE","ATLETICA VALCHIAMPO",1998,"M","JM"]
[3862,"RANIERO","DAMIANO","ATLETICA VALCHIAMPO",1995,"M","SM"]
[3863,"RIGO","DANIELE","ATLETICA VALCHIAMPO",1981,"M","AAM"]
[3864,"RIGODANZO","MICHELE","ATLETICA VALCHIAMPO",2005,"M","RM"]
[3865,"RIGONI","ALBERTO","ATLETICA VALCHIAMPO",2003,"M","CM"]
[3866,"ROSA","GIACOMO","ATLETICA VALCHIAMPO",1971,"M","ABM"]
[3867,"ROSSI","MARCO","ATLETICA VALCHIAMPO",1977,"M","AAM"]
[3868,"ROSSI","SIMONE","ATLETICA VALCHIAMPO",1990,"M","SM"]
[3869,"SANTAC·","CARLO","ATLETICA VALCHIAMPO",2002,"M","CM"]
[3870,"SANTAC·","GUIDO","ATLETICA VALCHIAMPO",2001,"M","AM"]
[3871,"SANTACA'","PIETRO","ATLETICA VALCHIAMPO",2007,"M","EM"]
[3872,"SCALCO","MAICO","ATLETICA VALCHIAMPO",1960,"M","VM"]
[3873,"SMIDERLE","FRANCESCA","ATLETICA VALCHIAMPO",1982,"F","AAF"]
[3874,"TIBALDO","EMANUELE","ATLETICA VALCHIAMPO",1998,"M","JM"]
[3875,"TIBALDO","GIULIO","ATLETICA VALCHIAMPO",2006,"M","EM"]
[3876,"TODESCO","LUCA","ATLETICA VALCHIAMPO",1987,"M","SM"]
[3877,"TONIN","BRUNO","ATLETICA VALCHIAMPO",1954,"M","VM"]
[3879,"TONIN","MARCO","ATLETICA VALCHIAMPO",1999,"M","JM"]
[3880,"TREVISAN","GIOVANNI CORNELIO","ATLETICA VALCHIAMPO",1964,"M","ABM"]
[3881,"VELUSCEK","LAURA","ATLETICA VALCHIAMPO",1989,"F","SF"]
[3882,"VISONA","MATTIA","ATLETICA VALCHIAMPO",2003,"M","CM"]
[3883,"ZANELLATO","MIRCO","ATLETICA VALCHIAMPO",1967,"M","ABM"]
[3884,"ZARANTONELLO","MARIKA","ATLETICA VALCHIAMPO",2007,"F","EF"]
[3885,"ZECCHIN","LUCA","ATLETICA VALCHIAMPO",1962,"M","VM"]
[3886,"ZORDAN","FABIO","ATLETICA VALCHIAMPO",1968,"M","ABM"]
[3887,"ZOSO","DAVIDE","ATLETICA VALCHIAMPO",1985,"M","SM"]
[3888,"ZUCCON","GABRIELE","ATLETICA VALCHIAMPO",2008,"M","ATL"]
[3889,"CORTIVO","EDOARDO","ATLETICA VALCHIAMPO",2006,"M","EM"]
[3890,"GUENE","ABDOU NOUROU","ATLETICA VALCHIAMPO",2001,"M","AM"]
[3892,"NARDI","RICCARDO","ATLETICA VALCHIAMPO",2001,"M","AM"]
[3893,"PERIN","GIOVANNI","ATLETICA VALCHIAMPO",2008,"M","ATL"]
[3894,"SARTORI","LORENZO","ATLETICA VALCHIAMPO",2006,"M","EM"]
[3895,"ZAMPERETTI","ANDREA","ATLETICA VALCHIAMPO",2002,"M","CM"]
[3896,"ZAMPERETTI","ROBERTO","ATLETICA VALCHIAMPO",1970,"M","ABM"]
[3897,"CONSOLARO","RICCARDO","ATLETICA VALCHIAMPO",2001,"M","AM"]
[3898,"FRANCESCHINI","AARON","ATLETICA VALCHIAMPO",2008,"M","ATL"]
[3899,"ROSSI","VITTORIA","ATLETICA VALCHIAMPO",2008,"F","ATL"]
[3900,"SOSSELLA","ILARIA","ATLETICA VALCHIAMPO",2008,"F","ATL"]
[3901,"DAL MOLIN","ROBERTO","ATLETICA VALCHIAMPO",2008,"M","ATL"]
[3902,"DALLA VALLE","ROBERTO","ATLETICA VALCHIAMPO",1981,"M","AAM"]
[3903,"DOMINATO","TOMMASO","ATLETICA VALCHIAMPO",1992,"M","SM"]
[3904,"FERRI","ENRICO","ATLETICA VALCHIAMPO",2009,"M","ATL"]
[3905,"MALTROTTO","EDOARDO","ATLETICA VALCHIAMPO",2005,"M","RM"]
[3906,"NARDI","VALENTINA","ATLETICA VALCHIAMPO",2003,"F","CF"]
[3907,"PANAROTTO","PAOLO","ATLETICA VALCHIAMPO",2000,"M","AM"]
[3908,"PANAROTTO","SILVIO","ATLETICA VALCHIAMPO",1995,"M","SM"]
[3909,"SINICO","GIOVANNI","ATLETICA VALCHIAMPO",2007,"M","EM"]
[3910,"TAMARO","GIULIO","ATLETICA VALCHIAMPO",1995,"M","SM"]
[3911,"TONIOLLO","RICCARDO","ATLETICA VALCHIAMPO",1971,"M","ABM"]
[3913,"BERTOLDO","FRANCESCO","ATLETICA VALCHIAMPO",1973,"M","AAM"]
[3914,"BENATI","GIULIO","G.S. LEONICENA",2005,"M","RM"]
[3915,"BERTO","ALESSANDRO","G.S. LEONICENA",2007,"M","EM"]
[3916,"BRESSAN","MARCO","G.S. LEONICENA",2005,"M","RM"]
[3917,"BUZZO","SIMONE","G.S. LEONICENA",2004,"M","RM"]
[3918,"CREMONESE","ENEA","G.S. LEONICENA",2004,"M","RM"]
[3919,"FRANCHETTI","DAMIANO","G.S. LEONICENA",2005,"M","RM"]
[3920,"GENTILESCHI","MATILDE","G.S. LEONICENA",2005,"F","RF"]
[3921,"MARCOLIN","ABEBE","G.S. LEONICENA",2002,"M","CM"]
[3922,"PONTALTO","ELENA","G.S. LEONICENA",2007,"F","EF"]
[3923,"SARTORI","IRENE","G.S. LEONICENA",1997,"F","SF"]
[3928,"AGOSTINETTO","KATIA","POLISPORTIVA DUEVILLE",1971,"F","ABF"]
[3929,"ANDREIN","NOEMI","POLISPORTIVA DUEVILLE",2004,"F","RF"]
[3930,"BAGNARA","CLAUDIO","POLISPORTIVA DUEVILLE",1971,"M","ABM"]
[3931,"BAITA","ALICE NADIA","POLISPORTIVA DUEVILLE",2001,"F","AF"]
[3932,"BAITA","SILVIA","POLISPORTIVA DUEVILLE",2005,"F","RF"]
[3933,"BARON","MATILDE","POLISPORTIVA DUEVILLE",2003,"F","CF"]
[3934,"BARON","MORENO","POLISPORTIVA DUEVILLE",1961,"M","VM"]
[3935,"BASSAN","ALESSIA","POLISPORTIVA DUEVILLE",2004,"F","RF"]
[3936,"BASSAN","GIORGIO","POLISPORTIVA DUEVILLE",1998,"M","JM"]
[3937,"BEGGIO","ANNA","POLISPORTIVA DUEVILLE",1973,"F","AAF"]
[3938,"BELOTTI","GIORGIA","POLISPORTIVA DUEVILLE",1995,"F","SF"]
[3939,"BIDESE","GIOVANNI BATTISTA","POLISPORTIVA DUEVILLE",1963,"M","ABM"]
[3940,"BONATO","LUISA","POLISPORTIVA DUEVILLE",2000,"F","AF"]
[3941,"BORTOLI","CRISTIAN","POLISPORTIVA DUEVILLE",1977,"M","AAM"]
[3942,"BRANCACCIO","EDOARDO","POLISPORTIVA DUEVILLE",2000,"M","AM"]
[3943,"BUSATTA","NAUSICA","POLISPORTIVA DUEVILLE",2004,"F","RF"]
[3944,"BUZZOLAN","MORENO","POLISPORTIVA DUEVILLE",1968,"M","ABM"]
[3945,"CAMPAGNOLO","ROBERTA","POLISPORTIVA DUEVILLE",1974,"F","AAF"]
[3946,"CARLETTI","GIANLUCA","POLISPORTIVA DUEVILLE",2006,"M","EM"]
[3947,"CENTOFANTE","GIORGIO","POLISPORTIVA DUEVILLE",1959,"M","VM"]
[3948,"CHIMETTO","FABIO","POLISPORTIVA DUEVILLE",2000,"M","AM"]
[3949,"COLLINA","ANDREA","POLISPORTIVA DUEVILLE",1997,"M","SM"]
[3950,"COLLINA","GIACOMO","POLISPORTIVA DUEVILLE",2004,"M","RM"]
[3951,"COLOSSO","CHIARA","POLISPORTIVA DUEVILLE",2003,"F","CF"]
[3952,"COLOSSO","ENZO","POLISPORTIVA DUEVILLE",1960,"M","VM"]
[3953,"CRESTANI","CATERINA","POLISPORTIVA DUEVILLE",1999,"F","JF"]
[3954,"CRESTANI","CHIARA","POLISPORTIVA DUEVILLE",2005,"F","RF"]
[3955,"CRISTOFORI","NICOLA","POLISPORTIVA DUEVILLE",2002,"M","CM"]
[3956,"CRISTOFORI","SARA","POLISPORTIVA DUEVILLE",2000,"F","AF"]
[3957,"CULICI","LORENZO","POLISPORTIVA DUEVILLE",2006,"M","EM"]
[3958,"CUNICO","NICOLA","POLISPORTIVA DUEVILLE",2000,"M","AM"]
[3959,"DALLA POZZA","FRANCESCA","POLISPORTIVA DUEVILLE",2002,"F","CF"]
[3960,"DALLA RIVA","BRUNO","POLISPORTIVA DUEVILLE",1964,"M","ABM"]
[3961,"DANI","MATTEO","POLISPORTIVA DUEVILLE",2002,"M","CM"]
[3962,"DE ROSSO","CHIARA","POLISPORTIVA DUEVILLE",2003,"F","CF"]
[3963,"DJADOU","AKPENE MARTIALE","POLISPORTIVA DUEVILLE",2003,"F","CF"]
[3964,"FABRIS","LUCA","POLISPORTIVA DUEVILLE",1969,"M","ABM"]
[3965,"FACCIN","ELIA","POLISPORTIVA DUEVILLE",2000,"M","AM"]
[3966,"FACCIN","EMILY","POLISPORTIVA DUEVILLE",2004,"F","RF"]
[3967,"FACCIN","ENRICO","POLISPORTIVA DUEVILLE",1998,"M","JM"]
[3968,"FASINI","CARLO","POLISPORTIVA DUEVILLE",1965,"M","ABM"]
[3969,"FRANCESCHETTO","STEFANO","POLISPORTIVA DUEVILLE",1994,"M","SM"]
[3970,"GASPAROTTO","ANNA","POLISPORTIVA DUEVILLE",2004,"F","RF"]
[3971,"GIACOMIN","DAVIDE","POLISPORTIVA DUEVILLE",1972,"M","ABM"]
[3972,"GIACOMIN","MARTINA","POLISPORTIVA DUEVILLE",2002,"F","CF"]
[3973,"GOBBO","ROBERTO","POLISPORTIVA DUEVILLE",1981,"M","AAM"]
[3974,"GROTTO","GIOVANNI","POLISPORTIVA DUEVILLE",1997,"M","SM"]
[3975,"LANARO","GIACOMO","POLISPORTIVA DUEVILLE",1998,"M","JM"]
[3976,"LANCERIN","GIANMARIA","POLISPORTIVA DUEVILLE",1999,"M","JM"]
[3977,"LAZZARETTO","MARIKA","POLISPORTIVA DUEVILLE",2003,"F","CF"]
[3978,"LAZZARETTO","MIRKO","POLISPORTIVA DUEVILLE",1998,"M","JM"]
[3979,"LIONZO","CHIARA","POLISPORTIVA DUEVILLE",1985,"F","SF"]
[3980,"LOBBA","CHIARA","POLISPORTIVA DUEVILLE",2001,"F","AF"]
[3981,"MARCON","ELISA","POLISPORTIVA DUEVILLE",1994,"F","SF"]
[3982,"MARCON","LAURA","POLISPORTIVA DUEVILLE",2000,"F","AF"]
[3983,"MARENDA","MATILDE","POLISPORTIVA DUEVILLE",2003,"F","CF"]
[3984,"MARTINI","MICHELE","POLISPORTIVA DUEVILLE",2002,"M","CM"]
[3985,"MERLO","GIACOMO","POLISPORTIVA DUEVILLE",2001,"M","AM"]
[3986,"MERLO","MARTA","POLISPORTIVA DUEVILLE",1999,"F","JF"]
[3987,"MIGLIORINI","SUSY","POLISPORTIVA DUEVILLE",2006,"F","EF"]
[3988,"MOTTERLE","NOEMI","POLISPORTIVA DUEVILLE",2005,"F","RF"]
[3989,"MUNICH","MASSIMO","POLISPORTIVA DUEVILLE",2002,"M","CM"]
[3990,"MURARO","LORENZO","POLISPORTIVA DUEVILLE",1969,"M","ABM"]
[3991,"MURARO","MARIAALICE","POLISPORTIVA DUEVILLE",2003,"F","CF"]
[3992,"MURARO","MARIASOLE","POLISPORTIVA DUEVILLE",2002,"F","CF"]
[3993,"PALMISANO","ALESSIA","POLISPORTIVA DUEVILLE",2002,"F","CF"]
[3994,"PALMISANO","FEDERICA","POLISPORTIVA DUEVILLE",2002,"F","CF"]
[3995,"PELLANDA","ANGELO","POLISPORTIVA DUEVILLE",1954,"M","VM"]
[3996,"PELOSO","ROSELLA","POLISPORTIVA DUEVILLE",1966,"F","ABF"]
[3997,"PIEROPAN","GIULIA","POLISPORTIVA DUEVILLE",2003,"F","CF"]
[3998,"PIEROPAN","MANUEL","POLISPORTIVA DUEVILLE",2002,"M","CM"]
[3999,"PIEROPAN","RICCARDO","POLISPORTIVA DUEVILLE",1994,"M","SM"]
[4000,"POZZER","NICOLE","POLISPORTIVA DUEVILLE",1992,"F","SF"]
[4001,"PREBIANCA","EUGENIO","POLISPORTIVA DUEVILLE",1969,"M","ABM"]
[4002,"PREBIANCA","LEONARDO","POLISPORTIVA DUEVILLE",2003,"M","CM"]
[4003,"RASOTTO","MICHELE","POLISPORTIVA DUEVILLE",2003,"M","CM"]
[4004,"RIGHI","ELENA","POLISPORTIVA DUEVILLE",1968,"F","ABF"]
[4005,"RIGON","GIACOMO","POLISPORTIVA DUEVILLE",2003,"M","CM"]
[4006,"RIZZATO","PIERANTONIO","POLISPORTIVA DUEVILLE",1950,"M","VM"]
[4007,"RIZZO","ERIK","POLISPORTIVA DUEVILLE",1972,"M","ABM"]
[4008,"RIZZO","PIETRO","POLISPORTIVA DUEVILLE",2004,"M","RM"]
[4009,"SACCARDO","MARIA CLELIA","POLISPORTIVA DUEVILLE",2002,"F","CF"]
[4010,"SCHIAVO","NEREO","POLISPORTIVA DUEVILLE",1962,"M","VM"]
[4011,"SCHIRATO","DARIO","POLISPORTIVA DUEVILLE",2001,"M","AM"]
[4012,"SOLFA","GIULIO","POLISPORTIVA DUEVILLE",2006,"M","EM"]
[4013,"SPAGNOLO","LORENZO","POLISPORTIVA DUEVILLE",2001,"M","AM"]
[4014,"TAGLIAPIETRA","LORENZO","POLISPORTIVA DUEVILLE",2000,"M","AM"]
[4015,"TESSARO","GLORIA","POLISPORTIVA DUEVILLE",1991,"F","SF"]
[4016,"TONEATTI","EDOARDO","POLISPORTIVA DUEVILLE",1998,"M","JM"]
[4017,"TONEATTI","ILARIA","POLISPORTIVA DUEVILLE",2003,"F","CF"]
[4018,"VELLER","MARIA","POLISPORTIVA DUEVILLE",2006,"F","EF"]
[4019,"VENZO","SELENA","POLISPORTIVA DUEVILLE",1974,"F","AAF"]
[4020,"ZANUSO","CRISTIANO","POLISPORTIVA DUEVILLE",1974,"M","AAM"]
[4021,"ZANUSO","GIULIA","POLISPORTIVA DUEVILLE",2005,"F","RF"]
[4022,"ZENERE","DENIS","POLISPORTIVA DUEVILLE",1975,"M","AAM"]
[4023,"ZENERE","GIORGIA","POLISPORTIVA DUEVILLE",2005,"F","RF"]
[4024,"ZILIO","MARTA","POLISPORTIVA DUEVILLE",2003,"F","CF"]
[4025,"ZILIO","STEFANO","POLISPORTIVA DUEVILLE",1975,"M","AAM"]
[4026,"ZORZO","LEONARDO","POLISPORTIVA DUEVILLE",2001,"M","AM"]
[4027,"ZORZO","RICCARDO","POLISPORTIVA DUEVILLE",2006,"M","EM"]
[4028,"CHIMETTO","LUCA","POLISPORTIVA DUEVILLE",1971,"M","ABM"]
[4029,"FIN","DANIELE","POLISPORTIVA DUEVILLE",2003,"M","CM"]
[4030,"MARTA","FRANCESCA","POLISPORTIVA DUEVILLE",1978,"F","AAF"]
[4031,"PERDONCIN","NICOLO'","POLISPORTIVA DUEVILLE",2004,"M","RM"]
[4032,"BALZARIN","ILARIA","POLISPORTIVA DUEVILLE",2001,"F","AF"]
[4033,"CATANESE","SOFIA LUCIA","POLISPORTIVA DUEVILLE",2000,"F","AF"]
[4034,"CECCHIN","GIULIA","POLISPORTIVA DUEVILLE",2007,"F","EF"]
[4035,"FASSINA","ALESSANDRA","POLISPORTIVA DUEVILLE",2001,"F","AF"]
[4036,"GHELLER","JOEY","POLISPORTIVA DUEVILLE",2004,"M","RM"]
[4037,"OLIERI","SANTIAGO","POLISPORTIVA DUEVILLE",2007,"M","EM"]
[4038,"PENTO","SILVIA","POLISPORTIVA DUEVILLE",2004,"F","RF"]
[4039,"PICHIERRI","MARTINA","POLISPORTIVA DUEVILLE",2005,"F","RF"]
[4040,"SARTORI","AURORA","POLISPORTIVA DUEVILLE",2004,"F","RF"]
[4041,"SPEZIALE","DESIREE","POLISPORTIVA DUEVILLE",2004,"F","RF"]
[4042,"TOMASI","ALBERTO","POLISPORTIVA DUEVILLE",1991,"M","SM"]
[4043,"ZOLIN","AURORA","POLISPORTIVA DUEVILLE",2007,"F","EF"]
[4046,"BERNA","ELEONORA","POLISPORTIVA DUEVILLE",2007,"F","EF"]
[4047,"COPIELLO","SOFIA","POLISPORTIVA DUEVILLE",2007,"F","EF"]
[4048,"CUCCOLO","NICOLO'","POLISPORTIVA DUEVILLE",2007,"M","EM"]
[4065,"DUCA","ALEXANDHER","POLISPORTIVA DUEVILLE",2007,"M","EM"]
[4066,"DUCA","ARJEL","POLISPORTIVA DUEVILLE",2007,"F","EF"]
[4072,"MIOTTI","VITTORIA","POLISPORTIVA DUEVILLE",2006,"F","EF"]
[4087,"BARBIERO","CLAUDIO","ATLETICA CALDOGNO '93",1959,"M","VM"]
[4088,"BASSO","LORENZO","ATLETICA CALDOGNO '93",1955,"M","VM"]
[4089,"BEDIN","ANDREA","ATLETICA CALDOGNO '93",1969,"M","ABM"]
[4090,"BERTIN","CINZIA","ATLETICA CALDOGNO '93",1964,"F","ABF"]
[4091,"BERTIN","ILARIA","ATLETICA CALDOGNO '93",1988,"F","SF"]
[4092,"CASAROTTO","MICHELA","ATLETICA CALDOGNO '93",1973,"F","AAF"]
[4093,"CECCHETTO","GIOVANNI","ATLETICA CALDOGNO '93",1970,"M","ABM"]
[4094,"CRIVELLARO","PAOLA","ATLETICA CALDOGNO '93",1966,"F","ABF"]
[4095,"CUNICO","GIANLUCA","ATLETICA CALDOGNO '93",2006,"M","EM"]
[4096,"CUNICO","LORIS","ATLETICA CALDOGNO '93",1973,"M","AAM"]
[4097,"FIN","ENRICO","ATLETICA CALDOGNO '93",1971,"M","ABM"]
[4098,"FIN","VITTORIA","ATLETICA CALDOGNO '93",2004,"F","RF"]
[4099,"FONTANA","ANTONELLO","ATLETICA CALDOGNO '93",1966,"M","ABM"]
[4100,"FRANCO","DANIELA","ATLETICA CALDOGNO '93",1987,"F","SF"]
[4101,"LORA","ENZO","ATLETICA CALDOGNO '93",1957,"M","VM"]
[4102,"MIOLA","NICOLO'","ATLETICA CALDOGNO '93",1993,"M","SM"]
[4103,"MOGENTALE","COSTANTINO","ATLETICA CALDOGNO '93",1965,"M","ABM"]
[4104,"MUNARETTO","SERGIO","ATLETICA CALDOGNO '93",1966,"M","ABM"]
[4105,"MUTTERLE","LIVIO","ATLETICA CALDOGNO '93",1969,"M","ABM"]
[4106,"PESAVENTO","IVAN","ATLETICA CALDOGNO '93",1971,"M","ABM"]
[4107,"PESAVENTO","MICHELA","ATLETICA CALDOGNO '93",1968,"F","ABF"]
[4108,"PORNARO","GIOELE","ATLETICA CALDOGNO '93",2003,"M","CM"]
[4109,"PORNARO","NICOLA","ATLETICA CALDOGNO '93",1968,"M","ABM"]
[4110,"PORNARO","NOEMI","ATLETICA CALDOGNO '93",2001,"F","AF"]
[4111,"RIZZOTTO","MARISA","ATLETICA CALDOGNO '93",1957,"F","VF"]
[4112,"RONZANI","FABIO","ATLETICA CALDOGNO '93",1993,"M","SM"]
[4113,"SITARA","ANNA ROSA","ATLETICA CALDOGNO '93",1969,"M","ABM"]
[4114,"SLANZI","MARCO","ATLETICA CALDOGNO '93",1992,"M","SM"]
[4115,"TREVISAN","MAURO","ATLETICA CALDOGNO '93",1968,"M","ABM"]
[4116,"VIDOTTO","MARIA","ATLETICA CALDOGNO '93",1959,"F","VF"]
[4117,"ZAMPIERI","AZZURRA","ATLETICA CALDOGNO '93",2003,"F","CF"]
[4118,"ZAMPIERI","FABIO","ATLETICA CALDOGNO '93",1968,"M","ABM"]
[4119,"ZAMPIERI","ISABEL","ATLETICA CALDOGNO '93",2005,"F","RF"]
[4120,"ALDOVINI","MARCO","ATLETICA CALDOGNO '93",1994,"M","SM"]
[4121,"ALDOVINI","TERESA","ATLETICA CALDOGNO '93",1997,"F","SF"]
[4122,"BERTACCO","RENATO","ATLETICA CALDOGNO '93",1961,"M","VM"]
[4123,"BOCCUNI","TOMMASO","ATLETICA CALDOGNO '93",2003,"M","CM"]
[4124,"BORDIGNON","DANIELE","ATLETICA CALDOGNO '93",1973,"M","AAM"]
[4125,"BOTTAZZI","GIOVANNI","ATLETICA CALDOGNO '93",1997,"M","SM"]
[4126,"CAROLLO","EMANUELE","ATLETICA CALDOGNO '93",1982,"M","AAM"]
[4127,"CARRO","FRANCESCO","ATLETICA CALDOGNO '93",1994,"M","SM"]
[4128,"CHIODI","STEFANO","ATLETICA CALDOGNO '93",1979,"M","AAM"]
[4129,"CHIUSAROLI","ANDREA","ATLETICA CALDOGNO '93",1984,"M","SM"]
[4130,"CORATO","MONICA","ATLETICA CALDOGNO '93",1993,"F","SF"]
[4131,"DAL BELLO","MIRCO","ATLETICA CALDOGNO '93",1965,"M","ABM"]
[4132,"DALLA ROSA","ROSANNA","ATLETICA CALDOGNO '93",1967,"F","ABF"]
[4133,"DIDONE'","ALICE","ATLETICA CALDOGNO '93",2006,"F","EF"]
[4134,"FANTON","DAVIDE","ATLETICA CALDOGNO '93",1973,"M","AAM"]
[4135,"GIUNTA","SAMUELE","ATLETICA CALDOGNO '93",2004,"M","RM"]
[4136,"IPINO","ALESSANDRO","ATLETICA CALDOGNO '93",1973,"M","AAM"]
[4137,"IPINO","MICHELA","ATLETICA CALDOGNO '93",1969,"F","ABF"]
[4138,"MONTAGNA","CHRISTIAN PHILIPPE","ATLETICA CALDOGNO '93",1969,"M","ABM"]
[4139,"MONTAGNA","LUIGI","ATLETICA CALDOGNO '93",1965,"M","ABM"]
[4140,"MUTTERLE","ALESSIA","ATLETICA CALDOGNO '93",2005,"F","RF"]
[4141,"MUTTERLE","CLOTILDE","ATLETICA CALDOGNO '93",1967,"F","ABF"]
[4142,"NICOLAZZO","GIADA","ATLETICA CALDOGNO '93",2005,"F","RF"]
[4143,"NICOLAZZO","MIRKO","ATLETICA CALDOGNO '93",2003,"M","CM"]
[4144,"PALENTINI","ALBERTO","ATLETICA CALDOGNO '93",1988,"M","SM"]
[4145,"PERUZZI","ELIDE","ATLETICA CALDOGNO '93",1955,"F","VF"]
[4146,"PIZZOLATO","GRETA","ATLETICA CALDOGNO '93",1988,"F","SF"]
[4147,"RENSO","CHIARA","ATLETICA CALDOGNO '93",1991,"F","SF"]
[4148,"RIZZI","SAMUEL","ATLETICA CALDOGNO '93",2003,"M","CM"]
[4149,"RIZZOTTO","GIULIA","ATLETICA CALDOGNO '93",1994,"M","SM"]
[4150,"ROSSI","PATRIZIA","ATLETICA CALDOGNO '93",1962,"F","VF"]
[4151,"SACCOZZA","GIANMATTIA","ATLETICA CALDOGNO '93",1987,"M","SM"]
[4152,"SARTORI","LISA","ATLETICA CALDOGNO '93",1973,"F","AAF"]
[4153,"TASSETTO","PIERINA CECILIA","ATLETICA CALDOGNO '93",1968,"F","ABF"]
[4154,"TREVISAN","ELISA","ATLETICA CALDOGNO '93",1996,"F","SF"]
[4155,"TREVISAN","IRENE","ATLETICA CALDOGNO '93",2003,"F","CF"]
[4156,"TREVISAN","VALERIO","ATLETICA CALDOGNO '93",1965,"M","ABM"]
[4157,"ZATTRA","FILIPPO","ATLETICA CALDOGNO '93",1997,"M","SM"]
[4158,"BAë","DIEGO","ATLETICA CALDOGNO '93",1985,"M","SM"]
[4159,"BONTORIN","GIOVANNI","ATLETICA CALDOGNO '93",1977,"M","AAM"]
[4160,"CARLI","MATTEO","ATLETICA CALDOGNO '93",1990,"M","SM"]
[4161,"COSTANTINI","STEFANO","ATLETICA CALDOGNO '93",1964,"M","ABM"]
[4162,"CUNICO","FABRIZIO","ATLETICA CALDOGNO '93",1973,"M","AAM"]
[4163,"CUNICO","MATTEO","ATLETICA CALDOGNO '93",2005,"M","RM"]
[4164,"D'AMORE","MARCO","ATLETICA CALDOGNO '93",2002,"M","CM"]
[4165,"FRANCO","FRANCESCO","ATLETICA CALDOGNO '93",2000,"M","AM"]
[4166,"MARANGONI","PAOLO","ATLETICA CALDOGNO '93",2003,"M","CM"]
[4167,"MORELLO","FRANCO","ATLETICA CALDOGNO '93",1966,"M","ABM"]
[4168,"MORELLO","GIADA","ATLETICA CALDOGNO '93",2001,"F","AF"]
[4169,"PINAROLI","ALBERTO","ATLETICA CALDOGNO '93",1959,"M","VM"]
[4170,"REBESCHINI","PIERGIORGIO","ATLETICA CALDOGNO '93",1965,"M","ABM"]
[4171,"ROSSI","LUDOVICA","ATLETICA CALDOGNO '93",2002,"F","CF"]
[4172,"TROVATO","RICCARDO GIUSEPPE","ATLETICA CALDOGNO '93",1988,"M","SM"]
[4173,"URBANI","DENIS","ATLETICA CALDOGNO '93",1976,"M","AAM"]
[4174,"VELLAR","ALYCE","ATLETICA CALDOGNO '93",2001,"F","AF"]
[4175,"FRIGO","MANUELE","ATLETICA CALDOGNO '93",2005,"M","RM"]
[4176,"IACOVENCO","ALEXANDRU","ATLETICA CALDOGNO '93",2002,"M","CM"]
[4177,"GUERRA","ANTONIO","GRUPPO SPORTIVO ALPINI VICENZA",1956,"M","VM"]
[4178,"RIGOVACCA","PAOLA","GRUPPO SPORTIVO ALPINI VICENZA",1995,"F","SF"]
[4179,"DORIA","MASSIMO","ATLETICA TRISSINO",1966,"M","ABM"]
[4180,"FRANCO","ANDREA","ATLETICA TRISSINO",1970,"M","ABM"]
[4181,"MASSIGNAN","ENRICO MARIO","ATLETICA TRISSINO",1986,"M","SM"]
[4182,"MEGGIOLARO","RUGGERO","ATLETICA TRISSINO",1967,"M","ABM"]
[4183,"PELLIZZARO","LUIGI","ATLETICA TRISSINO",1960,"M","VM"]
[4185,"VERZINI","CHIARA","ATLETICA TRISSINO",1965,"F","ABF"]
[4186,"ZORDAN","PAOLA","ATLETICA TRISSINO",1966,"F","ABF"]
[4187,"BIASIOLO","RICCARDO","ATLETICA TRISSINO",2007,"M","EM"]
[4188,"BRESSAN","ALICE","ATLETICA TRISSINO",2005,"F","RF"]
[4189,"BUSATO","GIOVANNI","ATLETICA TRISSINO",2001,"M","AM"]
[4190,"CAILOTTO","DAVIDE","ATLETICA TRISSINO",1998,"M","JM"]
[4191,"CAILOTTO","NEREO","ATLETICA TRISSINO",1962,"M","VM"]
[4192,"CAILOTTO","SIMONE","ATLETICA TRISSINO",1991,"M","SM"]
[4193,"CAZZOLA","DAVIDE","ATLETICA TRISSINO",1965,"M","ABM"]
[4194,"CENZATO","ALICE","ATLETICA TRISSINO",2001,"F","AF"]
[4195,"CORNEDI","ANNAMARIA","ATLETICA TRISSINO",1955,"F","VF"]
[4196,"GRIGOLATO","MATTEO","ATLETICA TRISSINO",2001,"M","AM"]
[4197,"LORENZI","ANITA","ATLETICA TRISSINO",2002,"F","CF"]
[4198,"MASIERO","RICCARDO","ATLETICA TRISSINO",2005,"M","RM"]
[4199,"MASSIGNAN","LUIGI","ATLETICA TRISSINO",1956,"M","VM"]
[4200,"MEGGIOLARO","DEBORAH","ATLETICA TRISSINO",1995,"F","SF"]
[4201,"MEGGIOLARO","FILIPPO","ATLETICA TRISSINO",1998,"M","JM"]
[4202,"PELLIZZARO","FABIO","ATLETICA TRISSINO",1997,"M","SM"]
[4203,"PERON","ROBERTO","ATLETICA TRISSINO",1965,"M","ABM"]
[4204,"SABBADINI","SIMONE","ATLETICA TRISSINO",2001,"M","AM"]
[4205,"SAVEGNAGO","GIOVANNI","ATLETICA TRISSINO",2007,"M","EM"]
[4206,"SEGATO","EMY","ATLETICA TRISSINO",2005,"F","RF"]
[4207,"SEGATO","ERJA","ATLETICA TRISSINO",2001,"F","AF"]
[4208,"SEGATO","MORENO","ATLETICA TRISSINO",1970,"M","ABM"]
[4209,"VERONESE","ELENA","ATLETICA TRISSINO",2006,"F","EF"]
[4210,"PASETTI","ANGELA","ATLETICA TRISSINO",2003,"F","CF"]
[4211,"GENTILIN","ALESSIA","ATLETICA TRISSINO",2004,"F","RF"]
[4212,"GENTILIN","SILVANO","ATLETICA TRISSINO",1960,"M","VM"]
[4215,"OGOH","GENEVIEVE","ATLETICA TRISSINO",2005,"F","RF"]
[4216,"REFOSCO","AGNESE LUCIA CLOTILDE","ATLETICA TRISSINO",2004,"F","RF"]
[4217,"ZAMBERLAN","LORENZO","ATLETICA TRISSINO",2007,"M","EM"]
[4218,"PERUFFO","AGNESE","ATLETICA TRISSINO",1984,"F","SF"]
[4219,"PIPPA","TOMMASO","ATLETICA TRISSINO",2007,"M","EM"]
[4222,"SATOLLI","CRISTINA","A.P.D. VALDAGNO",1971,"F","ABF"]
[4225,"ALBANESE","IVAN","A.P.D. VALDAGNO",2003,"M","CM"]
[4226,"BARATTINI","EMMA","A.P.D. VALDAGNO",2004,"F","RF"]
[4227,"BARATTINI","FRANCESCO","A.P.D. VALDAGNO",2000,"M","AM"]
[4228,"BARATTINI","FRANCO","A.P.D. VALDAGNO",1961,"M","VM"]
[4229,"BARATTINI","GIULIA","A.P.D. VALDAGNO",2003,"F","CF"]
[4230,"BESCO","NICOLE","A.P.D. VALDAGNO",2006,"F","EF"]
[4231,"BOCCADAMO","MICHELE","A.P.D. VALDAGNO",2005,"M","RM"]
[4232,"CANEPA","ANGELICA","A.P.D. VALDAGNO",2006,"F","EF"]
[4233,"CANISTRI","MARCO","A.P.D. VALDAGNO",1976,"M","AAM"]
[4234,"CARIOLATO","GIACOMO","A.P.D. VALDAGNO",2004,"M","RM"]
[4235,"CARIOLATO","GUIDO","A.P.D. VALDAGNO",1971,"M","ABM"]
[4236,"CARIOLATO","MATTEO","A.P.D. VALDAGNO",2001,"M","AM"]
[4237,"COCCO","LUCA","A.P.D. VALDAGNO",1999,"M","JM"]
[4238,"COCCO","LUCIANO","A.P.D. VALDAGNO",1965,"M","ABM"]
[4239,"CROTONE","BENEDETTA","A.P.D. VALDAGNO",2002,"F","CF"]
[4240,"DELL'ANDREA","MARIA","A.P.D. VALDAGNO",2001,"F","AF"]
[4241,"FORNASA","GIORDAN","A.P.D. VALDAGNO",2000,"M","AM"]
[4242,"FURLATO","LUIGINA","A.P.D. VALDAGNO",1966,"F","ABF"]
[4243,"NOVELLO","GIORDANO","A.P.D. VALDAGNO",1972,"M","ABM"]
[4244,"NOVELLO","NICOLA","A.P.D. VALDAGNO",2004,"M","RM"]
[4245,"PERUZZI","ANITA","A.P.D. VALDAGNO",2008,"F","ATL"]
[4246,"RENIERO","LINDA","A.P.D. VALDAGNO",2001,"F","AF"]
[4247,"ROSSATO","ERIKA","A.P.D. VALDAGNO",2001,"F","AF"]
[4248,"ROZZI","GIULIA","A.P.D. VALDAGNO",2000,"F","AF"]
[4249,"SANDRI","SAMS FRANCESCO","A.P.D. VALDAGNO",2002,"M","CM"]
[4250,"SILVESTRI","BISUT","A.P.D. VALDAGNO",2002,"M","CM"]
[4251,"SOLIMAN","SOFIA","A.P.D. VALDAGNO",2003,"F","CF"]
[4252,"TOMASI DA COSTA","JOAO HENRIQUE","A.P.D. VALDAGNO",2003,"M","CM"]
[4253,"TOMIO","ELISABETTA","A.P.D. VALDAGNO",2003,"F","CF"]
[4254,"TOMIO","GIORGIA","A.P.D. VALDAGNO",2003,"F","CF"]
[4255,"TOVO","FRANCESCA","A.P.D. VALDAGNO",2001,"F","AF"]
[4256,"VENCATO","ALESSANDRO","A.P.D. VALDAGNO",2001,"M","AM"]
[4257,"ZORDAN","SIMONE","A.P.D. VALDAGNO",2004,"M","RM"]
[4260,"MARASCHIN","GIOVANNI","A.P.D. VALDAGNO",2004,"M","RM"]
[4261,"MARASCHIN","LEONARDO","A.P.D. VALDAGNO",2008,"M","ATL"]
[4262,"ZANUSO","CRISTINA","A.P.D. VALDAGNO",1994,"F","SF"]
[4263,"BENETTI","DAVIDE","A.P.D. VALDAGNO",2009,"M","ATL"]
[4264,"BRAGGION","FRANCESCO","A.P.D. VALDAGNO",2005,"M","RM"]
[4265,"BRUGNOLO","NICOLA","A.P.D. VALDAGNO",2007,"M","EM"]
[4266,"CARIOLATO","ELISA","A.P.D. VALDAGNO",2000,"F","AF"]
[4267,"CEOLA","MARCO","A.P.D. VALDAGNO",1973,"M","AAM"]
[4268,"CRACCO","FILIPPO","A.P.D. VALDAGNO",2004,"M","RM"]
[4269,"DANESE","MARY","A.P.D. VALDAGNO",2000,"F","AF"]
[4270,"LOVATO","NOEMI SOFIA","A.P.D. VALDAGNO",2006,"F","EF"]
[4271,"PELOSO","DAVIDE","A.P.D. VALDAGNO",2004,"M","RM"]
[4272,"PERIPOLLI","MATILDA","A.P.D. VALDAGNO",2008,"F","ATL"]
[4273,"PETRELLA","ANDREA","A.P.D. VALDAGNO",2004,"M","RM"]
[4274,"BATISTA PINHETO","MARCIO FELIPE","A.P.D. VALDAGNO",2002,"M","CM"]
[4275,"PIZZOLATO","ALICE","A.P.D. VALDAGNO",2007,"F","EF"]
[4276,"PIZZOLATO","NICOLã","A.P.D. VALDAGNO",2008,"M","ATL"]
[4277,"PRETTO","MELISSA","A.P.D. VALDAGNO",2008,"F","ATL"]
[4278,"PRETTO","SEBASTIANO","A.P.D. VALDAGNO",2008,"M","ATL"]
[4279,"SANTAGIULIANA","ETTORE","A.P.D. VALDAGNO",2006,"M","EM"]
[4280,"SANTAGIULIANA","VITTORIO","A.P.D. VALDAGNO",1998,"M","JM"]
[4282,"BISORTOLE","GIULIA","A.P.D. VALDAGNO",2002,"F","CF"]
[4283,"BISORTOLE","SUSANNA","A.P.D. VALDAGNO",2006,"F","EF"]
[4284,"ERLE","MARIA CHIARA ERICA","A.P.D. VALDAGNO",2002,"F","CF"]
[4285,"KOUAKOU","MOILLET","A.P.D. VALDAGNO",1999,"F","JF"]
[4286,"NOVELLO","LUCA","A.P.D. VALDAGNO",2007,"M","EM"]
[4287,"NOVELLO","VALENTINA","A.P.D. VALDAGNO",2009,"F","ATL"]
[4288,"PACE","CRISTIAN LUCIANO","A.P.D. VALDAGNO",2009,"M","ATL"]
[4289,"PERANZANI","MARINA","A.P.D. VALDAGNO",1967,"F","ABF"]
[4290,"SOLDA","DARIA","A.P.D. VALDAGNO",1989,"F","SF"]
[4291,"BERNARDI","GIACOMO","U.S. SUMMANO",1999,"M","JM"]
[4292,"GASPARELLA","PIERANTONIO","U.S. SUMMANO",1971,"M","ABM"]
[4293,"FACCIN","MARIA","U.S. SUMMANO",2002,"F","CF"]
[4294,"CREMASCO","GLORIA","U.S. SUMMANO",2002,"F","CF"]
[4295,"VOGLI","GIULIA","U.S. SUMMANO",2003,"F","CF"]
[4296,"CASTELLO","SABRINA","U.S. SUMMANO",1970,"F","ABF"]
[4297,"APOLLONI","JASMINE","U.S. SUMMANO",2005,"F","RF"]
[4298,"ZATTRA","MATTEO","U.S. SUMMANO",2006,"M","EM"]
[4299,"GREGORI","RICCARDO","U.S. SUMMANO",2002,"M","CM"]
[4300,"GREGORI","NICOLã","U.S. SUMMANO",2006,"M","EM"]
[4301,"BATTISTELLO","SOFIA","U.S. SUMMANO",2004,"F","RF"]
[4302,"VALLE","MATTIA","U.S. SUMMANO",2004,"M","RM"]
[4303,"DAL SANTO","ANNA","U.S. SUMMANO",2005,"F","RF"]
[4304,"BERTOLDO","ARIANNA","U.S. SUMMANO",2000,"F","AF"]
[4305,"DAL SANTO","JESSICA","U.S. SUMMANO",2001,"F","AF"]
[4306,"DAL SANTO","FRANCESCA","U.S. SUMMANO",2001,"F","AF"]
[4307,"CERATO","LAURA","U.S. SUMMANO",2002,"F","CF"]
[4308,"LONEDO","REBECCA","POLISPORTIVA DUEVILLE",1996,"F","SF"]
[4309,"SACCARDO","SILVANO","POLISPORTIVA DUEVILLE",1969,"M","ABM"]
[4310,"ROSSI","MATTEO","POLISPORTIVA DUEVILLE",2005,"M","RM"]
[4311,"BRAZZALE","LUCA","POLISPORTIVA DUEVILLE",1973,"M","AAM"]
[4319,"KALLAKU","OLENA","GRUPPO SPORTIVO ALPINI VICENZA",2005,"F","RF"]
[4320,"ZADRA","FRANCESCO","GRUPPO SPORTIVO ALPINI VICENZA",2004,"M","RM"]
[4321,"AZZOLIN","GIANNINA","GRUPPO SPORTIVO ALPINI VICENZA",1961,"F","VF"]
[4322,"FEDELI","MARCO","GRUPPO SPORTIVO ALPINI VICENZA",1995,"M","SM"]
[4324,"BAGGIO","BEATRICE","C.S.I. TEZZE SUL BRENTA",2005,"F","RF"]
[4325,"BAGGIO","ELEONORA","C.S.I. TEZZE SUL BRENTA",2003,"F","CF"]
[4326,"BEZZOLATO","SALLY","C.S.I. TEZZE SUL BRENTA",2003,"F","CF"]
[4327,"BORDIGNON","SOFIA","C.S.I. TEZZE SUL BRENTA",2003,"F","CF"]
[4328,"CUCCAROLLO","FAUSTO","C.S.I. TEZZE SUL BRENTA",1984,"M","SM"]
[4329,"GONZATO","CHIARA","C.S.I. TEZZE SUL BRENTA",1999,"F","JF"]
[4330,"LAGO","ANDREA","C.S.I. TEZZE SUL BRENTA",1995,"M","SM"]
[4331,"NWACHUKWU","GHANDY","C.S.I. TEZZE SUL BRENTA",2003,"F","CF"]
[4332,"NWACHUKWU","GIFT CHUKWUDI","C.S.I. TEZZE SUL BRENTA",1998,"M","JM"]
[4333,"TODESCO","FEDERICO","C.S.I. TEZZE SUL BRENTA",2003,"M","CM"]
[4334,"TURETTA","MATTEO","C.S.I. TEZZE SUL BRENTA",2004,"M","RM"]
[4335,"JENDOUBI","LINDA","C.S.I. TEZZE SUL BRENTA",2005,"F","RF"]
[4336,"GIROLIMETTO","FEDERICO","C.S.I. TEZZE SUL BRENTA",2003,"M","CM"]
[4340,"NICOLETTI","CHIARA","U.S. SUMMANO",2003,"F","CF"]
[4341,"BRIGO","LORENZO","U.S. SUMMANO",2004,"M","RM"]
[4342,"LIEVORE","MARTINA","U.S. SUMMANO",2005,"F","RF"]
[4343,"GRESELIN","MARTINA","RISORGIVE",1998,"F","JF"]
[4352,"BOCCONCELLO","NICOLA","ATLETICA UNION CREAZZO",1998,"M","JM"]
[4353,"CHEPIL","ARTEM","ATLETICA UNION CREAZZO",1997,"M","SM"]
[4354,"CONFESSA","EDGARDO","ATLETICA UNION CREAZZO",1978,"M","AAM"]
[4355,"GIACOMAZZI","GIOVANNI","ATLETICA UNION CREAZZO",1953,"M","VM"]
[4356,"MUNARI","CHIARA ALBA","ATLETICA UNION CREAZZO",2001,"F","AF"]
[4357,"CAVAGGION","DANIELE","ATLETICA UNION CREAZZO",2005,"M","RM"]
[4358,"MARCHESE","MATTIA","ATLETICA UNION CREAZZO",2006,"M","EM"]
[4359,"MIETTO","ANDREA","ATLETICA UNION CREAZZO",2002,"M","CM"]
[4360,"MARTELLO","ALESSANDRO","ATLETICA UNION CREAZZO",2007,"M","EM"]
[4361,"GARABUNATO","MAURIZIO","SPAZI VERDI",1974,"M","AAM"]
[4362,"CARRARO","LUCA","SPAZI VERDI",2002,"M","CM"]
[4363,"PETTINA'","ELIA","SPAZI VERDI",2005,"M","RM"]
[4364,"IANNOTTI","EDOARDO","SPAZI VERDI",2008,"M","ATL"]
[4366,"BIASI","MARCO","SPAZI VERDI",2008,"M","ATL"]
[4368,"ANDREIN","GIULIA","POLISPORTIVA DUEVILLE",2002,"F","CF"]
[4370,"CASILLO","FRANCESCO","ATLETICA ARZIGNANO",1973,"M","AAM"]
[4371,"MARCIGAGLIA","DAVIDE","ATLETICA ARZIGNANO",2003,"M","CM"]
[4372,"BARBIERO","ROBERTO","CSI ATLETICA COLLI BERICI",1964,"M","ABM"]
[4373,"BISOGNIN","GEREMIA","CSI ATLETICA COLLI BERICI",1988,"M","SM"]
[4374,"COCCO","CARLO","CSI ATLETICA COLLI BERICI",1960,"M","VM"]
[4375,"MAGRIN","PIETRO","CSI ATLETICA COLLI BERICI",1961,"M","VM"]
[4376,"TOSETTO","GIOVANNA","CSI ATLETICA COLLI BERICI",1961,"F","VF"]
[4377,"AIT  ALI","SARA","CSI ATLETICA COLLI BERICI",2005,"F","RF"]
[4378,"ASSAM","FAIZA","CSI ATLETICA COLLI BERICI",2003,"F","CF"]
[4379,"ASSAM","SALIHA","CSI ATLETICA COLLI BERICI",2003,"F","CF"]
[4380,"COSTA","ISABEL","CSI ATLETICA COLLI BERICI",2005,"F","RF"]
[4381,"COSTALUNGA","PIERSEBASTIANO","CSI ATLETICA COLLI BERICI",2002,"M","CM"]
[4382,"COVOLO","SARA","CSI ATLETICA COLLI BERICI",2003,"F","CF"]
[4383,"DAL MASO","LUCIA","CSI ATLETICA COLLI BERICI",2003,"F","CF"]
[4384,"DAL MASO","VALENTINA","CSI ATLETICA COLLI BERICI",2000,"F","AF"]
[4385,"DE MORI","MARTIN","CSI ATLETICA COLLI BERICI",2005,"M","RM"]
[4386,"FAGGIN","CARLA","CSI ATLETICA COLLI BERICI",1960,"F","VF"]
[4387,"FATTORI","MIRCO","CSI ATLETICA COLLI BERICI",1990,"M","SM"]
[4388,"FERIANI","CHIARA","CSI ATLETICA COLLI BERICI",2005,"F","RF"]
[4389,"FIORESE","ANNA","CSI ATLETICA COLLI BERICI",2003,"F","CF"]
[4390,"HORATZ","ANNA","CSI ATLETICA COLLI BERICI",2003,"F","CF"]
[4391,"LAKOUIR","BOUAZZA","CSI ATLETICA COLLI BERICI",2002,"M","CM"]
[4392,"MARANGON","PIETRO","CSI ATLETICA COLLI BERICI",2001,"M","AM"]
[4393,"MATTIAZZI","MARTINO","CSI ATLETICA COLLI BERICI",2006,"M","EM"]
[4394,"NICO","BRIAN SEVERINO","CSI ATLETICA COLLI BERICI",1999,"M","JM"]
[4395,"SALA","GIOELE","CSI ATLETICA COLLI BERICI",2006,"M","EM"]
[4396,"SEMENZATO","IRENE","CSI ATLETICA COLLI BERICI",2003,"F","CF"]
[4397,"SEMENZATO","ELISA","CSI ATLETICA COLLI BERICI",2005,"F","RF"]
[4398,"SILO","GIADA","CSI ATLETICA COLLI BERICI",2007,"F","EF"]
[4399,"SINIGAGLIA","DAVIDE","CSI ATLETICA COLLI BERICI",1995,"M","SM"]
[4400,"SPEROTTO","MAURIZIO","CSI ATLETICA COLLI BERICI",1957,"M","VM"]
[4401,"STEFANI","ALESSANDRO","CSI ATLETICA COLLI BERICI",1997,"M","SM"]
[4402,"TOGNETTI","CRISTIANO","CSI ATLETICA COLLI BERICI",2006,"M","EM"]
[4403,"TOMBOLAN","SIMONE","CSI ATLETICA COLLI BERICI",1999,"M","JM"]
[4404,"TOSETTO","MARIA EUGENIA","CSI ATLETICA COLLI BERICI",1955,"F","VF"]
[4405,"VALLORTIGARA","SIMONE","CSI ATLETICA COLLI BERICI",2007,"M","EM"]
[4406,"GREGGIO","MADDALENA","CSI ATLETICA COLLI BERICI",2003,"F","CF"]
[4407,"ROSSI","NICOLã","ATLETICA UNION CREAZZO",2007,"M","EM"]
[4408,"PICARIELLO","ANGELA","GRUPPO SPORTIVO ALPINI VICENZA",2006,"F","EF"]
[4409,"ZUCCON","SARA","GRUPPO SPORTIVO ALPINI VICENZA",2007,"F","EF"]
[4410,"MANCONI","ELEONORA","GRUPPO SPORTIVO ALPINI VICENZA",2005,"F","RF"]
[4411,"APICELLA","SAMUELE","ATLETICA CALDOGNO '93",2003,"M","CM"]
[4412,"BALDINAZZO","ALESSIO FRANCESCO","ATLETICA CALDOGNO '93",2006,"M","EM"]
[4413,"BASSO","PIETRO","ATLETICA CALDOGNO '93",2003,"M","CM"]
[4414,"CALALAY","MARINA","ATLETICA CALDOGNO '93",1972,"F","ABF"]
[4415,"CARIOLATO","MARCO","ATLETICA CALDOGNO '93",2003,"M","CM"]
[4416,"CIVOLANI","FABRIZIO","ATLETICA CALDOGNO '93",1955,"M","VM"]
[4417,"COLPO","ELIA","ATLETICA CALDOGNO '93",2003,"M","CM"]
[4419,"SARTORI","FRANCESCO","ATLETICA CALDOGNO '93",1984,"M","SM"]
[4420,"SBABO","DAVIDE","ATLETICA CALDOGNO '93",1981,"M","AAM"]
[4449,"SCHIAVO","SIMONE","ATLETICA TRISSINO",2006,"M","EM"]
[4494,"BOCCADAMO","GABRIELE","A.P.D. VALDAGNO",1998,"M","JM"]
[4495,"CELOTTO","ELENA","A.P.D. VALDAGNO",1998,"F","JF"]
[4496,"IENG","DAUDA","A.P.D. VALDAGNO",1990,"M","SM"]
[4497,"MARKOVIC","MIRKO","A.P.D. VALDAGNO",2007,"M","EM"]
[4498,"SANTAGIULIANA","ALESSANDRO","A.P.D. VALDAGNO",2004,"M","RM"]
[4560,"AIT ALI","IMAN","CSI ATLETICA COLLI BERICI",2000,"F","AF"]
[4561,"ALECCI","ALICE","CSI ATLETICA COLLI BERICI",2003,"F","CF"]
[4562,"ANGELOSANTO","CATERINA","CSI ATLETICA COLLI BERICI",2005,"F","RF"]
[4563,"ANGELOSANTO","CECILIA","CSI ATLETICA COLLI BERICI",2008,"F","ATL"]
[4564,"ANTONELLO","YASIN","CSI ATLETICA COLLI BERICI",2004,"M","RM"]
[4565,"ANTONELLO","ANAS","CSI ATLETICA COLLI BERICI",2002,"M","CM"]
[4566,"BISARELLO","FLORIANO","CSI ATLETICA COLLI BERICI",1963,"M","ABM"]
[4567,"BURS","RAUL SEBASTIAN","CSI ATLETICA COLLI BERICI",2001,"M","AM"]
[4568,"COMPARIN","IRENE","CSI ATLETICA COLLI BERICI",2002,"F","CF"]
[4569,"CRIVELLARO","MATTIA","CSI ATLETICA COLLI BERICI",1991,"M","SM"]
[4571,"DE NICOLAO","BARBARA","CSI ATLETICA COLLI BERICI",1960,"F","VF"]
[4572,"DONADELLO","NICOLO'","CSI ATLETICA COLLI BERICI",1999,"M","JM"]
[4573,"DRESSENO","ANGELA MARIA","CSI ATLETICA COLLI BERICI",2004,"F","RF"]
[4574,"FACCIN","STELLA","CSI ATLETICA COLLI BERICI",2004,"F","RF"]
[4576,"FERIANI","FRANCESCA","CSI ATLETICA COLLI BERICI",2002,"F","CF"]
[4577,"FIORASO","ANTON","CSI ATLETICA COLLI BERICI",2004,"M","RM"]
[4578,"GOTTER","TAMARA","CSI ATLETICA COLLI BERICI",2006,"F","EF"]
[4579,"JANKOVIC","DENIS","CSI ATLETICA COLLI BERICI",2002,"M","CM"]
[4580,"MAGRIN","ALESSIA","CSI ATLETICA COLLI BERICI",2000,"F","AF"]
[4581,"MARCHIORO","FILIPPO","CSI ATLETICA COLLI BERICI",2005,"M","RM"]
[4582,"MARCHIORO","FABIO","CSI ATLETICA COLLI BERICI",2003,"M","CM"]
[4583,"MAZZARETTO","YURE","CSI ATLETICA COLLI BERICI",2000,"M","AM"]
[4584,"MILAN","ANTONIO","CSI ATLETICA COLLI BERICI",1970,"M","ABM"]
[4585,"MORONI","ELEONORA","CSI ATLETICA COLLI BERICI",2001,"F","AF"]
[4586,"MULLAH","NAHED","CSI ATLETICA COLLI BERICI",1998,"M","JM"]
[4587,"MULLAH","REDOY","CSI ATLETICA COLLI BERICI",1997,"M","SM"]
[4588,"MURARO","LETIZIA","CSI ATLETICA COLLI BERICI",2004,"F","RF"]
[4589,"MURARO","ALESSANDRO","CSI ATLETICA COLLI BERICI",2005,"M","RM"]
[4590,"OFOSU","STEFANIA AMANKWAH","CSI ATLETICA COLLI BERICI",2004,"F","RF"]
[4591,"SAVIANO","LEONARDO EROS","CSI ATLETICA COLLI BERICI",2004,"M","RM"]
[4592,"SEGANFREDO","LUCA","CSI ATLETICA COLLI BERICI",1999,"M","JM"]
[4593,"THIONGANE","MATY","CSI ATLETICA COLLI BERICI",2001,"F","AF"]
[4594,"TOGNAZZO","ANGELA","CSI ATLETICA COLLI BERICI",1966,"F","ABF"]
[4595,"VALLORTIGARA","ELENA","CSI ATLETICA COLLI BERICI",2004,"F","RF"]
[4596,"VICENTINI","ELIA","CSI ATLETICA COLLI BERICI",2007,"M","EM"]
[4597,"VICENTINI","PIETRO","CSI ATLETICA COLLI BERICI",2009,"M","ATL"]
[4598,"VISENTIN","FILIPPO ANTONIO","CSI ATLETICA COLLI BERICI",2003,"M","CM"]
[4599,"VISENTIN","IVAN","CSI ATLETICA COLLI BERICI",2007,"M","EM"]
[4600,"ZALTRON","MATTIA","CSI ATLETICA COLLI BERICI",1999,"M","JM"]
[4601,"ZANOTTO","GAIA","CSI ATLETICA COLLI BERICI",2003,"F","CF"]
[4602,"ZANTEDESCHI","ELISABETTA","CSI ATLETICA COLLI BERICI",2004,"F","RF"]
[4603,"ZIVOJINOVIC","MILAN","CSI ATLETICA COLLI BERICI",2001,"M","AM"]
[4604,"ZONCATO","GIACOMO","CSI ATLETICA COLLI BERICI",2008,"M","ATL"]
[4605,"RAFFAELLO","EMANUELE","CSI ATLETICA COLLI BERICI",2005,"M","RM"]
[4606,"FIORESE","RICCARDO","CSI ATLETICA COLLI BERICI",2007,"M","EM"]
[4607,"GUGLIELMI","DOMENICO","CSI ATLETICA COLLI BERICI",1957,"M","VM"]
[4608,"ZANON","TOMMASO","CSI ATLETICA COLLI BERICI",2007,"M","EM"]
[4609,"VACCARIN","DAVIDE","CSI ATLETICA COLLI BERICI",2004,"M","RM"]
[4610,"RONCAGLIA","MASSIMO","GRUPPO SPORTIVO ALPINI VICENZA",1968,"M","ABM"]
[4717,"SANSON","GIULIA","POL. DIL. MONTECCHIO PRECALCINO",2002,"F","CF"]
[4718,"PASIN","MARGHERITA","ATLETICA VALCHIAMPO",1960,"F","VF"]
[4719,"ZORDAN","LISA","ATLETICA VALCHIAMPO",1982,"F","AAF"]
[4720,"ZORZI","MARIO","ATLETICA VALCHIAMPO",1950,"M","VM"]
[4750,"GIANELLO","EVELIN","ATLETICA UNION CREAZZO",1971,"F","ABF"]
[4751,"MASSAUA","NICOLA","ATLETICA UNION CREAZZO",2004,"M","RM"]
[4752,"FIN","VERONICA","ATLETICA UNION CREAZZO",2004,"F","RF"]
[4753,"DE ROSSI","ALESSIO","ATLETICA UNION CREAZZO",1985,"M","SM"]
[4754,"SPILLER","CRISTIANO","ATLETICA UNION CREAZZO",1977,"M","AAM"]
[4757,"MENEGOTTO","FABIO","VALLI DEL PASUBIO",1973,"M","AAM"]
[4769,"RODA","ALEX","G.S. LEONICENA",2001,"M","AM"]
[4818,"GUERRA","LUCA","POL. DIL. MONTECCHIO PRECALCINO",1988,"M","SM"]
[4848,"BEN RAJHI","SOFIA ALJIA","ATLETICA CALDOGNO '93",2006,"F","EF"]
[4849,"BOTTESIN","CRISTIAN","ATLETICA CALDOGNO '93",2003,"M","CM"]
[4850,"BOTTESIN","GLORIA","ATLETICA CALDOGNO '93",2006,"F","EF"]
[4852,"RUFFILLI","MORGAN","ATLETICA CALDOGNO '93",2006,"M","EM"]
[4855,"FRIGO","ANTONIO PAOLO","ATLETICA CALDOGNO '93",1964,"M","ABM"]
[4856,"LOVATO","REGINA","ATLETICA ARZIGNANO",1971,"F","ABF"]
[4859,"CAVEDON","WALTER","SPAZI VERDI",1973,"M","AAM"]
[4861,"VEZZARO","RENZO","SPAZI VERDI",1952,"M","VM"]
[4862,"BEGHETTO","BARBARA","POLISPORTIVA SALF ALTOPADOVANA",1966,"F","ABF"]
[4863,"CECCHELE","ANNA","POLISPORTIVA SALF ALTOPADOVANA",1991,"F","SF"]
[4864,"DE POLI","ORMISDA","POLISPORTIVA SALF ALTOPADOVANA",1964,"M","ABM"]
[4865,"LORENZIN","FRANCESCO","POLISPORTIVA SALF ALTOPADOVANA",1991,"M","SM"]
[4866,"SILVELLO","FRANCO","POLISPORTIVA SALF ALTOPADOVANA",1966,"M","ABM"]
[4868,"MUNICELLA","GAIA","C.S.I. TEZZE SUL BRENTA",1992,"F","SF"]
[4869,"SUELOTTO","SOFIA","C.S.I. TEZZE SUL BRENTA",2000,"F","AF"]
[4870,"MARON","FABIO","RISORGIVE",1978,"M","AAM"]
[4871,"MARON","DIEGO","RISORGIVE",1984,"M","SM"]
[4888,"BLANDINA","FRANCESCO","ATLETICA VALCHIAMPO",1976,"M","AAM"]
[4889,"NEGRO","MARCO","ATLETICA VALCHIAMPO",2003,"M","CM"]
[4890,"NEGRO","SIMONE","ATLETICA VALCHIAMPO",2007,"M","EM"]
[4893,"ROSSETTI","SEBASTIAN","ATLETICA ARZIGNANO",2005,"M","RM"]
[4894,"ROSSETTI","FABIO","ATLETICA ARZIGNANO",2007,"M","EM"]
[4897,"ANDRETTA","ALBERTO","POLISPORTIVA SALF ALTOPADOVANA",2003,"M","CM"]
[4898,"BARIN","MATTEO","POLISPORTIVA SALF ALTOPADOVANA",2002,"M","CM"]
[4899,"BARIN","ALICE","POLISPORTIVA SALF ALTOPADOVANA",2005,"F","RF"]
[4900,"CAMPORESE","SOFIA","POLISPORTIVA SALF ALTOPADOVANA",2005,"F","RF"]
[4901,"CARLI","MARTINA","POLISPORTIVA SALF ALTOPADOVANA",2005,"F","RF"]
[4902,"FRATTINI","TOMMASO","POLISPORTIVA SALF ALTOPADOVANA",2006,"M","EM"]
[4903,"GNOATTO","ALTEA","POLISPORTIVA SALF ALTOPADOVANA",2004,"F","RF"]
[4904,"LAGO","JONNY","POLISPORTIVA SALF ALTOPADOVANA",2003,"M","CM"]
[4905,"LIVIERO","LUCA","POLISPORTIVA SALF ALTOPADOVANA",2003,"M","CM"]
[4906,"LORENZIN","LUNA ESTER","POLISPORTIVA SALF ALTOPADOVANA",2005,"F","RF"]
[4907,"PAVAN","MARTINA","POLISPORTIVA SALF ALTOPADOVANA",2001,"F","AF"]
[4908,"PAVAN","IRENE","POLISPORTIVA SALF ALTOPADOVANA",2005,"F","RF"]
[4909,"RACCHELLA","LEONARDO","POLISPORTIVA SALF ALTOPADOVANA",2005,"M","RM"]
[4910,"RACCHELLA","GIOVANNI","POLISPORTIVA SALF ALTOPADOVANA",2007,"M","EM"]
[4911,"RUFFATO","LISA","POLISPORTIVA SALF ALTOPADOVANA",2005,"F","RF"]
[4912,"SPESSATO","MATTIA","POLISPORTIVA SALF ALTOPADOVANA",2005,"M","RM"]
[4913,"CAMPORESE","EVA","POLISPORTIVA SALF ALTOPADOVANA",2005,"F","RF"]
[4914,"LORENZIN","RICCARDO","POLISPORTIVA SALF ALTOPADOVANA",2007,"M","EM"]
[4915,"ZURLO","RICCARDO","POLISPORTIVA SALF ALTOPADOVANA",2008,"M","ATL"]
[4916,"LAGO","DILETTA","POLISPORTIVA SALF ALTOPADOVANA",2005,"F","RF"]
[4917,"PETTENUZZO","GIACOMO","POLISPORTIVA SALF ALTOPADOVANA",2000,"M","AM"]
[4918,"BERTONCELLO","MIRKO","POLISPORTIVA SALF ALTOPADOVANA",2006,"M","EM"]
[4919,"SECURO","SARA","POLISPORTIVA SALF ALTOPADOVANA",2008,"F","ATL"]
[4920,"VALLISARI","FRANCESCA","ATLETICA ARZIGNANO",1983,"F","SF"]
[4921,"TIRAPELLE","LORENZO","ATLETICA UNION CREAZZO",2000,"M","AM"]
[4922,"BARANOV","MIHAELA","ATLETICA UNION CREAZZO",2003,"F","CF"]
[4925,"ANTIC","DANIJEL","POLISPORTIVA DUEVILLE",2005,"M","RM"]
[4927,"BARCARO","STEFANO","POLISPORTIVA DUEVILLE",2001,"M","AM"]
[4928,"BARUSSE","MANUEL","POLISPORTIVA DUEVILLE",1984,"M","SM"]
[4929,"BORGO","CATERINA","POLISPORTIVA DUEVILLE",1966,"F","ABF"]
[4930,"BORTOLI","ANNA","POLISPORTIVA DUEVILLE",1994,"F","SF"]
[4931,"BORTOLI","LUCIA AGNESE","POLISPORTIVA DUEVILLE",1972,"F","ABF"]
[4932,"CALANDRA","LORENZO","POLISPORTIVA DUEVILLE",1989,"M","SM"]
[4933,"CAPRARO","NICOLA","POLISPORTIVA DUEVILLE",1992,"M","SM"]
[4934,"CAROLLO","SARA","POLISPORTIVA DUEVILLE",1989,"F","SF"]
[4935,"CASAGRANDE","ANDREA","POLISPORTIVA DUEVILLE",1982,"M","AAM"]
[4937,"DAL FERRO","ALESSANDRO","POLISPORTIVA DUEVILLE",1976,"M","AAM"]
[4938,"DAL FERRO","LORENZA","POLISPORTIVA DUEVILLE",1962,"F","VF"]
[4939,"DE ROSSO","ERIKA","POLISPORTIVA DUEVILLE",1981,"F","AAF"]
[4940,"DE SANTI","LARA","POLISPORTIVA DUEVILLE",1983,"F","SF"]
[4941,"DE TOMASI","ALEX","POLISPORTIVA DUEVILLE",1987,"M","SM"]
[4942,"DE TOMASI","FABIO","POLISPORTIVA DUEVILLE",1983,"M","SM"]
[4943,"DE TOMASI","MATTEO","POLISPORTIVA DUEVILLE",1986,"M","SM"]
[4944,"DONA'","GIACOMO","POLISPORTIVA DUEVILLE",2003,"M","CM"]
[4945,"FARISATO","ROBERTA","POLISPORTIVA DUEVILLE",1967,"F","ABF"]
[4946,"FIN","MATTIA","POLISPORTIVA DUEVILLE",1999,"M","JM"]
[4947,"FONTANA","ANTONIO","POLISPORTIVA DUEVILLE",1970,"M","ABM"]
[4948,"FOSCARIN","NICOLA","POLISPORTIVA DUEVILLE",1984,"M","SM"]
[4949,"GUGLIELMI","ROGER","POLISPORTIVA DUEVILLE",1993,"M","SM"]
[4950,"MASTRAGOSTINO","FABIO","POLISPORTIVA DUEVILLE",1986,"M","SM"]
[4951,"MICHELETTO","ILARIA","POLISPORTIVA DUEVILLE",1986,"F","SF"]
[4952,"PACCAGNELLA","GLORIA","POLISPORTIVA DUEVILLE",1982,"F","AAF"]
[4953,"PERBELLINI","LARA","POLISPORTIVA DUEVILLE",2002,"F","CF"]
[4955,"PERUZZO","ANNA","POLISPORTIVA DUEVILLE",1982,"F","AAF"]
[4956,"PESAVENTO","ANDREA","POLISPORTIVA DUEVILLE",2005,"M","RM"]
[4957,"PILLAN","NICOLA","POLISPORTIVA DUEVILLE",1987,"M","SM"]
[4958,"SABADIN","FABIO","POLISPORTIVA DUEVILLE",1979,"M","AAM"]
[4959,"SORZATO","RAFFAELE","POLISPORTIVA DUEVILLE",1984,"M","SM"]
[4961,"VISONA'","FRANCO","POLISPORTIVA DUEVILLE",1983,"M","SM"]
[4962,"ZANINI","FILIPPO","POLISPORTIVA DUEVILLE",2005,"M","RM"]
[4965,"ANTONINI","ELENA","AMICI DELL'ATLETICA VICENZA",2004,"F","RF"]
[4966,"ANTONINI","KRISTIAN","AMICI DELL'ATLETICA VICENZA",2007,"M","EM"]
[4967,"ATTARDO PARRINELLO","DIEGO","AMICI DELL'ATLETICA VICENZA",2002,"M","CM"]
[4968,"BARBIERO","GIOVANNI","AMICI DELL'ATLETICA VICENZA",2004,"M","RM"]
[4969,"BARETTA","ALESSANDRO","AMICI DELL'ATLETICA VICENZA",2009,"M","ATL"]
[4970,"BASSAN","LUCA","AMICI DELL'ATLETICA VICENZA",2009,"M","ATL"]
[4971,"BEDIN","DANIELE","AMICI DELL'ATLETICA VICENZA",2010,"M","ATL"]
[4972,"BENETTI","ANDREA","AMICI DELL'ATLETICA VICENZA",2006,"M","EM"]
[4973,"BERTUZZO","EUGENIO","AMICI DELL'ATLETICA VICENZA",2005,"M","RM"]
[4974,"BERTUZZO","MARIA","AMICI DELL'ATLETICA VICENZA",2007,"F","EF"]
[4975,"BONALDI","FABIO","AMICI DELL'ATLETICA VICENZA",2004,"M","RM"]
[4976,"BORTOLOTTO","LORENZO","AMICI DELL'ATLETICA VICENZA",2010,"M","ATL"]
[4977,"BRESSAN","LEONARDO","AMICI DELL'ATLETICA VICENZA",2004,"M","RM"]
[4978,"BRUNETTO","RACHELE","AMICI DELL'ATLETICA VICENZA",2004,"F","RF"]
[4979,"BUSON","ENRICO","AMICI DELL'ATLETICA VICENZA",2009,"M","ATL"]
[4980,"BUSON","MATTIA","AMICI DELL'ATLETICA VICENZA",2007,"M","EM"]
[4981,"BUSON","NICOLA","AMICI DELL'ATLETICA VICENZA",1974,"M","AAM"]
[4982,"CAPPELLARO","ANITA","AMICI DELL'ATLETICA VICENZA",2008,"F","ATL"]
[4983,"CAPRARO","MARIA","AMICI DELL'ATLETICA VICENZA",2010,"F","ATL"]
[4984,"CAPUTO","FRANCESCO RUBEN","AMICI DELL'ATLETICA VICENZA",2005,"M","RM"]
[4985,"CASAROTTO","ANNA MICHELA","AMICI DELL'ATLETICA VICENZA",1969,"F","ABF"]
[4986,"CASAROTTO","GIOSUÔ","AMICI DELL'ATLETICA VICENZA",2001,"M","AM"]
[4987,"CASSAN","ASTER","AMICI DELL'ATLETICA VICENZA",2008,"F","ATL"]
[4988,"CASSAN","RAHEL","AMICI DELL'ATLETICA VICENZA",2007,"F","EF"]
[4989,"CEBOTARAS","ANDREEA","AMICI DELL'ATLETICA VICENZA",2003,"F","CF"]
[4990,"CECCATO","NICCOLO'","AMICI DELL'ATLETICA VICENZA",2009,"M","ATL"]
[4991,"CERA","MATILDE","AMICI DELL'ATLETICA VICENZA",2009,"F","ATL"]
[4992,"CERIN","MIRKO","AMICI DELL'ATLETICA VICENZA",2002,"M","CM"]
[4993,"CORSO","FILIPPO","AMICI DELL'ATLETICA VICENZA",2010,"M","ATL"]
[4994,"CORTIANA","ANDREA","AMICI DELL'ATLETICA VICENZA",2002,"M","CM"]
[4995,"CZARKOWSKI","NICHOLAS KEVIN","AMICI DELL'ATLETICA VICENZA",2005,"M","RM"]
[4996,"DAL BIANCO","VALERIA","AMICI DELL'ATLETICA VICENZA",1978,"F","AAF"]
[4997,"DALLA CROCE","MARGHERITA","AMICI DELL'ATLETICA VICENZA",2007,"F","EF"]
[4998,"DALLA MASSARA","NICOLA","AMICI DELL'ATLETICA VICENZA",2008,"M","ATL"]
[4999,"DE BIASI","ANTONIO","AMICI DELL'ATLETICA VICENZA",2005,"M","RM"]
[5000,"DE LORENZO","CHIARA SILVIA","AMICI DELL'ATLETICA VICENZA",2008,"F","ATL"]
[5001,"DOCIMO","FRANCESCO","AMICI DELL'ATLETICA VICENZA",2007,"M","EM"]
[5002,"EMBRINATI","CAMILLA","AMICI DELL'ATLETICA VICENZA",2009,"F","ATL"]
[5003,"FABRIS","ANNA","AMICI DELL'ATLETICA VICENZA",2007,"M","EM"]
[5004,"FABRIS","LEONARDO","AMICI DELL'ATLETICA VICENZA",2004,"M","RM"]
[5005,"FANCHIN","LAURA","AMICI DELL'ATLETICA VICENZA",1979,"F","AAF"]
[5006,"FANTIN","ALESSIA","AMICI DELL'ATLETICA VICENZA",2006,"F","EF"]
[5007,"FIGATTI","LUCA","AMICI DELL'ATLETICA VICENZA",2005,"M","RM"]
[5008,"GILETTI","MARCO","AMICI DELL'ATLETICA VICENZA",2008,"M","ATL"]
[5009,"GILETTI","PIETRO","AMICI DELL'ATLETICA VICENZA",2006,"M","EM"]
[5010,"LAMESSO","ENRICO","AMICI DELL'ATLETICA VICENZA",2006,"M","EM"]
[5012,"LONGHI","ANDREA","AMICI DELL'ATLETICA VICENZA",2009,"M","ATL"]
[5013,"LONGHI","MARCO","AMICI DELL'ATLETICA VICENZA",2005,"M","RM"]
[5014,"LONGHI","MATTIA","AMICI DELL'ATLETICA VICENZA",2001,"M","AM"]
[5015,"LONGHI","SARA","AMICI DELL'ATLETICA VICENZA",2007,"F","EF"]
[5016,"MACULAN","DAVIDE","AMICI DELL'ATLETICA VICENZA",2008,"M","ATL"]
[5017,"MAZZARO","VALENTINO","AMICI DELL'ATLETICA VICENZA",2009,"M","ATL"]
[5018,"MICHELINI","FILIPPO","AMICI DELL'ATLETICA VICENZA",2003,"M","CM"]
[5019,"MONTESI","SERENA","AMICI DELL'ATLETICA VICENZA",2004,"F","RF"]
[5020,"NASSI","DANIELE","AMICI DELL'ATLETICA VICENZA",2005,"M","RM"]
[5021,"PAPPACODA","FILIPPO","AMICI DELL'ATLETICA VICENZA",2010,"M","ATL"]
[5022,"PARZINI","LUCA","AMICI DELL'ATLETICA VICENZA",2009,"M","ATL"]
[5023,"PERCHINUMIO","MATTIA","AMICI DELL'ATLETICA VICENZA",2009,"M","ATL"]
[5024,"PICCOLO","ALESSANDRO","AMICI DELL'ATLETICA VICENZA",2002,"M","CM"]
[5025,"PICCOLO","MARCO","AMICI DELL'ATLETICA VICENZA",2008,"M","ATL"]
[5026,"PIETOSI","FILIPPO","AMICI DELL'ATLETICA VICENZA",2005,"M","RM"]
[5027,"PIZZATO","FRANCESCO","AMICI DELL'ATLETICA VICENZA",2004,"M","RM"]
[5028,"POSENATO","ELISA","AMICI DELL'ATLETICA VICENZA",1976,"F","AAF"]
[5029,"PRETO","NICOLA","AMICI DELL'ATLETICA VICENZA",2002,"M","CM"]
[5030,"RADOSEVIC","ANDJELA","AMICI DELL'ATLETICA VICENZA",2009,"M","ATL"]
[5031,"RANZOLIN","PIETRO","AMICI DELL'ATLETICA VICENZA",2009,"M","ATL"]
[5032,"RASOTTO","GABRIEL","AMICI DELL'ATLETICA VICENZA",2010,"M","ATL"]
[5033,"REMONATO","FILIPPO","AMICI DELL'ATLETICA VICENZA",2007,"M","EM"]
[5034,"REMONATO","GIANMARIA","AMICI DELL'ATLETICA VICENZA",1974,"M","AAM"]
[5035,"RIGONI","SILVIA","AMICI DELL'ATLETICA VICENZA",2010,"F","ATL"]
[5036,"SABBATINI","ELIA","AMICI DELL'ATLETICA VICENZA",2010,"M","ATL"]
[5037,"SALMASO","CHRISTIAN","AMICI DELL'ATLETICA VICENZA",2005,"M","RM"]
[5038,"SALMASO","IRENE","AMICI DELL'ATLETICA VICENZA",2008,"F","ATL"]
[5039,"SALVETTI","BRUNO","AMICI DELL'ATLETICA VICENZA",2006,"M","EM"]
[5040,"SARON","DIEGO ANDREA","AMICI DELL'ATLETICA VICENZA",2010,"M","ATL"]
[5041,"SARTORI","PAOLO","AMICI DELL'ATLETICA VICENZA",2006,"M","EM"]
[5042,"SAVIO","GIOVANNI","AMICI DELL'ATLETICA VICENZA",2007,"M","EM"]
[5043,"SCHIAVON","MATTEO","AMICI DELL'ATLETICA VICENZA",2002,"M","CM"]
[5044,"SCUDERI","MATTIA","AMICI DELL'ATLETICA VICENZA",2007,"M","EM"]
[5045,"SINIGAGLIA","SOFIA","AMICI DELL'ATLETICA VICENZA",2008,"F","ATL"]
[5046,"TESTA","ELISA","AMICI DELL'ATLETICA VICENZA",2009,"F","ATL"]
[5047,"TESTA","NICOLA","AMICI DELL'ATLETICA VICENZA",2005,"M","RM"]
[5048,"TOSETTO","GAIA","AMICI DELL'ATLETICA VICENZA",2002,"F","CF"]
[5049,"TOSETTO","MARCO","AMICI DELL'ATLETICA VICENZA",2007,"M","EM"]
[5050,"TRENTIN","GIOSUE'","AMICI DELL'ATLETICA VICENZA",2008,"M","ATL"]
[5051,"ZEN","FILIPPO","AMICI DELL'ATLETICA VICENZA",2008,"M","ATL"]
[5052,"ZEN","TOMMASO","AMICI DELL'ATLETICA VICENZA",2010,"M","ATL"]
[5053,"ALBIERO","LORENZO","AMICI DELL'ATLETICA VICENZA",2004,"M","RM"]
[5054,"BOSCARO","LAURA","AMICI DELL'ATLETICA VICENZA",2004,"F","RF"]
[5055,"BRESSAN","GIORGIA","AMICI DELL'ATLETICA VICENZA",2004,"F","RF"]
[5056,"CAROLO","DILETTA","AMICI DELL'ATLETICA VICENZA",2010,"F","ATL"]
[5057,"CARRARO","LORENZO","AMICI DELL'ATLETICA VICENZA",2009,"M","ATL"]
[5058,"CASAROTTO","GRAZIANA","AMICI DELL'ATLETICA VICENZA",1973,"F","AAF"]
[5059,"CISCO","ALESSANDRO","AMICI DELL'ATLETICA VICENZA",2008,"M","ATL"]
[5060,"DALL'AMICO","MARTINA","AMICI DELL'ATLETICA VICENZA",2002,"F","CF"]
[5061,"DALLA CROCE","FRANCESCO","AMICI DELL'ATLETICA VICENZA",2002,"M","CM"]
[5062,"DONADELLO","LORETTA","AMICI DELL'ATLETICA VICENZA",1973,"F","AAF"]
[5063,"GARDIN","ALBERTO","AMICI DELL'ATLETICA VICENZA",2006,"M","EM"]
[5064,"GONELLA","FRANCESCA","AMICI DELL'ATLETICA VICENZA",2009,"F","ATL"]
[5065,"MARAN","MATTEO","AMICI DELL'ATLETICA VICENZA",2008,"M","ATL"]
[5066,"MELISON","FRANCESCO","AMICI DELL'ATLETICA VICENZA",2002,"M","CM"]
[5067,"MORETTO","ISABELLA","AMICI DELL'ATLETICA VICENZA",1973,"F","AAF"]
[5068,"MURARO","PATRIZIA","AMICI DELL'ATLETICA VICENZA",1975,"F","AAF"]
[5069,"PILATI","GABRIELE","AMICI DELL'ATLETICA VICENZA",2004,"M","RM"]
[5070,"POSENATO","ELIA","AMICI DELL'ATLETICA VICENZA",2008,"M","ATL"]
[5071,"SMITH","PALOMA VALENTINA","AMICI DELL'ATLETICA VICENZA",2004,"F","RF"]
[5072,"STERCHELE","ADELE","AMICI DELL'ATLETICA VICENZA",2002,"F","CF"]
[5073,"STERCHELE","DAMIANO","AMICI DELL'ATLETICA VICENZA",2005,"M","RM"]
[5074,"VENTURINI","MARCO","AMICI DELL'ATLETICA VICENZA",2006,"M","EM"]
[5094,"BIOLO","FRANCESCO","ATLETICA UNION CREAZZO",2007,"M","EM"]
[5097,"PIANA","FRANCESCA","ATLETICA ARZIGNANO",1972,"F","ABF"]
[5098,"NORI","ANTONIO","ATLETICA ARZIGNANO",1961,"M","VM"]
[5099,"MATONE","CLEIDE","VALLI DEL PASUBIO",2001,"F","AF"]
[5100,"SCORTEGAGNA","MARIA TERESA","VALLI DEL PASUBIO",1999,"F","JF"]
[5101,"VALLORTIGARA","NICOLO'","VALLI DEL PASUBIO",2000,"M","AM"]
[5102,"MOLO","GIORGIA","VALLI DEL PASUBIO",2000,"F","AF"]
[5103,"FABRIS","PIETRO","VALLI DEL PASUBIO",2000,"M","AM"]
[5104,"REGHELLIN","CLARA","VALLI DEL PASUBIO",1998,"F","JF"]
[5105,"LUBIAN","GIOVANNI","RISORGIVE",1995,"M","SM"]
[5106,"FALHANE","MIRIAM","G.S. LEONICENA",2003,"F","CF"]
[5107,"FALHANE","MOHSSIN","G.S. LEONICENA",1990,"M","SM"]
[5108,"CARRARO","LISA","A.A. ATLETICA MALO",1982,"F","AAF"]
[5109,"GUALTIERO","MICHAEL","A.A. ATLETICA MALO",1988,"M","SM"]
[5110,"APREA","LUCA","POLISPORTIVA SALF ALTOPADOVANA",2003,"M","CM"]
[5111,"BAGA","LUCA","POLISPORTIVA SALF ALTOPADOVANA",2004,"M","RM"]
[5112,"BARETTA","EDOARDO JACOPO","POLISPORTIVA SALF ALTOPADOVANA",1998,"M","JM"]
[5113,"BARETTA","VITTORIA LAURA","POLISPORTIVA SALF ALTOPADOVANA",2000,"F","AF"]
[5114,"BERTIN","FAUSTO","POLISPORTIVA SALF ALTOPADOVANA",2003,"M","CM"]
[5115,"BIANCO","LAURA","POLISPORTIVA SALF ALTOPADOVANA",2001,"F","AF"]
[5116,"BROTTO","LORIS","POLISPORTIVA SALF ALTOPADOVANA",2003,"M","CM"]
[5117,"DE POLI","SOFIA","POLISPORTIVA SALF ALTOPADOVANA",1999,"F","JF"]
[5118,"FABIAN","FILIPPO","POLISPORTIVA SALF ALTOPADOVANA",2002,"M","CM"]
[5119,"MARANGONI","ALICE","POLISPORTIVA SALF ALTOPADOVANA",2003,"F","CF"]
[5120,"PERNECHELE","NICOLA","POLISPORTIVA SALF ALTOPADOVANA",2002,"M","CM"]
[5121,"PITTON","ALESSANDRO","POLISPORTIVA SALF ALTOPADOVANA",2000,"M","AM"]
[5122,"PORCELLATO","FILIPPO","POLISPORTIVA SALF ALTOPADOVANA",2002,"M","CM"]
[5123,"VENTURA","FILIPPO","POLISPORTIVA SALF ALTOPADOVANA",2003,"M","CM"]
[5124,"ZANON","VERONICA","POLISPORTIVA SALF ALTOPADOVANA",2001,"F","AF"]
[5125,"ZANCHIN","MATTIA","POLISPORTIVA SALF ALTOPADOVANA",1998,"M","JM"]
[5126,"APREA","FEDERICO","POLISPORTIVA SALF ALTOPADOVANA",2007,"M","EM"]
[5127,"LONGHIN","FEDERICO","POLISPORTIVA SALF ALTOPADOVANA",2003,"M","CM"]
[5128,"SAMB","MOUSSA","POLISPORTIVA SALF ALTOPADOVANA",1999,"M","JM"]
[5129,"MENEGHETTI","ALICE","POLISPORTIVA SALF ALTOPADOVANA",2005,"F","RF"]
[5130,"MERLO","GIOVANNI","POLISPORTIVA SALF ALTOPADOVANA",2003,"M","CM"]
[5131,"CAMILLI","ELISA","POLISPORTIVA SALF ALTOPADOVANA",2003,"F","CF"]
[5132,"CAMILLI","LAURA","POLISPORTIVA SALF ALTOPADOVANA",2006,"F","EF"]
[5133,"LAGO","TOMMASO ANGELO","POLISPORTIVA SALF ALTOPADOVANA",2005,"M","RM"]
[5134,"SILVELLO","GIOELE","POLISPORTIVA SALF ALTOPADOVANA",2002,"M","CM"]
[5135,"NEGROPONTE","ELENA","POL. DIL. MONTECCHIO PRECALCINO",1971,"F","ABF"]
[5136,"ABIBA","HAKIM","POL. DIL. MONTECCHIO PRECALCINO",2009,"M","ATL"]
[5137,"ABIBA","MOURAD","POL. DIL. MONTECCHIO PRECALCINO",2002,"M","CM"]
[5138,"CISCO","DAMIANO","ATLETICA UNION CREAZZO",1971,"M","ABM"]
[5139,"ZANETTIN","PIETRO","ATLETICA UNION CREAZZO",1999,"M","JM"]
[5140,"ZARANTONELLO","SIMONE","ATLETICA UNION CREAZZO",1974,"M","AAM"]
[5141,"MARTINELLO","ENRICO","ATLETICA UNION CREAZZO",1985,"M","SM"]
[5142,"FONTANA","FABIO","ATLETICA CALDOGNO '93",1967,"M","ABM"]
[5143,"RECH","GIADA","ATLETICA CALDOGNO '93",2003,"F","CF"]
[5144,"TRIVELLIN","FEDERICO","ATLETICA CALDOGNO '93",1982,"M","AAM"]
[5145,"BAGHIN","SILVIA","ATLETICA CALDOGNO '93",2003,"F","CF"]
[5146,"DELPERO","FEDERICO","ATLETICA CALDOGNO '93",2006,"M","EM"]
[5147,"FURLANI","ANDREA","ATLETICA CALDOGNO '93",1989,"M","SM"]
[5148,"MANNI","ALESSANDRO","ATLETICA CALDOGNO '93",2003,"M","CM"]
[5149,"CRESTANI","GIANFRANCO","POLISPORTIVA DUEVILLE",1961,"M","VM"]
[5161,"NICOLIS","GIOVANNI","ATLETICA UNION CREAZZO",2003,"M","CM"]
[5162,"ALI","MOHAMMED SAMUDIN","POLISPORTIVA SALF ALTOPADOVANA",1997,"M","SM"]
[5163,"ANTONELLO","PARIDE","POLISPORTIVA SALF ALTOPADOVANA",2006,"M","EM"]
[5164,"ANTONELLO","LUCA","POLISPORTIVA SALF ALTOPADOVANA",2001,"M","AM"]
[5165,"CAMPAGNARO","CLAUDIA","POLISPORTIVA SALF ALTOPADOVANA",2004,"F","RF"]
[5166,"FAGGION","EDOARDO","POLISPORTIVA SALF ALTOPADOVANA",2001,"M","AM"]
[5167,"FAGGION","MARIANNA","POLISPORTIVA SALF ALTOPADOVANA",2003,"F","CF"]
[5168,"LUCON","LORENZO","POLISPORTIVA SALF ALTOPADOVANA",2005,"M","RM"]
[5169,"NONNI","HASANATOU","POLISPORTIVA SALF ALTOPADOVANA",2005,"F","RF"]
[5170,"PORCELLATO","NICOLA","POLISPORTIVA SALF ALTOPADOVANA",1971,"M","ABM"]
[5171,"SAMBARE","OBAIDOU","POLISPORTIVA SALF ALTOPADOVANA",2000,"M","AM"]
[5172,"MARANGONI","ENRICO","POLISPORTIVA SALF ALTOPADOVANA",2007,"M","EM"]
[5173,"PORCELLATO","MARTA","POLISPORTIVA SALF ALTOPADOVANA",2007,"F","EF"]
[5174,"GALIAZZO","GIORGIA","POLISPORTIVA SALF ALTOPADOVANA",2006,"F","EF"]
[5175,"CAGNIN","SIMONE","POLISPORTIVA SALF ALTOPADOVANA",1999,"M","JM"]
[5176,"CAGNIN","SAMUELE","POLISPORTIVA SALF ALTOPADOVANA",1997,"M","SM"]
[5178,"GROSSELLE","ANTONIO","POLISPORTIVA SALF ALTOPADOVANA",2004,"M","RM"]
[5179,"SIMIONI","NOEMI","POLISPORTIVA SALF ALTOPADOVANA",2003,"F","CF"]
[5180,"VARDON","HENRY KWAMINA","G.S. LEONICENA",2001,"M","AM"]
[5181,"PETRIN","BONAVENTURA","POLISPORTIVA SALF ALTOPADOVANA",2007,"M","EM"]
[5182,"GUIDOLIN","DANIEL","POLISPORTIVA SALF ALTOPADOVANA",2007,"M","EM"]
[5183,"BERTOLLO","ANDREA","POLISPORTIVA SALF ALTOPADOVANA",2007,"M","EM"]
[5184,"ALLEGRO","ALEX","POLISPORTIVA SALF ALTOPADOVANA",2007,"M","EM"]
[5185,"CERATO","IRENE","POLISPORTIVA SALF ALTOPADOVANA",2007,"F","EF"]
[5186,"PEGORIN","FRANCESCO","POLISPORTIVA SALF ALTOPADOVANA",2006,"M","EM"]
[5187,"ALESSI","MADDALENA","POLISPORTIVA SALF ALTOPADOVANA",2005,"F","RF"]
[5189,"SAMBARE","NABILATOU","POLISPORTIVA SALF ALTOPADOVANA",2001,"F","AF"]
[5210,"VUJINOVIC","GIORGIA LINDA","ATLETICA CALDOGNO '93",2006,"F","EF"]
[5216,"SIVIERO","NICCOLO' MELCHIORRE","C.S.I. TEZZE SUL BRENTA",1994,"M","SM"]
[5217,"PELLANDA","MARCO","C.S.I. TEZZE SUL BRENTA",1996,"M","SM"]
[5218,"RIZZOTTO","ANDREA","C.S.I. TEZZE SUL BRENTA",1997,"M","SM"]
[5219,"VIOTTO","FEDERICO GIOVANNI","C.S.I. TEZZE SUL BRENTA",1998,"M","JM"]
[5220,"XAUSA","CRISTINA","C.S.I. TEZZE SUL BRENTA",1999,"F","JF"]
[5221,"GAMBARDELLA","MICHELE PIO","C.S.I. TEZZE SUL BRENTA",2002,"M","CM"]
[5222,"CRESTANI","PIETRO","C.S.I. TEZZE SUL BRENTA",2007,"M","EM"]
[5223,"VISENTIN","GIACOMO","C.S.I. TEZZE SUL BRENTA",2007,"M","EM"]
[5224,"BIZZOTTO","SAMUELE","C.S.I. TEZZE SUL BRENTA",2004,"M","RM"]
[5225,"PASINATO","AURORA","POLISPORTIVA SALF ALTOPADOVANA",2007,"F","EF"]
[5226,"BARA","LAILATOU","POLISPORTIVA SALF ALTOPADOVANA",2003,"F","CF"]
[5227,"BERTO","GABRIELE","POLISPORTIVA SALF ALTOPADOVANA",2000,"M","AM"]
[5228,"CAPPELLO","LEONARDO","POLISPORTIVA SALF ALTOPADOVANA",2004,"M","RM"]
[5229,"PIRAN","SARAH","POLISPORTIVA SALF ALTOPADOVANA",2001,"F","AF"]
[5230,"PEGORIN","FEDERICO","POLISPORTIVA SALF ALTOPADOVANA",2003,"M","CM"]
[5231,"ZUANON","ANGELA","POLISPORTIVA SALF ALTOPADOVANA",2006,"F","EF"]
[5232,"BASSO","FRANCESCO","POLISPORTIVA SALF ALTOPADOVANA",1963,"M","ABM"]
[5233,"FRANCO","MARCO","POLISPORTIVA SALF ALTOPADOVANA",1963,"M","ABM"]
[5234,"COSTALUNGA","GIORGIO","CSI ATLETICA COLLI BERICI",2007,"M","EM"]
[5235,"EL AMRI","BADR DIN","CSI ATLETICA COLLI BERICI",2006,"M","EM"]
[5236,"PADOVAN","NAVAR","CSI ATLETICA COLLI BERICI",2003,"M","CM"]
[5237,"RIOLMI ROSSETTO","DANIELE","CSI ATLETICA COLLI BERICI",2003,"M","CM"]
[5238,"TOFFANIN","ELENA","CSI ATLETICA COLLI BERICI",2001,"F","AF"]
[5239,"FRACCA","PIETRO","CSI ATLETICA COLLI BERICI",2003,"M","CM"]
[5240,"CHIMETTO","ACHILLE","CSI ATLETICA COLLI BERICI",2009,"M","ATL"]
[5241,"CLERI","SAMUELE","CSI ATLETICA COLLI BERICI",2006,"M","EM"]
[5242,"CLERI","VALERIA","CSI ATLETICA COLLI BERICI",2003,"F","CF"]
[5243,"VIGOLO","ALESSANDRO","CSI ATLETICA COLLI BERICI",2005,"M","RM"]
[5245,"ZANAROTTI","TOMMASO","GRUPPO SPORTIVO ALPINI VICENZA",1978,"M","AAM"]
[5246,"ROSIN","RITA","GRUPPO SPORTIVO ALPINI VICENZA",1978,"F","AAF"]
[5247,"DALLE MOLLE","MARCO","VALLI DEL PASUBIO",1991,"M","SM"]
[5266,"TREVISAN","EUGENIO","ARCES",1995,"M","SM"]
[5267,"ZANETELLO","TIZIANO","ARCES",1956,"M","VM"]
[5268,"FRACASSO","MARTINA","ATLETICA ARZIGNANO",2003,"F","CF"]
[5269,"CONCATO","CRISTIANO","ATLETICA ARZIGNANO",1972,"M","ABM"]
[5270,"BELLO CEDANO","JANLUIS","ATLETICA ARZIGNANO",2003,"M","CM"]
[5274,"MORO","LUIGINO","GRUPPO SPORTIVO ALPINI VICENZA",1967,"M","ABM"]
[5276,"VALLE","ALESSANDRO","U.S. SUMMANO",1978,"M","AAM"]
[5331,"BERTONCELLO","ANGELICA","C.S.I. TEZZE SUL BRENTA",2008,"F","ATL"]
[5351,"DE ROSSI","EDOARDO","AMICI DELL'ATLETICA VICENZA",2004,"M","RM"]
[5352,"ROSSATO","SOFIA","AMICI DELL'ATLETICA VICENZA",2002,"F","CF"]
[5353,"STERCHELE","MARCO","AMICI DELL'ATLETICA VICENZA",2009,"M","ATL"]
[5354,"VALDEMARCA","DAVIDE","AMICI DELL'ATLETICA VICENZA",2010,"M","ATL"]
[5355,"SAVIO","ENRICO","AMICI DELL'ATLETICA VICENZA",2002,"M","CM"]
[5356,"GIURELLI","MARCO","AMICI DELL'ATLETICA VICENZA",2008,"M","ATL"]
[5357,"MARUZZO","MIRIAM","AMICI DELL'ATLETICA VICENZA",1975,"F","AAF"]
[5358,"ROMAN","VLAD","AMICI DELL'ATLETICA VICENZA",2003,"M","CM"]
[5359,"FRACASSO","VITTORIA","AMICI DELL'ATLETICA VICENZA",2007,"F","EF"]
[5360,"MATTIELLO","MASSIMO","AMICI DELL'ATLETICA VICENZA",1977,"M","AAM"]
[5361,"PEGORARO","LORENZO","AMICI DELL'ATLETICA VICENZA",1998,"M","JM"]
[5362,"PEGORARO","MARTINA","AMICI DELL'ATLETICA VICENZA",1996,"F","SF"]
[5363,"SGREVA","MARGHERITA","AMICI DELL'ATLETICA VICENZA",2007,"F","EF"]
[5364,"OFORI","MICHAEL CLEOPAS ROGER","AMICI DELL'ATLETICA VICENZA",2010,"M","ATL"]
[5365,"ZORZANELLO","MICHELA","AMICI DELL'ATLETICA VICENZA",1977,"F","AAF"]
[5366,"SARTORI","ROBERTO","AMICI DELL'ATLETICA VICENZA",1971,"M","ABM"]
[5367,"GILETTI","ESTER","AMICI DELL'ATLETICA VICENZA",2010,"F","ATL"]
[5368,"ALLEGRETTA","FRANCESCO","AMICI DELL'ATLETICA VICENZA",2002,"M","CM"]
[5369,"ANDREI","FRANCESCO","AMICI DELL'ATLETICA VICENZA",2000,"M","AM"]
[5370,"BELLINI CORNESALI","JEAN PAUL","AMICI DELL'ATLETICA VICENZA",1970,"M","ABM"]
[5371,"BRUZZO","VANIEL","AMICI DELL'ATLETICA VICENZA",1998,"M","JM"]
[5372,"DALLE CARBONARE","RICCARDO","AMICI DELL'ATLETICA VICENZA",1979,"M","AAM"]
[5373,"DEGENERI","STEFANO","AMICI DELL'ATLETICA VICENZA",1964,"M","ABM"]
[5374,"LAGO","MASSIMILIANO","AMICI DELL'ATLETICA VICENZA",1992,"M","SM"]
[5375,"MARINKOVIC","MILICA","AMICI DELL'ATLETICA VICENZA",2001,"F","AF"]
[5376,"MOSCON","DEVIS","AMICI DELL'ATLETICA VICENZA",1982,"M","AAM"]
[5377,"PAULON","STEFANO","AMICI DELL'ATLETICA VICENZA",1956,"M","VM"]
[5378,"PERTEGATO","CHRISTIAN","AMICI DELL'ATLETICA VICENZA",1993,"M","SM"]
[5379,"SGARABOTTO","GIUSEPPE","AMICI DELL'ATLETICA VICENZA",1980,"M","AAM"]
[5380,"TOSCANI","CLAUDIO","AMICI DELL'ATLETICA VICENZA",1998,"M","JM"]
[5381,"VACCARO","MICHELE","AMICI DELL'ATLETICA VICENZA",1999,"M","JM"]
[5382,"MIRIJELLO","GIOVANNI","AMICI DELL'ATLETICA VICENZA",2000,"M","AM"]
[5383,"GASPARELLA","ANNA","POL. DIL. MONTECCHIO PRECALCINO",2010,"F","ATL"]
[5412,"DAL MARTELLO","LEONARDO","AMICI DELL'ATLETICA VICENZA",1992,"M","SM"]
[5413,"BRENDOLAN","MARCO","AMICI DELL'ATLETICA VICENZA",2004,"M","RM"]
[5420,"SELLE","LORENZO","SPAZI VERDI",2006,"M","EM"]
[5422,"HERRERA ABREU","JOHANELIS","RISORGIVE",1995,"F","SF"]
[5431,"ANZOLIN","PAOLA","A.P.D. VALDAGNO",1964,"F","ABF"]
[5432,"MAGNANI","ELENA","A.P.D. VALDAGNO",1974,"F","AAF"]
[5433,"MANICA","ANDREA","A.P.D. VALDAGNO",2008,"M","ATL"]
[5434,"ZANATTA","GIOVANNI","A.P.D. VALDAGNO",2007,"M","EM"]
[5435,"ZANUSO","MARTA","A.P.D. VALDAGNO",1964,"F","ABF"]
[5436,"BENINC·","STEFANO","A.P.D. VALDAGNO",1968,"M","ABM"]
[5437,"GUASINA","MARIA CRISTINA","A.P.D. VALDAGNO",1964,"F","ABF"]
[5438,"GARBIN","BIANCA","A.P.D. VALDAGNO",2001,"F","AF"]
[5439,"GRAINER","ALESSANDRO","A.P.D. VALDAGNO",1966,"M","ABM"]
[5440,"MICHELATO","STEFANIA","A.P.D. VALDAGNO",1970,"F","ABF"]
[5444,"GRISO","RICCARDO","ATLETICA ARZIGNANO",1983,"M","SM"]
[5478,"CASA","MASSIMO","GRUPPO SPORTIVO ALPINI VICENZA",1963,"M","ABM"]
[5482,"BRUNETTO","IRENE","AMICI DELL'ATLETICA VICENZA",2010,"F","ATL"]
[5483,"MASCIA","ELISABETTA","AMICI DELL'ATLETICA VICENZA",2007,"F","EF"]
[5484,"CAPITANIO","ANTONIO","ATLETICA VALCHIAMPO",2009,"M","ATL"]
[5485,"NEGRO MARCEGAGLIA","MICHELE","ATLETICA VALCHIAMPO",2006,"M","EM"]
[5486,"NEGRO","RICCARDO","ATLETICA VALCHIAMPO",2008,"M","ATL"]
[5487,"PELLIZZARI","PAOLO","ATLETICA VALCHIAMPO",1994,"M","SM"]
[5488,"GIRARDO","SILVIA","POLISPORTIVA DUEVILLE",1975,"F","AAF"]
[5548,"SOATTO","LUCIA","G.S. LEONICENA",1993,"F","SF"]
[5582,"PINTO","ANNA ESTER","ATLETICA UNION CREAZZO",2006,"F","EF"]
[5583,"CRACCO","ALESSIA","ATLETICA UNION CREAZZO",1975,"F","AAF"]
[5584,"KNAPTON","MICHAEL","ATLETICA UNION CREAZZO",1950,"M","VM"]
[5585,"SAGNA","LAURA","ATLETICA UNION CREAZZO",2006,"F","EF"]
[5586,"NORI","FILIPPO","ATLETICA ARZIGNANO",2004,"M","RM"]
[5587,"MIFTAH","MONIR","ATLETICA ARZIGNANO",2001,"M","AM"]
[5588,"BARI","TOMMASO","CSI ATLETICA COLLI BERICI",2001,"M","AM"]
[5589,"SCALZOTTO","ANNARITA","CSI ATLETICA COLLI BERICI",2002,"F","CF"]
[5590,"PRATICã","ALESSANDRO","CSI ATLETICA COLLI BERICI",2008,"M","ATL"]
[5591,"MORI","GIOVANNI","CSI ATLETICA COLLI BERICI",2006,"M","EM"]
[5711,"DALL'ARMI","TOMAS","U.S. SUMMANO",2001,"M","AM"]
[5721,"MURARO","SARA","C.S.I. TEZZE SUL BRENTA",2003,"F","CF"]
[5722,"ATZORI","RICCARDO","C.S.I. TEZZE SUL BRENTA",2008,"M","ATL"]
[5723,"CARNIELLO","ISABELLA","C.S.I. TEZZE SUL BRENTA",2008,"F","ATL"]
[5724,"ZARPELLON","DANIEL","C.S.I. TEZZE SUL BRENTA",1974,"M","AAM"]
[5772,"MERTINUCCI","CATERINA","RISORGIVE",2004,"F","RF"]
[5791,"DALLA ROSA","ANITA","C.S.I. TEZZE SUL BRENTA",2004,"F","RF"]
[5816,"DE POLI","LORENZO","POLISPORTIVA SALF ALTOPADOVANA",2003,"M","CM"]
[5817,"SECURO","ALBERTO","POLISPORTIVA SALF ALTOPADOVANA",2003,"M","CM"]
[5818,"BARA","FAUSIA","POLISPORTIVA SALF ALTOPADOVANA",2003,"F","CF"]
[5819,"DI SARIO","MARTINA","POLISPORTIVA SALF ALTOPADOVANA",2000,"F","AF"]
[5836,"ZANOTTO","DALILA","ATLETICA UNION CREAZZO",2003,"F","CF"]
[5837,"TABACCO","SILVIA","ATLETICA UNION CREAZZO",1975,"F","AAF"]
[5935,"ZUCCATO","ELISA","VALLI DEL PASUBIO",1999,"F","JF"]
[5966,"BERTACCO","ALESSANDRO","SPAZI VERDI",2008,"M","ATL"]
[5971,"RIGON","FRANCESCO","SPAZI VERDI",2008,"M","ATL"]
[6051,"CARRETTA","GIANLUCA","ATLETICA VALCHIAMPO",1980,"M","AAM"]
[6052,"CAVION","PAOLO","ATLETICA VALCHIAMPO",2007,"M","EM"]
[6053,"NARDI","DIEGO","ATLETICA VALCHIAMPO",1970,"M","ABM"]
[6287,"BANCE","RABIATOU","ATLETICA TRISSINO",2004,"F","RF"]
[6296,"FRACASSO","VERONICA","AMICI DELL'ATLETICA VICENZA",2009,"F","ATL"]
[6297,"AMARA","NOOR","AMICI DELL'ATLETICA VICENZA",2004,"F","RF"]
[6298,"FRANCESCHINI","SEBASTIAN","AMICI DELL'ATLETICA VICENZA",2004,"M","RM"]
[6299,"BASSO","GIANMARIA","AMICI DELL'ATLETICA VICENZA",2005,"M","RM"]
[6345,"DE ANTONI","VALENTINA","SPAZI VERDI",2007,"F","EF"]
[6348,"POBBE","MIRIAM","POL. DIL. MONTECCHIO PRECALCINO",1975,"F","AAF"]
[6350,"RAMON","GABRIELE","C.S.I. TEZZE SUL BRENTA",1988,"M","SM"]
[6409,"BERTONCELLO","CHIARA","POLISPORTIVA SALF ALTOPADOVANA",2002,"F","CF"]
[6410,"TONELLOTTO","BEATRICE","POLISPORTIVA SALF ALTOPADOVANA",2000,"F","AF"]
[6411,"MAGRIN","TOMMASO","POLISPORTIVA SALF ALTOPADOVANA",2007,"M","EM"]
[6412,"PAVAN","ANTONIO","POLISPORTIVA SALF ALTOPADOVANA",2007,"M","EM"]
[6413,"NTAKIRUTIMANA","JEAN MICHEL","POLISPORTIVA SALF ALTOPADOVANA",2003,"M","CM"]
[6414,"GOBBO","SARA","POLISPORTIVA SALF ALTOPADOVANA",2003,"F","CF"]
[6415,"FIORAVANZO","EMANUELE","POL. DIL. MONTECCHIO PRECALCINO",2009,"M","ATL"]
[6432,"MAZZOCCO","NICOLA","ATLETICA VALCHIAMPO",2008,"M","ATL"]
[6434,"ZAMPIERI","LUCA","VALLI DEL PASUBIO",1992,"M","SM"]
[6435,"GASPARINETTI","FRANCO","VALLI DEL PASUBIO",1950,"M","VM"]
[6436,"DAL SANTO","MORENO","VALLI DEL PASUBIO",1956,"M","VM"]
[6437,"FACCIN","ALICE","ATLETICA CALDOGNO '93",2003,"F","CF"]
[6438,"LAPORTE","MICHAEL ROBERT","ATLETICA CALDOGNO '93",2001,"M","AM"]
[6439,"MUTTERLE","MARTINA","ATLETICA CALDOGNO '93",2006,"F","EF"]
[6440,"VIGOLO","MATTIA","ATLETICA CALDOGNO '93",2009,"M","ATL"]
[6443,"BIZZOTTO","MATTIA","POLISPORTIVA SALF ALTOPADOVANA",2005,"M","RM"]
[6444,"NALON","GIOVANNI","POLISPORTIVA SALF ALTOPADOVANA",2005,"M","RM"]
[6445,"SORIO","MARCO DAMIANO","POLISPORTIVA SALF ALTOPADOVANA",2007,"M","EM"]
[6508,"ROSE","DELPHÞNE","CSI ATLETICA COLLI BERICI",1972,"F","ABF"]
[6509,"BABBOLIN","PAOLA","CSI ATLETICA COLLI BERICI",1968,"F","ABF"]
[6510,"BELLUCCO","MARIANO","CSI ATLETICA COLLI BERICI",1954,"M","VM"]
[6511,"BIASIOLO","CARLA","CSI ATLETICA COLLI BERICI",1953,"F","VF"]
[6512,"BIASIOLO","LORETTA","CSI ATLETICA COLLI BERICI",1957,"F","VF"]
[6513,"BIASIOLO","RENATO","CSI ATLETICA COLLI BERICI",1954,"M","VM"]
[6514,"CARMINATO","ANNA MARIA","CSI ATLETICA COLLI BERICI",1962,"F","VF"]
[6515,"FAGGIONATO","CATERINA","CSI ATLETICA COLLI BERICI",1964,"F","ABF"]
[6516,"FERRON","ALICE","CSI ATLETICA COLLI BERICI",1971,"F","ABF"]
[6517,"FRANCESCHETTO","GIOVANNI","CSI ATLETICA COLLI BERICI",1964,"M","ABM"]
[6518,"FRANCESCHETTO","MIRKA","CSI ATLETICA COLLI BERICI",1972,"F","ABF"]
[6519,"GRIGGIO","VALERIA","CSI ATLETICA COLLI BERICI",1966,"F","ABF"]
[6520,"GUERRA","MONICA","CSI ATLETICA COLLI BERICI",1968,"F","ABF"]
[6521,"LAVEZZO","GIOVANNA","CSI ATLETICA COLLI BERICI",1949,"F","VF"]
[6522,"MICHELAZZO","DANIELA","CSI ATLETICA COLLI BERICI",1952,"F","VF"]
[6523,"MICHELAZZO","LUCIA","CSI ATLETICA COLLI BERICI",1958,"F","VF"]
[6524,"MOZZI","MORENO","CSI ATLETICA COLLI BERICI",1972,"M","ABM"]
[6525,"MAZZARON","ANDREA","CSI ATLETICA COLLI BERICI",1961,"M","VM"]
[6526,"LANARO","CINZIA","CSI ATLETICA COLLI BERICI",1963,"F","ABF"]
[6527,"NEGRO","ADELINA","CSI ATLETICA COLLI BERICI",1959,"F","VF"]
[6528,"ONGARETTO","MARIA ROSA","CSI ATLETICA COLLI BERICI",1961,"F","VF"]
[6529,"PROSDOCIMI","MARIA","CSI ATLETICA COLLI BERICI",1964,"F","ABF"]
[6530,"RAPPO","NADIA","CSI ATLETICA COLLI BERICI",1967,"F","ABF"]
[6531,"RIGO","ELISABETTA","CSI ATLETICA COLLI BERICI",1976,"F","AAF"]
[6532,"SILLO","MAURIZIO","CSI ATLETICA COLLI BERICI",1955,"M","VM"]
[6533,"TODESCO","PAOLA","CSI ATLETICA COLLI BERICI",1970,"F","ABF"]
[6534,"GAMBIN","LUISA","CSI ATLETICA COLLI BERICI",1996,"F","SF"]
[6535,"BONOTO","CARLA","CSI ATLETICA COLLI BERICI",1947,"F","VF"]
[6536,"ZORDAN","MARIA","CSI ATLETICA COLLI BERICI",1960,"F","VF"]
[6537,"FRACASSO","FABIOLA","CSI ATLETICA COLLI BERICI",1963,"F","ABF"]
[6538,"ALDINO COLBACCHINI","GINEVRA","CSI ATLETICA COLLI BERICI",2007,"F","EF"]
[6539,"BALLA","ROMINA","CSI ATLETICA COLLI BERICI",2007,"F","EF"]
[6540,"BEDIN","ALESSANDRO","CSI ATLETICA COLLI BERICI",2004,"M","RM"]
[6541,"CAPRARO","GIANNI FRANCESCO","CSI ATLETICA COLLI BERICI",1951,"M","VM"]
[6542,"DALLA ROSA","ROBERTO","CSI ATLETICA COLLI BERICI",1999,"M","JM"]
[6543,"MORI","NICOLA","CSI ATLETICA COLLI BERICI",2008,"M","ATL"]
[6544,"MOSCATELLI","MARIA VITTORIA","CSI ATLETICA COLLI BERICI",2007,"F","EF"]
[6545,"MOZZATO","MARTINA","CSI ATLETICA COLLI BERICI",2004,"F","RF"]
[6546,"STECCO","GIULIA","CSI ATLETICA COLLI BERICI",2005,"F","RF"]
[6547,"RAFFAELLO","LUCIA","CSI ATLETICA COLLI BERICI",2007,"F","EF"]
[6594,"STELLA","DILETTA GAIA","RISORGIVE",1999,"F","JF"]
[6601,"PONZONI","ARIANNA","RISORGIVE",2000,"F","AF"]
[6614,"MARINONI","SOFIA","AMICI DELL'ATLETICA VICENZA",2010,"F","ATL"]
[6615,"MUNARO","MICOL","AMICI DELL'ATLETICA VICENZA",2003,"F","CF"]
[6685,"DETTO","EMANUELE","ATLETICA UNION CREAZZO",2009,"M","ATL"]
[6686,"STEFANI","MATILDA","ATLETICA UNION CREAZZO",2006,"F","EF"]
[6687,"ROSSI","SOFIA","ATLETICA UNION CREAZZO",1999,"F","JF"]
[6690,"LONGHI","NICOLE","U.S. SUMMANO",2000,"F","AF"]
[6691,"CUSINATO","VALERIA","U.S. SUMMANO",2005,"F","RF"]
[6720,"MISSIAGGIA","LUCA","POL. DIL. MONTECCHIO PRECALCINO",2001,"M","AM"]
[6721,"CRACCO","ETTORE","POL. DIL. MONTECCHIO PRECALCINO",2008,"M","ATL"]
[6774,"COLUSSI","MARCO","GRUPPO SPORTIVO ALPINI VICENZA",2005,"M","RM"]
[6775,"GALVAN","MARTINA","GRUPPO SPORTIVO ALPINI VICENZA",2005,"F","RF"]
[6776,"SACCARDO","PAOLO","GRUPPO SPORTIVO ALPINI VICENZA",1977,"M","AAM"]
[6777,"VAN STRIEN","SOPHIE","POLISPORTIVA SALF ALTOPADOVANA",2007,"F","EF"]
[6778,"FALDANI","MARTINA","POLISPORTIVA SALF ALTOPADOVANA",1999,"F","JF"]
[6779,"FRISON","RUDI","CSI ATLETICA COLLI BERICI",2002,"M","CM"]
[6780,"RAFFAELLO","LUCA","CSI ATLETICA COLLI BERICI",1966,"M","ABM"]
[6781,"VIGOLO","ANNAMARIA","CSI ATLETICA COLLI BERICI",2006,"F","EF"]
[6782,"ZORDAN","GIOVANNI","CSI ATLETICA COLLI BERICI",2008,"M","ATL"]
[6783,"ADDA","SOFIA","AMICI DELL'ATLETICA VICENZA",2004,"F","RF"]
[6784,"SALVATO","ANDREA","AMICI DELL'ATLETICA VICENZA",2010,"M","ATL"]
[6785,"BORTOLON","GINEVRA","AMICI DELL'ATLETICA VICENZA",2009,"F","ATL"]
[6786,"BORTOLON","MASSIMO","AMICI DELL'ATLETICA VICENZA",1976,"M","AAM"]
[6787,"SPACCAFERRI","ANDREA","ATLETICA UNION CREAZZO",1986,"M","SM"]
[6788,"ZAMBON","ELISA","ATLETICA UNION CREAZZO",1999,"F","JF"]
[6794,"BOSCATO","GIULIO","A.P.D. VALDAGNO",2002,"M","CM"]
[6795,"GRAINER","ANDREA","A.P.D. VALDAGNO",2005,"M","RM"]
[6864,"MARCANTE","ALICE","POL. DIL. MONTECCHIO PRECALCINO",1999,"F","JF"]
[6865,"ALBIERO","MANUEL","ATLETICA MONTECCHIO MAGGIORE",2000,"M","AM"]
[6866,"BERTOCCO","ELENA","ATLETICA MONTECCHIO MAGGIORE",2001,"F","AF"]
[6867,"ESHILLONU","NGOZI LINDA","ATLETICA MONTECCHIO MAGGIORE",2001,"F","AF"]
[6868,"PAGANI","ROSSELLA","ATLETICA MONTECCHIO MAGGIORE",1998,"F","JF"]
[6869,"PRIANTE","LUCA","ATLETICA MONTECCHIO MAGGIORE",2000,"M","AM"]
[6870,"STORTI","EDOARDO","ATLETICA MONTECCHIO MAGGIORE",1997,"M","SM"]
[6871,"UGOLIN","LUCA","ATLETICA MONTECCHIO MAGGIORE",2000,"M","AM"]
[6885,"SARTORI","FRANCESCO","AMICI DELL'ATLETICA VICENZA",2009,"M","ATL"]
[6947,"CAVEDON","SARA","SPAZI VERDI",2011,"F","ATL"]
[6949,"RIZZATO","LORENZO","SPAZI VERDI",1997,"M","SM"]
[6951,"FACCI","RICCARDO","AMICI DELL'ATLETICA VICENZA",2009,"M","ATL"]
[6983,"FASSINA","RICCARDO","RISORGIVE",1998,"M","JM"]
[7010,"LORENZETTI","CURZIO","POLISPORTIVA SALF ALTOPADOVANA",2005,"M","RM"]
[7011,"BEGHETTO","ALESSIA","POLISPORTIVA SALF ALTOPADOVANA",2005,"F","RF"]
[7012,"REGINATO","MARCO","POLISPORTIVA SALF ALTOPADOVANA",2004,"M","RM"]
[7052,"ZORZI","FILIPPO","U.S. SUMMANO",2002,"M","CM"]
[7053,"BOLLETTA","FILIPPO","AMICI DELL'ATLETICA VICENZA",2008,"M","ATL"]
[7069,"POSENATO","NICOLO'","AMICI DELL'ATLETICA VICENZA",2004,"M","RM"]
[7104,"GIURIOLO","MARIA","ATLETICA ARZIGNANO",1966,"F","ABF"]
[7105,"TONIN","SAMUELE","ATLETICA ARZIGNANO",2001,"M","AM"]
[7106,"VEZZARO","ROBERTO","ATLETICA ARZIGNANO",1992,"M","SM"]
[7133,"CERIN","ALICE","AMICI DELL'ATLETICA VICENZA",2003,"F","CF"]
[7227,"FAVERO","MARCO","POLISPORTIVA SALF ALTOPADOVANA",2004,"M","RM"]
[7228,"GIACOMAZZO","FRANCESCA","POLISPORTIVA SALF ALTOPADOVANA",2001,"F","AF"]
[7229,"CECCHETTO","MAIA","POLISPORTIVA SALF ALTOPADOVANA",2007,"F","EF"]
[7230,"BONALDO","ANGELICA","POLISPORTIVA SALF ALTOPADOVANA",2006,"F","EF"]
[7237,"BONAMIN","LORENZO","C.S.I. TEZZE SUL BRENTA",2007,"M","EM"]
[7242,"POPA","ADRIANA","ATLETICA MONTECCHIO MAGGIORE",2000,"F","AF"]
[7282,"BERNARDI","SAMUELE","POLISPORTIVA DUEVILLE",2004,"M","RM"]
[7283,"LORENZETTI","ELIA LUCA","POL. DIL. MONTECCHIO PRECALCINO",2009,"M","ATL"]
[7320,"LIVIERO","FRANCESCA","POLISPORTIVA SALF ALTOPADOVANA",2006,"F","EF"]
[7321,"MURESAN","RIANA STEFANIA","POLISPORTIVA SALF ALTOPADOVANA",2006,"F","EF"]
[7322,"BAGGIO","MARGHERITA","POLISPORTIVA SALF ALTOPADOVANA",2007,"F","EF"]
[7323,"BONALDO","MARTA","POLISPORTIVA SALF ALTOPADOVANA",2005,"F","RF"]
[7324,"SECURO","ASIA","POLISPORTIVA SALF ALTOPADOVANA",2006,"F","EF"]
[7325,"LOZOVAN","GIORGIA","POLISPORTIVA SALF ALTOPADOVANA",2006,"F","EF"]
[7326,"SCOMAZZON","AURORA","POLISPORTIVA SALF ALTOPADOVANA",2006,"F","EF"]
[7348,"PEGORARO","LEONARDO","ATLETICA ARZIGNANO",2004,"M","RM"]
[7349,"MASSIGNAN","VALENTINA","ATLETICA ARZIGNANO",1992,"F","SF"]
[7350,"ROSSI","FRANCESCA","ATLETICA ARZIGNANO",1981,"F","AAF"]
[7351,"ZANCONATO","MAURIZIO","ATLETICA ARZIGNANO",1976,"M","AAM"]
[7352,"SAVEGNAGO","MARCO","ATLETICA ARZIGNANO",1975,"M","AAM"]
[7363,"BACCEGA","ANDREA","POLISPORTIVA SALF ALTOPADOVANA",2008,"M","ATL"]
[7364,"ZOCCHE","FILIPPO","POLISPORTIVA SALF ALTOPADOVANA",2003,"M","CM"]
[7365,"KASTRATI","MATTEO SAJM","POLISPORTIVA SALF ALTOPADOVANA",2006,"M","EM"]
[7366,"VANZO","LUIGI","POLISPORTIVA SALF ALTOPADOVANA",1964,"M","ABM"]
[7405,"PAVAN","ELENA","ATLETICA ARZIGNANO",1975,"F","AAF"]
[7406,"PELLIZZARI","JOHNNY","ATLETICA ARZIGNANO",1974,"M","AAM"]
[7407,"SGREVA","TOMMASO","AMICI DELL'ATLETICA VICENZA",2005,"M","RM"]
[7408,"CZARKOWSKI","NOAH DENNIS","AMICI DELL'ATLETICA VICENZA",2009,"M","ATL"]
[7409,"CZARKOWSKI","SOFIA KIARA","AMICI DELL'ATLETICA VICENZA",2007,"F","EF"]
[7410,"GOUEM","KADYDJATOU","AMICI DELL'ATLETICA VICENZA",2002,"F","CF"]
[7562,"DONADEL","ETTORE","AMICI DELL'ATLETICA VICENZA",2008,"M","ATL"]
[7563,"DE CHECCHI","VERONICA","SPAZI VERDI",2004,"F","RF"]
[7564,"DE ROSSI","GIOELLE","SPAZI VERDI",2011,"M","ATL"]
[7566,"DALLA COSTA","ADELE","C.S.I. TEZZE SUL BRENTA",2008,"F","ATL"]
[7567,"CORRADIN","SHALON","C.S.I. TEZZE SUL BRENTA",2003,"F","CF"]
[7575,"SIGNORATO","ELENA","ATLETICA ARZIGNANO",1981,"F","AAF"]
[7576,"PRIANTE","PATRIZIO","ATLETICA ARZIGNANO",1973,"M","AAM"]
[7577,"VIGNAGA","DIEGO","ATLETICA ARZIGNANO",1973,"M","AAM"]
[7578,"NARDI","MICHELE","ATLETICA ARZIGNANO",1993,"M","SM"]
[7579,"OLIVIERI","MARTINA","ATLETICA ARZIGNANO",1995,"F","SF"]
[7580,"ZARANTONELLO","MARIANNA","ATLETICA ARZIGNANO",1983,"F","SF"]
[7581,"ZARANTONELLO","VALENTINA","ATLETICA ARZIGNANO",1984,"F","SF"]
[7591,"BOSCHETTO","NOEMI","ATLETICA VALCHIAMPO",1996,"F","SF"]
[7592,"DISCONZI","PAOLO","ATLETICA VALCHIAMPO",1991,"M","SM"]
[7594,"MASIERO","MASSIMO","ATLETICA ARZIGNANO",1973,"M","AAM"]
[7595,"BASSO","ALISON","AMICI DELL'ATLETICA VICENZA",2005,"F","RF"]
[7643,"CORRA'","MIRTA","ATLETICA CALDOGNO '93",1969,"F","ABF"]
[7644,"CRAPARO","GIUSEPPE","ATLETICA CALDOGNO '93",2005,"M","RM"]
[7645,"DE BORTOLI","ILARIA MARIA","ATLETICA CALDOGNO '93",2003,"F","CF"]
[7646,"SEGALA","LORIANA","ATLETICA CALDOGNO '93",1962,"F","VF"]
[7647,"GIROLAMETTO","SIMONE","ATLETICA CALDOGNO '93",1990,"M","SM"]
[7650,"NARDI","DILETTA","ATLETICA TRISSINO",1993,"F","SF"]
[7651,"VENDRAMIN","EUGENIO","POLISPORTIVA DUEVILLE",2001,"M","AM"]
[7653,"CEOLA","MAURIZIO","POLISPORTIVA SALF ALTOPADOVANA",1962,"M","VM"]
[7654,"MARANGONI","ANDREA","POLISPORTIVA SALF ALTOPADOVANA",1973,"M","AAM"]
[7655,"PASINATO","RICCARDO","POLISPORTIVA SALF ALTOPADOVANA",2002,"M","CM"]
[7656,"SGARBOSSA","BEATRICE","POLISPORTIVA SALF ALTOPADOVANA",2002,"F","CF"]
[7657,"ZANON","RICCARDO","POLISPORTIVA SALF ALTOPADOVANA",2000,"M","AM"]
[7658,"BIANCO","FRANCESCA","POLISPORTIVA SALF ALTOPADOVANA",1996,"F","SF"]
[7659,"BERTO","VALENTINA","POLISPORTIVA SALF ALTOPADOVANA",2004,"F","RF"]
[7660,"NOSTRALI","AURORA","POLISPORTIVA SALF ALTOPADOVANA",2005,"F","RF"]
[7661,"MANCUSO","ELENA","POLISPORTIVA SALF ALTOPADOVANA",1999,"F","JF"]
[7662,"SILVELLO","VITTORIO","POLISPORTIVA SALF ALTOPADOVANA",1956,"M","VM"]
[7663,"SIMIONI","MADDALENA","POLISPORTIVA SALF ALTOPADOVANA",2003,"F","CF"]
[7664,"BRANDELLERO","NOEMI","ATLETICA UNION CREAZZO",2005,"F","RF"]
[7665,"TRIMIGLIOZZI","MARTINA","ATLETICA UNION CREAZZO",2005,"F","RF"]
[7666,"LONGHIN","DIEGO","ATLETICA UNION CREAZZO",1963,"M","ABM"]
[7668,"TISO","SEBASTIAN","ATLETICA UNION CREAZZO",1992,"M","SM"]
[7670,"CHIMINELLO","ELIA","CSI ATLETICA COLLI BERICI",2002,"M","CM"]
[7671,"DONADELLO","MATTEO","CSI ATLETICA COLLI BERICI",1971,"M","ABM"]
[7672,"OTASOWIE","PAUL OSASOGIE","CSI ATLETICA COLLI BERICI",2002,"M","CM"]
[7673,"POMARO","MARCO","CSI ATLETICA COLLI BERICI",2004,"M","RM"]
[7674,"DEWEERD","DANIEL","CSI ATLETICA COLLI BERICI",2005,"M","RM"]
[7675,"KHAN","IBRAHIM","CSI ATLETICA COLLI BERICI",2004,"M","RM"]
[7676,"BRACESCO","GIACOMO","CSI ATLETICA COLLI BERICI",2003,"M","CM"]
[7677,"ISOLI","GIORGIA MARIA","CSI ATLETICA COLLI BERICI",2002,"F","CF"]
[7678,"DOVIGO","SILVIA","CSI ATLETICA COLLI BERICI",1982,"F","AAF"]
[7679,"FRANCESCHETTO","PAOLA","CSI ATLETICA COLLI BERICI",1968,"F","ABF"]
[7680,"ANKA","ALESSANDRO","A.P.D. VALDAGNO",2009,"M"]
[7681,"PETRELLA","GIULIA","A.P.D. VALDAGNO",2004,"F","RF"]
[7682,"RIGON","ELENA","CSI ATLETICA COLLI BERICI",2004,"F","RF"]
[7688,"CONCATO","ANNA","ATLETICA ARZIGNANO",1982,"F","AAF"]
[7697,"PREBIANCA","ISABELLA","POLISPORTIVA DUEVILLE",2007,"F","EF"]
[7698,"SEGANFREDO","PAOLO","CSI ATLETICA COLLI BERICI",1965,"M","ABM"]
[7699,"BUSATO","FRANCESCA","CSI ATLETICA COLLI BERICI",2003,"F","CF"]
[7700,"BARBIERO","ALEXANDER","CSI ATLETICA COLLI BERICI",2004,"M","RM"]
[7701,"PICCOLI","PIETRO","POL. DIL. MONTECCHIO PRECALCINO",2008,"M"]
[7702,"PICCOLI","SIMONE","POL. DIL. MONTECCHIO PRECALCINO",2011,"M"]
[7703,"TRESSI","GIOVANNI","POL. DIL. MONTECCHIO PRECALCINO",2006,"M","EM"]
[7705,"BALZARIN","JACOPO","ATLETICA MONTECCHIO MAGGIORE",2005,"M","RM"]
[7706,"BATTISTIN","LUCA","ATLETICA MONTECCHIO MAGGIORE",2003,"M","CM"]
[7707,"BOGONI","SOPHIA","ATLETICA MONTECCHIO MAGGIORE",2003,"F","CF"]
[7708,"BRENDOLAN","LORENZO","ATLETICA MONTECCHIO MAGGIORE",2005,"M","RM"]
[7709,"CABIDDU","FRANCESCO","ATLETICA MONTECCHIO MAGGIORE",2004,"M","RM"]
[7710,"CARLOTTO","MARIA SOLE","ATLETICA MONTECCHIO MAGGIORE",2005,"F","RF"]
[7711,"CARLOTTO","SILVIA","ATLETICA MONTECCHIO MAGGIORE",2008,"F"]
[7712,"CESTONARO","TOMMASO","ATLETICA MONTECCHIO MAGGIORE",2005,"M","RM"]
[7713,"FACCIO","CHIARA","ATLETICA MONTECCHIO MAGGIORE",2005,"F","RF"]
[7714,"FACIN","VERONICA","ATLETICA MONTECCHIO MAGGIORE",2008,"F"]
[7715,"FRACASSO","MARTA","ATLETICA MONTECCHIO MAGGIORE",2003,"F","CF"]
[7716,"LUCCARINI","ANNA","ATLETICA MONTECCHIO MAGGIORE",2004,"F","RF"]
[7717,"MANCU","NICOLAS","ATLETICA MONTECCHIO MAGGIORE",2008,"M"]
[7718,"MARINI","IRENE","ATLETICA MONTECCHIO MAGGIORE",2005,"F","RF"]
[7719,"MASSIGNAN","MATTEO","ATLETICA MONTECCHIO MAGGIORE",2004,"M","RM"]
[7720,"MENEGON","ILARIA","ATLETICA MONTECCHIO MAGGIORE",2002,"F","CF"]
[7721,"MINNITI","ROBERTO","ATLETICA MONTECCHIO MAGGIORE",2004,"M","RM"]
[7722,"MURARO","DESIREE","ATLETICA MONTECCHIO MAGGIORE",2003,"F","CF"]
[7723,"PAGANI","LEONARDO","ATLETICA MONTECCHIO MAGGIORE",2004,"M","RM"]
[7724,"SAVOIANI","LUDOVICA","ATLETICA MONTECCHIO MAGGIORE",2005,"F","RF"]
[7725,"SCALCHI","GIOVANNI","ATLETICA MONTECCHIO MAGGIORE",2006,"M","EM"]
[7726,"SPOLADORE","CESARE","ATLETICA MONTECCHIO MAGGIORE",2008,"M"]
[7727,"TOZZO","MARTINA","ATLETICA MONTECCHIO MAGGIORE",2005,"F","RF"]
[7728,"TONIN","ALBERTO BENEDETTO","ATLETICA MONTECCHIO MAGGIORE",2005,"M","RM"]
[7729,"TRAPULA","ARIANNA","ATLETICA MONTECCHIO MAGGIORE",2004,"F","RF"]
[7730,"VANTIN","SIMONE","ATLETICA MONTECCHIO MAGGIORE",2006,"M","EM"]
[7743,"EMBRINATI","CLARA","AMICI DELL'ATLETICA VICENZA",2004,"F","RF"]
[7747,"ANDRIGHETTO","LUCA","CSI ATLETICA ZANE'",2003,"M","CM"]
[7748,"BORRIERO","MAYKOL","CSI ATLETICA ZANE'",2001,"M","AM"]
[7749,"DE PRETTO","TOMMASO","CSI ATLETICA ZANE'",2004,"M","RM"]
[7750,"GIURIATO","MATILDE","CSI ATLETICA ZANE'",2003,"F","CF"]
[7751,"MANZARDO","GRETA","CSI ATLETICA ZANE'",2002,"F","CF"]
[7752,"MARCOLIN","CHIARA","CSI ATLETICA ZANE'",2007,"F","EF"]
[7753,"MARTINI","MANUEL","CSI ATLETICA ZANE'",2006,"M","EM"]
[7754,"MENEGHELLO","LORENZO","CSI ATLETICA ZANE'",2005,"M","RM"]
[7755,"MENEGHELLO","MATTEO","CSI ATLETICA ZANE'",2001,"M","AM"]
[7756,"NOVELLO","TERESA","CSI ATLETICA ZANE'",2007,"F","EF"]
[7757,"PIGA","MARTINA","CSI ATLETICA ZANE'",2002,"F","CF"]
[7758,"VIERO","EMMA","CSI ATLETICA ZANE'",2005,"F","RF"]
[7759,"ZANCHI","MARIA","CSI ATLETICA ZANE'",2005,"F","RF"]
[7760,"DANESE","NICOLA","AMICI DELL'ATLETICA VICENZA",2007,"M","EM"]
[7785,"MASSIGNAN","PAOLO","ATLETICA TRISSINO",1983,"M","SM"]
[7786,"SERVODIO","AURORA","ATLETICA TRISSINO",2005,"F","RF"]
[7787,"CISCO","GIOVANNI","ATLETICA ARZIGNANO",1968,"M","ABM"]
[7788,"MASIERO","SILVIA","ATLETICA ARZIGNANO",1999,"F","JF"]
[7851,"CAMPAGNOLO","TOMMASO","POL. DIL. MONTECCHIO PRECALCINO",2006,"M","EM"]
[7852,"BARAUSSE","RICCARDO","POL. DIL. MONTECCHIO PRECALCINO",2006,"M","EM"]
[7875,"BAUCE","GABRIELE","ATLETICA ARZIGNANO",1986,"M","SM"]
[7948,"PASTORI","SIRIO","POLISPORTIVA DUEVILLE",2004,"M","RM"]
[7949,"SACCARDO","CARLO","POLISPORTIVA DUEVILLE",1999,"M","JM"]
[7950,"VETTORATO","GIADA","G.S. LEONICENA",1980,"F","AAF"]
[7951,"GNOATO","LEONE","C.S.I. TEZZE SUL BRENTA",2009,"M"]
[7952,"GUSELLA","THOMAS EMANUELE","C.S.I. TEZZE SUL BRENTA",2009,"M"]
[7953,"GJINAJ","NICOLO'","C.S.I. TEZZE SUL BRENTA",2009,"M"]
[7954,"BONAMIN","FILIPPO","C.S.I. TEZZE SUL BRENTA",2010,"M"]
[7956,"PERNECHELE","DANIELE","POLISPORTIVA SALF ALTOPADOVANA",2002,"M","CM"]
[7957,"CHIARIONI","ERIK JUNIOR","POLISPORTIVA SALF ALTOPADOVANA",2006,"M","EM"]
[7958,"FACCO","GIOVANNI","POLISPORTIVA SALF ALTOPADOVANA",2007,"M","EM"]
[7971,"SUELOTTO","SILVIA","C.S.I. TEZZE SUL BRENTA",1996,"F","SF"]
[7972,"BARBIERO","RALF","CSI ATLETICA COLLI BERICI",1973,"M","AAM"]
[7973,"ZANOTTO","GIOVANNI","CSI ATLETICA COLLI BERICI",2006,"M","EM"]
[7974,"CAMINITI","NITYANAMD","CSI ATLETICA COLLI BERICI",2005,"M","RM"]
[7975,"FIAGAH","MARY","CSI ATLETICA COLLI BERICI",2004,"F","RF"]
[7980,"DELLI","DEBORA","G.S. LEONICENA",1970,"F","ABF"]
[7981,"MANGINI","DINO UMBERTO","G.S. LEONICENA",1973,"M","AAM"]
[7982,"ROSSATO","MIRCO","G.S. LEONICENA",1974,"M","AAM"]
[7983,"GJEKA","KELLY","ATLETICA ARZIGNANO",2003,"F","CF"]
[7984,"VALDEGAMBERI","PAOLO","ATLETICA ARZIGNANO",2004,"M","RM"]
[7985,"BORDIN","FILIPPO","ATLETICA ARZIGNANO",2004,"M","RM"]
[7986,"GONELLA","CHIARA","ATLETICA ARZIGNANO",1985,"F","SF"]
[8017,"BORRIERO","GIULIA","CSI ATLETICA ZANE'",2004,"F","RF"]
[8018,"CAMPAGNOLO","SERENA","CSI ATLETICA ZANE'",2002,"F","CF"]
[8019,"FRIGO","ELISA","CSI ATLETICA ZANE'",2004,"F","RF"]
[8020,"OKAI","KINGSLEY OSCAR NII","CSI ATLETICA ZANE'",2005,"M","RM"]
[8021,"PINGGERA","MARCO","CSI ATLETICA ZANE'",2004,"F","RF"]
[8022,"TONIOLLO","GAIA","CSI ATLETICA ZANE'",2004,"F","RF"]
[8023,"ZOIA","MADDALENA","CSI ATLETICA ZANE'",2007,"F","EF"]
[8024,"STIEVANO","GIULIA","CSI ATLETICA ZANE'",2004,"F","RF"]
[8025,"TAGLIAPIETRA","FRANCESCO","CSI ATLETICA ZANE'",2002,"M","CM"]
[8026,"LO NARDO","LEONARDO","ATLETICA UNION CREAZZO",1999,"M","JM"]
[8027,"GALVAN","MATTEO","G.S. VICENZA EST",1988,"M","SM"]
[8028,"ROSSI","PAOLO PABLITO","G.S. VICENZA EST",1956,"M","VM"]
[8029,"SILVELLO","EVA","POLISPORTIVA SALF ALTOPADOVANA",2006,"F","EF"]
[8030,"SACCUMAN","MATTEO","POLISPORTIVA SALF ALTOPADOVANA",1998,"M","JM"]
[8031,"SCHIAVETTO","VICHET","CSI ATLETICA COLLI BERICI",2001,"M","AM"]
[8074,"DE VICARI","SERGIO","A.A. ATLETICA MALO",1962,"M","VM"]
[8075,"DALL'IGNA","DAVIDE","A.A. ATLETICA MALO",1994,"M","SM"]
[8076,"ZIGLIOTTO","DAVIDE","A.A. ATLETICA MALO",1962,"M","VM"]
[8077,"AGOSTI","GIOVANNI","A.A. ATLETICA MALO",1978,"M","AAM"]
[8078,"PERRONE","VITTORIO","A.A. ATLETICA MALO",1975,"M","AAM"]
[8079,"BENGELSDORFF","CARL WILHELM ANDREAS","A.A. ATLETICA MALO",1966,"M","ABM"]
[8080,"GOLO","MATTEO","A.A. ATLETICA MALO",1975,"M","AAM"]
[8082,"BARBIERO","GIANMARCO","CSI ATLETICA COLLI BERICI",1999,"M","JM"]
[8083,"ASTRINI","TOMMASO","CSI ATLETICA COLLI BERICI",2005,"M","RM"]
[8084,"GOLDIN","MICHELE","CSI ATLETICA COLLI BERICI",2003,"M","CM"]
[8085,"CAILOTTO","TOMMASO","CSI ATLETICA COLLI BERICI",2005,"M","RM"]
[8086,"CHIARELLO","MARTINA","CSI ATLETICA COLLI BERICI",2005,"F","RF"]
[8140,"POMES","ELENA","G.S. LEONICENA",1976,"F","AAF"]
[8163,"BARBIERO","RICCARDO","CSI ATLETICA COLLI BERICI",1997,"M","SM"]
[8188,"FILIPPI","ENRICO","CSI ATLETICA ZANE'",2001,"M","AM"]
[8189,"FRIGO","MICHELE","CSI ATLETICA ZANE'",1999,"M","JM"]
[8231,"SPEZZAPRIA","ALBERTO","POL. DIL. MONTECCHIO PRECALCINO",2003,"M","CM"]
[8239,"ALCIDE","ANNA","POLISPORTIVA DUEVILLE",2005,"F","RF"]
[8453,"LANARO","GIORGIA","POL. DIL. MONTECCHIO PRECALCINO",2006,"F","EF"]
[8466,"ZUCCHI","ESTER","POL. DIL. MONTECCHIO PRECALCINO",2006,"F","EF"]
[9996,"PUTIN","LISA","LA FULMINEA RUNNING TEAM",1991,"F","SF"]
[9995,"TEZZA","ALBERTO","LA FULMINEA RUNNING TEAM",1976,"M","AAM"]
[9994,"ANTONELLO","GIOVANNA","LA FULMINEA RUNNING TEAM",1976,"F","AAF"]
[9993,"BRESSAN","LORENZO","LA FULMINEA RUNNING TEAM",1971,"M","ABM"]
[9992,"CALGARO","MARCO","LA FULMINEA RUNNING TEAM",1973,"M","AAM"]
[9991,"BOVINO","GIUSEPPE","LA FULMINEA RUNNING TEAM",1979,"M","AAM"]
[9990,"BASTON","ANDREA","LA FULMINEA RUNNING TEAM",1978,"M","AAM"]
[9989,"FRANZAN","ANDREA","LA FULMINEA RUNNING TEAM",1980,"M","AAM"]
[9022,"zoso","andrea","Atl Vic",1967,"M","ABM"]
[9023,"foletto","emilio","asd podistica colognese",1940,"M","VM"]
[9024,"maito","bruno","asd podistica colognese",1947,"M","VM"]
[9025,"zazzeron","gianmarco","aurora",1962,"M","VM"]
[9026,"ramin","alessandro","vis abano",2001,"M","AM"]
[9027,"zanta","enrico","assindustria",2003,"M","CM"]
[9028,"zanta","paolo","assindustria",1952,"M","VM"]
[9029,"toma","maurizio","vicenzamaraton",1969,"M","ABM"]
[9030,"rizzi","michele","usma",1980,"M","AAM"]
[9031,"nalin","giovanni","salcus",1963,"M","ABM"]
[9032,"pulido","oliviero","Atl Vic",1972,"M","ABM"]
[9033,"matteazzi","mnuel","beltrame",1980,"M","AAM"]
[9034,"lelli","silvia","asd podistica colognese",1971,"F","ABF"]
[9035,"splendore","alessandro","vicenzamaraton",1975,"M","AAM"]
[9036,"donà","paolo","atletico bastia",1975,"M","AAM"]
[9037,"de santis","luca","atletico bastia",1975,"M","AAM"]
[9038,"ponchio","ermanno","atletico bastia",1967,"M","ABM"]
[9039,"meneghini","fabio","atletico bastia",1967,"M","ABM"]
[9040,"donadello","giovanni","atletico bastia",1966,"M","ABM"]
[9041,"perin","mirco","atletico bastia",1978,"M","AAM"]
[9042,"ARZENTON","adriAno","atleticA VICENTINA",1958,"M","VM"]
[9043,"SATTA","ANTONELLO","USMA PADOVA",1957,"M","VM"]
[9044,"GIACOMUZZI ","SANDRA","ATLETICA BASTIA",1968,"F","AAF"]
[9045,"PIERANTONI","IGINO","ATLETICA BASTIA",1964,"M","ABM"]
[9988,"VEDOVE","ELISA","ATLETICA CITTA' DI PADOVA",2004,"F","RF"]
[9987,"PICCIN","RENATO","ATLETICA LEONE SAN MARCO",1976,"M","AAM"]
[8895,"EBANETTI","NICOLO'","ATLETICA UNION CREAZZO",2008,"M"]
[8896,"FAEDO","TIZIANO","ATLETICA UNION CREAZZO",1966,"M","ABM"]
[8897,"FERRARIN","ALBERTO","ATLETICA UNION CREAZZO",2007,"M","EM"]